Workbook
Name listeDR: [1]!Tableau1[agence]

Sheet Fiche
F2: Alger le : | G2: =TODAY() -> 43679
D3: Direction des indemnisations
D4: Service Sinistre Matériels
D5: DECOMPTE DE REGLEMENT
B6: Case réservée à la DI
B7: Autorisation de Règlement N° /
B9: Aff : | C9: 16002 18 1195 0028 | E9: DIRECTION REGIONALE | F9: Paris
B10: Acc : | E10: AGENCE | F10: 16012
B11: Dos N° :
B12: Police N° :
B14: Par la pésente nous vous autorisons à proceder au règlement de la somme de titre de la garantie ( Dasc); suivant le PVE établi par l'expert Mr …….................................................
B16: =[1]Base!G29 -> 0 | C16: ='[1].'!C6 -> 0
B17: Au profit de l'assuré ………………………………………………………………, et cela au titre de la garantie
B18: de la garantie | C18: RC | D18: , suivant PVE établi par l'expert Mr
D19: Main Oeuvre | E19: =[1]Base!I25 -> 0
D20: peinture | E20: =[1]Base!J25 -> 0
D21: fourniture | E21: =[1]Base!F25+[1]Base!G25+[1]Base!H25 -> 0
D23: s/Total | E23: =[1]Base!F25+[1]Base!G25+[1]Base!H25+[1]Base!I25+[1]Base!J25 -> 0
D25: vétusté hors Glace | E25: =[1]Base!E29 -> 0
D26: vétusté pneumatique | E26: =[1]Base!E30 -> 0
D28: s/Total | E28: =[1]Base!H27 -> 0
D30: franchise | E30: 580
D31: immobilisation | E31: =[1]Base!F28 -> 0
D32: s/p | E32: 500
D33: net à payer | E33: 20000
B36: Observation :
B39: Visa Agence | D39: visa gestionnaire DR | E39: visa chef département | F39: visa Directeur Régional
B45: visa cadre Technique DI | D45: visa chef de service | E45: visa S/ Directeur | F45: visa Directeur Indemnisation
A51: 11
F53: Alger le : | G53: =TODAY() -> 43679
D54: Direction des indemnisations
D55: Service Sinistre Matériels
D56: DECOMPTE DE REGLEMENT
B57: Case réservée à la DI
B58: Autorisation de Règlement N° /
B60: Aff : | C60: 16002 18 1195 0029 | E60: DIRECTION REGIONALE | F60: alger
B61: Acc : | E61: AGENCE | F61: 20
B62: Dos N° :
B63: Police N° : | F63: Ajout Additif
B65: Par la pésente nous vous autorisons à proceder au règlement de la somme de titre de la garantie ( Dasc); suivant le PVE établi par l'expert Mr …….................................................
B67: =[1]Base!G80 -> 0 | C67: ='[1].'!C57 -> 0
B68: Au profit de l'assuré ………………………………………………………………, et cela au titre de la garantie
B69: de la garantie | C69: RC | D69: , suivant PVE établi par l'expert Mr
D70: Main Oeuvre | E70: =[1]Base!I76 -> 0
D71: peinture | E71: =[1]Base!J76 -> 0
D72: fourniture | E72: =[1]Base!F76+[1]Base!G76+[1]Base!H76 -> 0
D74: s/Total | E74: =[1]Base!F76+[1]Base!G76+[1]Base!H76+[1]Base!I76+[1]Base!J76 -> 0
D76: vétusté hors Glace | E76: =[1]Base!E80 -> 0
D77: vétusté pneumatique | E77: =[1]Base!E81 -> 0
D79: s/Total | E79: =[1]Base!H78 -> 0
D81: franchise | E81: =[1]Base!E82 -> 0
D82: immobilisation | E82: =[1]Base!F79 -> 0
D84: net à payer | E84: 100
B87: Observation :
B90: Visa Agence | D90: visa gestionnaire DR | E90: visa chef département | F90: visa Directeur Régional
B96: visa cadre Technique DI | D96: visa chef de service | E96: visa S/ Directeur | F96: visa Directeur Indemnisation
A102: 11
F104: Alger le : | G104: =TODAY() -> 43679
D105: Direction des indemnisations
D106: Service Sinistre Matériels
D107: DECOMPTE DE REGLEMENT
B108: Case réservée à la DI
B109: Autorisation de Règlement N° /
B111: Aff : | C111: 16002 18 1195 0025 | E111: DIRECTION REGIONALE | F111: jeudi
B112: Acc : | E112: AGENCE | F112: 480
B113: Dos N° :
B114: Police N° :
B116: Par la pésente nous vous autorisons à proceder au règlement de la somme de titre de la garantie ( Dasc); suivant le PVE établi par l'expert Mr …….................................................
B118: =[1]Base!G131 -> 0 | C118: ='[1].'!C108 -> 0
B119: Au profit de l'assuré ………………………………………………………………, et cela au titre de la garantie
B120: de la garantie | C120: RC | D120: , suivant PVE établi par l'expert Mr
D121: Main Oeuvre | E121: =[1]Base!I127 -> 0
D122: peinture | E122: =[1]Base!J127 -> 0
D123: fourniture | E123: =[1]Base!F127+[1]Base!G127+[1]Base!H127 -> 0
D125: s/Total | E125: =[1]Base!F127+[1]Base!G127+[1]Base!H127+[1]Base!I127+[1]Base!J127 -> 0
D127: vétusté hors Glace | E127: =[1]Base!E131 -> 0
D128: vétusté pneumatique | E128: =[1]Base!E132 -> 0
D130: s/Total | E130: =[1]Base!H129 -> 0
D132: franchise | E132: =[1]Base!E133 -> 0
D133: immobilisation | E133: =[1]Base!F130 -> 0
D135: net à payer | E135: =[1]Base!G131 -> 0
B138: Observation :
B141: Visa Agence | D141: visa gestionnaire DR | E141: visa chef département | F141: visa Directeur Régional
B147: visa cadre Technique DI | D147: visa chef de service | E147: visa S/ Directeur | F147: visa Directeur Indemnisation
A153: 11
F155: Alger le : | G155: =TODAY() -> 43679
D156: Direction des indemnisations
D157: Service Sinistre Matériels
D158: DECOMPTE DE REGLEMENT
B159: Case réservée à la DI
B160: Autorisation de Règlement N° /
B162: Aff : | C162: 16002 18 1195 0045 | E162: DIRECTION REGIONALE | F162: Paris
B163: Acc : | E163: AGENCE | F163: 16012
B164: Dos N° :
B165: Police N° :
B167: Par la pésente nous vous autorisons à proceder au règlement de la somme de titre de la garantie ( Dasc); suivant le PVE établi par l'expert Mr …….................................................
B169: =[1]Base!G182 -> 0 | C169: ='[1].'!C159 -> 0
B170: Au profit de l'assuré ………………………………………………………………, et cela au titre de la garantie
B171: de la garantie | C171: RC | D171: , suivant PVE établi par l'expert Mr
D172: Main Oeuvre | E172: =[1]Base!I178 -> 0
...

Sheet Base
A1: ligne | B1: Aff : | C1: DIRECTION REGIONALE | D1: AGENCE | E1: net a payer | F1: date | G1: franchise | H1: S/p | I1: Garantie
A2: =(ROW()-2)*51+9 -> 9 | B2: =OFFSET(Fiche!$A$1,$A2-1,2) -> 16002 18 1195 0028 | C2: =OFFSET(Fiche!$A$1,$A2-1,5) -> Paris | D2: =OFFSET(Fiche!$A$1,$A2,5) -> 16012 | E2: =OFFSET(Fiche!$A$1,$A2+23,4) -> 20000 | F2: =OFFSET(Fiche!$A$1,$A2-8,6) -> 43679 | G2: =OFFSET(Fiche!$A$1,$A2+20,4) -> 580 | H2: =OFFSET(Fiche!$A$1,$A2+22,4) -> 500 | I2: =OFFSET(Fiche!$A$1,$A2+8,2) -> RC
A3: =(ROW()-2)*51+9 -> 60 | B3: =OFFSET(Fiche!$A$1,$A3-1,2) -> 16002 18 1195 0029 | C3: =OFFSET(Fiche!$A$1,$A3-1,5) -> alger | D3: =OFFSET(Fiche!$A$1,$A3,5) -> 20 | E3: =OFFSET(Fiche!$A$1,$A3+23,4) -> 100 | F3: =OFFSET(Fiche!$A$1,$A3-8,6) -> 43679 | G3: =OFFSET(Fiche!$A$1,$A3+20,4) -> 0 | H3: =OFFSET(Fiche!$A$1,$A3+22,4) -> 0 | I3: =OFFSET(Fiche!$A$1,$A3+8,2) -> RC
A4: =(ROW()-2)*51+9 -> 111 | B4: =OFFSET(Fiche!$A$1,$A4-1,2) -> 16002 18 1195 0025 | C4: =OFFSET(Fiche!$A$1,$A4-1,5) -> jeudi | D4: =OFFSET(Fiche!$A$1,$A4,5) -> 480 | E4: =OFFSET(Fiche!$A$1,$A4+23,4) -> 0 | F4: =OFFSET(Fiche!$A$1,$A4-8,6) -> 43679 | G4: =OFFSET(Fiche!$A$1,$A4+20,4) -> 0 | H4: =OFFSET(Fiche!$A$1,$A4+22,4) -> 0 | I4: =OFFSET(Fiche!$A$1,$A4+8,2) -> RC
A5: =(ROW()-2)*51+9 -> 162 | B5: =OFFSET(Fiche!$A$1,$A5-1,2) -> 16002 18 1195 0045 | C5: =OFFSET(Fiche!$A$1,$A5-1,5) -> Paris | D5: =OFFSET(Fiche!$A$1,$A5,5) -> 16012 | E5: =OFFSET(Fiche!$A$1,$A5+23,4) -> 60000000 | F5: =OFFSET(Fiche!$A$1,$A5-8,6) -> 43679 | G5: =OFFSET(Fiche!$A$1,$A5+20,4) -> 0 | H5: =OFFSET(Fiche!$A$1,$A5+22,4) -> 0 | I5: =OFFSET(Fiche!$A$1,$A5+8,2) -> RC
A6: =(ROW()-2)*51+9 -> 213 | B6: =OFFSET(Fiche!$A$1,$A6-1,2) -> 16002 18 1195 0029 | C6: =IFERROR(OFFSET(Fiche!$A$1,$A6-1,5),"") -> 0 | D6: =OFFSET(Fiche!$A$1,$A6,5) -> 0 | E6: =OFFSET(Fiche!$A$1,$A6+23,4) -> 0 | G6: =OFFSET(Fiche!$A$1,$A6+20,4) -> 0 | H6: =OFFSET(Fiche!$A$1,$A6+22,4) -> 0 | I6: =OFFSET(Fiche!$A$1,$A6+8,2) -> 0
A7: =(ROW()-2)*51+9 -> 264 | B7: =OFFSET(Fiche!$A$1,$A7-1,2) -> 0 | C7: =OFFSET(Fiche!$A$1,$A7-1,5) -> 0 | D7: =OFFSET(Fiche!$A$1,$A7,5) -> 0 | E7: =OFFSET(Fiche!$A$1,$A7+23,4) -> 0 | G7: =OFFSET(Fiche!$A$1,$A7+20,4) -> 0 | H7: =OFFSET(Fiche!$A$1,$A7+22,4) -> 0 | I7: =OFFSET(Fiche!$A$1,$A7+8,2) -> 0
A8: =(ROW()-2)*51+9 -> 315 | B8: =OFFSET(Fiche!$A$1,$A8-1,2) -> 0 | C8: =OFFSET(Fiche!$A$1,$A8-1,5) -> 0 | D8: =OFFSET(Fiche!$A$1,$A8,5) -> 0 | E8: =OFFSET(Fiche!$A$1,$A8+23,4) -> 0 | G8: =OFFSET(Fiche!$A$1,$A8+20,4) -> 0 | H8: =OFFSET(Fiche!$A$1,$A8+22,4) -> 0 | I8: =OFFSET(Fiche!$A$1,$A8+8,2) -> 0
A9: =(ROW()-2)*51+9 -> 366 | B9: =OFFSET(Fiche!$A$1,$A9-1,2) -> 0 | C9: =OFFSET(Fiche!$A$1,$A9-1,5) -> 0 | D9: =OFFSET(Fiche!$A$1,$A9,5) -> 0 | E9: =OFFSET(Fiche!$A$1,$A9+23,4) -> 0 | G9: =OFFSET(Fiche!$A$1,$A9+20,4) -> 0 | H9: =OFFSET(Fiche!$A$1,$A9+22,4) -> 0 | I9: =OFFSET(Fiche!$A$1,$A9+8,2) -> 0
A10: =(ROW()-2)*51+9 -> 417 | B10: =OFFSET(Fiche!$A$1,$A10-1,2) -> 0 | C10: =OFFSET(Fiche!$A$1,$A10-1,5) -> 0 | D10: =OFFSET(Fiche!$A$1,$A10,5) -> 0 | E10: =OFFSET(Fiche!$A$1,$A10+23,4) -> 0 | G10: =OFFSET(Fiche!$A$1,$A10+20,4) -> 0 | H10: =OFFSET(Fiche!$A$1,$A10+22,4) -> 0 | I10: =OFFSET(Fiche!$A$1,$A10+8,2) -> 0
A11: =(ROW()-2)*51+9 -> 468 | B11: =OFFSET(Fiche!$A$1,$A11-1,2) -> 0 | C11: =OFFSET(Fiche!$A$1,$A11-1,5) -> 0 | D11: =OFFSET(Fiche!$A$1,$A11,5) -> 0 | E11: =OFFSET(Fiche!$A$1,$A11+23,4) -> 0 | G11: =OFFSET(Fiche!$A$1,$A11+20,4) -> 0 | H11: =OFFSET(Fiche!$A$1,$A11+22,4) -> 0 | I11: =OFFSET(Fiche!$A$1,$A11+8,2) -> 0
A12: =(ROW()-2)*51+9 -> 519 | B12: =OFFSET(Fiche!$A$1,$A12-1,2) -> 0 | C12: =OFFSET(Fiche!$A$1,$A12-1,5) -> 0 | D12: =OFFSET(Fiche!$A$1,$A12,5) -> 0 | E12: =OFFSET(Fiche!$A$1,$A12+23,4) -> 0 | G12: =OFFSET(Fiche!$A$1,$A12+20,4) -> 0 | H12: =OFFSET(Fiche!$A$1,$A12+22,4) -> 0 | I12: =OFFSET(Fiche!$A$1,$A12+8,2) -> 0
A13: =(ROW()-2)*51+9 -> 570 | B13: =OFFSET(Fiche!$A$1,$A13-1,2) -> 0 | C13: =OFFSET(Fiche!$A$1,$A13-1,5) -> 0 | D13: =OFFSET(Fiche!$A$1,$A13,5) -> 0 | E13: =OFFSET(Fiche!$A$1,$A13+23,4) -> 0 | G13: =OFFSET(Fiche!$A$1,$A13+20,4) -> 0 | H13: =OFFSET(Fiche!$A$1,$A13+22,4) -> 0 | I13: =OFFSET(Fiche!$A$1,$A13+8,2) -> 0
A14: =(ROW()-2)*51+9 -> 621 | B14: =OFFSET(Fiche!$A$1,$A14-1,2) -> 0 | C14: =OFFSET(Fiche!$A$1,$A14-1,5) -> 0 | D14: =OFFSET(Fiche!$A$1,$A14,5) -> 0 | E14: =OFFSET(Fiche!$A$1,$A14+23,4) -> 0 | G14: =OFFSET(Fiche!$A$1,$A14+20,4) -> 0 | H14: =OFFSET(Fiche!$A$1,$A14+22,4) -> 0 | I14: =OFFSET(Fiche!$A$1,$A14+8,2) -> 0
A15: =(ROW()-2)*51+9 -> 672 | B15: =OFFSET(Fiche!$A$1,$A15-1,2) -> 0 | C15: =OFFSET(Fiche!$A$1,$A15-1,5) -> 0 | D15: =OFFSET(Fiche!$A$1,$A15,5) -> 0 | E15: =OFFSET(Fiche!$A$1,$A15+23,4) -> 0 | G15: =OFFSET(Fiche!$A$1,$A15+20,4) -> 0 | H15: =OFFSET(Fiche!$A$1,$A15+22,4) -> 0 | I15: =OFFSET(Fiche!$A$1,$A15+8,2) -> 0
A16: =(ROW()-2)*51+9 -> 723 | B16: =OFFSET(Fiche!$A$1,$A16-1,2) -> 0 | C16: =OFFSET(Fiche!$A$1,$A16-1,5) -> 0 | D16: =OFFSET(Fiche!$A$1,$A16,5) -> 0 | E16: =OFFSET(Fiche!$A$1,$A16+23,4) -> 0 | G16: =OFFSET(Fiche!$A$1,$A16+20,4) -> 0 | H16: =OFFSET(Fiche!$A$1,$A16+22,4) -> 0 | I16: =OFFSET(Fiche!$A$1,$A16+8,2) -> 0
A17: =(ROW()-2)*51+9 -> 774 | B17: =OFFSET(Fiche!$A$1,$A17-1,2) -> 0 | C17: =OFFSET(Fiche!$A$1,$A17-1,5) -> 0 | D17: =OFFSET(Fiche!$A$1,$A17,5) -> 0 | E17: =OFFSET(Fiche!$A$1,$A17+23,4) -> 0 | G17: =OFFSET(Fiche!$A$1,$A17+20,4) -> 0 | H17: =OFFSET(Fiche!$A$1,$A17+22,4) -> 0 | I17: =OFFSET(Fiche!$A$1,$A17+8,2) -> 0
A18: =(ROW()-2)*51+9 -> 825 | B18: =OFFSET(Fiche!$A$1,$A18-1,2) -> 0 | C18: =OFFSET(Fiche!$A$1,$A18-1,5) -> 0 | D18: =OFFSET(Fiche!$A$1,$A18,5) -> 0 | E18: =OFFSET(Fiche!$A$1,$A18+23,4) -> 0 | G18: =OFFSET(Fiche!$A$1,$A18+20,4) -> 0 | H18: =OFFSET(Fiche!$A$1,$A18+22,4) -> 0 | I18: =OFFSET(Fiche!$A$1,$A18+8,2) -> 0
A19: =(ROW()-2)*51+9 -> 876 | B19: =OFFSET(Fiche!$A$1,$A19-1,2) -> 0 | C19: =OFFSET(Fiche!$A$1,$A19-1,5) -> 0 | D19: =OFFSET(Fiche!$A$1,$A19,5) -> 0 | E19: =OFFSET(Fiche!$A$1,$A19+23,4) -> 0 | F19: =OFFSET(Fiche!$A$1,$A19-8,6) -> 0 | G19: =OFFSET(Fiche!$A$1,$A19+20,4) -> 0 | H19: =OFFSET(Fiche!$A$1,$A19+22,4) -> 0 | I19: =OFFSET(Fiche!$A$1,$A19+8,2) -> 0
A20: =(ROW()-2)*51+9 -> 927
A21: =(ROW()-2)*51+9 -> 978
A22: =(ROW()-2)*51+9 -> 1029
A23: =(ROW()-2)*51+9 -> 1080
A24: =(ROW()-2)*51+9 -> 1131
A25: =(ROW()-2)*51+9 -> 1182
A26: =(ROW()-2)*51+9 -> 1233
A27: =(ROW()-2)*51+9 -> 1284
A28: =(ROW()-2)*51+9 -> 1335
A29: =(ROW()-2)*51+9 -> 1386
A30: =(ROW()-2)*51+9 -> 1437
A31: =(ROW()-2)*51+9 -> 1488
... A800: =(ROW()-2)*51+9 -> 40707
