Workbook

Sheet data
B2: bijoux
B3: cailloux
B4: choux
B5: genoux
B6: hiboux
B7: joujoux
B8: poux
B9: ripoux
B10: chouchoux
B11: tripoux

Sheet tirage1
A1: 1er tirage au sort
C2: =INDEX(B3:B12,RANDBETWEEN(1,COUNTA(B3:B12))) -> choux | D2: =INDEX(C3:C12,RANDBETWEEN(1,COUNTA(C3:C12))) -> joujoux | E2: =INDEX(D3:D12,RANDBETWEEN(1,COUNTA(D3:D12))) -> tripoux | F2: =INDEX(E3:E12,RANDBETWEEN(1,COUNTA(E3:E12))) -> chouchoux | G2: =INDEX(F3:F12,RANDBETWEEN(1,COUNTA(F3:F12))) -> cailloux | H2: =INDEX(G3:G12,RANDBETWEEN(1,COUNTA(G3:G12))) -> bijoux | I2: =INDEX(H3:H12,RANDBETWEEN(1,COUNTA(H3:H12))) -> genoux | J2: =INDEX(I3:I12,RANDBETWEEN(1,COUNTA(I3:I12))) -> poux | ... L2: =INDEX(K3:K12,RANDBETWEEN(1,COUNTA(K3:K12))) -> hiboux
B3: =data!B2 -> bijoux | C3: {=INDEX(B$3:B$12,MATCH(MIN(IF(COUNTIF(C$2:C2,B$3:B$12)=0,COUNTIF(B$3:B$12,"<"&B$3:B$12))),COUNTIF(B$3:B$12,"<"&B$3:B$12),0))} -> bijoux | D3: {=INDEX(C$3:C$11,MATCH(MIN(IF(COUNTIF(D$2:D2,C$3:C$11)=0,COUNTIF(C$3:C$11,"<"&C$3:C$11))),COUNTIF(C$3:C$11,"<"&C$3:C$11),0))} -> bijoux | E3: {=INDEX(D$3:D$10,MATCH(MIN(IF(COUNTIF(E$2:E2,D$3:D$10)=0,COUNTIF(D$3:D$10,"<"&D$3:D$10))),COUNTIF(D$3:D$10,"<"&D$3:D$10),0))} -> bijoux | F3: {=INDEX(E$3:E$9,MATCH(MIN(IF(COUNTIF(F$2:F2,E$3:E$9)=0,COUNTIF(E$3:E$9,"<"&E$3:E$9))),COUNTIF(E$3:E$9,"<"&E$3:E$9),0))} -> bijoux | G3: {=INDEX(F$3:F$8,MATCH(MIN(IF(COUNTIF(G$2:G2,F$3:F$8)=0,COUNTIF(F$3:F$8,"<"&F$3:F$8))),COUNTIF(F$3:F$8,"<"&F$3:F$8),0))} -> bijoux | H3: {=INDEX(G$3:G$7,MATCH(MIN(IF(COUNTIF(H$2:H2,G$3:G$7)=0,COUNTIF(G$3:G$7,"<"&G$3:G$7))),COUNTIF(G$3:G$7,"<"&G$3:G$7),0))} -> genoux | I3: {=INDEX(H$3:H$6,MATCH(MIN(IF(COUNTIF(I$2:I2,H$3:H$6)=0,COUNTIF(H$3:H$6,"<"&H$3:H$6))),COUNTIF(H$3:H$6,"<"&H$3:H$6),0))} -> hiboux | J3: {=INDEX(I$3:I$5,MATCH(MIN(IF(COUNTIF(J$2:J2,I$3:I$5)=0,COUNTIF(I$3:I$5,"<"&I$3:I$5))),COUNTIF(I$3:I$5,"<"&I$3:I$5),0))} -> hiboux | K3: {=INDEX(J$3:J$4,MATCH(MIN(IF(COUNTIF(K$2:K2,J$3:J$4)=0,COUNTIF(J$3:J$4,"<"&J$3:J$4))),COUNTIF(J$3:J$4,"<"&J$3:J$4),0))} -> hiboux
B4: =data!B3 -> cailloux | C4: {=INDEX(B$3:B$12,MATCH(MIN(IF(COUNTIF(C$2:C3,B$3:B$12)=0,COUNTIF(B$3:B$12,"<"&B$3:B$12))),COUNTIF(B$3:B$12,"<"&B$3:B$12),0))} -> cailloux | D4: {=INDEX(C$3:C$11,MATCH(MIN(IF(COUNTIF(D$2:D3,C$3:C$11)=0,COUNTIF(C$3:C$11,"<"&C$3:C$11))),COUNTIF(C$3:C$11,"<"&C$3:C$11),0))} -> cailloux | E4: {=INDEX(D$3:D$10,MATCH(MIN(IF(COUNTIF(E$2:E3,D$3:D$10)=0,COUNTIF(D$3:D$10,"<"&D$3:D$10))),COUNTIF(D$3:D$10,"<"&D$3:D$10),0))} -> cailloux | F4: {=INDEX(E$3:E$9,MATCH(MIN(IF(COUNTIF(F$2:F3,E$3:E$9)=0,COUNTIF(E$3:E$9,"<"&E$3:E$9))),COUNTIF(E$3:E$9,"<"&E$3:E$9),0))} -> cailloux | G4: {=INDEX(F$3:F$8,MATCH(MIN(IF(COUNTIF(G$2:G3,F$3:F$8)=0,COUNTIF(F$3:F$8,"<"&F$3:F$8))),COUNTIF(F$3:F$8,"<"&F$3:F$8),0))} -> genoux | H4: {=INDEX(G$3:G$7,MATCH(MIN(IF(COUNTIF(H$2:H3,G$3:G$7)=0,COUNTIF(G$3:G$7,"<"&G$3:G$7))),COUNTIF(G$3:G$7,"<"&G$3:G$7),0))} -> hiboux | I4: {=INDEX(H$3:H$6,MATCH(MIN(IF(COUNTIF(I$2:I3,H$3:H$6)=0,COUNTIF(H$3:H$6,"<"&H$3:H$6))),COUNTIF(H$3:H$6,"<"&H$3:H$6),0))} -> poux | J4: {=INDEX(I$3:I$5,MATCH(MIN(IF(COUNTIF(J$2:J3,I$3:I$5)=0,COUNTIF(I$3:I$5,"<"&I$3:I$5))),COUNTIF(I$3:I$5,"<"&I$3:I$5),0))} -> ripoux
B5: =data!B4 -> choux | C5: {=INDEX(B$3:B$12,MATCH(MIN(IF(COUNTIF(C$2:C4,B$3:B$12)=0,COUNTIF(B$3:B$12,"<"&B$3:B$12))),COUNTIF(B$3:B$12,"<"&B$3:B$12),0))} -> chouchoux | D5: {=INDEX(C$3:C$11,MATCH(MIN(IF(COUNTIF(D$2:D4,C$3:C$11)=0,COUNTIF(C$3:C$11,"<"&C$3:C$11))),COUNTIF(C$3:C$11,"<"&C$3:C$11),0))} -> chouchoux | E5: {=INDEX(D$3:D$10,MATCH(MIN(IF(COUNTIF(E$2:E4,D$3:D$10)=0,COUNTIF(D$3:D$10,"<"&D$3:D$10))),COUNTIF(D$3:D$10,"<"&D$3:D$10),0))} -> chouchoux | F5: {=INDEX(E$3:E$9,MATCH(MIN(IF(COUNTIF(F$2:F4,E$3:E$9)=0,COUNTIF(E$3:E$9,"<"&E$3:E$9))),COUNTIF(E$3:E$9,"<"&E$3:E$9),0))} -> genoux | G5: {=INDEX(F$3:F$8,MATCH(MIN(IF(COUNTIF(G$2:G4,F$3:F$8)=0,COUNTIF(F$3:F$8,"<"&F$3:F$8))),COUNTIF(F$3:F$8,"<"&F$3:F$8),0))} -> hiboux | H5: {=INDEX(G$3:G$7,MATCH(MIN(IF(COUNTIF(H$2:H4,G$3:G$7)=0,COUNTIF(G$3:G$7,"<"&G$3:G$7))),COUNTIF(G$3:G$7,"<"&G$3:G$7),0))} -> poux | I5: {=INDEX(H$3:H$6,MATCH(MIN(IF(COUNTIF(I$2:I4,H$3:H$6)=0,COUNTIF(H$3:H$6,"<"&H$3:H$6))),COUNTIF(H$3:H$6,"<"&H$3:H$6),0))} -> ripoux
B6: =data!B5 -> genoux | C6: {=INDEX(B$3:B$12,MATCH(MIN(IF(COUNTIF(C$2:C5,B$3:B$12)=0,COUNTIF(B$3:B$12,"<"&B$3:B$12))),COUNTIF(B$3:B$12,"<"&B$3:B$12),0))} -> genoux | D6: {=INDEX(C$3:C$11,MATCH(MIN(IF(COUNTIF(D$2:D5,C$3:C$11)=0,COUNTIF(C$3:C$11,"<"&C$3:C$11))),COUNTIF(C$3:C$11,"<"&C$3:C$11),0))} -> genoux | E6: {=INDEX(D$3:D$10,MATCH(MIN(IF(COUNTIF(E$2:E5,D$3:D$10)=0,COUNTIF(D$3:D$10,"<"&D$3:D$10))),COUNTIF(D$3:D$10,"<"&D$3:D$10),0))} -> genoux | F6: {=INDEX(E$3:E$9,MATCH(MIN(IF(COUNTIF(F$2:F5,E$3:E$9)=0,COUNTIF(E$3:E$9,"<"&E$3:E$9))),COUNTIF(E$3:E$9,"<"&E$3:E$9),0))} -> hiboux | G6: {=INDEX(F$3:F$8,MATCH(MIN(IF(COUNTIF(G$2:G5,F$3:F$8)=0,COUNTIF(F$3:F$8,"<"&F$3:F$8))),COUNTIF(F$3:F$8,"<"&F$3:F$8),0))} -> poux | H6: {=INDEX(G$3:G$7,MATCH(MIN(IF(COUNTIF(H$2:H5,G$3:G$7)=0,COUNTIF(G$3:G$7,"<"&G$3:G$7))),COUNTIF(G$3:G$7,"<"&G$3:G$7),0))} -> ripoux
B7: =data!B6 -> hiboux | C7: {=INDEX(B$3:B$12,MATCH(MIN(IF(COUNTIF(C$2:C6,B$3:B$12)=0,COUNTIF(B$3:B$12,"<"&B$3:B$12))),COUNTIF(B$3:B$12,"<"&B$3:B$12),0))} -> hiboux | D7: {=INDEX(C$3:C$11,MATCH(MIN(IF(COUNTIF(D$2:D6,C$3:C$11)=0,COUNTIF(C$3:C$11,"<"&C$3:C$11))),COUNTIF(C$3:C$11,"<"&C$3:C$11),0))} -> hiboux | E7: {=INDEX(D$3:D$10,MATCH(MIN(IF(COUNTIF(E$2:E6,D$3:D$10)=0,COUNTIF(D$3:D$10,"<"&D$3:D$10))),COUNTIF(D$3:D$10,"<"&D$3:D$10),0))} -> hiboux | F7: {=INDEX(E$3:E$9,MATCH(MIN(IF(COUNTIF(F$2:F6,E$3:E$9)=0,COUNTIF(E$3:E$9,"<"&E$3:E$9))),COUNTIF(E$3:E$9,"<"&E$3:E$9),0))} -> poux | G7: {=INDEX(F$3:F$8,MATCH(MIN(IF(COUNTIF(G$2:G6,F$3:F$8)=0,COUNTIF(F$3:F$8,"<"&F$3:F$8))),COUNTIF(F$3:F$8,"<"&F$3:F$8),0))} -> ripoux
B8: =data!B7 -> joujoux | C8: {=INDEX(B$3:B$12,MATCH(MIN(IF(COUNTIF(C$2:C7,B$3:B$12)=0,COUNTIF(B$3:B$12,"<"&B$3:B$12))),COUNTIF(B$3:B$12,"<"&B$3:B$12),0))} -> joujoux | D8: {=INDEX(C$3:C$11,MATCH(MIN(IF(COUNTIF(D$2:D7,C$3:C$11)=0,COUNTIF(C$3:C$11,"<"&C$3:C$11))),COUNTIF(C$3:C$11,"<"&C$3:C$11),0))} -> poux | E8: {=INDEX(D$3:D$10,MATCH(MIN(IF(COUNTIF(E$2:E7,D$3:D$10)=0,COUNTIF(D$3:D$10,"<"&D$3:D$10))),COUNTIF(D$3:D$10,"<"&D$3:D$10),0))} -> poux | F8: {=INDEX(E$3:E$9,MATCH(MIN(IF(COUNTIF(F$2:F7,E$3:E$9)=0,COUNTIF(E$3:E$9,"<"&E$3:E$9))),COUNTIF(E$3:E$9,"<"&E$3:E$9),0))} -> ripoux
B9: =data!B8 -> poux | C9: {=INDEX(B$3:B$12,MATCH(MIN(IF(COUNTIF(C$2:C8,B$3:B$12)=0,COUNTIF(B$3:B$12,"<"&B$3:B$12))),COUNTIF(B$3:B$12,"<"&B$3:B$12),0))} -> poux | D9: {=INDEX(C$3:C$11,MATCH(MIN(IF(COUNTIF(D$2:D8,C$3:C$11)=0,COUNTIF(C$3:C$11,"<"&C$3:C$11))),COUNTIF(C$3:C$11,"<"&C$3:C$11),0))} -> ripoux | E9: {=INDEX(D$3:D$10,MATCH(MIN(IF(COUNTIF(E$2:E8,D$3:D$10)=0,COUNTIF(D$3:D$10,"<"&D$3:D$10))),COUNTIF(D$3:D$10,"<"&D$3:D$10),0))} -> ripoux
B10: =data!B9 -> ripoux | C10: {=INDEX(B$3:B$12,MATCH(MIN(IF(COUNTIF(C$2:C9,B$3:B$12)=0,COUNTIF(B$3:B$12,"<"&B$3:B$12))),COUNTIF(B$3:B$12,"<"&B$3:B$12),0))} -> ripoux | D10: {=INDEX(C$3:C$11,MATCH(MIN(IF(COUNTIF(D$2:D9,C$3:C$11)=0,COUNTIF(C$3:C$11,"<"&C$3:C$11))),COUNTIF(C$3:C$11,"<"&C$3:C$11),0))} -> tripoux
B11: =data!B10 -> chouchoux | C11: {=INDEX(B$3:B$12,MATCH(MIN(IF(COUNTIF(C$2:C10,B$3:B$12)=0,COUNTIF(B$3:B$12,"<"&B$3:B$12))),COUNTIF(B$3:B$12,"<"&B$3:B$12),0))} -> tripoux
B12: =data!B11 -> tripoux

Sheet tirage2
A1: 2ème tirage au sort
C2: =INDEX(B3:B12,RANDBETWEEN(1,COUNTA(B3:B12))) -> bijoux | D2: =INDEX(C3:C12,RANDBETWEEN(1,COUNTA(C3:C12))) -> tripoux | E2: =INDEX(D3:D12,RANDBETWEEN(1,COUNTA(D3:D12))) -> cailloux | F2: =INDEX(E3:E12,RANDBETWEEN(1,COUNTA(E3:E12))) -> ripoux | G2: =INDEX(F3:F12,RANDBETWEEN(1,COUNTA(F3:F12))) -> choux | H2: =INDEX(G3:G12,RANDBETWEEN(1,COUNTA(G3:G12))) -> poux | I2: =INDEX(H3:H12,RANDBETWEEN(1,COUNTA(H3:H12))) -> chouchoux | J2: =INDEX(I3:I12,RANDBETWEEN(1,COUNTA(I3:I12))) -> joujoux | ... L2: =INDEX(K3:K12,RANDBETWEEN(1,COUNTA(K3:K12))) -> hiboux
B3: =data!B2 -> bijoux | C3: {=INDEX(B$3:B$12,MATCH(MIN(IF(COUNTIF(C$2:C2,B$3:B$12)=0,COUNTIF(B$3:B$12,"<"&B$3:B$12))),COUNTIF(B$3:B$12,"<"&B$3:B$12),0))} -> cailloux | D3: {=INDEX(C$3:C$11,MATCH(MIN(IF(COUNTIF(D$2:D2,C$3:C$11)=0,COUNTIF(C$3:C$11,"<"&C$3:C$11))),COUNTIF(C$3:C$11,"<"&C$3:C$11),0))} -> cailloux | E3: {=INDEX(D$3:D$10,MATCH(MIN(IF(COUNTIF(E$2:E2,D$3:D$10)=0,COUNTIF(D$3:D$10,"<"&D$3:D$10))),COUNTIF(D$3:D$10,"<"&D$3:D$10),0))} -> chouchoux | F3: {=INDEX(E$3:E$9,MATCH(MIN(IF(COUNTIF(F$2:F2,E$3:E$9)=0,COUNTIF(E$3:E$9,"<"&E$3:E$9))),COUNTIF(E$3:E$9,"<"&E$3:E$9),0))} -> chouchoux | G3: {=INDEX(F$3:F$8,MATCH(MIN(IF(COUNTIF(G$2:G2,F$3:F$8)=0,COUNTIF(F$3:F$8,"<"&F$3:F$8))),COUNTIF(F$3:F$8,"<"&F$3:F$8),0))} -> chouchoux | H3: {=INDEX(G$3:G$7,MATCH(MIN(IF(COUNTIF(H$2:H2,G$3:G$7)=0,COUNTIF(G$3:G$7,"<"&G$3:G$7))),COUNTIF(G$3:G$7,"<"&G$3:G$7),0))} -> chouchoux | I3: {=INDEX(H$3:H$6,MATCH(MIN(IF(COUNTIF(I$2:I2,H$3:H$6)=0,COUNTIF(H$3:H$6,"<"&H$3:H$6))),COUNTIF(H$3:H$6,"<"&H$3:H$6),0))} -> genoux | J3: {=INDEX(I$3:I$5,MATCH(MIN(IF(COUNTIF(J$2:J2,I$3:I$5)=0,COUNTIF(I$3:I$5,"<"&I$3:I$5))),COUNTIF(I$3:I$5,"<"&I$3:I$5),0))} -> genoux | K3: {=INDEX(J$3:J$4,MATCH(MIN(IF(COUNTIF(K$2:K2,J$3:J$4)=0,COUNTIF(J$3:J$4,"<"&J$3:J$4))),COUNTIF(J$3:J$4,"<"&J$3:J$4),0))} -> hiboux
B4: =data!B3 -> cailloux | C4: {=INDEX(B$3:B$12,MATCH(MIN(IF(COUNTIF(C$2:C3,B$3:B$12)=0,COUNTIF(B$3:B$12,"<"&B$3:B$12))),COUNTIF(B$3:B$12,"<"&B$3:B$12),0))} -> chouchoux | D4: {=INDEX(C$3:C$11,MATCH(MIN(IF(COUNTIF(D$2:D3,C$3:C$11)=0,COUNTIF(C$3:C$11,"<"&C$3:C$11))),COUNTIF(C$3:C$11,"<"&C$3:C$11),0))} -> chouchoux | E4: {=INDEX(D$3:D$10,MATCH(MIN(IF(COUNTIF(E$2:E3,D$3:D$10)=0,COUNTIF(D$3:D$10,"<"&D$3:D$10))),COUNTIF(D$3:D$10,"<"&D$3:D$10),0))} -> choux | F4: {=INDEX(E$3:E$9,MATCH(MIN(IF(COUNTIF(F$2:F3,E$3:E$9)=0,COUNTIF(E$3:E$9,"<"&E$3:E$9))),COUNTIF(E$3:E$9,"<"&E$3:E$9),0))} -> choux | G4: {=INDEX(F$3:F$8,MATCH(MIN(IF(COUNTIF(G$2:G3,F$3:F$8)=0,COUNTIF(F$3:F$8,"<"&F$3:F$8))),COUNTIF(F$3:F$8,"<"&F$3:F$8),0))} -> genoux | H4: {=INDEX(G$3:G$7,MATCH(MIN(IF(COUNTIF(H$2:H3,G$3:G$7)=0,COUNTIF(G$3:G$7,"<"&G$3:G$7))),COUNTIF(G$3:G$7,"<"&G$3:G$7),0))} -> genoux | I4: {=INDEX(H$3:H$6,MATCH(MIN(IF(COUNTIF(I$2:I3,H$3:H$6)=0,COUNTIF(H$3:H$6,"<"&H$3:H$6))),COUNTIF(H$3:H$6,"<"&H$3:H$6),0))} -> hiboux | J4: {=INDEX(I$3:I$5,MATCH(MIN(IF(COUNTIF(J$2:J3,I$3:I$5)=0,COUNTIF(I$3:I$5,"<"&I$3:I$5))),COUNTIF(I$3:I$5,"<"&I$3:I$5),0))} -> hiboux
B5: =data!B4 -> choux | C5: {=INDEX(B$3:B$12,MATCH(MIN(IF(COUNTIF(C$2:C4,B$3:B$12)=0,COUNTIF(B$3:B$12,"<"&B$3:B$12))),COUNTIF(B$3:B$12,"<"&B$3:B$12),0))} -> choux | D5: {=INDEX(C$3:C$11,MATCH(MIN(IF(COUNTIF(D$2:D4,C$3:C$11)=0,COUNTIF(C$3:C$11,"<"&C$3:C$11))),COUNTIF(C$3:C$11,"<"&C$3:C$11),0))} -> choux | E5: {=INDEX(D$3:D$10,MATCH(MIN(IF(COUNTIF(E$2:E4,D$3:D$10)=0,COUNTIF(D$3:D$10,"<"&D$3:D$10))),COUNTIF(D$3:D$10,"<"&D$3:D$10),0))} -> genoux | F5: {=INDEX(E$3:E$9,MATCH(MIN(IF(COUNTIF(F$2:F4,E$3:E$9)=0,COUNTIF(E$3:E$9,"<"&E$3:E$9))),COUNTIF(E$3:E$9,"<"&E$3:E$9),0))} -> genoux | G5: {=INDEX(F$3:F$8,MATCH(MIN(IF(COUNTIF(G$2:G4,F$3:F$8)=0,COUNTIF(F$3:F$8,"<"&F$3:F$8))),COUNTIF(F$3:F$8,"<"&F$3:F$8),0))} -> hiboux | H5: {=INDEX(G$3:G$7,MATCH(MIN(IF(COUNTIF(H$2:H4,G$3:G$7)=0,COUNTIF(G$3:G$7,"<"&G$3:G$7))),COUNTIF(G$3:G$7,"<"&G$3:G$7),0))} -> hiboux | I5: {=INDEX(H$3:H$6,MATCH(MIN(IF(COUNTIF(I$2:I4,H$3:H$6)=0,COUNTIF(H$3:H$6,"<"&H$3:H$6))),COUNTIF(H$3:H$6,"<"&H$3:H$6),0))} -> joujoux
B6: =data!B5 -> genoux | C6: {=INDEX(B$3:B$12,MATCH(MIN(IF(COUNTIF(C$2:C5,B$3:B$12)=0,COUNTIF(B$3:B$12,"<"&B$3:B$12))),COUNTIF(B$3:B$12,"<"&B$3:B$12),0))} -> genoux | D6: {=INDEX(C$3:C$11,MATCH(MIN(IF(COUNTIF(D$2:D5,C$3:C$11)=0,COUNTIF(C$3:C$11,"<"&C$3:C$11))),COUNTIF(C$3:C$11,"<"&C$3:C$11),0))} -> genoux | E6: {=INDEX(D$3:D$10,MATCH(MIN(IF(COUNTIF(E$2:E5,D$3:D$10)=0,COUNTIF(D$3:D$10,"<"&D$3:D$10))),COUNTIF(D$3:D$10,"<"&D$3:D$10),0))} -> hiboux | F6: {=INDEX(E$3:E$9,MATCH(MIN(IF(COUNTIF(F$2:F5,E$3:E$9)=0,COUNTIF(E$3:E$9,"<"&E$3:E$9))),COUNTIF(E$3:E$9,"<"&E$3:E$9),0))} -> hiboux | G6: {=INDEX(F$3:F$8,MATCH(MIN(IF(COUNTIF(G$2:G5,F$3:F$8)=0,COUNTIF(F$3:F$8,"<"&F$3:F$8))),COUNTIF(F$3:F$8,"<"&F$3:F$8),0))} -> joujoux | H6: {=INDEX(G$3:G$7,MATCH(MIN(IF(COUNTIF(H$2:H5,G$3:G$7)=0,COUNTIF(G$3:G$7,"<"&G$3:G$7))),COUNTIF(G$3:G$7,"<"&G$3:G$7),0))} -> joujoux
B7: =data!B6 -> hiboux | C7: {=INDEX(B$3:B$12,MATCH(MIN(IF(COUNTIF(C$2:C6,B$3:B$12)=0,COUNTIF(B$3:B$12,"<"&B$3:B$12))),COUNTIF(B$3:B$12,"<"&B$3:B$12),0))} -> hiboux | D7: {=INDEX(C$3:C$11,MATCH(MIN(IF(COUNTIF(D$2:D6,C$3:C$11)=0,COUNTIF(C$3:C$11,"<"&C$3:C$11))),COUNTIF(C$3:C$11,"<"&C$3:C$11),0))} -> hiboux | E7: {=INDEX(D$3:D$10,MATCH(MIN(IF(COUNTIF(E$2:E6,D$3:D$10)=0,COUNTIF(D$3:D$10,"<"&D$3:D$10))),COUNTIF(D$3:D$10,"<"&D$3:D$10),0))} -> joujoux | F7: {=INDEX(E$3:E$9,MATCH(MIN(IF(COUNTIF(F$2:F6,E$3:E$9)=0,COUNTIF(E$3:E$9,"<"&E$3:E$9))),COUNTIF(E$3:E$9,"<"&E$3:E$9),0))} -> joujoux | G7: {=INDEX(F$3:F$8,MATCH(MIN(IF(COUNTIF(G$2:G6,F$3:F$8)=0,COUNTIF(F$3:F$8,"<"&F$3:F$8))),COUNTIF(F$3:F$8,"<"&F$3:F$8),0))} -> poux
B8: =data!B7 -> joujoux | C8: {=INDEX(B$3:B$12,MATCH(MIN(IF(COUNTIF(C$2:C7,B$3:B$12)=0,COUNTIF(B$3:B$12,"<"&B$3:B$12))),COUNTIF(B$3:B$12,"<"&B$3:B$12),0))} -> joujoux | D8: {=INDEX(C$3:C$11,MATCH(MIN(IF(COUNTIF(D$2:D7,C$3:C$11)=0,COUNTIF(C$3:C$11,"<"&C$3:C$11))),COUNTIF(C$3:C$11,"<"&C$3:C$11),0))} -> joujoux | E8: {=INDEX(D$3:D$10,MATCH(MIN(IF(COUNTIF(E$2:E7,D$3:D$10)=0,COUNTIF(D$3:D$10,"<"&D$3:D$10))),COUNTIF(D$3:D$10,"<"&D$3:D$10),0))} -> poux | F8: {=INDEX(E$3:E$9,MATCH(MIN(IF(COUNTIF(F$2:F7,E$3:E$9)=0,COUNTIF(E$3:E$9,"<"&E$3:E$9))),COUNTIF(E$3:E$9,"<"&E$3:E$9),0))} -> poux
B9: =data!B8 -> poux | C9: {=INDEX(B$3:B$12,MATCH(MIN(IF(COUNTIF(C$2:C8,B$3:B$12)=0,COUNTIF(B$3:B$12,"<"&B$3:B$12))),COUNTIF(B$3:B$12,"<"&B$3:B$12),0))} -> poux | D9: {=INDEX(C$3:C$11,MATCH(MIN(IF(COUNTIF(D$2:D8,C$3:C$11)=0,COUNTIF(C$3:C$11,"<"&C$3:C$11))),COUNTIF(C$3:C$11,"<"&C$3:C$11),0))} -> poux | E9: {=INDEX(D$3:D$10,MATCH(MIN(IF(COUNTIF(E$2:E8,D$3:D$10)=0,COUNTIF(D$3:D$10,"<"&D$3:D$10))),COUNTIF(D$3:D$10,"<"&D$3:D$10),0))} -> ripoux
B10: =data!B9 -> ripoux | C10: {=INDEX(B$3:B$12,MATCH(MIN(IF(COUNTIF(C$2:C9,B$3:B$12)=0,COUNTIF(B$3:B$12,"<"&B$3:B$12))),COUNTIF(B$3:B$12,"<"&B$3:B$12),0))} -> ripoux | D10: {=INDEX(C$3:C$11,MATCH(MIN(IF(COUNTIF(D$2:D9,C$3:C$11)=0,COUNTIF(C$3:C$11,"<"&C$3:C$11))),COUNTIF(C$3:C$11,"<"&C$3:C$11),0))} -> ripoux
B11: =data!B10 -> chouchoux | C11: {=INDEX(B$3:B$12,MATCH(MIN(IF(COUNTIF(C$2:C10,B$3:B$12)=0,COUNTIF(B$3:B$12,"<"&B$3:B$12))),COUNTIF(B$3:B$12,"<"&B$3:B$12),0))} -> tripoux
B12: =data!B11 -> tripoux

Sheet pre_melange
C3: =tirage1!C2 -> choux | D3: =C12 -> hiboux | E3: =D12 -> ripoux | F3: =E12 -> poux | G3: =F12 -> genoux | H3: =G12 -> bijoux | I3: =H12 -> cailloux | J3: =I12 -> chouchoux | K3: =J12 -> tripoux | L3: =K12 -> joujoux
C4: =tirage1!D2 -> joujoux | D4: =C3 -> choux | E4: =D3 -> hiboux | F4: =E3 -> ripoux | G4: =F3 -> poux | H4: =G3 -> genoux | I4: =H3 -> bijoux | J4: =I3 -> cailloux | K4: =J3 -> chouchoux | L4: =K3 -> tripoux
C5: =tirage1!E2 -> tripoux | D5: =C4 -> joujoux | E5: =D4 -> choux | F5: =E4 -> hiboux | G5: =F4 -> ripoux | H5: =G4 -> poux | I5: =H4 -> genoux | J5: =I4 -> bijoux | K5: =J4 -> cailloux | L5: =K4 -> chouchoux
C6: =tirage1!F2 -> chouchoux | D6: =C5 -> tripoux | E6: =D5 -> joujoux | F6: =E5 -> choux | G6: =F5 -> hiboux | H6: =G5 -> ripoux | I6: =H5 -> poux | J6: =I5 -> genoux | K6: =J5 -> bijoux | L6: =K5 -> cailloux
C7: =tirage1!G2 -> cailloux | D7: =C6 -> chouchoux | E7: =D6 -> tripoux | F7: =E6 -> joujoux | G7: =F6 -> choux | H7: =G6 -> hiboux | I7: =H6 -> ripoux | J7: =I6 -> poux | K7: =J6 -> genoux | L7: =K6 -> bijoux
C8: =tirage1!H2 -> bijoux | D8: =C7 -> cailloux | E8: =D7 -> chouchoux | F8: =E7 -> tripoux | G8: =F7 -> joujoux | H8: =G7 -> choux | I8: =H7 -> hiboux | J8: =I7 -> ripoux | K8: =J7 -> poux | L8: =K7 -> genoux
C9: =tirage1!I2 -> genoux | D9: =C8 -> bijoux | E9: =D8 -> cailloux | F9: =E8 -> chouchoux | G9: =F8 -> tripoux | H9: =G8 -> joujoux | I9: =H8 -> choux | J9: =I8 -> hiboux | K9: =J8 -> ripoux | L9: =K8 -> poux
C10: =tirage1!J2 -> poux | D10: =C9 -> genoux | E10: =D9 -> bijoux | F10: =E9 -> cailloux | G10: =F9 -> chouchoux | H10: =G9 -> tripoux | I10: =H9 -> joujoux | J10: =I9 -> choux | K10: =J9 -> hiboux | L10: =K9 -> ripoux
C11: =tirage1!K2 -> ripoux | D11: =C10 -> poux | E11: =D10 -> genoux | F11: =E10 -> bijoux | G11: =F10 -> cailloux | H11: =G10 -> chouchoux | I11: =H10 -> tripoux | J11: =I10 -> joujoux | K11: =J10 -> choux | L11: =K10 -> hiboux
C12: =tirage1!L2 -> hiboux | D12: =C11 -> ripoux | E12: =D11 -> poux | F12: =E11 -> genoux | G12: =F11 -> bijoux | H12: =G11 -> cailloux | I12: =H11 -> chouchoux | J12: =I11 -> tripoux | K12: =J11 -> joujoux | L12: =K11 -> choux

Sheet matrice aleatoire
C3: =INDEX(pre_melange!$C$3:$L$12,ROW()-2,MATCH(tirage2!C$2,data!$B:$B,0)-2) -> choux | D3: =INDEX(pre_melange!$C$3:$L$12,ROW()-2,MATCH(tirage2!D$2,data!$B:$B,0)-2) -> tripoux | E3: =INDEX(pre_melange!$C$3:$L$12,ROW()-2,MATCH(tirage2!E$2,data!$B:$B,0)-2) -> choux | F3: =INDEX(pre_melange!$C$3:$L$12,ROW()-2,MATCH(tirage2!F$2,data!$B:$B,0)-2) -> cailloux | G3: =INDEX(pre_melange!$C$3:$L$12,ROW()-2,MATCH(tirage2!G$2,data!$B:$B,0)-2) -> hiboux | H3: =INDEX(pre_melange!$C$3:$L$12,ROW()-2,MATCH(tirage2!H$2,data!$B:$B,0)-2) -> bijoux | I3: =INDEX(pre_melange!$C$3:$L$12,ROW()-2,MATCH(tirage2!I$2,data!$B:$B,0)-2) -> chouchoux | J3: =INDEX(pre_melange!$C$3:$L$12,ROW()-2,MATCH(tirage2!J$2,data!$B:$B,0)-2) -> genoux | ... L3: =INDEX(pre_melange!$C$3:$L$12,ROW()-2,MATCH(tirage2!L$2,data!$B:$B,0)-2) -> poux
C4: =INDEX(pre_melange!$C$3:$L$12,ROW()-2,MATCH(tirage2!C$2,data!$B:$B,0)-2) -> joujoux | D4: =INDEX(pre_melange!$C$3:$L$12,ROW()-2,MATCH(tirage2!D$2,data!$B:$B,0)-2) -> chouchoux | E4: =INDEX(pre_melange!$C$3:$L$12,ROW()-2,MATCH(tirage2!E$2,data!$B:$B,0)-2) -> joujoux | F4: =INDEX(pre_melange!$C$3:$L$12,ROW()-2,MATCH(tirage2!F$2,data!$B:$B,0)-2) -> bijoux | G4: =INDEX(pre_melange!$C$3:$L$12,ROW()-2,MATCH(tirage2!G$2,data!$B:$B,0)-2) -> choux | H4: =INDEX(pre_melange!$C$3:$L$12,ROW()-2,MATCH(tirage2!H$2,data!$B:$B,0)-2) -> genoux | I4: =INDEX(pre_melange!$C$3:$L$12,ROW()-2,MATCH(tirage2!I$2,data!$B:$B,0)-2) -> cailloux | J4: =INDEX(pre_melange!$C$3:$L$12,ROW()-2,MATCH(tirage2!J$2,data!$B:$B,0)-2) -> poux | ... L4: =INDEX(pre_melange!$C$3:$L$12,ROW()-2,MATCH(tirage2!L$2,data!$B:$B,0)-2) -> ripoux
C5: =INDEX(pre_melange!$C$3:$L$12,ROW()-2,MATCH(tirage2!C$2,data!$B:$B,0)-2) -> tripoux | D5: =INDEX(pre_melange!$C$3:$L$12,ROW()-2,MATCH(tirage2!D$2,data!$B:$B,0)-2) -> cailloux | E5: =INDEX(pre_melange!$C$3:$L$12,ROW()-2,MATCH(tirage2!E$2,data!$B:$B,0)-2) -> tripoux | F5: =INDEX(pre_melange!$C$3:$L$12,ROW()-2,MATCH(tirage2!F$2,data!$B:$B,0)-2) -> genoux | G5: =INDEX(pre_melange!$C$3:$L$12,ROW()-2,MATCH(tirage2!G$2,data!$B:$B,0)-2) -> joujoux | H5: =INDEX(pre_melange!$C$3:$L$12,ROW()-2,MATCH(tirage2!H$2,data!$B:$B,0)-2) -> poux | I5: =INDEX(pre_melange!$C$3:$L$12,ROW()-2,MATCH(tirage2!I$2,data!$B:$B,0)-2) -> bijoux | J5: =INDEX(pre_melange!$C$3:$L$12,ROW()-2,MATCH(tirage2!J$2,data!$B:$B,0)-2) -> ripoux | ... L5: =INDEX(pre_melange!$C$3:$L$12,ROW()-2,MATCH(tirage2!L$2,data!$B:$B,0)-2) -> hiboux
C6: =INDEX(pre_melange!$C$3:$L$12,ROW()-2,MATCH(tirage2!C$2,data!$B:$B,0)-2) -> chouchoux | D6: =INDEX(pre_melange!$C$3:$L$12,ROW()-2,MATCH(tirage2!D$2,data!$B:$B,0)-2) -> bijoux | E6: =INDEX(pre_melange!$C$3:$L$12,ROW()-2,MATCH(tirage2!E$2,data!$B:$B,0)-2) -> chouchoux | F6: =INDEX(pre_melange!$C$3:$L$12,ROW()-2,MATCH(tirage2!F$2,data!$B:$B,0)-2) -> poux | G6: =INDEX(pre_melange!$C$3:$L$12,ROW()-2,MATCH(tirage2!G$2,data!$B:$B,0)-2) -> tripoux | H6: =INDEX(pre_melange!$C$3:$L$12,ROW()-2,MATCH(tirage2!H$2,data!$B:$B,0)-2) -> ripoux | I6: =INDEX(pre_melange!$C$3:$L$12,ROW()-2,MATCH(tirage2!I$2,data!$B:$B,0)-2) -> genoux | J6: =INDEX(pre_melange!$C$3:$L$12,ROW()-2,MATCH(tirage2!J$2,data!$B:$B,0)-2) -> hiboux | ... L6: =INDEX(pre_melange!$C$3:$L$12,ROW()-2,MATCH(tirage2!L$2,data!$B:$B,0)-2) -> choux
C7: =INDEX(pre_melange!$C$3:$L$12,ROW()-2,MATCH(tirage2!C$2,data!$B:$B,0)-2) -> cailloux | D7: =INDEX(pre_melange!$C$3:$L$12,ROW()-2,MATCH(tirage2!D$2,data!$B:$B,0)-2) -> genoux | E7: =INDEX(pre_melange!$C$3:$L$12,ROW()-2,MATCH(tirage2!E$2,data!$B:$B,0)-2) -> cailloux | F7: =INDEX(pre_melange!$C$3:$L$12,ROW()-2,MATCH(tirage2!F$2,data!$B:$B,0)-2) -> ripoux | G7: =INDEX(pre_melange!$C$3:$L$12,ROW()-2,MATCH(tirage2!G$2,data!$B:$B,0)-2) -> chouchoux | H7: =INDEX(pre_melange!$C$3:$L$12,ROW()-2,MATCH(tirage2!H$2,data!$B:$B,0)-2) -> hiboux | I7: =INDEX(pre_melange!$C$3:$L$12,ROW()-2,MATCH(tirage2!I$2,data!$B:$B,0)-2) -> poux | J7: =INDEX(pre_melange!$C$3:$L$12,ROW()-2,MATCH(tirage2!J$2,data!$B:$B,0)-2) -> choux | ... L7: =INDEX(pre_melange!$C$3:$L$12,ROW()-2,MATCH(tirage2!L$2,data!$B:$B,0)-2) -> joujoux
C8: =INDEX(pre_melange!$C$3:$L$12,ROW()-2,MATCH(tirage2!C$2,data!$B:$B,0)-2) -> bijoux | D8: =INDEX(pre_melange!$C$3:$L$12,ROW()-2,MATCH(tirage2!D$2,data!$B:$B,0)-2) -> poux | E8: =INDEX(pre_melange!$C$3:$L$12,ROW()-2,MATCH(tirage2!E$2,data!$B:$B,0)-2) -> bijoux | F8: =INDEX(pre_melange!$C$3:$L$12,ROW()-2,MATCH(tirage2!F$2,data!$B:$B,0)-2) -> hiboux | G8: =INDEX(pre_melange!$C$3:$L$12,ROW()-2,MATCH(tirage2!G$2,data!$B:$B,0)-2) -> cailloux | H8: =INDEX(pre_melange!$C$3:$L$12,ROW()-2,MATCH(tirage2!H$2,data!$B:$B,0)-2) -> choux | I8: =INDEX(pre_melange!$C$3:$L$12,ROW()-2,MATCH(tirage2!I$2,data!$B:$B,0)-2) -> ripoux | J8: =INDEX(pre_melange!$C$3:$L$12,ROW()-2,MATCH(tirage2!J$2,data!$B:$B,0)-2) -> joujoux | ... L8: =INDEX(pre_melange!$C$3:$L$12,ROW()-2,MATCH(tirage2!L$2,data!$B:$B,0)-2) -> tripoux
C9: =INDEX(pre_melange!$C$3:$L$12,ROW()-2,MATCH(tirage2!C$2,data!$B:$B,0)-2) -> genoux | D9: =INDEX(pre_melange!$C$3:$L$12,ROW()-2,MATCH(tirage2!D$2,data!$B:$B,0)-2) -> ripoux | E9: =INDEX(pre_melange!$C$3:$L$12,ROW()-2,MATCH(tirage2!E$2,data!$B:$B,0)-2) -> genoux | F9: =INDEX(pre_melange!$C$3:$L$12,ROW()-2,MATCH(tirage2!F$2,data!$B:$B,0)-2) -> choux | G9: =INDEX(pre_melange!$C$3:$L$12,ROW()-2,MATCH(tirage2!G$2,data!$B:$B,0)-2) -> bijoux | H9: =INDEX(pre_melange!$C$3:$L$12,ROW()-2,MATCH(tirage2!H$2,data!$B:$B,0)-2) -> joujoux | I9: =INDEX(pre_melange!$C$3:$L$12,ROW()-2,MATCH(tirage2!I$2,data!$B:$B,0)-2) -> hiboux | J9: =INDEX(pre_melange!$C$3:$L$12,ROW()-2,MATCH(tirage2!J$2,data!$B:$B,0)-2) -> tripoux | ... L9: =INDEX(pre_melange!$C$3:$L$12,ROW()-2,MATCH(tirage2!L$2,data!$B:$B,0)-2) -> chouchoux
C10: =INDEX(pre_melange!$C$3:$L$12,ROW()-2,MATCH(tirage2!C$2,data!$B:$B,0)-2) -> poux | D10: =INDEX(pre_melange!$C$3:$L$12,ROW()-2,MATCH(tirage2!D$2,data!$B:$B,0)-2) -> hiboux | E10: =INDEX(pre_melange!$C$3:$L$12,ROW()-2,MATCH(tirage2!E$2,data!$B:$B,0)-2) -> poux | F10: =INDEX(pre_melange!$C$3:$L$12,ROW()-2,MATCH(tirage2!F$2,data!$B:$B,0)-2) -> joujoux | G10: =INDEX(pre_melange!$C$3:$L$12,ROW()-2,MATCH(tirage2!G$2,data!$B:$B,0)-2) -> genoux | H10: =INDEX(pre_melange!$C$3:$L$12,ROW()-2,MATCH(tirage2!H$2,data!$B:$B,0)-2) -> tripoux | I10: =INDEX(pre_melange!$C$3:$L$12,ROW()-2,MATCH(tirage2!I$2,data!$B:$B,0)-2) -> choux | J10: =INDEX(pre_melange!$C$3:$L$12,ROW()-2,MATCH(tirage2!J$2,data!$B:$B,0)-2) -> chouchoux | ... L10: =INDEX(pre_melange!$C$3:$L$12,ROW()-2,MATCH(tirage2!L$2,data!$B:$B,0)-2) -> cailloux
C11: =INDEX(pre_melange!$C$3:$L$12,ROW()-2,MATCH(tirage2!C$2,data!$B:$B,0)-2) -> ripoux | D11: =INDEX(pre_melange!$C$3:$L$12,ROW()-2,MATCH(tirage2!D$2,data!$B:$B,0)-2) -> choux | E11: =INDEX(pre_melange!$C$3:$L$12,ROW()-2,MATCH(tirage2!E$2,data!$B:$B,0)-2) -> ripoux | F11: =INDEX(pre_melange!$C$3:$L$12,ROW()-2,MATCH(tirage2!F$2,data!$B:$B,0)-2) -> tripoux | G11: =INDEX(pre_melange!$C$3:$L$12,ROW()-2,MATCH(tirage2!G$2,data!$B:$B,0)-2) -> poux | H11: =INDEX(pre_melange!$C$3:$L$12,ROW()-2,MATCH(tirage2!H$2,data!$B:$B,0)-2) -> chouchoux | I11: =INDEX(pre_melange!$C$3:$L$12,ROW()-2,MATCH(tirage2!I$2,data!$B:$B,0)-2) -> joujoux | J11: =INDEX(pre_melange!$C$3:$L$12,ROW()-2,MATCH(tirage2!J$2,data!$B:$B,0)-2) -> cailloux | ... L11: =INDEX(pre_melange!$C$3:$L$12,ROW()-2,MATCH(tirage2!L$2,data!$B:$B,0)-2) -> bijoux
C12: =INDEX(pre_melange!$C$3:$L$12,ROW()-2,MATCH(tirage2!C$2,data!$B:$B,0)-2) -> hiboux | D12: =INDEX(pre_melange!$C$3:$L$12,ROW()-2,MATCH(tirage2!D$2,data!$B:$B,0)-2) -> joujoux | E12: =INDEX(pre_melange!$C$3:$L$12,ROW()-2,MATCH(tirage2!E$2,data!$B:$B,0)-2) -> hiboux | F12: =INDEX(pre_melange!$C$3:$L$12,ROW()-2,MATCH(tirage2!F$2,data!$B:$B,0)-2) -> chouchoux | G12: =INDEX(pre_melange!$C$3:$L$12,ROW()-2,MATCH(tirage2!G$2,data!$B:$B,0)-2) -> ripoux | H12: =INDEX(pre_melange!$C$3:$L$12,ROW()-2,MATCH(tirage2!H$2,data!$B:$B,0)-2) -> cailloux | I12: =INDEX(pre_melange!$C$3:$L$12,ROW()-2,MATCH(tirage2!I$2,data!$B:$B,0)-2) -> tripoux | J12: =INDEX(pre_melange!$C$3:$L$12,ROW()-2,MATCH(tirage2!J$2,data!$B:$B,0)-2) -> bijoux | ... L12: =INDEX(pre_melange!$C$3:$L$12,ROW()-2,MATCH(tirage2!L$2,data!$B:$B,0)-2) -> genoux
