Workbook

Sheet Calendrier
F4: Periode 1 | N4: Periode 2
A5: Personne | B5: 42736 | D5: 42737 | F5: 42738 | H5: 42739 | J5: 42740 | L5: 42741 | N5: 42742 | P5: 42743 | R5: 42744 | T5: 42745 | V5: 42746 | X5: 42747 | Z5: 42748 | AB5: 42749 | AD5: 42750 | AF5: 42751 | AH5: 42752 | AJ5: 42753 | AL5: 42754 | AN5: 42755 | AP5: 42756 | AR5: 42757 | AT5: 42758 | AV5: 42759 | AX5: 42760 | AZ5: 42761 | BB5: 42762 | BD5: 42763 | BF5: 42764 | BH5: 42765
A6: Pierre1 | B6: A | C6: A | D6: A | E6: A | V6: A | W6: A | X6: A | Y6: A | AP6: A | AQ6: A | AR6: A | AS6: A
A7: Pierre2 | B7: A | C7: A | D7: A | E7: A | N7: A | V7: A | W7: A | X7: A | Y7: A | AH7: A | AP7: A | AQ7: A | AR7: A | AS7: A | BB7: A
A8: Pierre3 | B8: A | C8: A | D8: A | E8: A | V8: A | W8: A | X8: A | Y8: A | AP8: A | AQ8: A | AR8: A | AS8: A
A9: Pierre4 | B9: A | C9: A | D9: A | E9: A | O9: A | Q9: A | V9: A | W9: A | X9: A | Y9: A | AI9: A | AK9: A | AP9: A | AQ9: A | AR9: A | AS9: A | BC9: A | BE9: A
A10: Pierre5 | B10: A | C10: A | D10: A | E10: A | N10: A | U10: A | V10: A | W10: A | X10: A | Y10: A | AH10: A | AO10: A | AP10: A | AQ10: A | AR10: A | AS10: A | BB10: A | BI10: A
A11: Pierre6 | F11: A | G11: A | H11: A | I11: A | J11: A | K11: A | L11: A | M11: A | U11: A | Z11: A | AA11: A | AB11: A | AC11: A | AD11: A | AE11: A | AF11: A | AG11: A | AO11: A | AT11: A | AU11: A | AV11: A | AW11: A | AX11: A | AY11: A | AZ11: A | BA11: A | BI11: A
A12: Pierre7 | F12: A | G12: A | H12: A | I12: A | J12: A | K12: A | L12: A | M12: A | Q12: A | U12: A | Z12: A | AA12: A | AB12: A | AC12: A | AD12: A | AE12: A | AF12: A | AG12: A | AK12: A | AO12: A | AT12: A | AU12: A | AV12: A | AW12: A | AX12: A | AY12: A | AZ12: A | BA12: A | BE12: A | BI12: A
A13: Pierre8 | F13: A | G13: A | H13: A | I13: A | J13: A | K13: A | L13: A | M13: A | U13: A | Z13: A | AA13: A | AB13: A | AC13: A | AD13: A | AE13: A | AF13: A | AG13: A | AO13: A | AT13: A | AU13: A | AV13: A | AW13: A | AX13: A | AY13: A | AZ13: A | BA13: A | BI13: A
A14: Pierre9 | F14: A | G14: A | H14: A | I14: A | J14: A | K14: A | L14: A | M14: A | Q14: A | U14: A | Z14: A | AA14: A | AB14: A | AC14: A | AD14: A | AE14: A | AF14: A | AG14: A | AK14: A | AO14: A | AT14: A | AU14: A | AV14: A | AW14: A | AX14: A | AY14: A | AZ14: A | BA14: A | BE14: A | BI14: A
A15: Pierre10 | F15: A | G15: A | H15: A | I15: A | J15: A | K15: A | L15: A | M15: A | O15: A | Q15: A | T15: A | Z15: A | AA15: A | AB15: A | AC15: A | AD15: A | AE15: A | AF15: A | AG15: A | AI15: A | AK15: A | AN15: A | AT15: A | AU15: A | AV15: A | AW15: A | AX15: A | AY15: A | AZ15: A | BA15: A | BC15: A | BE15: A | BH15: A
A16: Pierre11 | N16: A | T16: A | AH16: A | AN16: A | BB16: A | BH16: A
A17: Pierre12 | N17: A | O17: A | Q17: A | T17: A | AH17: A | AI17: A | AK17: A | AN17: A | BB17: A | BC17: A | BE17: A | BH17: A
A18: Pierre13 | N18: A | T18: A | AH18: A | AN18: A | BB18: A | BH18: A
A19: Pierre14 | O19: A | T19: A | AI19: A | AN19: A | BC19: A | BH19: A
A20: Pierre15 | P20: A | R20: A | S20: A | AJ20: A | AL20: A | AM20: A | BD20: A | BF20: A | BG20: A
A21: Pierre16 | P21: A | R21: A | S21: A | AJ21: A | AL21: A | AM21: A | BD21: A | BF21: A | BG21: A
A22: Pierre17 | O22: A | P22: A | R22: A | S22: A | AI22: A | AJ22: A | AL22: A | AM22: A | BC22: A | BD22: A | BF22: A | BG22: A
A23: Pierre18 | P23: A | R23: A | S23: A | AJ23: A | AL23: A | AM23: A | BD23: A | BF23: A | BG23: A
A24: Pierre19 | P24: A | R24: A | S24: A | AJ24: A | AL24: A | AM24: A | BD24: A | BF24: A | BG24: A
A25: Pierre20

Sheet Bilan
A2: Semaine | B2: 3
E5: =VLOOKUP(B2,data!C4:E55,2,FALSE) -> 42754 | I5: =E5+1 -> 42755 | M5: =I5+1 -> 42756 | Q5: =M5+1 -> 42757 | U5: =Q5+1 -> 42758 | Y5: =U5+1 -> 42759 | AC5: =Y5+1 -> 42760 | AG5: =AC5+1 -> 42761
E6: =E5 -> 42754 | I6: =I5 -> 42755 | M6: =M5 -> 42756 | Q6: =Q5 -> 42757 | U6: =U5 -> 42758 | Y6: =Y5 -> 42759 | AC6: =AC5 -> 42760 | AG6: =AG5 -> 42761
E7: Matin | F7: Aprem | I7: Matin | J7: Aprem | M7: Matin | N7: Aprem | Q7: Matin | R7: Aprem | U7: Matin | V7: Aprem | Y7: Matin | Z7: Aprem | AC7: Matin | AD7: Aprem | AG7: Matin | AH7: Aprem
E8: =MATCH(E5,Calendrier!5:5,0) -> 38 | I8: =MATCH(I5,Calendrier!5:5,0) -> 40 | M8: =MATCH(M5,Calendrier!5:5,0) -> 42 | Q8: =MATCH(Q5,Calendrier!5:5,0) -> 44 | U8: =MATCH(U5,Calendrier!5:5,0) -> 46 | Y8: =MATCH(Y5,Calendrier!5:5,0) -> 48 | AC8: =MATCH(AC5,Calendrier!5:5,0) -> 50 | AG8: =MATCH(AG5,Calendrier!5:5,0) -> 52
A9: Personne 1 | B9: Nom de la personne d'A | C9: =MATCH("A",OFFSET(Calendrier!$A$5,,E$8-1,COUNTA(Calendrier!$A:$A)),0) -> 16 | D9: =MATCH("A",OFFSET(Calendrier!$A$5,,E$8,COUNTA(Calendrier!$A:$A)),0) -> 16 | E9: =INDEX(Calendrier!$A$5:$A$25,Bilan!C9) -> Pierre15 | F9: =INDEX(Calendrier!$A$5:$A$25,Bilan!D9) -> Pierre15 | G9: =MATCH("A",OFFSET(Calendrier!$A$5,,I$8-1,COUNTA(Calendrier!$A:$A)),0) -> 11 | H9: =MATCH("A",OFFSET(Calendrier!$A$5,,I$8,COUNTA(Calendrier!$A:$A)),0) -> 6 | I9: =INDEX(Calendrier!$A$5:$A$25,Bilan!G9) -> Pierre10 | J9: =INDEX(Calendrier!$A$5:$A$25,Bilan!H9) -> Pierre5 | K9: =MATCH("A",OFFSET(Calendrier!$A$5,,M$8-1,COUNTA(Calendrier!$A:$A)),0) -> 2 | L9: =MATCH("A",OFFSET(Calendrier!$A$5,,M$8,COUNTA(Calendrier!$A:$A)),0) -> 2 | M9: =INDEX(Calendrier!$A$5:$A$25,Bilan!K9) -> Pierre1 | N9: =INDEX(Calendrier!$A$5:$A$25,Bilan!L9) -> Pierre1 | O9: =MATCH("A",OFFSET(Calendrier!$A$5,,Q$8-1,COUNTA(Calendrier!$A:$A)),0) -> 2 | P9: =MATCH("A",OFFSET(Calendrier!$A$5,,Q$8,COUNTA(Calendrier!$A:$A)),0) -> 2 | Q9: =INDEX(Calendrier!$A$5:$A$25,Bilan!O9) -> Pierre1 | R9: =INDEX(Calendrier!$A$5:$A$25,Bilan!P9) -> Pierre1 | S9: =MATCH("A",OFFSET(Calendrier!$A$5,,U$8-1,COUNTA(Calendrier!$A:$A)),0) -> 7 | T9: =MATCH("A",OFFSET(Calendrier!$A$5,,U$8,COUNTA(Calendrier!$A:$A)),0) -> 7 | U9: =INDEX(Calendrier!$A$5:$A$25,Bilan!S9) -> Pierre6 | V9: =INDEX(Calendrier!$A$5:$A$25,Bilan!T9) -> Pierre6 | W9: =MATCH("A",OFFSET(Calendrier!$A$5,,Y$8-1,COUNTA(Calendrier!$A:$A)),0) -> 7 | X9: =MATCH("A",OFFSET(Calendrier!$A$5,,Y$8,COUNTA(Calendrier!$A:$A)),0) -> 7 | Y9: =INDEX(Calendrier!$A$5:$A$25,Bilan!W9) -> Pierre6 | Z9: =INDEX(Calendrier!$A$5:$A$25,Bilan!X9) -> Pierre6 | AA9: =MATCH("A",OFFSET(Calendrier!$A$5,,AC$8-1,COUNTA(Calendrier!$A:$A)),0) -> 7 | AB9: =MATCH("A",OFFSET(Calendrier!$A$5,,AC$8,COUNTA(Calendrier!$A:$A)),0) -> 7 | AC9: =INDEX(Calendrier!$A$5:$A$25,Bilan!AA9) -> Pierre6 | AD9: =INDEX(Calendrier!$A$5:$A$25,Bilan!AB9) -> Pierre6 | AE9: =MATCH("A",OFFSET(Calendrier!$A$5,,AG$8-1,COUNTA(Calendrier!$A:$A)),0) -> 7 | AF9: =MATCH("A",OFFSET(Calendrier!$A$5,,AG$8,COUNTA(Calendrier!$A:$A)),0) -> 7 | AG9: =INDEX(Calendrier!$A$5:$A$25,Bilan!AE9) -> Pierre6 | AH9: =INDEX(Calendrier!$A$5:$A$25,Bilan!AF9) -> Pierre6
A10: Personne 2 | B10: Nom de la personne d'A | C10: =MATCH("A",OFFSET(Calendrier!$A$5,C9,E$8-1,COUNTA(Calendrier!$A:$A)),0)+C9 -> 17 | D10: =MATCH("A",OFFSET(Calendrier!$A$5,D9,E$8,COUNTA(Calendrier!$A:$A)),0)+D9 -> 17 | E10: =INDEX(Calendrier!$A$5:$A$25,Bilan!C10) -> Pierre16 | F10: =INDEX(Calendrier!$A$5:$A$25,Bilan!D10) -> Pierre16 | G10: =MATCH("A",OFFSET(Calendrier!$A$5,G9,I$8-1,COUNTA(Calendrier!$A:$A)),0)+G9 -> 12 | H10: =MATCH("A",OFFSET(Calendrier!$A$5,H9,I$8,COUNTA(Calendrier!$A:$A)),0)+H9 -> 7 | I10: =INDEX(Calendrier!$A$5:$A$25,Bilan!G10) -> Pierre11 | J10: =INDEX(Calendrier!$A$5:$A$25,Bilan!H10) -> Pierre6 | K10: =MATCH("A",OFFSET(Calendrier!$A$5,K9,M$8-1,COUNTA(Calendrier!$A:$A)),0)+K9 -> 3 | L10: =MATCH("A",OFFSET(Calendrier!$A$5,L9,M$8,COUNTA(Calendrier!$A:$A)),0)+L9 -> 3 | M10: =INDEX(Calendrier!$A$5:$A$25,Bilan!K10) -> Pierre2 | N10: =INDEX(Calendrier!$A$5:$A$25,Bilan!L10) -> Pierre2 | O10: =MATCH("A",OFFSET(Calendrier!$A$5,O9,Q$8-1,COUNTA(Calendrier!$A:$A)),0)+O9 -> 3 | P10: =MATCH("A",OFFSET(Calendrier!$A$5,P9,Q$8,COUNTA(Calendrier!$A:$A)),0)+P9 -> 3 | Q10: =INDEX(Calendrier!$A$5:$A$25,Bilan!O10) -> Pierre2 | R10: =INDEX(Calendrier!$A$5:$A$25,Bilan!P10) -> Pierre2 | S10: =MATCH("A",OFFSET(Calendrier!$A$5,S9,U$8-1,COUNTA(Calendrier!$A:$A)),0)+S9 -> 8 | T10: =MATCH("A",OFFSET(Calendrier!$A$5,T9,U$8,COUNTA(Calendrier!$A:$A)),0)+T9 -> 8 | U10: =INDEX(Calendrier!$A$5:$A$25,Bilan!S10) -> Pierre7 | V10: =INDEX(Calendrier!$A$5:$A$25,Bilan!T10) -> Pierre7 | W10: =MATCH("A",OFFSET(Calendrier!$A$5,W9,Y$8-1,COUNTA(Calendrier!$A:$A)),0)+W9 -> 8 | X10: =MATCH("A",OFFSET(Calendrier!$A$5,X9,Y$8,COUNTA(Calendrier!$A:$A)),0)+X9 -> 8 | Y10: =INDEX(Calendrier!$A$5:$A$25,Bilan!W10) -> Pierre7 | Z10: =INDEX(Calendrier!$A$5:$A$25,Bilan!X10) -> Pierre7 | AA10: =MATCH("A",OFFSET(Calendrier!$A$5,AA9,AC$8-1,COUNTA(Calendrier!$A:$A)),0)+AA9 -> 8 | AB10: =MATCH("A",OFFSET(Calendrier!$A$5,AB9,AC$8,COUNTA(Calendrier!$A:$A)),0)+AB9 -> 8 | AC10: =INDEX(Calendrier!$A$5:$A$25,Bilan!AA10) -> Pierre7 | AD10: =INDEX(Calendrier!$A$5:$A$25,Bilan!AB10) -> Pierre7 | AE10: =MATCH("A",OFFSET(Calendrier!$A$5,AE9,AG$8-1,COUNTA(Calendrier!$A:$A)),0)+AE9 -> 8 | AF10: =MATCH("A",OFFSET(Calendrier!$A$5,AF9,AG$8,COUNTA(Calendrier!$A:$A)),0)+AF9 -> 8 | AG10: =INDEX(Calendrier!$A$5:$A$25,Bilan!AE10) -> Pierre7 | AH10: =INDEX(Calendrier!$A$5:$A$25,Bilan!AF10) -> Pierre7
A11: Personne 3 | B11: Nom de la personne d'A | C11: =MATCH("A",OFFSET(Calendrier!$A$5,C10,E$8-1,COUNTA(Calendrier!$A:$A)),0)+C10 -> 18 | D11: =MATCH("A",OFFSET(Calendrier!$A$5,D10,E$8,COUNTA(Calendrier!$A:$A)),0)+D10 -> 18 | E11: =INDEX(Calendrier!$A$5:$A$25,Bilan!C11) -> Pierre17 | F11: =INDEX(Calendrier!$A$5:$A$25,Bilan!D11) -> Pierre17 | G11: =MATCH("A",OFFSET(Calendrier!$A$5,G10,I$8-1,COUNTA(Calendrier!$A:$A)),0)+G10 -> 13 | H11: =MATCH("A",OFFSET(Calendrier!$A$5,H10,I$8,COUNTA(Calendrier!$A:$A)),0)+H10 -> 8 | I11: =INDEX(Calendrier!$A$5:$A$25,Bilan!G11) -> Pierre12 | J11: =INDEX(Calendrier!$A$5:$A$25,Bilan!H11) -> Pierre7 | K11: =MATCH("A",OFFSET(Calendrier!$A$5,K10,M$8-1,COUNTA(Calendrier!$A:$A)),0)+K10 -> 4 | L11: =MATCH("A",OFFSET(Calendrier!$A$5,L10,M$8,COUNTA(Calendrier!$A:$A)),0)+L10 -> 4 | M11: =INDEX(Calendrier!$A$5:$A$25,Bilan!K11) -> Pierre3 | N11: =INDEX(Calendrier!$A$5:$A$25,Bilan!L11) -> Pierre3 | O11: =MATCH("A",OFFSET(Calendrier!$A$5,O10,Q$8-1,COUNTA(Calendrier!$A:$A)),0)+O10 -> 4 | P11: =MATCH("A",OFFSET(Calendrier!$A$5,P10,Q$8,COUNTA(Calendrier!$A:$A)),0)+P10 -> 4 | Q11: =INDEX(Calendrier!$A$5:$A$25,Bilan!O11) -> Pierre3 | R11: =INDEX(Calendrier!$A$5:$A$25,Bilan!P11) -> Pierre3 | S11: =MATCH("A",OFFSET(Calendrier!$A$5,S10,U$8-1,COUNTA(Calendrier!$A:$A)),0)+S10 -> 9 | T11: =MATCH("A",OFFSET(Calendrier!$A$5,T10,U$8,COUNTA(Calendrier!$A:$A)),0)+T10 -> 9 | U11: =INDEX(Calendrier!$A$5:$A$25,Bilan!S11) -> Pierre8 | V11: =INDEX(Calendrier!$A$5:$A$25,Bilan!T11) -> Pierre8 | W11: =MATCH("A",OFFSET(Calendrier!$A$5,W10,Y$8-1,COUNTA(Calendrier!$A:$A)),0)+W10 -> 9 | X11: =MATCH("A",OFFSET(Calendrier!$A$5,X10,Y$8,COUNTA(Calendrier!$A:$A)),0)+X10 -> 9 | Y11: =INDEX(Calendrier!$A$5:$A$25,Bilan!W11) -> Pierre8 | Z11: =INDEX(Calendrier!$A$5:$A$25,Bilan!X11) -> Pierre8 | AA11: =MATCH("A",OFFSET(Calendrier!$A$5,AA10,AC$8-1,COUNTA(Calendrier!$A:$A)),0)+AA10 -> 9 | AB11: =MATCH("A",OFFSET(Calendrier!$A$5,AB10,AC$8,COUNTA(Calendrier!$A:$A)),0)+AB10 -> 9 | AC11: =INDEX(Calendrier!$A$5:$A$25,Bilan!AA11) -> Pierre8 | AD11: =INDEX(Calendrier!$A$5:$A$25,Bilan!AB11) -> Pierre8 | AE11: =MATCH("A",OFFSET(Calendrier!$A$5,AE10,AG$8-1,COUNTA(Calendrier!$A:$A)),0)+AE10 -> 9 | AF11: =MATCH("A",OFFSET(Calendrier!$A$5,AF10,AG$8,COUNTA(Calendrier!$A:$A)),0)+AF10 -> 9 | AG11: =INDEX(Calendrier!$A$5:$A$25,Bilan!AE11) -> Pierre8 | AH11: =INDEX(Calendrier!$A$5:$A$25,Bilan!AF11) -> Pierre8
A12: Personne 4 | B12: Nom de la personne d'A | C12: =MATCH("A",OFFSET(Calendrier!$A$5,C11,E$8-1,COUNTA(Calendrier!$A:$A)),0)+C11 -> 19 | D12: =MATCH("A",OFFSET(Calendrier!$A$5,D11,E$8,COUNTA(Calendrier!$A:$A)),0)+D11 -> 19 | E12: =INDEX(Calendrier!$A$5:$A$25,Bilan!C12) -> Pierre18 | F12: =INDEX(Calendrier!$A$5:$A$25,Bilan!D12) -> Pierre18 | G12: =MATCH("A",OFFSET(Calendrier!$A$5,G11,I$8-1,COUNTA(Calendrier!$A:$A)),0)+G11 -> 14 | H12: =MATCH("A",OFFSET(Calendrier!$A$5,H11,I$8,COUNTA(Calendrier!$A:$A)),0)+H11 -> 9 | I12: =INDEX(Calendrier!$A$5:$A$25,Bilan!G12) -> Pierre13 | J12: =INDEX(Calendrier!$A$5:$A$25,Bilan!H12) -> Pierre8 | K12: =MATCH("A",OFFSET(Calendrier!$A$5,K11,M$8-1,COUNTA(Calendrier!$A:$A)),0)+K11 -> 5 | L12: =MATCH("A",OFFSET(Calendrier!$A$5,L11,M$8,COUNTA(Calendrier!$A:$A)),0)+L11 -> 5 | M12: =INDEX(Calendrier!$A$5:$A$25,Bilan!K12) -> Pierre4 | N12: =INDEX(Calendrier!$A$5:$A$25,Bilan!L12) -> Pierre4 | O12: =MATCH("A",OFFSET(Calendrier!$A$5,O11,Q$8-1,COUNTA(Calendrier!$A:$A)),0)+O11 -> 5 | P12: =MATCH("A",OFFSET(Calendrier!$A$5,P11,Q$8,COUNTA(Calendrier!$A:$A)),0)+P11 -> 5 | Q12: =INDEX(Calendrier!$A$5:$A$25,Bilan!O12) -> Pierre4 | R12: =INDEX(Calendrier!$A$5:$A$25,Bilan!P12) -> Pierre4 | S12: =MATCH("A",OFFSET(Calendrier!$A$5,S11,U$8-1,COUNTA(Calendrier!$A:$A)),0)+S11 -> 10 | T12: =MATCH("A",OFFSET(Calendrier!$A$5,T11,U$8,COUNTA(Calendrier!$A:$A)),0)+T11 -> 10 | U12: =INDEX(Calendrier!$A$5:$A$25,Bilan!S12) -> Pierre9 | V12: =INDEX(Calendrier!$A$5:$A$25,Bilan!T12) -> Pierre9 | W12: =MATCH("A",OFFSET(Calendrier!$A$5,W11,Y$8-1,COUNTA(Calendrier!$A:$A)),0)+W11 -> 10 | X12: =MATCH("A",OFFSET(Calendrier!$A$5,X11,Y$8,COUNTA(Calendrier!$A:$A)),0)+X11 -> 10 | Y12: =INDEX(Calendrier!$A$5:$A$25,Bilan!W12) -> Pierre9 | Z12: =INDEX(Calendrier!$A$5:$A$25,Bilan!X12) -> Pierre9 | AA12: =MATCH("A",OFFSET(Calendrier!$A$5,AA11,AC$8-1,COUNTA(Calendrier!$A:$A)),0)+AA11 -> 10 | AB12: =MATCH("A",OFFSET(Calendrier!$A$5,AB11,AC$8,COUNTA(Calendrier!$A:$A)),0)+AB11 -> 10 | AC12: =INDEX(Calendrier!$A$5:$A$25,Bilan!AA12) -> Pierre9 | AD12: =INDEX(Calendrier!$A$5:$A$25,Bilan!AB12) -> Pierre9 | AE12: =MATCH("A",OFFSET(Calendrier!$A$5,AE11,AG$8-1,COUNTA(Calendrier!$A:$A)),0)+AE11 -> 10 | AF12: =MATCH("A",OFFSET(Calendrier!$A$5,AF11,AG$8,COUNTA(Calendrier!$A:$A)),0)+AF11 -> 10 | AG12: =INDEX(Calendrier!$A$5:$A$25,Bilan!AE12) -> Pierre9 | AH12: =INDEX(Calendrier!$A$5:$A$25,Bilan!AF12) -> Pierre9
A13: Personne 5 | B13: Nom de la personne d'A | C13: =MATCH("A",OFFSET(Calendrier!$A$5,C12,E$8-1,COUNTA(Calendrier!$A:$A)),0)+C12 -> 20 | D13: =MATCH("A",OFFSET(Calendrier!$A$5,D12,E$8,COUNTA(Calendrier!$A:$A)),0)+D12 -> 20 | E13: =INDEX(Calendrier!$A$5:$A$25,Bilan!C13) -> Pierre19 | F13: =INDEX(Calendrier!$A$5:$A$25,Bilan!D13) -> Pierre19 | G13: =MATCH("A",OFFSET(Calendrier!$A$5,G12,I$8-1,COUNTA(Calendrier!$A:$A)),0)+G12 -> 15 | H13: =MATCH("A",OFFSET(Calendrier!$A$5,H12,I$8,COUNTA(Calendrier!$A:$A)),0)+H12 -> 10 | I13: =INDEX(Calendrier!$A$5:$A$25,Bilan!G13) -> Pierre14 | J13: =INDEX(Calendrier!$A$5:$A$25,Bilan!H13) -> Pierre9 | K13: =MATCH("A",OFFSET(Calendrier!$A$5,K12,M$8-1,COUNTA(Calendrier!$A:$A)),0)+K12 -> 6 | L13: =MATCH("A",OFFSET(Calendrier!$A$5,L12,M$8,COUNTA(Calendrier!$A:$A)),0)+L12 -> 6 | M13: =INDEX(Calendrier!$A$5:$A$25,Bilan!K13) -> Pierre5 | N13: =INDEX(Calendrier!$A$5:$A$25,Bilan!L13) -> Pierre5 | O13: =MATCH("A",OFFSET(Calendrier!$A$5,O12,Q$8-1,COUNTA(Calendrier!$A:$A)),0)+O12 -> 6 | P13: =MATCH("A",OFFSET(Calendrier!$A$5,P12,Q$8,COUNTA(Calendrier!$A:$A)),0)+P12 -> 6 | Q13: =INDEX(Calendrier!$A$5:$A$25,Bilan!O13) -> Pierre5 | R13: =INDEX(Calendrier!$A$5:$A$25,Bilan!P13) -> Pierre5 | S13: =MATCH("A",OFFSET(Calendrier!$A$5,S12,U$8-1,COUNTA(Calendrier!$A:$A)),0)+S12 -> 11 | T13: =MATCH("A",OFFSET(Calendrier!$A$5,T12,U$8,COUNTA(Calendrier!$A:$A)),0)+T12 -> 11 | U13: =INDEX(Calendrier!$A$5:$A$25,Bilan!S13) -> Pierre10 | V13: =INDEX(Calendrier!$A$5:$A$25,Bilan!T13) -> Pierre10 | W13: =MATCH("A",OFFSET(Calendrier!$A$5,W12,Y$8-1,COUNTA(Calendrier!$A:$A)),0)+W12 -> 11 | X13: =MATCH("A",OFFSET(Calendrier!$A$5,X12,Y$8,COUNTA(Calendrier!$A:$A)),0)+X12 -> 11 | Y13: =INDEX(Calendrier!$A$5:$A$25,Bilan!W13) -> Pierre10 | Z13: =INDEX(Calendrier!$A$5:$A$25,Bilan!X13) -> Pierre10 | AA13: =MATCH("A",OFFSET(Calendrier!$A$5,AA12,AC$8-1,COUNTA(Calendrier!$A:$A)),0)+AA12 -> 11 | AB13: =MATCH("A",OFFSET(Calendrier!$A$5,AB12,AC$8,COUNTA(Calendrier!$A:$A)),0)+AB12 -> 11 | AC13: =INDEX(Calendrier!$A$5:$A$25,Bilan!AA13) -> Pierre10 | AD13: =INDEX(Calendrier!$A$5:$A$25,Bilan!AB13) -> Pierre10 | AE13: =MATCH("A",OFFSET(Calendrier!$A$5,AE12,AG$8-1,COUNTA(Calendrier!$A:$A)),0)+AE12 -> 11 | AF13: =MATCH("A",OFFSET(Calendrier!$A$5,AF12,AG$8,COUNTA(Calendrier!$A:$A)),0)+AF12 -> 11 | AG13: =INDEX(Calendrier!$A$5:$A$25,Bilan!AE13) -> Pierre10 | AH13: =INDEX(Calendrier!$A$5:$A$25,Bilan!AF13) -> Pierre10

Sheet data
D3: Jour début | E3: Jour fin
B4: Semaine | C4: 1 | D4: 42740 | E4: =D4+7 -> 42747
B5: Semaine | C5: 2 | D5: =E4 -> 42747 | E5: =D5+7 -> 42754
B6: Semaine | C6: 3 | D6: =E5 -> 42754 | E6: =D6+7 -> 42761
B7: Semaine | C7: 4 | D7: =E6 -> 42761 | E7: =D7+7 -> 42768
B8: Semaine | C8: 5 | D8: =E7 -> 42768 | E8: =D8+7 -> 42775
B9: Semaine | C9: 6 | D9: =E8 -> 42775 | E9: =D9+7 -> 42782
B10: Semaine | C10: 7 | D10: =E9 -> 42782 | E10: =D10+7 -> 42789
B11: Semaine | C11: 8 | D11: =E10 -> 42789 | E11: =D11+7 -> 42796
B12: Semaine | C12: 9 | D12: =E11 -> 42796 | E12: =D12+7 -> 42803
B13: Semaine | C13: 10 | D13: =E12 -> 42803 | E13: =D13+7 -> 42810
B14: Semaine | C14: 11 | D14: =E13 -> 42810 | E14: =D14+7 -> 42817
B15: Semaine | C15: 12 | D15: =E14 -> 42817 | E15: =D15+7 -> 42824
B16: Semaine | C16: 13 | D16: =E15 -> 42824 | E16: =D16+7 -> 42831
... B55: Semaine | C55: 52 | D55: =E54 -> 43097 | E55: =D55+7 -> 43104
