Workbook

Sheet Volume
D1: Prestataire 1 | N1: Prestataire B
A2: Année | B2: Mois | C2: Art | D2: Region1 | F2: Region 2 | H2: Region 3 | J2: Region 4 | L2: Total | N2: Region1 | P2: Region 2 | R2: Region 3 | T2: Region 4 | V2: Total
A3: 2018 | B3: 1 | D3: Facture | E3: Control | F3: Facture | G3: Control | H3: Facture | I3: Control | J3: Facture | K3: Control | L3: Facture | M3: Control | N3: Facture | O3: Control | P3: Facture | Q3: Control | R3: Facture | S3: Control | T3: Facture | U3: Control | V3: Facture | W3: Control
A4: 2018 | B4: 1 | C4: Art1 | D4: 300 | E4: 300 | F4: 550 | G4: 530 | J4: 201 | K4: 201 | L4: =D4+F4+J4 -> 1051 | M4: =E4+G4+K4 -> 1031 | N4: 250 | O4: 250 | P4: 600 | Q4: 600 | T4: 300 | U4: 300 | V4: =N4+P4+T4 -> 1150 | W4: =O4+Q4+U4 -> 1150
A5: 2018 | B5: 1 | C5: Art2 | D5: 175 | E5: 174 | F5: 745 | G5: 745 | J5: 180 | K5: 180 | L5: =D5+F5+J5 -> 1100 | M5: =E5+G5+K5 -> 1099 | N5: 1000 | O5: 1000 | P5: 258 | Q5: 258 | T5: 500 | U5: 500 | V5: =N5+P5+T5 -> 1758 | W5: =O5+Q5+U5 -> 1758
A6: 2018 | B6: 1 | C6: Art3 | D6: 70 | E6: 70 | F6: 57 | G6: 57 | J6: 123 | K6: 123 | L6: =D6+F6+J6 -> 250 | M6: =E6+G6+K6 -> 250 | N6: 70 | O6: 70 | P6: 57 | Q6: 57 | T6: 123 | U6: 123 | V6: =N6+P6+T6 -> 250 | W6: =O6+Q6+U6 -> 250
A7: 2018 | B7: 1 | C7: Art4 | D7: 257 | E7: 255 | F7: 23 | G7: 23 | J7: 74 | K7: 74 | L7: =D7+F7+J7 -> 354 | M7: =E7+G7+K7 -> 352 | N7: 1200 | O7: 1200 | P7: 1000 | Q7: 998 | T7: 150 | U7: 150 | V7: =N7+P7+T7 -> 2350 | W7: =O7+Q7+U7 -> 2348
A8: 2018 | B8: 1 | C8: Art5 | D8: 11 | E8: 11 | F8: 74 | G8: 74 | J8: 58 | K8: 58 | L8: =D8+F8+J8 -> 143 | M8: =E8+G8+K8 -> 143 | N8: 200 | O8: 200 | P8: 125 | Q8: 125 | T8: 75 | U8: 75 | V8: =N8+P8+T8 -> 400 | W8: =O8+Q8+U8 -> 400
A9: 2018 | B9: 1 | C9: Art6 | D9: 84 | E9: 84 | F9: 120 | G9: 120 | J9: 179 | K9: 179 | L9: =D9+F9+J9 -> 383 | M9: =E9+G9+K9 -> 383 | N9: 125 | O9: 125 | P9: 100 | Q9: 100 | T9: 189 | U9: 189 | V9: =N9+P9+T9 -> 414 | W9: =O9+Q9+U9 -> 414
A10: 2018 | B10: 1 | C10: Art7 | N10: 78 | O10: 77 | P10: 99 | Q10: 98 | T10: 0 | U10: 0 | V10: =N10+P10+T10 -> 177 | W10: =O10+Q10+U10 -> 175
A11: 2018 | B11: 1 | C11: Art8 | D11: 784 | E11: 780 | F11: 89 | G11: 89 | J11: 574 | K11: 574 | L11: =D11+F11+J11 -> 1447 | M11: =E11+G11+K11 -> 1443
A12: 2018 | B12: 1 | C12: Art9 | D12: 30 | E12: 30 | F12: 0 | G12: 0 | J12: 230 | K12: 230 | L12: =D12+F12+J12 -> 260 | M12: =E12+G12+K12 -> 260 | N12: 75 | O12: 75 | P12: 500 | Q12: 500 | T12: 450 | U12: 450 | V12: =N12+P12+T12 -> 1025 | W12: =O12+Q12+U12 -> 1025
A13: 2018 | B13: 1 | C13: Art10 | D13: 55 | E13: 45 | F13: 354 | G13: 354 | J13: 189 | K13: 189 | L13: =D13+F13+J13 -> 598 | M13: =E13+G13+K13 -> 588 | N13: 90 | O13: 90 | P13: 450 | Q13: 450 | T13: 380 | U13: 380 | V13: =N13+P13+T13 -> 920 | W13: =O13+Q13+U13 -> 920
D14: =SUM(D4:D13) -> 1766 | E14: =SUM(E4:E13) -> 1749 | F14: =SUM(F4:F13) -> 2012 | G14: =SUM(G4:G13) -> 1992 | H14: =SUM(H4:H13) -> 0 | I14: =SUM(I4:I13) -> 0 | J14: =SUM(J4:J13) -> 1808 | K14: =SUM(K4:K13) -> 1808 | ... W14: =SUM(W4:W13) -> 8440
C15: Différence | D15: =D14-E14 -> 17 | F15: =F14-G14 -> 20 | H15: =H14-I14 -> 0 | J15: =J14-K14 -> 0 | L15: =L14-M14 -> 37 | N15: =N14-O14 -> 1 | P15: =P14-Q14 -> 3 | R15: =R14-S14 -> 0 | T15: =T14-U14 -> 0 | V15: =V14-W14 -> 4
A16: 2018 | B16: 2 | C16: Art1 | D16: 300 | E16: 300 | F16: 400 | G16: 400 | J16: 200 | K16: 200 | L16: =D16+F16+J16 -> 900 | M16: =E16+G16+K16 -> 900 | N16: 500 | O16: 500 | P16: 1000 | Q16: 1000 | T16: 250 | U16: 250 | V16: =N16+P16+T16 -> 1750 | W16: =O16+Q16+U16 -> 1750
A17: 2018 | B17: 2 | C17: Art2 | D17: 180 | E17: 174 | F17: 800 | G17: 800 | J17: 180 | K17: 180 | L17: =D17+F17+J17 -> 1160 | M17: =E17+G17+K17 -> 1154 | N17: 200 | O17: 200 | P17: 850 | Q17: 850 | T17: 258 | U17: 258 | V17: =N17+P17+T17 -> 1308 | W17: =O17+Q17+U17 -> 1308
A18: 2018 | B18: 2 | C18: Art3 | D18: 80 | E18: 80 | F18: 60 | G18: 59 | J18: 130 | K18: 130 | L18: =D18+F18+J18 -> 270 | M18: =E18+G18+K18 -> 269 | N18: 100 | O18: 100 | P18: 90 | Q18: 90 | T18: 175 | U18: 175 | V18: =N18+P18+T18 -> 365 | W18: =O18+Q18+U18 -> 365
A19: 2018 | B19: 2 | C19: Art4 | D19: 300 | E19: 300 | F19: 30 | G19: 30 | J19: 80 | K19: 80 | L19: =D19+F19+J19 -> 410 | M19: =E19+G19+K19 -> 410 | N19: 800 | O19: 800 | P19: 80 | Q19: 80 | T19: 120 | U19: 120 | V19: =N19+P19+T19 -> 1000 | W19: =O19+Q19+U19 -> 1000
A20: 2018 | B20: 2 | C20: Art5 | D20: 20 | E20: 19 | F20: 75 | G20: 75 | J20: 60 | K20: 60 | L20: =D20+F20+J20 -> 155 | M20: =E20+G20+K20 -> 154 | N20: 30 | O20: 30 | P20: 80 | Q20: 80 | T20: 75 | U20: 75 | V20: =N20+P20+T20 -> 185 | W20: =O20+Q20+U20 -> 185
A21: 2018 | B21: 2 | C21: Art6 | D21: 54 | E21: 54 | F21: 130 | G21: 127 | J21: 180 | K21: 180 | L21: =D21+F21+J21 -> 364 | M21: =E21+G21+K21 -> 361 | N21: 80 | O21: 80 | P21: 144 | Q21: 144 | T21: 220 | U21: 220 | V21: =N21+P21+T21 -> 444 | W21: =O21+Q21+U21 -> 444
A22: 2018 | B22: 2 | C22: Art7 | N22: 89 | O22: 89 | P22: 100 | Q22: 100 | T22: 178 | U22: 176 | V22: =N22+P22+T22 -> 367 | W22: =O22+Q22+U22 -> 365
A23: 2018 | B23: 2 | C23: Art8 | D23: 800 | E23: 801 | F23: 0 | G23: 0 | J23: 574 | K23: 574 | L23: =D23+F23+J23 -> 1374 | M23: =E23+G23+K23 -> 1375
A24: 2018 | B24: 2 | C24: Art9 | D24: 40 | E24: 39 | F24: 78 | G24: 78 | J24: 200 | K24: 200 | L24: =D24+F24+J24 -> 318 | M24: =E24+G24+K24 -> 317 | N24: 75 | O24: 78 | P24: 90 | Q24: 90 | T24: 300 | U24: 300 | V24: =N24+P24+T24 -> 465 | W24: =O24+Q24+U24 -> 468
A25: 2018 | B25: 2 | C25: Art10 | D25: 54 | E25: 45 | F25: 354 | G25: 354 | J25: 210 | K25: 209 | L25: =D25+F25+J25 -> 618 | M25: =E25+G25+K25 -> 608 | N25: 45 | O25: 45 | P25: 370 | Q25: 370 | T25: 299 | U25: 299 | V25: =N25+P25+T25 -> 714 | W25: =O25+Q25+U25 -> 714
D26: =SUM(D16:D25) -> 1828 | E26: =SUM(E16:E25) -> 1812 | F26: =SUM(F16:F25) -> 1927 | G26: =SUM(G16:G25) -> 1923 | H26: =SUM(H16:H25) -> 0 | I26: =SUM(I16:I25) -> 0 | J26: =SUM(J16:J25) -> 1814 | K26: =SUM(K16:K25) -> 1813 | ... W26: =SUM(W16:W25) -> 6599
C27: Différence | D27: =D26-E26 -> 16 | F27: =F26-G26 -> 4 | H27: =H26-I26 -> 0 | J27: =J26-K26 -> 1 | L27: =L26-M26 -> 21 | N27: =N26-O26 -> -3 | P27: =P26-Q26 -> 0 | R27: =R26-S26 -> 0 | T27: =T26-U26 -> 2 | V27: =V26-W26 -> -1
A28: 2018 | B28: 3 | C28: Art1 | D28: 300 | E28: 300 | F28: 550 | G28: 530 | J28: 350 | K28: 350 | L28: =D28+F28+J28 -> 1200 | M28: =E28+G28+K28 -> 1180 | N28: 450 | O28: 450 | P28: 600 | Q28: 600 | T28: 800 | U28: 800 | V28: =N28+P28+T28 -> 1850 | W28: =O28+Q28+U28 -> 1850
A29: 2018 | B29: 3 | C29: Art2 | D29: 175 | E29: 174 | F29: 745 | G29: 745 | J29: 200 | K29: 200 | L29: =D29+F29+J29 -> 1120 | M29: =E29+G29+K29 -> 1119 | N29: 100 | O29: 100 | P29: 700 | Q29: 700 | T29: 146 | U29: 146 | V29: =N29+P29+T29 -> 946 | W29: =O29+Q29+U29 -> 946
A30: 2018 | B30: 3 | C30: Art3 | D30: 70 | E30: 70 | F30: 57 | G30: 57 | J30: 125 | K30: 125 | L30: =D30+F30+J30 -> 252 | M30: =E30+G30+K30 -> 252 | N30: 80 | O30: 80 | P30: 60 | Q30: 60 | T30: 144 | U30: 144 | V30: =N30+P30+T30 -> 284 | W30: =O30+Q30+U30 -> 284
A31: 2018 | B31: 3 | C31: Art4 | D31: 257 | E31: 255 | F31: 23 | G31: 23 | J31: 75 | K31: 75 | L31: =D31+F31+J31 -> 355 | M31: =E31+G31+K31 -> 353 | N31: 300 | O31: 300 | P31: 10 | Q31: 10 | T31: 808 | U31: 808 | V31: =N31+P31+T31 -> 1118 | W31: =O31+Q31+U31 -> 1118
A32: 2018 | B32: 3 | C32: Art5 | D32: 11 | E32: 11 | F32: 74 | G32: 74 | J32: 60 | K32: 60 | L32: =D32+F32+J32 -> 145 | M32: =E32+G32+K32 -> 145 | N32: 10 | O32: 10 | P32: 75 | Q32: 75 | T32: 50 | U32: 50 | V32: =N32+P32+T32 -> 135 | W32: =O32+Q32+U32 -> 135
A33: 2018 | B33: 3 | C33: Art6 | D33: 84 | E33: 84 | F33: 120 | G33: 120 | J33: 190 | K33: 190 | L33: =D33+F33+J33 -> 394 | M33: =E33+G33+K33 -> 394 | N33: 90 | O33: 90 | P33: 130 | Q33: 130 | T33: 200 | U33: 200 | V33: =N33+P33+T33 -> 420 | W33: =O33+Q33+U33 -> 420
A34: 2018 | B34: 3 | C34: Art7 | N34: 78 | O34: 77 | P34: 99 | Q34: 98 | T34: 30 | U34: 30 | V34: =N34+P34+T34 -> 207 | W34: =O34+Q34+U34 -> 205
A35: 2018 | B35: 3 | C35: Art8 | D35: 784 | E35: 780 | F35: 89 | G35: 89 | J35: 574 | K35: 574 | L35: =D35+F35+J35 -> 1447 | M35: =E35+G35+K35 -> 1443
A36: 2018 | B36: 3 | C36: Art9 | D36: 30 | E36: 30 | F36: 0 | G36: 0 | J36: 200 | K36: 200 | L36: =D36+F36+J36 -> 230 | M36: =E36+G36+K36 -> 230 | N36: 45 | O36: 45 | P36: 55 | Q36: 55 | T36: 275 | U36: 275 | V36: =N36+P36+T36 -> 375 | W36: =O36+Q36+U36 -> 375
A37: 2018 | B37: 3 | C37: Art10 | D37: 55 | E37: 45 | F37: 354 | G37: 354 | J37: 175 | K37: 175 | L37: =D37+F37+J37 -> 584 | M37: =E37+G37+K37 -> 574 | N37: 60 | O37: 60 | P37: 399 | Q37: 399 | T37: 200 | U37: 200 | V37: =N37+P37+T37 -> 659 | W37: =O37+Q37+U37 -> 659
D38: =SUM(D28:D37) -> 1766 | E38: =SUM(E28:E37) -> 1749 | F38: =SUM(F28:F37) -> 2012 | G38: =SUM(G28:G37) -> 1992 | H38: =SUM(H28:H37) -> 0 | I38: =SUM(I28:I37) -> 0 | J38: =SUM(J28:J37) -> 1949 | K38: =SUM(K28:K37) -> 1949 | ... W38: =SUM(W28:W37) -> 5992
C39: Différence | D39: =D38-E38 -> 17 | F39: =F38-G38 -> 20 | H39: =H38-I38 -> 0 | J39: =J38-K38 -> 0 | L39: =L38-M38 -> 37 | N39: =N38-O38 -> 1 | P39: =P38-Q38 -> 1 | R39: =R38-S38 -> 0 | T39: =T38-U38 -> 0 | V39: =V38-W38 -> 2

Sheet Tarif
D1: Prestataire 1 | N1: Prestataire 2
A2: Année | B2: Mois | C2: Art | D2: Region 1 | F2: Region 2 | H2: Region 3 | J2: Region 4 | L2: Total | N2: Region 1 | P2: Region 2 | R2: Region 3 | T2: Region 4 | V2: Total
A3: 2018 | B3: 1 | D3: Facture | E3: Control | F3: Facture | G3: Control | H3: Facture | I3: Control | J3: Facture | K3: Control | L3: Facture | M3: Control | N3: Facture | O3: Control | P3: Facture | Q3: Control | R3: Facture | S3: Control | T3: Facture | U3: Control | V3: Facture | W3: Control
A4: 2018 | B4: 1 | C4: Art1 | D4: =Volume!D4*Paramètres!$B$2 -> 471 | E4: =Volume!E4*Paramètres!$B$2 -> 471 | F4: =Volume!F4*Paramètres!$B$2 -> 863.5 | G4: =Volume!G4*Paramètres!$B$2 -> 832.1 | J4: =Volume!J4*Paramètres!$B$2 -> 315.57 | K4: =Volume!K4*Paramètres!$B$2 -> 315.57 | L4: =D4+F4+J4 -> 1650.07 | M4: =E4+G4+K4 -> 1618.67 | N4: =Volume!N4*Paramètres!$B$2 -> 392.5 | O4: =Volume!O4*Paramètres!$B$2 -> 392.5 | P4: =Volume!P4*Paramètres!$B$2 -> 942 | Q4: =Volume!Q4*Paramètres!$B$2 -> 942 | R4: =Volume!R4*Paramètres!$B$2 -> 0 | S4: =Volume!S4*Paramètres!$B$2 -> 0 | T4: =Volume!T4*Paramètres!$B$2 -> 471 | U4: =Volume!U4*Paramètres!$B$2 -> 471 | V4: =N4+P4+T4 -> 1805.5 | W4: =O4+Q4+U4 -> 1805.5
A5: 2018 | B5: 1 | C5: Art2 | D5: =Volume!D5*Paramètres!$B$3 -> 407.75 | E5: =Volume!E5*Paramètres!$B$3 -> 405.42 | F5: =Volume!F5*Paramètres!$B$3 -> 1735.85 | G5: =Volume!G5*Paramètres!$B$3 -> 1735.85 | J5: =Volume!J5*Paramètres!$B$3 -> 419.4 | K5: =Volume!K5*Paramètres!$B$3 -> 419.4 | L5: =D5+F5+J5 -> 2563 | M5: =E5+G5+K5 -> 2560.67 | N5: =Volume!N5*Paramètres!$C$3 -> 2110 | O5: =Volume!O5*Paramètres!$C$3 -> 2110 | P5: =Volume!P5*Paramètres!$C$3 -> 544.38 | Q5: =Volume!Q5*Paramètres!$C$3 -> 544.38 | R5: =Volume!R5*Paramètres!$C$3 -> 0 | S5: =Volume!S5*Paramètres!$C$3 -> 0 | T5: =Volume!T5*Paramètres!$C$3 -> 1055 | U5: =Volume!U5*Paramètres!$C$3 -> 1055 | V5: =N5+P5+T5 -> 3709.38 | W5: =O5+Q5+U5 -> 3709.38
A6: 2018 | B6: 1 | C6: Art3 | D6: =Volume!D6*Paramètres!$B$4 -> 622.3 | E6: =Volume!E6*Paramètres!$B$4 -> 622.3 | F6: =Volume!F6*Paramètres!$B$4 -> 506.73 | G6: =Volume!G6*Paramètres!$B$4 -> 506.73 | J6: =Volume!J6*Paramètres!$B$4 -> 1093.47 | K6: =Volume!K6*Paramètres!$B$4 -> 1093.47 | L6: =D6+F6+J6 -> 2222.5 | M6: =E6+G6+K6 -> 2222.5 | N6: =Volume!N6*Paramètres!$C$4 -> 697.9 | O6: =Volume!O6*Paramètres!$C$4 -> 697.9 | P6: =Volume!P6*Paramètres!$C$4 -> 568.29 | Q6: =Volume!Q6*Paramètres!$C$4 -> 568.29 | R6: =Volume!R6*Paramètres!$C$4 -> 0 | S6: =Volume!S6*Paramètres!$C$4 -> 0 | T6: =Volume!T6*Paramètres!$C$4 -> 1226.31 | U6: =Volume!U6*Paramètres!$C$4 -> 1226.31 | V6: =N6+P6+T6 -> 2492.5 | W6: =O6+Q6+U6 -> 2492.5
A7: 2018 | B7: 1 | C7: Art4 | D7: =Volume!D7*Paramètres!$B$5 -> 1287.57 | E7: =Volume!E7*Paramètres!$B$5 -> 1277.55 | F7: =Volume!F7*Paramètres!$B$5 -> 115.23 | G7: =Volume!G7*Paramètres!$B$5 -> 115.23 | J7: =Volume!J7*Paramètres!$B$5 -> 370.74 | K7: =Volume!K7*Paramètres!$B$5 -> 370.74 | L7: =D7+F7+J7 -> 1773.54 | M7: =E7+G7+K7 -> 1763.52 | N7: =Volume!N7*Paramètres!$C$5 -> 5820 | O7: =Volume!O7*Paramètres!$C$5 -> 5820 | P7: =Volume!P7*Paramètres!$C$5 -> 4850 | Q7: =Volume!Q7*Paramètres!$C$5 -> 4840.3 | R7: =Volume!R7*Paramètres!$C$5 -> 0 | S7: =Volume!S7*Paramètres!$C$5 -> 0 | T7: =Volume!T7*Paramètres!$C$5 -> 727.5 | U7: =Volume!U7*Paramètres!$C$5 -> 727.5 | V7: =N7+P7+T7 -> 11397.5 | W7: =O7+Q7+U7 -> 11387.8
A8: 2018 | B8: 1 | C8: Art5 | D8: =Volume!D8*Paramètres!$B$6 -> 88.22 | E8: =Volume!E8*Paramètres!$B$6 -> 88.22 | F8: =Volume!F8*Paramètres!$B$6 -> 593.48 | G8: =Volume!G8*Paramètres!$B$6 -> 593.48 | J8: =Volume!J8*Paramètres!$B$6 -> 465.16 | K8: =Volume!K8*Paramètres!$B$6 -> 465.16 | L8: =D8+F8+J8 -> 1146.86 | M8: =E8+G8+K8 -> 1146.86 | N8: =Volume!N8*Paramètres!$C$6 -> 1610 | O8: =Volume!O8*Paramètres!$C$6 -> 1610 | P8: =Volume!P8*Paramètres!$C$6 -> 1006.25 | Q8: =Volume!Q8*Paramètres!$C$6 -> 1006.25 | R8: =Volume!R8*Paramètres!$C$6 -> 0 | S8: =Volume!S8*Paramètres!$C$6 -> 0 | T8: =Volume!T8*Paramètres!$C$6 -> 603.75 | U8: =Volume!U8*Paramètres!$C$6 -> 603.75 | V8: =N8+P8+T8 -> 3220 | W8: =O8+Q8+U8 -> 3220
A9: 2018 | B9: 1 | C9: Art6 | D9: =Volume!D9*Paramètres!$B$7 -> 1044.96 | E9: =Volume!E9*Paramètres!$B$7 -> 1044.96 | F9: =Volume!F9*Paramètres!$B$7 -> 1492.8 | G9: =Volume!G9*Paramètres!$B$7 -> 1492.8 | J9: =Volume!J9*Paramètres!$B$7 -> 2226.76 | K9: =Volume!K9*Paramètres!$B$7 -> 2226.76 | L9: =D9+F9+J9 -> 4764.52 | M9: =E9+G9+K9 -> 4764.52 | N9: =Volume!N9*Paramètres!$C$7 -> 1546.25 | O9: =Volume!O9*Paramètres!$C$7 -> 1546.25 | P9: =Volume!P9*Paramètres!$C$7 -> 1237 | Q9: =Volume!Q9*Paramètres!$C$7 -> 1237 | R9: =Volume!R9*Paramètres!$C$7 -> 0 | S9: =Volume!S9*Paramètres!$C$7 -> 0 | T9: =Volume!T9*Paramètres!$C$7 -> 2337.93 | U9: =Volume!U9*Paramètres!$C$7 -> 2337.93 | V9: =N9+P9+T9 -> 5121.18 | W9: =O9+Q9+U9 -> 5121.18
A10: 2018 | B10: 1 | C10: Art7 | D10: =Volume!D10*Paramètres!$B$8 -> 0 | E10: =Volume!E10*Paramètres!$B$8 -> 0 | F10: =Volume!F10*Paramètres!$B$8 -> 0 | G10: =Volume!G10*Paramètres!$B$8 -> 0 | J10: =Volume!J10*Paramètres!$B$8 -> 0 | K10: =Volume!K10*Paramètres!$B$8 -> 0 | N10: =Volume!N10*Paramètres!$CB$8 -> 0 | O10: =Volume!O10*Paramètres!$CB$8 -> 0 | P10: =Volume!P10*Paramètres!$CB$8 -> 0 | Q10: =Volume!Q10*Paramètres!$CB$8 -> 0 | R10: =Volume!R10*Paramètres!$CB$8 -> 0 | S10: =Volume!S10*Paramètres!$CB$8 -> 0 | T10: =Volume!T10*Paramètres!$CB$8 -> 0 | U10: =Volume!U10*Paramètres!$CB$8 -> 0 | V10: =N10+P10+T10 -> 0 | W10: =O10+Q10+U10 -> 0
A11: 2018 | B11: 1 | C11: Art8 | D11: =Volume!D11*Paramètres!$B$9 -> 3222.24 | E11: =Volume!E11*Paramètres!$B$9 -> 3205.8 | F11: =Volume!F11*Paramètres!$B$9 -> 365.79 | G11: =Volume!G11*Paramètres!$B$9 -> 365.79 | J11: =Volume!J11*Paramètres!$B$9 -> 2359.14 | K11: =Volume!K11*Paramètres!$B$9 -> 2359.14 | L11: =D11+F11+J11 -> 5947.17 | M11: =E11+G11+K11 -> 5930.73 | N11: =Volume!N11*Paramètres!$C$9 -> 0 | O11: =Volume!O11*Paramètres!$C$9 -> 0 | P11: =Volume!P11*Paramètres!$C$9 -> 0 | Q11: =Volume!Q11*Paramètres!$C$9 -> 0 | R11: =Volume!R11*Paramètres!$C$9 -> 0 | S11: =Volume!S11*Paramètres!$C$9 -> 0 | T11: =Volume!T11*Paramètres!$C$9 -> 0 | U11: =Volume!U11*Paramètres!$C$9 -> 0
A12: 2018 | B12: 1 | C12: Art9 | D12: =Volume!D12*Paramètres!$B$10 -> 316.2 | E12: =Volume!E12*Paramètres!$B$10 -> 316.2 | F12: =Volume!F12*Paramètres!$B$10 -> 0 | G12: =Volume!G12*Paramètres!$B$10 -> 0 | J12: =Volume!J12*Paramètres!$B$10 -> 2424.2 | K12: =Volume!K12*Paramètres!$B$10 -> 2424.2 | L12: =D12+F12+J12 -> 2740.4 | M12: =E12+G12+K12 -> 2740.4 | N12: =Volume!N12*Paramètres!$C$10 -> 749.25 | O12: =Volume!O12*Paramètres!$C$10 -> 749.25 | P12: =Volume!P12*Paramètres!$C$10 -> 4995 | Q12: =Volume!Q12*Paramètres!$C$10 -> 4995 | R12: =Volume!R12*Paramètres!$C$10 -> 0 | S12: =Volume!S12*Paramètres!$C$10 -> 0 | T12: =Volume!T12*Paramètres!$C$10 -> 4495.5 | U12: =Volume!U12*Paramètres!$C$10 -> 4495.5 | V12: =N12+P12+T12 -> 10239.75 | W12: =O12+Q12+U12 -> 10239.75
A13: 2018 | B13: 1 | C13: Art10 | D13: =Volume!D13*Paramètres!$B$11 -> 377.85 | E13: =Volume!E13*Paramètres!$B$11 -> 309.15 | F13: =Volume!F13*Paramètres!$B$11 -> 2431.98 | G13: =Volume!G13*Paramètres!$B$11 -> 2431.98 | J13: =Volume!J13*Paramètres!$B$11 -> 1298.43 | K13: =Volume!K13*Paramètres!$B$11 -> 1298.43 | L13: =D13+F13+J13 -> 4108.26 | M13: =E13+G13+K13 -> 4039.56 | N13: =Volume!N13*Paramètres!$C$11 -> 624.6 | O13: =Volume!O13*Paramètres!$C$11 -> 624.6 | P13: =Volume!P13*Paramètres!$C$11 -> 3123 | Q13: =Volume!Q13*Paramètres!$C$11 -> 3123 | R13: =Volume!R13*Paramètres!$C$11 -> 0 | S13: =Volume!S13*Paramètres!$C$11 -> 0 | T13: =Volume!T13*Paramètres!$C$11 -> 2637.2 | U13: =Volume!U13*Paramètres!$C$11 -> 2637.2 | V13: =N13+P13+T13 -> 6384.8 | W13: =O13+Q13+U13 -> 6384.8
D14: =SUM(D4:D13) -> 7838.09 | E14: =SUM(E4:E13) -> 7740.6 | F14: =SUM(F4:F13) -> 8105.36 | G14: =SUM(G4:G13) -> 8073.96 | H14: =SUM(H4:H13) -> 0 | I14: =SUM(I4:I13) -> 0 | J14: =SUM(J4:J13) -> 10972.87 | K14: =SUM(K4:K13) -> 10972.87 | ... W14: =SUM(W4:W13) -> 44360.91
C15: Différence | D15: =D14-E14 -> 97.49 | F15: =F14-G14 -> 31.4 | H15: =H14-I14 -> 0 | J15: =J14-K14 -> 0 | L15: =L14-M14 -> 128.89 | N15: =N14-O14 -> 0 | P15: =P14-Q14 -> 9.7 | R15: =R14-S14 -> 0 | T15: =T14-U14 -> 0 | V15: =V14-W14 -> 9.7
A16: 2018 | B16: 2 | C16: Art1 | D16: =Volume!D16*Paramètres!$B$2 -> 471 | E16: =Volume!E16*Paramètres!$B$2 -> 471 | F16: 471 | G16: 471 | J16: 471 | K16: 471 | L16: =D16+F16+J16 -> 1413 | M16: =E16+G16+K16 -> 1413 | N16: =Volume!N16*Paramètres!$B$2 -> 785 | O16: =Volume!O16*Paramètres!$B$2 -> 785 | P16: =Volume!P16*Paramètres!$B$2 -> 1570 | Q16: =Volume!Q16*Paramètres!$B$2 -> 1570 | R16: =Volume!R16*Paramètres!$B$2 -> 0 | S16: =Volume!S16*Paramètres!$B$2 -> 0 | T16: =Volume!T16*Paramètres!$B$2 -> 392.5 | U16: =Volume!U16*Paramètres!$B$2 -> 392.5 | V16: =N16+P16+T16 -> 2747.5 | W16: =O16+Q16+U16 -> 2747.5
A17: 2018 | B17: 2 | C17: Art2 | D17: =Volume!D17*Paramètres!$B$3 -> 419.4 | E17: =Volume!E17*Paramètres!$B$3 -> 405.42 | F17: 407.75 | G17: 405.42 | J17: 407.75 | K17: 405.42 | L17: =D17+F17+J17 -> 1234.9 | M17: =E17+G17+K17 -> 1216.26 | N17: =Volume!N17*Paramètres!$C$3 -> 422 | O17: =Volume!O17*Paramètres!$C$3 -> 422 | P17: =Volume!P17*Paramètres!$C$3 -> 1793.5 | Q17: =Volume!Q17*Paramètres!$C$3 -> 1793.5 | R17: =Volume!R17*Paramètres!$C$3 -> 0 | S17: =Volume!S17*Paramètres!$C$3 -> 0 | T17: =Volume!T17*Paramètres!$C$3 -> 544.38 | U17: =Volume!U17*Paramètres!$C$3 -> 544.38 | V17: =N17+P17+T17 -> 2759.88 | W17: =O17+Q17+U17 -> 2759.88
A18: 2018 | B18: 2 | C18: Art3 | D18: =Volume!D18*Paramètres!$B$4 -> 711.2 | E18: =Volume!E18*Paramètres!$B$4 -> 711.2 | F18: 622.3 | G18: 622.3 | J18: 622.3 | K18: 622.3 | L18: =D18+F18+J18 -> 1955.8 | M18: =E18+G18+K18 -> 1955.8 | N18: =Volume!N18*Paramètres!$C$4 -> 997 | O18: =Volume!O18*Paramètres!$C$4 -> 997 | P18: =Volume!P18*Paramètres!$C$4 -> 897.3 | Q18: =Volume!Q18*Paramètres!$C$4 -> 897.3 | R18: =Volume!R18*Paramètres!$C$4 -> 0 | S18: =Volume!S18*Paramètres!$C$4 -> 0 | T18: =Volume!T18*Paramètres!$C$4 -> 1744.75 | U18: =Volume!U18*Paramètres!$C$4 -> 1744.75 | V18: =N18+P18+T18 -> 3639.05 | W18: =O18+Q18+U18 -> 3639.05
A19: 2018 | B19: 2 | C19: Art4 | D19: =Volume!D19*Paramètres!$B$5 -> 1503 | E19: =Volume!E19*Paramètres!$B$5 -> 1503 | F19: 1287.57 | G19: 1277.55 | J19: 1287.57 | K19: 1277.55 | L19: =D19+F19+J19 -> 4078.14 | M19: =E19+G19+K19 -> 4058.1 | N19: =Volume!N19*Paramètres!$C$5 -> 3880 | O19: =Volume!O19*Paramètres!$C$5 -> 3880 | P19: =Volume!P19*Paramètres!$C$5 -> 388 | Q19: =Volume!Q19*Paramètres!$C$5 -> 388 | R19: =Volume!R19*Paramètres!$C$5 -> 0 | S19: =Volume!S19*Paramètres!$C$5 -> 0 | T19: =Volume!T19*Paramètres!$C$5 -> 582 | U19: =Volume!U19*Paramètres!$C$5 -> 582 | V19: =N19+P19+T19 -> 4850 | W19: =O19+Q19+U19 -> 4850
A20: 2018 | B20: 2 | C20: Art5 | D20: =Volume!D20*Paramètres!$B$6 -> 160.4 | E20: =Volume!E20*Paramètres!$B$6 -> 152.38 | F20: 88.22 | G20: 88.22 | J20: 88.22 | K20: 88.22 | L20: =D20+F20+J20 -> 336.84 | M20: =E20+G20+K20 -> 328.82 | N20: =Volume!N20*Paramètres!$C$6 -> 241.5 | O20: =Volume!O20*Paramètres!$C$6 -> 241.5 | P20: =Volume!P20*Paramètres!$C$6 -> 644 | Q20: =Volume!Q20*Paramètres!$C$6 -> 644 | R20: =Volume!R20*Paramètres!$C$6 -> 0 | S20: =Volume!S20*Paramètres!$C$6 -> 0 | T20: =Volume!T20*Paramètres!$C$6 -> 603.75 | U20: =Volume!U20*Paramètres!$C$6 -> 603.75 | V20: =N20+P20+T20 -> 1489.25 | W20: =O20+Q20+U20 -> 1489.25
A21: 2018 | B21: 2 | C21: Art6 | D21: =Volume!D21*Paramètres!$B$7 -> 671.76 | E21: =Volume!E21*Paramètres!$B$7 -> 671.76 | F21: 1044.96 | G21: 1044.96 | J21: 1044.96 | K21: 1044.96 | L21: =D21+F21+J21 -> 2761.68 | M21: =E21+G21+K21 -> 2761.68 | N21: =Volume!N21*Paramètres!$C$7 -> 989.6 | O21: =Volume!O21*Paramètres!$C$7 -> 989.6 | P21: =Volume!P21*Paramètres!$C$7 -> 1781.28 | Q21: =Volume!Q21*Paramètres!$C$7 -> 1781.28 | R21: =Volume!R21*Paramètres!$C$7 -> 0 | S21: =Volume!S21*Paramètres!$C$7 -> 0 | T21: =Volume!T21*Paramètres!$C$7 -> 2721.4 | U21: =Volume!U21*Paramètres!$C$7 -> 2721.4 | V21: =N21+P21+T21 -> 5492.28 | W21: =O21+Q21+U21 -> 5492.28
A22: 2018 | B22: 2 | C22: Art7 | D22: =Volume!D22*Paramètres!$B$8 -> 0 | E22: =Volume!E22*Paramètres!$B$8 -> 0 | F22: 0 | G22: 0 | J22: 0 | K22: 0 | N22: =Volume!N22*Paramètres!$CB$8 -> 0 | O22: =Volume!O22*Paramètres!$CB$8 -> 0 | P22: =Volume!P22*Paramètres!$CB$8 -> 0 | Q22: =Volume!Q22*Paramètres!$CB$8 -> 0 | R22: =Volume!R22*Paramètres!$CB$8 -> 0 | S22: =Volume!S22*Paramètres!$CB$8 -> 0 | T22: =Volume!T22*Paramètres!$CB$8 -> 0 | U22: =Volume!U22*Paramètres!$CB$8 -> 0 | V22: =N22+P22+T22 -> 0 | W22: =O22+Q22+U22 -> 0
A23: 2018 | B23: 2 | C23: Art8 | D23: =Volume!D23*Paramètres!$B$9 -> 3288 | E23: =Volume!E23*Paramètres!$B$9 -> 3292.11 | F23: 3222.24 | G23: 3205.8 | J23: 3222.24 | K23: 3205.8 | L23: =D23+F23+J23 -> 9732.48 | M23: =E23+G23+K23 -> 9703.71 | N23: =Volume!N23*Paramètres!$C$9 -> 0 | O23: =Volume!O23*Paramètres!$C$9 -> 0 | P23: =Volume!P23*Paramètres!$C$9 -> 0 | Q23: =Volume!Q23*Paramètres!$C$9 -> 0 | R23: =Volume!R23*Paramètres!$C$9 -> 0 | S23: =Volume!S23*Paramètres!$C$9 -> 0 | T23: =Volume!T23*Paramètres!$C$9 -> 0 | U23: =Volume!U23*Paramètres!$C$9 -> 0
A24: 2018 | B24: 2 | C24: Art9 | D24: =Volume!D24*Paramètres!$B$10 -> 421.6 | E24: =Volume!E24*Paramètres!$B$10 -> 411.06 | F24: 316.2 | G24: 316.2 | J24: 316.2 | K24: 316.2 | L24: =D24+F24+J24 -> 1054 | M24: =E24+G24+K24 -> 1043.46 | N24: =Volume!N24*Paramètres!$C$10 -> 749.25 | O24: =Volume!O24*Paramètres!$C$10 -> 779.22 | P24: =Volume!P24*Paramètres!$C$10 -> 899.1 | Q24: =Volume!Q24*Paramètres!$C$10 -> 899.1 | R24: =Volume!R24*Paramètres!$C$10 -> 0 | S24: =Volume!S24*Paramètres!$C$10 -> 0 | T24: =Volume!T24*Paramètres!$C$10 -> 2997 | U24: =Volume!U24*Paramètres!$C$10 -> 2997 | V24: =N24+P24+T24 -> 4645.35 | W24: =O24+Q24+U24 -> 4675.32
A25: 2018 | B25: 2 | C25: Art10 | D25: =Volume!D25*Paramètres!$B$11 -> 370.98 | E25: =Volume!E25*Paramètres!$B$11 -> 309.15 | F25: 377.85 | G25: 309.15 | J25: 377.85 | K25: 309.15 | L25: =D25+F25+J25 -> 1126.68 | M25: =E25+G25+K25 -> 927.45 | N25: =Volume!N25*Paramètres!$C$11 -> 312.3 | O25: =Volume!O25*Paramètres!$C$11 -> 312.3 | P25: =Volume!P25*Paramètres!$C$11 -> 2567.8 | Q25: =Volume!Q25*Paramètres!$C$11 -> 2567.8 | R25: =Volume!R25*Paramètres!$C$11 -> 0 | S25: =Volume!S25*Paramètres!$C$11 -> 0 | T25: =Volume!T25*Paramètres!$C$11 -> 2075.06 | U25: =Volume!U25*Paramètres!$C$11 -> 2075.06 | V25: =N25+P25+T25 -> 4955.16 | W25: =O25+Q25+U25 -> 4955.16
D26: =SUM(D16:D25) -> 8017.34 | E26: =SUM(E16:E25) -> 7927.08 | F26: =SUM(F16:F25) -> 7838.09 | G26: =SUM(G16:G25) -> 7740.6 | H26: =SUM(H16:H25) -> 0 | I26: =SUM(I16:I25) -> 0 | J26: =SUM(J16:J25) -> 7838.09 | K26: =SUM(K16:K25) -> 7740.6 | ... W26: =SUM(W16:W25) -> 30608.44
C27: Différence | D27: =D26-E26 -> 90.26 | F27: =F26-G26 -> 97.49 | H27: =H26-I26 -> 0 | J27: =J26-K26 -> 97.49 | L27: =L26-M26 -> 285.24 | N27: =N26-O26 -> -29.97 | P27: =P26-Q26 -> 0 | R27: =R26-S26 -> 0 | T27: =T26-U26 -> 0 | V27: =V26-W26 -> -29.97
A28: 2018 | B28: 3 | C28: Art1 | D28: =Volume!D28*Paramètres!$B$2 -> 471 | E28: =Volume!E28*Paramètres!$B$2 -> 471 | F28: =Volume!F28*Paramètres!$B$2 -> 863.5 | G28: =Volume!G28*Paramètres!$B$2 -> 832.1 | J28: =Volume!J28*Paramètres!$B$2 -> 549.5 | K28: =Volume!K28*Paramètres!$B$2 -> 549.5 | L28: =D28+F28+J28 -> 1884 | M28: =E28+G28+K28 -> 1852.6 | N28: =Volume!N28*Paramètres!$B$2 -> 706.5 | O28: =Volume!O28*Paramètres!$B$2 -> 706.5 | P28: =Volume!P28*Paramètres!$B$2 -> 942 | Q28: =Volume!Q28*Paramètres!$B$2 -> 942 | R28: =Volume!R28*Paramètres!$B$2 -> 0 | S28: =Volume!S28*Paramètres!$B$2 -> 0 | T28: =Volume!T28*Paramètres!$B$2 -> 1256 | U28: =Volume!U28*Paramètres!$B$2 -> 1256 | V28: =N28+P28+T28 -> 2904.5 | W28: =O28+Q28+U28 -> 2904.5
A29: 2018 | B29: 3 | C29: Art2 | D29: =Volume!D29*Paramètres!$B$3 -> 407.75 | E29: =Volume!E29*Paramètres!$B$3 -> 405.42 | F29: =Volume!F29*Paramètres!$B$3 -> 1735.85 | G29: =Volume!G29*Paramètres!$B$3 -> 1735.85 | J29: =Volume!J29*Paramètres!$B$3 -> 466 | K29: =Volume!K29*Paramètres!$B$3 -> 466 | L29: =D29+F29+J29 -> 2609.6 | M29: =E29+G29+K29 -> 2607.27 | N29: =Volume!N29*Paramètres!$C$3 -> 211 | O29: =Volume!O29*Paramètres!$C$3 -> 211 | P29: =Volume!P29*Paramètres!$C$3 -> 1477 | Q29: =Volume!Q29*Paramètres!$C$3 -> 1477 | R29: =Volume!R29*Paramètres!$C$3 -> 0 | S29: =Volume!S29*Paramètres!$C$3 -> 0 | T29: =Volume!T29*Paramètres!$C$3 -> 308.06 | U29: =Volume!U29*Paramètres!$C$3 -> 308.06 | V29: =N29+P29+T29 -> 1996.06 | W29: =O29+Q29+U29 -> 1996.06
A30: 2018 | B30: 3 | C30: Art3 | D30: =Volume!D30*Paramètres!$B$4 -> 622.3 | E30: =Volume!E30*Paramètres!$B$4 -> 622.3 | F30: =Volume!F30*Paramètres!$B$4 -> 506.73 | G30: =Volume!G30*Paramètres!$B$4 -> 506.73 | J30: =Volume!J30*Paramètres!$B$4 -> 1111.25 | K30: =Volume!K30*Paramètres!$B$4 -> 1111.25 | L30: =D30+F30+J30 -> 2240.28 | M30: =E30+G30+K30 -> 2240.28 | N30: =Volume!N30*Paramètres!$C$4 -> 797.6 | O30: =Volume!O30*Paramètres!$C$4 -> 797.6 | P30: =Volume!P30*Paramètres!$C$4 -> 598.2 | Q30: =Volume!Q30*Paramètres!$C$4 -> 598.2 | R30: =Volume!R30*Paramètres!$C$4 -> 0 | S30: =Volume!S30*Paramètres!$C$4 -> 0 | T30: =Volume!T30*Paramètres!$C$4 -> 1435.68 | U30: =Volume!U30*Paramètres!$C$4 -> 1435.68 | V30: =N30+P30+T30 -> 2831.48 | W30: =O30+Q30+U30 -> 2831.48
A31: 2018 | B31: 3 | C31: Art4 | D31: =Volume!D31*Paramètres!$B$5 -> 1287.57 | E31: =Volume!E31*Paramètres!$B$5 -> 1277.55 | F31: =Volume!F31*Paramètres!$B$5 -> 115.23 | G31: =Volume!G31*Paramètres!$B$5 -> 115.23 | J31: =Volume!J31*Paramètres!$B$5 -> 375.75 | K31: =Volume!K31*Paramètres!$B$5 -> 375.75 | L31: =D31+F31+J31 -> 1778.55 | M31: =E31+G31+K31 -> 1768.53 | N31: =Volume!N31*Paramètres!$C$5 -> 1455 | O31: =Volume!O31*Paramètres!$C$5 -> 1455 | P31: =Volume!P31*Paramètres!$C$5 -> 48.5 | Q31: =Volume!Q31*Paramètres!$C$5 -> 48.5 | R31: =Volume!R31*Paramètres!$C$5 -> 0 | S31: =Volume!S31*Paramètres!$C$5 -> 0 | T31: =Volume!T31*Paramètres!$C$5 -> 3918.8 | U31: =Volume!U31*Paramètres!$C$5 -> 3918.8 | V31: =N31+P31+T31 -> 5422.3 | W31: =O31+Q31+U31 -> 5422.3
A32: 2018 | B32: 3 | C32: Art5 | D32: =Volume!D32*Paramètres!$B$6 -> 88.22 | E32: =Volume!E32*Paramètres!$B$6 -> 88.22 | F32: =Volume!F32*Paramètres!$B$6 -> 593.48 | G32: =Volume!G32*Paramètres!$B$6 -> 593.48 | J32: =Volume!J32*Paramètres!$B$6 -> 481.2 | K32: =Volume!K32*Paramètres!$B$6 -> 481.2 | L32: =D32+F32+J32 -> 1162.9 | M32: =E32+G32+K32 -> 1162.9 | N32: =Volume!N32*Paramètres!$C$6 -> 80.5 | O32: =Volume!O32*Paramètres!$C$6 -> 80.5 | P32: =Volume!P32*Paramètres!$C$6 -> 603.75 | Q32: =Volume!Q32*Paramètres!$C$6 -> 603.75 | R32: =Volume!R32*Paramètres!$C$6 -> 0 | S32: =Volume!S32*Paramètres!$C$6 -> 0 | T32: =Volume!T32*Paramètres!$C$6 -> 402.5 | U32: =Volume!U32*Paramètres!$C$6 -> 402.5 | V32: =N32+P32+T32 -> 1086.75 | W32: =O32+Q32+U32 -> 1086.75
A33: 2018 | B33: 3 | C33: Art6 | D33: =Volume!D33*Paramètres!$B$7 -> 1044.96 | E33: =Volume!E33*Paramètres!$B$7 -> 1044.96 | F33: =Volume!F33*Paramètres!$B$7 -> 1492.8 | G33: =Volume!G33*Paramètres!$B$7 -> 1492.8 | J33: =Volume!J33*Paramètres!$B$7 -> 2363.6 | K33: =Volume!K33*Paramètres!$B$7 -> 2363.6 | L33: =D33+F33+J33 -> 4901.36 | M33: =E33+G33+K33 -> 4901.36 | N33: =Volume!N33*Paramètres!$C$7 -> 1113.3 | O33: =Volume!O33*Paramètres!$C$7 -> 1113.3 | P33: =Volume!P33*Paramètres!$C$7 -> 1608.1 | Q33: =Volume!Q33*Paramètres!$C$7 -> 1608.1 | R33: =Volume!R33*Paramètres!$C$7 -> 0 | S33: =Volume!S33*Paramètres!$C$7 -> 0 | T33: =Volume!T33*Paramètres!$C$7 -> 2474 | U33: =Volume!U33*Paramètres!$C$7 -> 2474 | V33: =N33+P33+T33 -> 5195.4 | W33: =O33+Q33+U33 -> 5195.4
A34: 2018 | B34: 3 | C34: Art7 | D34: =Volume!D34*Paramètres!$B$8 -> 0 | E34: =Volume!E34*Paramètres!$B$8 -> 0 | F34: =Volume!F34*Paramètres!$B$8 -> 0 | G34: =Volume!G34*Paramètres!$B$8 -> 0 | J34: =Volume!J34*Paramètres!$B$8 -> 0 | K34: =Volume!K34*Paramètres!$B$8 -> 0 | N34: =Volume!N34*Paramètres!$CB$8 -> 0 | O34: =Volume!O34*Paramètres!$CB$8 -> 0 | P34: =Volume!P34*Paramètres!$CB$8 -> 0 | Q34: =Volume!Q34*Paramètres!$CB$8 -> 0 | R34: =Volume!R34*Paramètres!$CB$8 -> 0 | S34: =Volume!S34*Paramètres!$CB$8 -> 0 | T34: =Volume!T34*Paramètres!$CB$8 -> 0 | U34: =Volume!U34*Paramètres!$CB$8 -> 0 | V34: =N34+P34+T34 -> 0 | W34: =O34+Q34+U34 -> 0
A35: 2018 | B35: 3 | C35: Art8 | D35: =Volume!D35*Paramètres!$B$9 -> 3222.24 | E35: =Volume!E35*Paramètres!$B$9 -> 3205.8 | F35: =Volume!F35*Paramètres!$B$9 -> 365.79 | G35: =Volume!G35*Paramètres!$B$9 -> 365.79 | J35: =Volume!J35*Paramètres!$B$9 -> 2359.14 | K35: =Volume!K35*Paramètres!$B$9 -> 2359.14 | L35: =D35+F35+J35 -> 5947.17 | M35: =E35+G35+K35 -> 5930.73 | N35: =Volume!N35*Paramètres!$C$9 -> 0 | O35: =Volume!O35*Paramètres!$C$9 -> 0 | P35: =Volume!P35*Paramètres!$C$9 -> 0 | Q35: =Volume!Q35*Paramètres!$C$9 -> 0 | R35: =Volume!R35*Paramètres!$C$9 -> 0 | S35: =Volume!S35*Paramètres!$C$9 -> 0 | T35: =Volume!T35*Paramètres!$C$9 -> 0 | U35: =Volume!U35*Paramètres!$C$9 -> 0
A36: 2018 | B36: 3 | C36: Art9 | D36: =Volume!D36*Paramètres!$B$10 -> 316.2 | E36: =Volume!E36*Paramètres!$B$10 -> 316.2 | F36: =Volume!F36*Paramètres!$B$10 -> 0 | G36: =Volume!G36*Paramètres!$B$10 -> 0 | J36: =Volume!J36*Paramètres!$B$10 -> 2108 | K36: =Volume!K36*Paramètres!$B$10 -> 2108 | L36: =D36+F36+J36 -> 2424.2 | M36: =E36+G36+K36 -> 2424.2 | N36: =Volume!N36*Paramètres!$C$10 -> 449.55 | O36: =Volume!O36*Paramètres!$C$10 -> 449.55 | P36: =Volume!P36*Paramètres!$C$10 -> 549.45 | Q36: =Volume!Q36*Paramètres!$C$10 -> 549.45 | R36: =Volume!R36*Paramètres!$C$10 -> 0 | S36: =Volume!S36*Paramètres!$C$10 -> 0 | T36: =Volume!T36*Paramètres!$C$10 -> 2747.25 | U36: =Volume!U36*Paramètres!$C$10 -> 2747.25 | V36: =N36+P36+T36 -> 3746.25 | W36: =O36+Q36+U36 -> 3746.25
A37: 2018 | B37: 3 | C37: Art10 | D37: =Volume!D37*Paramètres!$B$11 -> 377.85 | E37: =Volume!E37*Paramètres!$B$11 -> 309.15 | F37: =Volume!F37*Paramètres!$B$11 -> 2431.98 | G37: =Volume!G37*Paramètres!$B$11 -> 2431.98 | J37: =Volume!J37*Paramètres!$B$11 -> 1202.25 | K37: =Volume!K37*Paramètres!$B$11 -> 1202.25 | L37: =D37+F37+J37 -> 4012.08 | M37: =E37+G37+K37 -> 3943.38 | N37: =Volume!N37*Paramètres!$C$11 -> 416.4 | O37: =Volume!O37*Paramètres!$C$11 -> 416.4 | P37: =Volume!P37*Paramètres!$C$11 -> 2769.06 | Q37: =Volume!Q37*Paramètres!$C$11 -> 2769.06 | R37: =Volume!R37*Paramètres!$C$11 -> 0 | S37: =Volume!S37*Paramètres!$C$11 -> 0 | T37: =Volume!T37*Paramètres!$C$11 -> 1388 | U37: =Volume!U37*Paramètres!$C$11 -> 1388 | V37: =N37+P37+T37 -> 4573.46 | W37: =O37+Q37+U37 -> 4573.46
D38: =SUM(D28:D37) -> 7838.09 | E38: =SUM(E28:E37) -> 7740.6 | F38: =SUM(F28:F37) -> 8105.36 | G38: =SUM(G28:G37) -> 8073.96 | H38: =SUM(H28:H37) -> 0 | I38: =SUM(I28:I37) -> 0 | J38: =SUM(J28:J37) -> 11016.69 | K38: =SUM(K28:K37) -> 11016.69 | ... W38: =SUM(W28:W37) -> 27756.2
C39: Différence | D39: =D38-E38 -> 97.49 | F39: =F38-G38 -> 31.4 | H39: =H38-I38 -> 0 | J39: =J38-K38 -> 0 | L39: =L38-M38 -> 128.89 | N39: =N38-O38 -> 0 | P39: =P38-Q38 -> 0 | R39: =R38-S38 -> 0 | T39: =T38-U38 -> 0 | V39: =V38-W38 -> 0

Sheet Recap
A1: Facturation par Article par mois | Q1: Prestataire 1 | R1: Prestataire 2
A2: Année | B2: Mois | C2: Region | D2: Art1 | E2: Art2 | F2: Art3 | G2: Art4 | H2: Art5 | I2: Art6 | J2: Art7 | K2: Art8 | L2: Art9 | M2: Art10 | N2: Total | P2: ligne mois | Q2: colonne région | R2: colonne région
A3: 2018 | B3: 1 | C3: Region 1 | D3: =OFFSET(Tarif!$A$1,MATCH(D$2,OFFSET(Tarif!$C$1,$P3-1,,99),0)+$P3-1-1,$Q3-1)+OFFSET(Tarif!$A$1,MATCH(D$2,OFFSET(Tarif!$C$1,$P3-1,,99),0)+$P3-1-1,$R3-1) -> 863.5 | E3: =OFFSET(Tarif!$A$1,MATCH(E$2,OFFSET(Tarif!$C$1,$P3-1,,99),0)+$P3-1-1,$Q3-1)+OFFSET(Tarif!$A$1,MATCH(E$2,OFFSET(Tarif!$C$1,$P3-1,,99),0)+$P3-1-1,$R3-1) -> 2517.75 | F3: =OFFSET(Tarif!$A$1,MATCH(F$2,OFFSET(Tarif!$C$1,$P3-1,,99),0)+$P3-1-1,$Q3-1)+OFFSET(Tarif!$A$1,MATCH(F$2,OFFSET(Tarif!$C$1,$P3-1,,99),0)+$P3-1-1,$R3-1) -> 1320.2 | G3: =OFFSET(Tarif!$A$1,MATCH(G$2,OFFSET(Tarif!$C$1,$P3-1,,99),0)+$P3-1-1,$Q3-1)+OFFSET(Tarif!$A$1,MATCH(G$2,OFFSET(Tarif!$C$1,$P3-1,,99),0)+$P3-1-1,$R3-1) -> 7107.57 | H3: =OFFSET(Tarif!$A$1,MATCH(H$2,OFFSET(Tarif!$C$1,$P3-1,,99),0)+$P3-1-1,$Q3-1)+OFFSET(Tarif!$A$1,MATCH(H$2,OFFSET(Tarif!$C$1,$P3-1,,99),0)+$P3-1-1,$R3-1) -> 1698.22 | I3: =OFFSET(Tarif!$A$1,MATCH(I$2,OFFSET(Tarif!$C$1,$P3-1,,99),0)+$P3-1-1,$Q3-1)+OFFSET(Tarif!$A$1,MATCH(I$2,OFFSET(Tarif!$C$1,$P3-1,,99),0)+$P3-1-1,$R3-1) -> 2591.21 | J3: =OFFSET(Tarif!$A$1,MATCH(J$2,OFFSET(Tarif!$C$1,$P3-1,,99),0)+$P3-1-1,$Q3-1)+OFFSET(Tarif!$A$1,MATCH(J$2,OFFSET(Tarif!$C$1,$P3-1,,99),0)+$P3-1-1,$R3-1) -> 0 | K3: =OFFSET(Tarif!$A$1,MATCH(K$2,OFFSET(Tarif!$C$1,$P3-1,,99),0)+$P3-1-1,$Q3-1)+OFFSET(Tarif!$A$1,MATCH(K$2,OFFSET(Tarif!$C$1,$P3-1,,99),0)+$P3-1-1,$R3-1) -> 3222.24 | ... M3: =OFFSET(Tarif!$A$1,MATCH(M$2,OFFSET(Tarif!$C$1,$P3-1,,99),0)+$P3-1-1,$Q3-1)+OFFSET(Tarif!$A$1,MATCH(M$2,OFFSET(Tarif!$C$1,$P3-1,,99),0)+$P3-1-1,$R3-1) -> 1002.45 | N3: =SUM(D3:M3) -> 21388.59 | P3: =MATCH(B3,Tarif!$B:$B,0) -> 3 | Q3: =MATCH($C3,OFFSET(Tarif!$A$2,,MATCH(Q$1,Tarif!$1:$1,0)-1,,99),0)+MATCH(Q$1,Tarif!$1:$1,0)-1 -> 4 | R3: =MATCH($C3,OFFSET(Tarif!$A$2,,MATCH(R$1,Tarif!$1:$1,0)-1,,99),0)+MATCH(R$1,Tarif!$1:$1,0)-1 -> 14
A4: 2018 | B4: 1 | C4: Region 2 | D4: =OFFSET(Tarif!$A$1,MATCH(D$2,OFFSET(Tarif!$C$1,$P4-1,,99),0)+$P4-1-1,$Q4-1)+OFFSET(Tarif!$A$1,MATCH(D$2,OFFSET(Tarif!$C$1,$P4-1,,99),0)+$P4-1-1,$R4-1) -> 1805.5 | E4: =OFFSET(Tarif!$A$1,MATCH(E$2,OFFSET(Tarif!$C$1,$P4-1,,99),0)+$P4-1-1,$Q4-1)+OFFSET(Tarif!$A$1,MATCH(E$2,OFFSET(Tarif!$C$1,$P4-1,,99),0)+$P4-1-1,$R4-1) -> 2280.23 | F4: =OFFSET(Tarif!$A$1,MATCH(F$2,OFFSET(Tarif!$C$1,$P4-1,,99),0)+$P4-1-1,$Q4-1)+OFFSET(Tarif!$A$1,MATCH(F$2,OFFSET(Tarif!$C$1,$P4-1,,99),0)+$P4-1-1,$R4-1) -> 1075.02 | G4: =OFFSET(Tarif!$A$1,MATCH(G$2,OFFSET(Tarif!$C$1,$P4-1,,99),0)+$P4-1-1,$Q4-1)+OFFSET(Tarif!$A$1,MATCH(G$2,OFFSET(Tarif!$C$1,$P4-1,,99),0)+$P4-1-1,$R4-1) -> 4965.23 | H4: =OFFSET(Tarif!$A$1,MATCH(H$2,OFFSET(Tarif!$C$1,$P4-1,,99),0)+$P4-1-1,$Q4-1)+OFFSET(Tarif!$A$1,MATCH(H$2,OFFSET(Tarif!$C$1,$P4-1,,99),0)+$P4-1-1,$R4-1) -> 1599.73 | I4: =OFFSET(Tarif!$A$1,MATCH(I$2,OFFSET(Tarif!$C$1,$P4-1,,99),0)+$P4-1-1,$Q4-1)+OFFSET(Tarif!$A$1,MATCH(I$2,OFFSET(Tarif!$C$1,$P4-1,,99),0)+$P4-1-1,$R4-1) -> 2729.8 | J4: =OFFSET(Tarif!$A$1,MATCH(J$2,OFFSET(Tarif!$C$1,$P4-1,,99),0)+$P4-1-1,$Q4-1)+OFFSET(Tarif!$A$1,MATCH(J$2,OFFSET(Tarif!$C$1,$P4-1,,99),0)+$P4-1-1,$R4-1) -> 0 | K4: =OFFSET(Tarif!$A$1,MATCH(K$2,OFFSET(Tarif!$C$1,$P4-1,,99),0)+$P4-1-1,$Q4-1)+OFFSET(Tarif!$A$1,MATCH(K$2,OFFSET(Tarif!$C$1,$P4-1,,99),0)+$P4-1-1,$R4-1) -> 365.79 | ... M4: =OFFSET(Tarif!$A$1,MATCH(M$2,OFFSET(Tarif!$C$1,$P4-1,,99),0)+$P4-1-1,$Q4-1)+OFFSET(Tarif!$A$1,MATCH(M$2,OFFSET(Tarif!$C$1,$P4-1,,99),0)+$P4-1-1,$R4-1) -> 5554.98 | N4: =SUM(D4:M4) -> 25371.28 | P4: =MATCH(B4,Tarif!$B:$B,0) -> 3 | Q4: =MATCH($C4,OFFSET(Tarif!$A$2,,MATCH(Q$1,Tarif!$1:$1,0)-1,,99),0)+MATCH(Q$1,Tarif!$1:$1,0)-1 -> 6 | R4: =MATCH($C4,OFFSET(Tarif!$A$2,,MATCH(R$1,Tarif!$1:$1,0)-1,,99),0)+MATCH(R$1,Tarif!$1:$1,0)-1 -> 16
A5: 2018 | B5: 1 | C5: Region 3 | D5: =OFFSET(Tarif!$A$1,MATCH(D$2,OFFSET(Tarif!$C$1,$P5-1,,99),0)+$P5-1-1,$Q5-1)+OFFSET(Tarif!$A$1,MATCH(D$2,OFFSET(Tarif!$C$1,$P5-1,,99),0)+$P5-1-1,$R5-1) -> 0 | E5: =OFFSET(Tarif!$A$1,MATCH(E$2,OFFSET(Tarif!$C$1,$P5-1,,99),0)+$P5-1-1,$Q5-1)+OFFSET(Tarif!$A$1,MATCH(E$2,OFFSET(Tarif!$C$1,$P5-1,,99),0)+$P5-1-1,$R5-1) -> 0 | F5: =OFFSET(Tarif!$A$1,MATCH(F$2,OFFSET(Tarif!$C$1,$P5-1,,99),0)+$P5-1-1,$Q5-1)+OFFSET(Tarif!$A$1,MATCH(F$2,OFFSET(Tarif!$C$1,$P5-1,,99),0)+$P5-1-1,$R5-1) -> 0 | G5: =OFFSET(Tarif!$A$1,MATCH(G$2,OFFSET(Tarif!$C$1,$P5-1,,99),0)+$P5-1-1,$Q5-1)+OFFSET(Tarif!$A$1,MATCH(G$2,OFFSET(Tarif!$C$1,$P5-1,,99),0)+$P5-1-1,$R5-1) -> 0 | H5: =OFFSET(Tarif!$A$1,MATCH(H$2,OFFSET(Tarif!$C$1,$P5-1,,99),0)+$P5-1-1,$Q5-1)+OFFSET(Tarif!$A$1,MATCH(H$2,OFFSET(Tarif!$C$1,$P5-1,,99),0)+$P5-1-1,$R5-1) -> 0 | I5: =OFFSET(Tarif!$A$1,MATCH(I$2,OFFSET(Tarif!$C$1,$P5-1,,99),0)+$P5-1-1,$Q5-1)+OFFSET(Tarif!$A$1,MATCH(I$2,OFFSET(Tarif!$C$1,$P5-1,,99),0)+$P5-1-1,$R5-1) -> 0 | J5: =OFFSET(Tarif!$A$1,MATCH(J$2,OFFSET(Tarif!$C$1,$P5-1,,99),0)+$P5-1-1,$Q5-1)+OFFSET(Tarif!$A$1,MATCH(J$2,OFFSET(Tarif!$C$1,$P5-1,,99),0)+$P5-1-1,$R5-1) -> 0 | K5: =OFFSET(Tarif!$A$1,MATCH(K$2,OFFSET(Tarif!$C$1,$P5-1,,99),0)+$P5-1-1,$Q5-1)+OFFSET(Tarif!$A$1,MATCH(K$2,OFFSET(Tarif!$C$1,$P5-1,,99),0)+$P5-1-1,$R5-1) -> 0 | ... M5: =OFFSET(Tarif!$A$1,MATCH(M$2,OFFSET(Tarif!$C$1,$P5-1,,99),0)+$P5-1-1,$Q5-1)+OFFSET(Tarif!$A$1,MATCH(M$2,OFFSET(Tarif!$C$1,$P5-1,,99),0)+$P5-1-1,$R5-1) -> 0 | N5: =SUM(D5:M5) -> 0 | P5: =MATCH(B5,Tarif!$B:$B,0) -> 3 | Q5: =MATCH($C5,OFFSET(Tarif!$A$2,,MATCH(Q$1,Tarif!$1:$1,0)-1,,99),0)+MATCH(Q$1,Tarif!$1:$1,0)-1 -> 8 | R5: =MATCH($C5,OFFSET(Tarif!$A$2,,MATCH(R$1,Tarif!$1:$1,0)-1,,99),0)+MATCH(R$1,Tarif!$1:$1,0)-1 -> 18
A6: 2018 | B6: 1 | C6: Region 4 | D6: =OFFSET(Tarif!$A$1,MATCH(D$2,OFFSET(Tarif!$C$1,$P6-1,,99),0)+$P6-1-1,$Q6-1)+OFFSET(Tarif!$A$1,MATCH(D$2,OFFSET(Tarif!$C$1,$P6-1,,99),0)+$P6-1-1,$R6-1) -> 786.57 | E6: =OFFSET(Tarif!$A$1,MATCH(E$2,OFFSET(Tarif!$C$1,$P6-1,,99),0)+$P6-1-1,$Q6-1)+OFFSET(Tarif!$A$1,MATCH(E$2,OFFSET(Tarif!$C$1,$P6-1,,99),0)+$P6-1-1,$R6-1) -> 1474.4 | F6: =OFFSET(Tarif!$A$1,MATCH(F$2,OFFSET(Tarif!$C$1,$P6-1,,99),0)+$P6-1-1,$Q6-1)+OFFSET(Tarif!$A$1,MATCH(F$2,OFFSET(Tarif!$C$1,$P6-1,,99),0)+$P6-1-1,$R6-1) -> 2319.78 | G6: =OFFSET(Tarif!$A$1,MATCH(G$2,OFFSET(Tarif!$C$1,$P6-1,,99),0)+$P6-1-1,$Q6-1)+OFFSET(Tarif!$A$1,MATCH(G$2,OFFSET(Tarif!$C$1,$P6-1,,99),0)+$P6-1-1,$R6-1) -> 1098.24 | H6: =OFFSET(Tarif!$A$1,MATCH(H$2,OFFSET(Tarif!$C$1,$P6-1,,99),0)+$P6-1-1,$Q6-1)+OFFSET(Tarif!$A$1,MATCH(H$2,OFFSET(Tarif!$C$1,$P6-1,,99),0)+$P6-1-1,$R6-1) -> 1068.91 | I6: =OFFSET(Tarif!$A$1,MATCH(I$2,OFFSET(Tarif!$C$1,$P6-1,,99),0)+$P6-1-1,$Q6-1)+OFFSET(Tarif!$A$1,MATCH(I$2,OFFSET(Tarif!$C$1,$P6-1,,99),0)+$P6-1-1,$R6-1) -> 4564.69 | J6: =OFFSET(Tarif!$A$1,MATCH(J$2,OFFSET(Tarif!$C$1,$P6-1,,99),0)+$P6-1-1,$Q6-1)+OFFSET(Tarif!$A$1,MATCH(J$2,OFFSET(Tarif!$C$1,$P6-1,,99),0)+$P6-1-1,$R6-1) -> 0 | K6: =OFFSET(Tarif!$A$1,MATCH(K$2,OFFSET(Tarif!$C$1,$P6-1,,99),0)+$P6-1-1,$Q6-1)+OFFSET(Tarif!$A$1,MATCH(K$2,OFFSET(Tarif!$C$1,$P6-1,,99),0)+$P6-1-1,$R6-1) -> 2359.14 | ... M6: =OFFSET(Tarif!$A$1,MATCH(M$2,OFFSET(Tarif!$C$1,$P6-1,,99),0)+$P6-1-1,$Q6-1)+OFFSET(Tarif!$A$1,MATCH(M$2,OFFSET(Tarif!$C$1,$P6-1,,99),0)+$P6-1-1,$R6-1) -> 3935.63 | N6: =SUM(D6:M6) -> 24527.06 | P6: =MATCH(B6,Tarif!$B:$B,0) -> 3 | Q6: =MATCH($C6,OFFSET(Tarif!$A$2,,MATCH(Q$1,Tarif!$1:$1,0)-1,,99),0)+MATCH(Q$1,Tarif!$1:$1,0)-1 -> 10 | R6: =MATCH($C6,OFFSET(Tarif!$A$2,,MATCH(R$1,Tarif!$1:$1,0)-1,,99),0)+MATCH(R$1,Tarif!$1:$1,0)-1 -> 20
A7: 2018 | B7: 2 | C7: Region 1 | D7: =OFFSET(Tarif!$A$1,MATCH(D$2,OFFSET(Tarif!$C$1,$P7-1,,99),0)+$P7-1-1,$Q7-1)+OFFSET(Tarif!$A$1,MATCH(D$2,OFFSET(Tarif!$C$1,$P7-1,,99),0)+$P7-1-1,$R7-1) -> 1256 | E7: =OFFSET(Tarif!$A$1,MATCH(E$2,OFFSET(Tarif!$C$1,$P7-1,,99),0)+$P7-1-1,$Q7-1)+OFFSET(Tarif!$A$1,MATCH(E$2,OFFSET(Tarif!$C$1,$P7-1,,99),0)+$P7-1-1,$R7-1) -> 841.4 | F7: =OFFSET(Tarif!$A$1,MATCH(F$2,OFFSET(Tarif!$C$1,$P7-1,,99),0)+$P7-1-1,$Q7-1)+OFFSET(Tarif!$A$1,MATCH(F$2,OFFSET(Tarif!$C$1,$P7-1,,99),0)+$P7-1-1,$R7-1) -> 1708.2 | G7: =OFFSET(Tarif!$A$1,MATCH(G$2,OFFSET(Tarif!$C$1,$P7-1,,99),0)+$P7-1-1,$Q7-1)+OFFSET(Tarif!$A$1,MATCH(G$2,OFFSET(Tarif!$C$1,$P7-1,,99),0)+$P7-1-1,$R7-1) -> 5383 | H7: =OFFSET(Tarif!$A$1,MATCH(H$2,OFFSET(Tarif!$C$1,$P7-1,,99),0)+$P7-1-1,$Q7-1)+OFFSET(Tarif!$A$1,MATCH(H$2,OFFSET(Tarif!$C$1,$P7-1,,99),0)+$P7-1-1,$R7-1) -> 401.9 | I7: =OFFSET(Tarif!$A$1,MATCH(I$2,OFFSET(Tarif!$C$1,$P7-1,,99),0)+$P7-1-1,$Q7-1)+OFFSET(Tarif!$A$1,MATCH(I$2,OFFSET(Tarif!$C$1,$P7-1,,99),0)+$P7-1-1,$R7-1) -> 1661.36 | J7: =OFFSET(Tarif!$A$1,MATCH(J$2,OFFSET(Tarif!$C$1,$P7-1,,99),0)+$P7-1-1,$Q7-1)+OFFSET(Tarif!$A$1,MATCH(J$2,OFFSET(Tarif!$C$1,$P7-1,,99),0)+$P7-1-1,$R7-1) -> 0 | K7: =OFFSET(Tarif!$A$1,MATCH(K$2,OFFSET(Tarif!$C$1,$P7-1,,99),0)+$P7-1-1,$Q7-1)+OFFSET(Tarif!$A$1,MATCH(K$2,OFFSET(Tarif!$C$1,$P7-1,,99),0)+$P7-1-1,$R7-1) -> 3288 | ... M7: =OFFSET(Tarif!$A$1,MATCH(M$2,OFFSET(Tarif!$C$1,$P7-1,,99),0)+$P7-1-1,$Q7-1)+OFFSET(Tarif!$A$1,MATCH(M$2,OFFSET(Tarif!$C$1,$P7-1,,99),0)+$P7-1-1,$R7-1) -> 683.28 | N7: =SUM(D7:M7) -> 16393.99 | P7: =MATCH(B7,Tarif!$B:$B,0) -> 16 | Q7: =MATCH($C7,OFFSET(Tarif!$A$2,,MATCH(Q$1,Tarif!$1:$1,0)-1,,99),0)+MATCH(Q$1,Tarif!$1:$1,0)-1 -> 4 | R7: =MATCH($C7,OFFSET(Tarif!$A$2,,MATCH(R$1,Tarif!$1:$1,0)-1,,99),0)+MATCH(R$1,Tarif!$1:$1,0)-1 -> 14
A8: 2018 | B8: 2 | C8: Region 2 | D8: =OFFSET(Tarif!$A$1,MATCH(D$2,OFFSET(Tarif!$C$1,$P8-1,,99),0)+$P8-1-1,$Q8-1)+OFFSET(Tarif!$A$1,MATCH(D$2,OFFSET(Tarif!$C$1,$P8-1,,99),0)+$P8-1-1,$R8-1) -> 2041 | E8: =OFFSET(Tarif!$A$1,MATCH(E$2,OFFSET(Tarif!$C$1,$P8-1,,99),0)+$P8-1-1,$Q8-1)+OFFSET(Tarif!$A$1,MATCH(E$2,OFFSET(Tarif!$C$1,$P8-1,,99),0)+$P8-1-1,$R8-1) -> 2201.25 | F8: =OFFSET(Tarif!$A$1,MATCH(F$2,OFFSET(Tarif!$C$1,$P8-1,,99),0)+$P8-1-1,$Q8-1)+OFFSET(Tarif!$A$1,MATCH(F$2,OFFSET(Tarif!$C$1,$P8-1,,99),0)+$P8-1-1,$R8-1) -> 1519.6 | G8: =OFFSET(Tarif!$A$1,MATCH(G$2,OFFSET(Tarif!$C$1,$P8-1,,99),0)+$P8-1-1,$Q8-1)+OFFSET(Tarif!$A$1,MATCH(G$2,OFFSET(Tarif!$C$1,$P8-1,,99),0)+$P8-1-1,$R8-1) -> 1675.57 | H8: =OFFSET(Tarif!$A$1,MATCH(H$2,OFFSET(Tarif!$C$1,$P8-1,,99),0)+$P8-1-1,$Q8-1)+OFFSET(Tarif!$A$1,MATCH(H$2,OFFSET(Tarif!$C$1,$P8-1,,99),0)+$P8-1-1,$R8-1) -> 732.22 | I8: =OFFSET(Tarif!$A$1,MATCH(I$2,OFFSET(Tarif!$C$1,$P8-1,,99),0)+$P8-1-1,$Q8-1)+OFFSET(Tarif!$A$1,MATCH(I$2,OFFSET(Tarif!$C$1,$P8-1,,99),0)+$P8-1-1,$R8-1) -> 2826.24 | J8: =OFFSET(Tarif!$A$1,MATCH(J$2,OFFSET(Tarif!$C$1,$P8-1,,99),0)+$P8-1-1,$Q8-1)+OFFSET(Tarif!$A$1,MATCH(J$2,OFFSET(Tarif!$C$1,$P8-1,,99),0)+$P8-1-1,$R8-1) -> 0 | K8: =OFFSET(Tarif!$A$1,MATCH(K$2,OFFSET(Tarif!$C$1,$P8-1,,99),0)+$P8-1-1,$Q8-1)+OFFSET(Tarif!$A$1,MATCH(K$2,OFFSET(Tarif!$C$1,$P8-1,,99),0)+$P8-1-1,$R8-1) -> 3222.24 | ... M8: =OFFSET(Tarif!$A$1,MATCH(M$2,OFFSET(Tarif!$C$1,$P8-1,,99),0)+$P8-1-1,$Q8-1)+OFFSET(Tarif!$A$1,MATCH(M$2,OFFSET(Tarif!$C$1,$P8-1,,99),0)+$P8-1-1,$R8-1) -> 2945.65 | N8: =SUM(D8:M8) -> 18379.07 | P8: =MATCH(B8,Tarif!$B:$B,0) -> 16 | Q8: =MATCH($C8,OFFSET(Tarif!$A$2,,MATCH(Q$1,Tarif!$1:$1,0)-1,,99),0)+MATCH(Q$1,Tarif!$1:$1,0)-1 -> 6 | R8: =MATCH($C8,OFFSET(Tarif!$A$2,,MATCH(R$1,Tarif!$1:$1,0)-1,,99),0)+MATCH(R$1,Tarif!$1:$1,0)-1 -> 16
A9: 2018 | B9: 2 | C9: Region 3 | D9: =OFFSET(Tarif!$A$1,MATCH(D$2,OFFSET(Tarif!$C$1,$P9-1,,99),0)+$P9-1-1,$Q9-1)+OFFSET(Tarif!$A$1,MATCH(D$2,OFFSET(Tarif!$C$1,$P9-1,,99),0)+$P9-1-1,$R9-1) -> 0 | E9: =OFFSET(Tarif!$A$1,MATCH(E$2,OFFSET(Tarif!$C$1,$P9-1,,99),0)+$P9-1-1,$Q9-1)+OFFSET(Tarif!$A$1,MATCH(E$2,OFFSET(Tarif!$C$1,$P9-1,,99),0)+$P9-1-1,$R9-1) -> 0 | F9: =OFFSET(Tarif!$A$1,MATCH(F$2,OFFSET(Tarif!$C$1,$P9-1,,99),0)+$P9-1-1,$Q9-1)+OFFSET(Tarif!$A$1,MATCH(F$2,OFFSET(Tarif!$C$1,$P9-1,,99),0)+$P9-1-1,$R9-1) -> 0 | G9: =OFFSET(Tarif!$A$1,MATCH(G$2,OFFSET(Tarif!$C$1,$P9-1,,99),0)+$P9-1-1,$Q9-1)+OFFSET(Tarif!$A$1,MATCH(G$2,OFFSET(Tarif!$C$1,$P9-1,,99),0)+$P9-1-1,$R9-1) -> 0 | H9: =OFFSET(Tarif!$A$1,MATCH(H$2,OFFSET(Tarif!$C$1,$P9-1,,99),0)+$P9-1-1,$Q9-1)+OFFSET(Tarif!$A$1,MATCH(H$2,OFFSET(Tarif!$C$1,$P9-1,,99),0)+$P9-1-1,$R9-1) -> 0 | I9: =OFFSET(Tarif!$A$1,MATCH(I$2,OFFSET(Tarif!$C$1,$P9-1,,99),0)+$P9-1-1,$Q9-1)+OFFSET(Tarif!$A$1,MATCH(I$2,OFFSET(Tarif!$C$1,$P9-1,,99),0)+$P9-1-1,$R9-1) -> 0 | J9: =OFFSET(Tarif!$A$1,MATCH(J$2,OFFSET(Tarif!$C$1,$P9-1,,99),0)+$P9-1-1,$Q9-1)+OFFSET(Tarif!$A$1,MATCH(J$2,OFFSET(Tarif!$C$1,$P9-1,,99),0)+$P9-1-1,$R9-1) -> 0 | K9: =OFFSET(Tarif!$A$1,MATCH(K$2,OFFSET(Tarif!$C$1,$P9-1,,99),0)+$P9-1-1,$Q9-1)+OFFSET(Tarif!$A$1,MATCH(K$2,OFFSET(Tarif!$C$1,$P9-1,,99),0)+$P9-1-1,$R9-1) -> 0 | ... M9: =OFFSET(Tarif!$A$1,MATCH(M$2,OFFSET(Tarif!$C$1,$P9-1,,99),0)+$P9-1-1,$Q9-1)+OFFSET(Tarif!$A$1,MATCH(M$2,OFFSET(Tarif!$C$1,$P9-1,,99),0)+$P9-1-1,$R9-1) -> 0 | N9: =SUM(D9:M9) -> 0 | P9: =MATCH(B9,Tarif!$B:$B,0) -> 16 | Q9: =MATCH($C9,OFFSET(Tarif!$A$2,,MATCH(Q$1,Tarif!$1:$1,0)-1,,99),0)+MATCH(Q$1,Tarif!$1:$1,0)-1 -> 8 | R9: =MATCH($C9,OFFSET(Tarif!$A$2,,MATCH(R$1,Tarif!$1:$1,0)-1,,99),0)+MATCH(R$1,Tarif!$1:$1,0)-1 -> 18
A10: 2018 | B10: 2 | C10: Region 4 | D10: =OFFSET(Tarif!$A$1,MATCH(D$2,OFFSET(Tarif!$C$1,$P10-1,,99),0)+$P10-1-1,$Q10-1)+OFFSET(Tarif!$A$1,MATCH(D$2,OFFSET(Tarif!$C$1,$P10-1,,99),0)+$P10-1-1,$R10-1) -> 863.5 | E10: =OFFSET(Tarif!$A$1,MATCH(E$2,OFFSET(Tarif!$C$1,$P10-1,,99),0)+$P10-1-1,$Q10-1)+OFFSET(Tarif!$A$1,MATCH(E$2,OFFSET(Tarif!$C$1,$P10-1,,99),0)+$P10-1-1,$R10-1) -> 952.13 | F10: =OFFSET(Tarif!$A$1,MATCH(F$2,OFFSET(Tarif!$C$1,$P10-1,,99),0)+$P10-1-1,$Q10-1)+OFFSET(Tarif!$A$1,MATCH(F$2,OFFSET(Tarif!$C$1,$P10-1,,99),0)+$P10-1-1,$R10-1) -> 2367.05 | G10: =OFFSET(Tarif!$A$1,MATCH(G$2,OFFSET(Tarif!$C$1,$P10-1,,99),0)+$P10-1-1,$Q10-1)+OFFSET(Tarif!$A$1,MATCH(G$2,OFFSET(Tarif!$C$1,$P10-1,,99),0)+$P10-1-1,$R10-1) -> 1869.57 | H10: =OFFSET(Tarif!$A$1,MATCH(H$2,OFFSET(Tarif!$C$1,$P10-1,,99),0)+$P10-1-1,$Q10-1)+OFFSET(Tarif!$A$1,MATCH(H$2,OFFSET(Tarif!$C$1,$P10-1,,99),0)+$P10-1-1,$R10-1) -> 691.97 | I10: =OFFSET(Tarif!$A$1,MATCH(I$2,OFFSET(Tarif!$C$1,$P10-1,,99),0)+$P10-1-1,$Q10-1)+OFFSET(Tarif!$A$1,MATCH(I$2,OFFSET(Tarif!$C$1,$P10-1,,99),0)+$P10-1-1,$R10-1) -> 3766.36 | J10: =OFFSET(Tarif!$A$1,MATCH(J$2,OFFSET(Tarif!$C$1,$P10-1,,99),0)+$P10-1-1,$Q10-1)+OFFSET(Tarif!$A$1,MATCH(J$2,OFFSET(Tarif!$C$1,$P10-1,,99),0)+$P10-1-1,$R10-1) -> 0 | K10: =OFFSET(Tarif!$A$1,MATCH(K$2,OFFSET(Tarif!$C$1,$P10-1,,99),0)+$P10-1-1,$Q10-1)+OFFSET(Tarif!$A$1,MATCH(K$2,OFFSET(Tarif!$C$1,$P10-1,,99),0)+$P10-1-1,$R10-1) -> 3222.24 | ... M10: =OFFSET(Tarif!$A$1,MATCH(M$2,OFFSET(Tarif!$C$1,$P10-1,,99),0)+$P10-1-1,$Q10-1)+OFFSET(Tarif!$A$1,MATCH(M$2,OFFSET(Tarif!$C$1,$P10-1,,99),0)+$P10-1-1,$R10-1) -> 2452.91 | N10: =SUM(D10:M10) -> 19498.93 | P10: =MATCH(B10,Tarif!$B:$B,0) -> 16 | Q10: =MATCH($C10,OFFSET(Tarif!$A$2,,MATCH(Q$1,Tarif!$1:$1,0)-1,,99),0)+MATCH(Q$1,Tarif!$1:$1,0)-1 -> 10 | R10: =MATCH($C10,OFFSET(Tarif!$A$2,,MATCH(R$1,Tarif!$1:$1,0)-1,,99),0)+MATCH(R$1,Tarif!$1:$1,0)-1 -> 20
A11: 2018 | B11: 3 | C11: Region 1 | D11: =OFFSET(Tarif!$A$1,MATCH(D$2,OFFSET(Tarif!$C$1,$P11-1,,99),0)+$P11-1-1,$Q11-1)+OFFSET(Tarif!$A$1,MATCH(D$2,OFFSET(Tarif!$C$1,$P11-1,,99),0)+$P11-1-1,$R11-1) -> 1177.5 | E11: =OFFSET(Tarif!$A$1,MATCH(E$2,OFFSET(Tarif!$C$1,$P11-1,,99),0)+$P11-1-1,$Q11-1)+OFFSET(Tarif!$A$1,MATCH(E$2,OFFSET(Tarif!$C$1,$P11-1,,99),0)+$P11-1-1,$R11-1) -> 618.75 | F11: =OFFSET(Tarif!$A$1,MATCH(F$2,OFFSET(Tarif!$C$1,$P11-1,,99),0)+$P11-1-1,$Q11-1)+OFFSET(Tarif!$A$1,MATCH(F$2,OFFSET(Tarif!$C$1,$P11-1,,99),0)+$P11-1-1,$R11-1) -> 1419.9 | G11: =OFFSET(Tarif!$A$1,MATCH(G$2,OFFSET(Tarif!$C$1,$P11-1,,99),0)+$P11-1-1,$Q11-1)+OFFSET(Tarif!$A$1,MATCH(G$2,OFFSET(Tarif!$C$1,$P11-1,,99),0)+$P11-1-1,$R11-1) -> 2742.57 | H11: =OFFSET(Tarif!$A$1,MATCH(H$2,OFFSET(Tarif!$C$1,$P11-1,,99),0)+$P11-1-1,$Q11-1)+OFFSET(Tarif!$A$1,MATCH(H$2,OFFSET(Tarif!$C$1,$P11-1,,99),0)+$P11-1-1,$R11-1) -> 168.72 | I11: =OFFSET(Tarif!$A$1,MATCH(I$2,OFFSET(Tarif!$C$1,$P11-1,,99),0)+$P11-1-1,$Q11-1)+OFFSET(Tarif!$A$1,MATCH(I$2,OFFSET(Tarif!$C$1,$P11-1,,99),0)+$P11-1-1,$R11-1) -> 2158.26 | J11: =OFFSET(Tarif!$A$1,MATCH(J$2,OFFSET(Tarif!$C$1,$P11-1,,99),0)+$P11-1-1,$Q11-1)+OFFSET(Tarif!$A$1,MATCH(J$2,OFFSET(Tarif!$C$1,$P11-1,,99),0)+$P11-1-1,$R11-1) -> 0 | K11: =OFFSET(Tarif!$A$1,MATCH(K$2,OFFSET(Tarif!$C$1,$P11-1,,99),0)+$P11-1-1,$Q11-1)+OFFSET(Tarif!$A$1,MATCH(K$2,OFFSET(Tarif!$C$1,$P11-1,,99),0)+$P11-1-1,$R11-1) -> 3222.24 | ... M11: =OFFSET(Tarif!$A$1,MATCH(M$2,OFFSET(Tarif!$C$1,$P11-1,,99),0)+$P11-1-1,$Q11-1)+OFFSET(Tarif!$A$1,MATCH(M$2,OFFSET(Tarif!$C$1,$P11-1,,99),0)+$P11-1-1,$R11-1) -> 794.25 | N11: =SUM(D11:M11) -> 13067.94 | P11: =MATCH(B11,Tarif!$B:$B,0) -> 28 | Q11: =MATCH($C11,OFFSET(Tarif!$A$2,,MATCH(Q$1,Tarif!$1:$1,0)-1,,99),0)+MATCH(Q$1,Tarif!$1:$1,0)-1 -> 4 | R11: =MATCH($C11,OFFSET(Tarif!$A$2,,MATCH(R$1,Tarif!$1:$1,0)-1,,99),0)+MATCH(R$1,Tarif!$1:$1,0)-1 -> 14
A12: 2018 | B12: 3 | C12: Region 2 | D12: =OFFSET(Tarif!$A$1,MATCH(D$2,OFFSET(Tarif!$C$1,$P12-1,,99),0)+$P12-1-1,$Q12-1)+OFFSET(Tarif!$A$1,MATCH(D$2,OFFSET(Tarif!$C$1,$P12-1,,99),0)+$P12-1-1,$R12-1) -> 1805.5 | E12: =OFFSET(Tarif!$A$1,MATCH(E$2,OFFSET(Tarif!$C$1,$P12-1,,99),0)+$P12-1-1,$Q12-1)+OFFSET(Tarif!$A$1,MATCH(E$2,OFFSET(Tarif!$C$1,$P12-1,,99),0)+$P12-1-1,$R12-1) -> 3212.85 | F12: =OFFSET(Tarif!$A$1,MATCH(F$2,OFFSET(Tarif!$C$1,$P12-1,,99),0)+$P12-1-1,$Q12-1)+OFFSET(Tarif!$A$1,MATCH(F$2,OFFSET(Tarif!$C$1,$P12-1,,99),0)+$P12-1-1,$R12-1) -> 1104.93 | G12: =OFFSET(Tarif!$A$1,MATCH(G$2,OFFSET(Tarif!$C$1,$P12-1,,99),0)+$P12-1-1,$Q12-1)+OFFSET(Tarif!$A$1,MATCH(G$2,OFFSET(Tarif!$C$1,$P12-1,,99),0)+$P12-1-1,$R12-1) -> 163.73 | H12: =OFFSET(Tarif!$A$1,MATCH(H$2,OFFSET(Tarif!$C$1,$P12-1,,99),0)+$P12-1-1,$Q12-1)+OFFSET(Tarif!$A$1,MATCH(H$2,OFFSET(Tarif!$C$1,$P12-1,,99),0)+$P12-1-1,$R12-1) -> 1197.23 | I12: =OFFSET(Tarif!$A$1,MATCH(I$2,OFFSET(Tarif!$C$1,$P12-1,,99),0)+$P12-1-1,$Q12-1)+OFFSET(Tarif!$A$1,MATCH(I$2,OFFSET(Tarif!$C$1,$P12-1,,99),0)+$P12-1-1,$R12-1) -> 3100.9 | J12: =OFFSET(Tarif!$A$1,MATCH(J$2,OFFSET(Tarif!$C$1,$P12-1,,99),0)+$P12-1-1,$Q12-1)+OFFSET(Tarif!$A$1,MATCH(J$2,OFFSET(Tarif!$C$1,$P12-1,,99),0)+$P12-1-1,$R12-1) -> 0 | K12: =OFFSET(Tarif!$A$1,MATCH(K$2,OFFSET(Tarif!$C$1,$P12-1,,99),0)+$P12-1-1,$Q12-1)+OFFSET(Tarif!$A$1,MATCH(K$2,OFFSET(Tarif!$C$1,$P12-1,,99),0)+$P12-1-1,$R12-1) -> 365.79 | ... M12: =OFFSET(Tarif!$A$1,MATCH(M$2,OFFSET(Tarif!$C$1,$P12-1,,99),0)+$P12-1-1,$Q12-1)+OFFSET(Tarif!$A$1,MATCH(M$2,OFFSET(Tarif!$C$1,$P12-1,,99),0)+$P12-1-1,$R12-1) -> 5201.04 | N12: =SUM(D12:M12) -> 16701.42 | P12: =MATCH(B12,Tarif!$B:$B,0) -> 28 | Q12: =MATCH($C12,OFFSET(Tarif!$A$2,,MATCH(Q$1,Tarif!$1:$1,0)-1,,99),0)+MATCH(Q$1,Tarif!$1:$1,0)-1 -> 6 | R12: =MATCH($C12,OFFSET(Tarif!$A$2,,MATCH(R$1,Tarif!$1:$1,0)-1,,99),0)+MATCH(R$1,Tarif!$1:$1,0)-1 -> 16
A13: 2018 | B13: 3 | C13: Region 3 | D13: =OFFSET(Tarif!$A$1,MATCH(D$2,OFFSET(Tarif!$C$1,$P13-1,,99),0)+$P13-1-1,$Q13-1)+OFFSET(Tarif!$A$1,MATCH(D$2,OFFSET(Tarif!$C$1,$P13-1,,99),0)+$P13-1-1,$R13-1) -> 0 | E13: =OFFSET(Tarif!$A$1,MATCH(E$2,OFFSET(Tarif!$C$1,$P13-1,,99),0)+$P13-1-1,$Q13-1)+OFFSET(Tarif!$A$1,MATCH(E$2,OFFSET(Tarif!$C$1,$P13-1,,99),0)+$P13-1-1,$R13-1) -> 0 | F13: =OFFSET(Tarif!$A$1,MATCH(F$2,OFFSET(Tarif!$C$1,$P13-1,,99),0)+$P13-1-1,$Q13-1)+OFFSET(Tarif!$A$1,MATCH(F$2,OFFSET(Tarif!$C$1,$P13-1,,99),0)+$P13-1-1,$R13-1) -> 0 | G13: =OFFSET(Tarif!$A$1,MATCH(G$2,OFFSET(Tarif!$C$1,$P13-1,,99),0)+$P13-1-1,$Q13-1)+OFFSET(Tarif!$A$1,MATCH(G$2,OFFSET(Tarif!$C$1,$P13-1,,99),0)+$P13-1-1,$R13-1) -> 0 | H13: =OFFSET(Tarif!$A$1,MATCH(H$2,OFFSET(Tarif!$C$1,$P13-1,,99),0)+$P13-1-1,$Q13-1)+OFFSET(Tarif!$A$1,MATCH(H$2,OFFSET(Tarif!$C$1,$P13-1,,99),0)+$P13-1-1,$R13-1) -> 0 | I13: =OFFSET(Tarif!$A$1,MATCH(I$2,OFFSET(Tarif!$C$1,$P13-1,,99),0)+$P13-1-1,$Q13-1)+OFFSET(Tarif!$A$1,MATCH(I$2,OFFSET(Tarif!$C$1,$P13-1,,99),0)+$P13-1-1,$R13-1) -> 0 | J13: =OFFSET(Tarif!$A$1,MATCH(J$2,OFFSET(Tarif!$C$1,$P13-1,,99),0)+$P13-1-1,$Q13-1)+OFFSET(Tarif!$A$1,MATCH(J$2,OFFSET(Tarif!$C$1,$P13-1,,99),0)+$P13-1-1,$R13-1) -> 0 | K13: =OFFSET(Tarif!$A$1,MATCH(K$2,OFFSET(Tarif!$C$1,$P13-1,,99),0)+$P13-1-1,$Q13-1)+OFFSET(Tarif!$A$1,MATCH(K$2,OFFSET(Tarif!$C$1,$P13-1,,99),0)+$P13-1-1,$R13-1) -> 0 | ... M13: =OFFSET(Tarif!$A$1,MATCH(M$2,OFFSET(Tarif!$C$1,$P13-1,,99),0)+$P13-1-1,$Q13-1)+OFFSET(Tarif!$A$1,MATCH(M$2,OFFSET(Tarif!$C$1,$P13-1,,99),0)+$P13-1-1,$R13-1) -> 0 | N13: =SUM(D13:M13) -> 0 | P13: =MATCH(B13,Tarif!$B:$B,0) -> 28 | Q13: =MATCH($C13,OFFSET(Tarif!$A$2,,MATCH(Q$1,Tarif!$1:$1,0)-1,,99),0)+MATCH(Q$1,Tarif!$1:$1,0)-1 -> 8 | R13: =MATCH($C13,OFFSET(Tarif!$A$2,,MATCH(R$1,Tarif!$1:$1,0)-1,,99),0)+MATCH(R$1,Tarif!$1:$1,0)-1 -> 18
A14: 2018 | B14: 3 | C14: Region 4 | D14: =OFFSET(Tarif!$A$1,MATCH(D$2,OFFSET(Tarif!$C$1,$P14-1,,99),0)+$P14-1-1,$Q14-1)+OFFSET(Tarif!$A$1,MATCH(D$2,OFFSET(Tarif!$C$1,$P14-1,,99),0)+$P14-1-1,$R14-1) -> 1805.5 | E14: =OFFSET(Tarif!$A$1,MATCH(E$2,OFFSET(Tarif!$C$1,$P14-1,,99),0)+$P14-1-1,$Q14-1)+OFFSET(Tarif!$A$1,MATCH(E$2,OFFSET(Tarif!$C$1,$P14-1,,99),0)+$P14-1-1,$R14-1) -> 774.06 | F14: =OFFSET(Tarif!$A$1,MATCH(F$2,OFFSET(Tarif!$C$1,$P14-1,,99),0)+$P14-1-1,$Q14-1)+OFFSET(Tarif!$A$1,MATCH(F$2,OFFSET(Tarif!$C$1,$P14-1,,99),0)+$P14-1-1,$R14-1) -> 2546.93 | G14: =OFFSET(Tarif!$A$1,MATCH(G$2,OFFSET(Tarif!$C$1,$P14-1,,99),0)+$P14-1-1,$Q14-1)+OFFSET(Tarif!$A$1,MATCH(G$2,OFFSET(Tarif!$C$1,$P14-1,,99),0)+$P14-1-1,$R14-1) -> 4294.55 | H14: =OFFSET(Tarif!$A$1,MATCH(H$2,OFFSET(Tarif!$C$1,$P14-1,,99),0)+$P14-1-1,$Q14-1)+OFFSET(Tarif!$A$1,MATCH(H$2,OFFSET(Tarif!$C$1,$P14-1,,99),0)+$P14-1-1,$R14-1) -> 883.7 | I14: =OFFSET(Tarif!$A$1,MATCH(I$2,OFFSET(Tarif!$C$1,$P14-1,,99),0)+$P14-1-1,$Q14-1)+OFFSET(Tarif!$A$1,MATCH(I$2,OFFSET(Tarif!$C$1,$P14-1,,99),0)+$P14-1-1,$R14-1) -> 4837.6 | J14: =OFFSET(Tarif!$A$1,MATCH(J$2,OFFSET(Tarif!$C$1,$P14-1,,99),0)+$P14-1-1,$Q14-1)+OFFSET(Tarif!$A$1,MATCH(J$2,OFFSET(Tarif!$C$1,$P14-1,,99),0)+$P14-1-1,$R14-1) -> 0 | K14: =OFFSET(Tarif!$A$1,MATCH(K$2,OFFSET(Tarif!$C$1,$P14-1,,99),0)+$P14-1-1,$Q14-1)+OFFSET(Tarif!$A$1,MATCH(K$2,OFFSET(Tarif!$C$1,$P14-1,,99),0)+$P14-1-1,$R14-1) -> 2359.14 | ... M14: =OFFSET(Tarif!$A$1,MATCH(M$2,OFFSET(Tarif!$C$1,$P14-1,,99),0)+$P14-1-1,$Q14-1)+OFFSET(Tarif!$A$1,MATCH(M$2,OFFSET(Tarif!$C$1,$P14-1,,99),0)+$P14-1-1,$R14-1) -> 2590.25 | N14: =SUM(D14:M14) -> 24946.98 | P14: =MATCH(B14,Tarif!$B:$B,0) -> 28 | Q14: =MATCH($C14,OFFSET(Tarif!$A$2,,MATCH(Q$1,Tarif!$1:$1,0)-1,,99),0)+MATCH(Q$1,Tarif!$1:$1,0)-1 -> 10 | R14: =MATCH($C14,OFFSET(Tarif!$A$2,,MATCH(R$1,Tarif!$1:$1,0)-1,,99),0)+MATCH(R$1,Tarif!$1:$1,0)-1 -> 20

Sheet Paramètres
B1: Prestataire 1 | C1: Prestataire 2
A2: Art1 | B2: 1.57 | C2: 1.44
A3: Art2 | B3: 2.33 | C3: 2.11
A4: Art3 | B4: 8.89 | C4: 9.97
A5: Art4 | B5: 5.01 | C5: 4.85
A6: Art5 | B6: 8.02 | C6: 8.05
A7: Art6 | B7: 12.44 | C7: 12.37
A8: Art7 | B8: 3.55 | C8: 3.78
A9: Art8 | B9: 4.11 | C9: 4.33
A10: Art9 | B10: 10.54 | C10: 9.99
A11: Art10 | B11: 6.87 | C11: 6.94
