Workbook

Sheet Clients
A1: CLT_ID | B1: CLT_DUNS | C1: CLT_NOM | D1: CLT_CODEAX | E1: CLT_ACTIF | F1: RGC_ID | G1: RSA_ID | H1: 43344
A2: 1 | B2: 579498528 | C2: DEPARTEMENT DES HAUTS DE SEINE | D2: NULL | E2: 1 | F2: 45 | G2: 15 | H2: {=IF(MAX(IF(Affectations!$D$2:$D$225=A2,Affectations!$B$2:$B$225))>=$H$1,"ok","")}
A3: 2 | B3: 261657662 | C3: SOCIETE DES EQUIPEMENTS UNION TECHNIQUE | D3: NULL | E3: 1 | F3: 14 | G3: 16 | H3: {=IF(MAX(IF(Affectations!$D$2:$D$225=A3,Affectations!$B$2:$B$225))>=$H$1,"ok","")}
A4: 3 | B4: 1 | C4: TAI | D4: NULL | E4: 1 | F4: 34 | G4: 16 | H4: {=IF(MAX(IF(Affectations!$D$2:$D$225=A4,Affectations!$B$2:$B$225))>=$H$1,"ok","")}
A5: 4 | B5: 767276371 | C5: ELECTRIC STATION CLIMATISATION | D5: NULL | E5: 1 | F5: 46 | G5: 16 | H5: {=IF(MAX(IF(Affectations!$D$2:$D$225=A5,Affectations!$B$2:$B$225))>=$H$1,"ok","")}
A6: 5 | B6: 276997988 | C6: MECANIQUE GENERALE YVOISIENNE | D6: NULL | E6: 1 | F6: 59 | G6: 16 | H6: {=IF(MAX(IF(Affectations!$D$2:$D$225=A6,Affectations!$B$2:$B$225))>=$H$1,"ok","")}
A7: 6 | B7: 531702913 | C7: EAD AEROSPACE AIRWORTHINESS | D7: NULL | E7: 1 | F7: 68 | G7: 16 | H7: {=IF(MAX(IF(Affectations!$D$2:$D$225=A7,Affectations!$B$2:$B$225))>=$H$1,"ok","")}
A8: 7 | B8: 1 | C8: ASE | D8: NULL | E8: 1 | F8: 80 | G8: 16 | H8: {=IF(MAX(IF(Affectations!$D$2:$D$225=A8,Affectations!$B$2:$B$225))>=$H$1,"ok","")}
A9: 8 | B9: 767334576 | C9: AAA ASSISTANCE AERONAUTIQUE | D9: NULL | E9: 1 | F9: 81 | G9: 16 | H9: {=IF(MAX(IF(Affectations!$D$2:$D$225=A9,Affectations!$B$2:$B$225))>=$H$1,"ok","")}
A10: 9 | B10: 291619679 | C10: AEROPORTS DE LA COTE D AZUR | D10: NULL | E10: 1 | F10: 82 | G10: 16 | H10: {=IF(MAX(IF(Affectations!$D$2:$D$225=A10,Affectations!$B$2:$B$225))>=$H$1,"ok","")}
A11: 10 | B11: 273362178 | C11: COMPOSITE INDUSTRIE | D11: NULL | E11: 1 | F11: 173 | G11: 16 | H11: {=IF(MAX(IF(Affectations!$D$2:$D$225=A11,Affectations!$B$2:$B$225))>=$H$1,"ok","")}
A12: 11 | B12: 276344934 | C12: DESHONS HYDRAULIQUE | D12: NULL | E12: 1 | F12: 175 | G12: 16 | H12: {=IF(MAX(IF(Affectations!$D$2:$D$225=A12,Affectations!$B$2:$B$225))>=$H$1,"ok","")}
A13: 12 | B13: 280992020 | C13: FERCHAU ENGINEERING | D13: NULL | E13: 1 | F13: 176 | G13: 16 | H13: {=IF(MAX(IF(Affectations!$D$2:$D$225=A13,Affectations!$B$2:$B$225))>=$H$1,"ok","")}
... A875: 906 | B875: 522874791 | C875: CBM POLSKA SP Z O O | D875: NULL | E875: 1 | F875: 1303 | G875: 14 | H875: {=IF(MAX(IF(Affectations!$D$2:$D$225=A875,Affectations!$B$2:$B$225))>=$H$1,"ok","")}

Sheet Affectations
A1: AFF_ID | B1: AFF_DATEDE | C1: AFF_DATEFI | D1: CLT_ID
A2: 263 | B2: 43375 | C2: 43465 | D2: 169
A3: 276 | B3: 43376 | C3: 43406 | D3: 171
A4: 2226 | B4: 43390 | C4: 43465 | D4: 325
A5: 2711 | B5: 43456 | C5: 475478 | D5: 321
A6: 10683 | B6: 43389 | C6: 43760 | D6: 1579
A7: 10831 | B7: 43353 | C7: 43383 | D7: 1434
A8: 14655 | B8: 43467 | C8: 43478 | D8: 278
A9: 14661 | B9: 43441 | C9: 43455 | D9: 278
A10: 14662 | B10: 43467 | C10: 43485 | D10: 278
A11: 14665 | B11: 43467 | C11: 43485 | D11: 278
A12: 14672 | B12: 43467 | C12: 43485 | D12: 278
A13: 14784 | B13: 43441 | C13: 43455 | D13: NULL
A14: 14785 | B14: 43467 | C14: 43492 | D14: NULL
A15: 15076 | B15: 43349 | C15: 43385 | D15: 726
A16: 15643 | B16: 43406 | C16: 43432 | D16: 335
A17: 15974 | B17: 43369 | C17: 43469 | D17: 466
A18: 16085 | B18: 43407 | C18: 43469 | D18: 466
A19: 16403 | B19: 43442 | C19: 43450 | D19: 457
A20: 16461 | B20: 43344 | C20: 43799 | D20: 529
A21: 17794 | B21: 43442 | C21: 43469 | D21: 390
A22: 17846 | B22: 43386 | C22: 43469 | D22: 397
A23: 17914 | B23: 43463 | C23: 43469 | D23: 397
A24: 17917 | B24: 43407 | C24: 43469 | D24: 390
A25: 18754 | B25: 43442 | C25: 43469 | D25: 390
A26: 18755 | B26: 43351 | C26: 43476 | D26: 373
... A70: 54334 | B70: 43372 | C70: 43373 | D70: 387
A71: 58742 | B71: 43461 | C71: 43462 | D71: NULL
A72: 59316 | B72: 43442 | C72: 43469 | D72: 390
A73: 63985 | B73: 43417 | C73: 43476 | D73: 373
A74: 64395 | B74: 43372 | C74: 43408 | D74: 1776
A75: 68434 | B75: 43463 | C75: 43464 | D75: 1621
A76: 69821 | B76: 43377 | C76: 43476 | D76: 373
A77: 69839 | B77: 43417 | C77: 43663 | D77: 699
A78: 71180 | B78: 43357 | C78: 43359 | D78: 397
A79: 71552 | B79: 43461 | C79: 43464 | D79: 413
A80: 71772 | B80: 43346 | C80: 43441 | D80: 394
A81: 74929 | B81: 43379 | C81: 43476 | D81: 373
A82: 74983 | B82: 43393 | C82: 43469 | D82: 390
A83: 75484 | B83: 43407 | C83: 43408 | D83: 1427
... A88: 77725 | B88: 43407 | C88: 43434 | D88: 373
A89: 77841 | B89: 43349 | C89: 43350 | D89: NULL
A90: 77842 | B90: 43356 | C90: 43357 | D90: NULL
A91: 77843 | B91: 43363 | C91: 43364 | D91: NULL
A92: 77844 | B92: 43370 | C92: 43371 | D92: NULL
A93: 77845 | B93: 43377 | C93: 43378 | D93: NULL
A94: 77846 | B94: 43384 | C94: 43385 | D94: NULL
A95: 77847 | B95: 43391 | C95: 43392 | D95: NULL
A96: 77848 | B96: 43398 | C96: 43399 | D96: NULL
A97: 77849 | B97: 43405 | C97: 43406 | D97: NULL
A98: 77850 | B98: 43412 | C98: 43413 | D98: NULL
A99: 77851 | B99: 43419 | C99: 43420 | D99: NULL
A100: 77852 | B100: 43426 | C100: 43427 | D100: NULL
... A103: 77855 | B103: 43447 | C103: 43448 | D103: NULL
A104: 77894 | B104: 43346 | C104: 43346 | D104: 97
A105: 77895 | B105: 43353 | C105: 43353 | D105: 97
A106: 77896 | B106: 43360 | C106: 43360 | D106: 97
A107: 77897 | B107: 43367 | C107: 43367 | D107: 97
A108: 77898 | B108: 43374 | C108: 43374 | D108: 97
A109: 77899 | B109: 43381 | C109: 43381 | D109: 97
A110: 77900 | B110: 43388 | C110: 43388 | D110: 97
A111: 77901 | B111: 43395 | C111: 43395 | D111: 97
A112: 77902 | B112: 43402 | C112: 43402 | D112: 97
A113: 77903 | B113: 43409 | C113: 43409 | D113: 97
A114: 77904 | B114: 43416 | C114: 43416 | D114: 97
A115: 77905 | B115: 43423 | C115: 43423 | D115: 97
... A141: 78005 | B141: 43383 | C141: 43383 | D141: 2007
A142: 78016 | B142: 43461 | C142: 43465 | D142: NULL
A143: 78331 | B143: 43346 | C143: 43350 | D143: 719
A144: 78332 | B144: 43353 | C144: 43357 | D144: 674
A145: 78333 | B145: 43360 | C145: 43364 | D145: 714
A146: 78334 | B146: 43367 | C146: 43371 | D146: 699
A147: 78335 | B147: 43374 | C147: 43378 | D147: 719
A148: 78336 | B148: 43381 | C148: 43385 | D148: 674
A149: 78337 | B149: 43388 | C149: 43392 | D149: 714
A150: 78338 | B150: 43395 | C150: 43399 | D150: 699
A151: 78339 | B151: 43402 | C151: 43406 | D151: 719
A152: 78340 | B152: 43409 | C152: 43413 | D152: 674
A153: 78341 | B153: 43416 | C153: 43420 | D153: 714
A154: 78342 | B154: 43423 | C154: 43426 | D154: 699
... A225: 78557 | B225: 43440 | C225: 43441 | D225: 132
