Workbook
Name dispo: OFFSET(dispo!$A$2,,COLUMN()-1,COUNTIF(dispo!$B:$B,"><")-1)

Sheet choix
A1: Cavalier | B1: 8-10 | C1: 10-12 | D1: 12-14 | E1: 14-16 | F1: 16-18
B2: Bonifly | C2: Biranka | D2: Biranka | E2: Bonifly
B3: Camirado | C3: Bonifly
A4: Mathieu | B4: Biranka | C4: Bonnie
B5: Quechua | C5: Camirado
B7: Venise
A10: Phil | B10: Bonnie
A16: Chris
A22: Marianne | B22: Grenoble
A28: Luana | B28: Cooper

Sheet emploi
B1: 8-10 | C1: 10-12 | D1: 12-14 | E1: 14-16 | F1: 16-18
A2: Biranka | B2: =IF(COUNTIF(choix!B:B,$A2)>0,"X","") -> X | C2: =IF(COUNTIF(choix!C:C,$A2)>0,"X","") -> X | D2: =IF(COUNTIF(choix!D:D,$A2)>0,"X","") -> X | E2: =IF(COUNTIF(choix!E:E,$A2)>0,"X","") | F2: =IF(COUNTIF(choix!F:F,$A2)>0,"X","")
A3: Bonifly | B3: =IF(COUNTIF(choix!B:B,$A3)>0,"X","") -> X | C3: =IF(COUNTIF(choix!C:C,$A3)>0,"X","") -> X | D3: =IF(COUNTIF(choix!D:D,$A3)>0,"X","") | E3: =IF(COUNTIF(choix!E:E,$A3)>0,"X","") -> X | F3: =IF(COUNTIF(choix!F:F,$A3)>0,"X","")
A4: Bonnie | B4: =IF(COUNTIF(choix!B:B,$A4)>0,"X","") -> X | C4: =IF(COUNTIF(choix!C:C,$A4)>0,"X","") -> X | D4: =IF(COUNTIF(choix!D:D,$A4)>0,"X","") | E4: =IF(COUNTIF(choix!E:E,$A4)>0,"X","") | F4: =IF(COUNTIF(choix!F:F,$A4)>0,"X","")
A5: Camirado | B5: =IF(COUNTIF(choix!B:B,$A5)>0,"X","") -> X | C5: =IF(COUNTIF(choix!C:C,$A5)>0,"X","") -> X | D5: =IF(COUNTIF(choix!D:D,$A5)>0,"X","") | E5: =IF(COUNTIF(choix!E:E,$A5)>0,"X","") | F5: =IF(COUNTIF(choix!F:F,$A5)>0,"X","")
A6: Cooper | B6: =IF(COUNTIF(choix!B:B,$A6)>0,"X","") -> X | C6: =IF(COUNTIF(choix!C:C,$A6)>0,"X","") | D6: =IF(COUNTIF(choix!D:D,$A6)>0,"X","") | E6: =IF(COUNTIF(choix!E:E,$A6)>0,"X","") | F6: =IF(COUNTIF(choix!F:F,$A6)>0,"X","")
A7: Grenoble | B7: =IF(COUNTIF(choix!B:B,$A7)>0,"X","") -> X | C7: =IF(COUNTIF(choix!C:C,$A7)>0,"X","") | D7: =IF(COUNTIF(choix!D:D,$A7)>0,"X","") | E7: =IF(COUNTIF(choix!E:E,$A7)>0,"X","") | F7: =IF(COUNTIF(choix!F:F,$A7)>0,"X","")
A8: Incor | B8: =IF(COUNTIF(choix!B:B,$A8)>0,"X","") | C8: =IF(COUNTIF(choix!C:C,$A8)>0,"X","") | D8: =IF(COUNTIF(choix!D:D,$A8)>0,"X","") | E8: =IF(COUNTIF(choix!E:E,$A8)>0,"X","") | F8: =IF(COUNTIF(choix!F:F,$A8)>0,"X","")
A9: Quechua | B9: =IF(COUNTIF(choix!B:B,$A9)>0,"X","") -> X | C9: =IF(COUNTIF(choix!C:C,$A9)>0,"X","") | D9: =IF(COUNTIF(choix!D:D,$A9)>0,"X","") | E9: =IF(COUNTIF(choix!E:E,$A9)>0,"X","") | F9: =IF(COUNTIF(choix!F:F,$A9)>0,"X","")
A10: Quigina | B10: =IF(COUNTIF(choix!B:B,$A10)>0,"X","") | C10: =IF(COUNTIF(choix!C:C,$A10)>0,"X","") | D10: =IF(COUNTIF(choix!D:D,$A10)>0,"X","") | E10: =IF(COUNTIF(choix!E:E,$A10)>0,"X","") | F10: =IF(COUNTIF(choix!F:F,$A10)>0,"X","")
A11: Rewido | B11: =IF(COUNTIF(choix!B:B,$A11)>0,"X","") | C11: =IF(COUNTIF(choix!C:C,$A11)>0,"X","") | D11: =IF(COUNTIF(choix!D:D,$A11)>0,"X","") | E11: =IF(COUNTIF(choix!E:E,$A11)>0,"X","") | F11: =IF(COUNTIF(choix!F:F,$A11)>0,"X","")
A12: Robins | B12: =IF(COUNTIF(choix!B:B,$A12)>0,"X","") | C12: =IF(COUNTIF(choix!C:C,$A12)>0,"X","") | D12: =IF(COUNTIF(choix!D:D,$A12)>0,"X","") | E12: =IF(COUNTIF(choix!E:E,$A12)>0,"X","") | F12: =IF(COUNTIF(choix!F:F,$A12)>0,"X","")
A13: Sateen | B13: =IF(COUNTIF(choix!B:B,$A13)>0,"X","") | C13: =IF(COUNTIF(choix!C:C,$A13)>0,"X","") | D13: =IF(COUNTIF(choix!D:D,$A13)>0,"X","") | E13: =IF(COUNTIF(choix!E:E,$A13)>0,"X","") | F13: =IF(COUNTIF(choix!F:F,$A13)>0,"X","")
... A21: Wisconcin | B21: =IF(COUNTIF(choix!B:B,$A21)>0,"X","") | C21: =IF(COUNTIF(choix!C:C,$A21)>0,"X","") | D21: =IF(COUNTIF(choix!D:D,$A21)>0,"X","") | E21: =IF(COUNTIF(choix!E:E,$A21)>0,"X","") | F21: =IF(COUNTIF(choix!F:F,$A21)>0,"X","")

Sheet dispo
B1: 8-10 | C1: 10-12 | D1: 12-14 | E1: 14-16 | F1: 16-18
A2: Biranka | B2: {=IFERROR(INDEX(dispo!$A$2:$A$21,SMALL(IF(COUNTIF(choix!B$2:B$32,dispo!$A$2:$A$21)=0,ROW(dispo!$A$2:$A$21)-1,""),ROW(A1))),"")} -> Incor | C2: {=IFERROR(INDEX(dispo!$A$2:$A$21,SMALL(IF(COUNTIF(choix!C$2:C$32,dispo!$A$2:$A$21)=0,ROW(dispo!$A$2:$A$21)-1,""),ROW(B1))),"")} -> Cooper | D2: {=IFERROR(INDEX(dispo!$A$2:$A$21,SMALL(IF(COUNTIF(choix!D$2:D$32,dispo!$A$2:$A$21)=0,ROW(dispo!$A$2:$A$21)-1,""),ROW(C1))),"")} -> Bonifly | E2: {=IFERROR(INDEX(dispo!$A$2:$A$21,SMALL(IF(COUNTIF(choix!E$2:E$32,dispo!$A$2:$A$21)=0,ROW(dispo!$A$2:$A$21)-1,""),ROW(D1))),"")} -> Biranka | F2: {=IFERROR(INDEX(dispo!$A$2:$A$21,SMALL(IF(COUNTIF(choix!F$2:F$32,dispo!$A$2:$A$21)=0,ROW(dispo!$A$2:$A$21)-1,""),ROW(E1))),"")} -> Biranka
A3: Bonifly | B3: {=IFERROR(INDEX(dispo!$A$2:$A$21,SMALL(IF(COUNTIF(choix!B$2:B$32,dispo!$A$2:$A$21)=0,ROW(dispo!$A$2:$A$21)-1,""),ROW(A2))),"")} -> Quigina | C3: {=IFERROR(INDEX(dispo!$A$2:$A$21,SMALL(IF(COUNTIF(choix!C$2:C$32,dispo!$A$2:$A$21)=0,ROW(dispo!$A$2:$A$21)-1,""),ROW(B2))),"")} -> Grenoble | D3: {=IFERROR(INDEX(dispo!$A$2:$A$21,SMALL(IF(COUNTIF(choix!D$2:D$32,dispo!$A$2:$A$21)=0,ROW(dispo!$A$2:$A$21)-1,""),ROW(C2))),"")} -> Bonnie | E3: {=IFERROR(INDEX(dispo!$A$2:$A$21,SMALL(IF(COUNTIF(choix!E$2:E$32,dispo!$A$2:$A$21)=0,ROW(dispo!$A$2:$A$21)-1,""),ROW(D2))),"")} -> Bonnie | F3: {=IFERROR(INDEX(dispo!$A$2:$A$21,SMALL(IF(COUNTIF(choix!F$2:F$32,dispo!$A$2:$A$21)=0,ROW(dispo!$A$2:$A$21)-1,""),ROW(E2))),"")} -> Bonifly
A4: Bonnie | B4: {=IFERROR(INDEX(dispo!$A$2:$A$21,SMALL(IF(COUNTIF(choix!B$2:B$32,dispo!$A$2:$A$21)=0,ROW(dispo!$A$2:$A$21)-1,""),ROW(A3))),"")} -> Rewido | C4: {=IFERROR(INDEX(dispo!$A$2:$A$21,SMALL(IF(COUNTIF(choix!C$2:C$32,dispo!$A$2:$A$21)=0,ROW(dispo!$A$2:$A$21)-1,""),ROW(B3))),"")} -> Incor | D4: {=IFERROR(INDEX(dispo!$A$2:$A$21,SMALL(IF(COUNTIF(choix!D$2:D$32,dispo!$A$2:$A$21)=0,ROW(dispo!$A$2:$A$21)-1,""),ROW(C3))),"")} -> Camirado | E4: {=IFERROR(INDEX(dispo!$A$2:$A$21,SMALL(IF(COUNTIF(choix!E$2:E$32,dispo!$A$2:$A$21)=0,ROW(dispo!$A$2:$A$21)-1,""),ROW(D3))),"")} -> Camirado | F4: {=IFERROR(INDEX(dispo!$A$2:$A$21,SMALL(IF(COUNTIF(choix!F$2:F$32,dispo!$A$2:$A$21)=0,ROW(dispo!$A$2:$A$21)-1,""),ROW(E3))),"")} -> Bonnie
A5: Camirado | B5: {=IFERROR(INDEX(dispo!$A$2:$A$21,SMALL(IF(COUNTIF(choix!B$2:B$32,dispo!$A$2:$A$21)=0,ROW(dispo!$A$2:$A$21)-1,""),ROW(A4))),"")} -> Robins | C5: {=IFERROR(INDEX(dispo!$A$2:$A$21,SMALL(IF(COUNTIF(choix!C$2:C$32,dispo!$A$2:$A$21)=0,ROW(dispo!$A$2:$A$21)-1,""),ROW(B4))),"")} -> Quechua | D5: {=IFERROR(INDEX(dispo!$A$2:$A$21,SMALL(IF(COUNTIF(choix!D$2:D$32,dispo!$A$2:$A$21)=0,ROW(dispo!$A$2:$A$21)-1,""),ROW(C4))),"")} -> Cooper | E5: {=IFERROR(INDEX(dispo!$A$2:$A$21,SMALL(IF(COUNTIF(choix!E$2:E$32,dispo!$A$2:$A$21)=0,ROW(dispo!$A$2:$A$21)-1,""),ROW(D4))),"")} -> Cooper | F5: {=IFERROR(INDEX(dispo!$A$2:$A$21,SMALL(IF(COUNTIF(choix!F$2:F$32,dispo!$A$2:$A$21)=0,ROW(dispo!$A$2:$A$21)-1,""),ROW(E4))),"")} -> Camirado
A6: Cooper | B6: {=IFERROR(INDEX(dispo!$A$2:$A$21,SMALL(IF(COUNTIF(choix!B$2:B$32,dispo!$A$2:$A$21)=0,ROW(dispo!$A$2:$A$21)-1,""),ROW(A5))),"")} -> Sateen | C6: {=IFERROR(INDEX(dispo!$A$2:$A$21,SMALL(IF(COUNTIF(choix!C$2:C$32,dispo!$A$2:$A$21)=0,ROW(dispo!$A$2:$A$21)-1,""),ROW(B5))),"")} -> Quigina | D6: {=IFERROR(INDEX(dispo!$A$2:$A$21,SMALL(IF(COUNTIF(choix!D$2:D$32,dispo!$A$2:$A$21)=0,ROW(dispo!$A$2:$A$21)-1,""),ROW(C5))),"")} -> Grenoble | E6: {=IFERROR(INDEX(dispo!$A$2:$A$21,SMALL(IF(COUNTIF(choix!E$2:E$32,dispo!$A$2:$A$21)=0,ROW(dispo!$A$2:$A$21)-1,""),ROW(D5))),"")} -> Grenoble | F6: {=IFERROR(INDEX(dispo!$A$2:$A$21,SMALL(IF(COUNTIF(choix!F$2:F$32,dispo!$A$2:$A$21)=0,ROW(dispo!$A$2:$A$21)-1,""),ROW(E5))),"")} -> Cooper
A7: Grenoble | B7: {=IFERROR(INDEX(dispo!$A$2:$A$21,SMALL(IF(COUNTIF(choix!B$2:B$32,dispo!$A$2:$A$21)=0,ROW(dispo!$A$2:$A$21)-1,""),ROW(A6))),"")} -> Scampano | C7: {=IFERROR(INDEX(dispo!$A$2:$A$21,SMALL(IF(COUNTIF(choix!C$2:C$32,dispo!$A$2:$A$21)=0,ROW(dispo!$A$2:$A$21)-1,""),ROW(B6))),"")} -> Rewido | D7: {=IFERROR(INDEX(dispo!$A$2:$A$21,SMALL(IF(COUNTIF(choix!D$2:D$32,dispo!$A$2:$A$21)=0,ROW(dispo!$A$2:$A$21)-1,""),ROW(C6))),"")} -> Incor | E7: {=IFERROR(INDEX(dispo!$A$2:$A$21,SMALL(IF(COUNTIF(choix!E$2:E$32,dispo!$A$2:$A$21)=0,ROW(dispo!$A$2:$A$21)-1,""),ROW(D6))),"")} -> Incor | F7: {=IFERROR(INDEX(dispo!$A$2:$A$21,SMALL(IF(COUNTIF(choix!F$2:F$32,dispo!$A$2:$A$21)=0,ROW(dispo!$A$2:$A$21)-1,""),ROW(E6))),"")} -> Grenoble
A8: Incor | B8: {=IFERROR(INDEX(dispo!$A$2:$A$21,SMALL(IF(COUNTIF(choix!B$2:B$32,dispo!$A$2:$A$21)=0,ROW(dispo!$A$2:$A$21)-1,""),ROW(A7))),"")} -> Songe | C8: {=IFERROR(INDEX(dispo!$A$2:$A$21,SMALL(IF(COUNTIF(choix!C$2:C$32,dispo!$A$2:$A$21)=0,ROW(dispo!$A$2:$A$21)-1,""),ROW(B7))),"")} -> Robins | D8: {=IFERROR(INDEX(dispo!$A$2:$A$21,SMALL(IF(COUNTIF(choix!D$2:D$32,dispo!$A$2:$A$21)=0,ROW(dispo!$A$2:$A$21)-1,""),ROW(C7))),"")} -> Quechua | E8: {=IFERROR(INDEX(dispo!$A$2:$A$21,SMALL(IF(COUNTIF(choix!E$2:E$32,dispo!$A$2:$A$21)=0,ROW(dispo!$A$2:$A$21)-1,""),ROW(D7))),"")} -> Quechua | F8: {=IFERROR(INDEX(dispo!$A$2:$A$21,SMALL(IF(COUNTIF(choix!F$2:F$32,dispo!$A$2:$A$21)=0,ROW(dispo!$A$2:$A$21)-1,""),ROW(E7))),"")} -> Incor
A9: Quechua | B9: {=IFERROR(INDEX(dispo!$A$2:$A$21,SMALL(IF(COUNTIF(choix!B$2:B$32,dispo!$A$2:$A$21)=0,ROW(dispo!$A$2:$A$21)-1,""),ROW(A8))),"")} -> Souviens toi | C9: {=IFERROR(INDEX(dispo!$A$2:$A$21,SMALL(IF(COUNTIF(choix!C$2:C$32,dispo!$A$2:$A$21)=0,ROW(dispo!$A$2:$A$21)-1,""),ROW(B8))),"")} -> Sateen | D9: {=IFERROR(INDEX(dispo!$A$2:$A$21,SMALL(IF(COUNTIF(choix!D$2:D$32,dispo!$A$2:$A$21)=0,ROW(dispo!$A$2:$A$21)-1,""),ROW(C8))),"")} -> Quigina | E9: {=IFERROR(INDEX(dispo!$A$2:$A$21,SMALL(IF(COUNTIF(choix!E$2:E$32,dispo!$A$2:$A$21)=0,ROW(dispo!$A$2:$A$21)-1,""),ROW(D8))),"")} -> Quigina | F9: {=IFERROR(INDEX(dispo!$A$2:$A$21,SMALL(IF(COUNTIF(choix!F$2:F$32,dispo!$A$2:$A$21)=0,ROW(dispo!$A$2:$A$21)-1,""),ROW(E8))),"")} -> Quechua
A10: Quigina | B10: {=IFERROR(INDEX(dispo!$A$2:$A$21,SMALL(IF(COUNTIF(choix!B$2:B$32,dispo!$A$2:$A$21)=0,ROW(dispo!$A$2:$A$21)-1,""),ROW(A9))),"")} -> Titan | C10: {=IFERROR(INDEX(dispo!$A$2:$A$21,SMALL(IF(COUNTIF(choix!C$2:C$32,dispo!$A$2:$A$21)=0,ROW(dispo!$A$2:$A$21)-1,""),ROW(B9))),"")} -> Scampano | D10: {=IFERROR(INDEX(dispo!$A$2:$A$21,SMALL(IF(COUNTIF(choix!D$2:D$32,dispo!$A$2:$A$21)=0,ROW(dispo!$A$2:$A$21)-1,""),ROW(C9))),"")} -> Rewido | E10: {=IFERROR(INDEX(dispo!$A$2:$A$21,SMALL(IF(COUNTIF(choix!E$2:E$32,dispo!$A$2:$A$21)=0,ROW(dispo!$A$2:$A$21)-1,""),ROW(D9))),"")} -> Rewido | F10: {=IFERROR(INDEX(dispo!$A$2:$A$21,SMALL(IF(COUNTIF(choix!F$2:F$32,dispo!$A$2:$A$21)=0,ROW(dispo!$A$2:$A$21)-1,""),ROW(E9))),"")} -> Quigina
A11: Rewido | B11: {=IFERROR(INDEX(dispo!$A$2:$A$21,SMALL(IF(COUNTIF(choix!B$2:B$32,dispo!$A$2:$A$21)=0,ROW(dispo!$A$2:$A$21)-1,""),ROW(A10))),"")} -> Vali | C11: {=IFERROR(INDEX(dispo!$A$2:$A$21,SMALL(IF(COUNTIF(choix!C$2:C$32,dispo!$A$2:$A$21)=0,ROW(dispo!$A$2:$A$21)-1,""),ROW(B10))),"")} -> Songe | D11: {=IFERROR(INDEX(dispo!$A$2:$A$21,SMALL(IF(COUNTIF(choix!D$2:D$32,dispo!$A$2:$A$21)=0,ROW(dispo!$A$2:$A$21)-1,""),ROW(C10))),"")} -> Robins | E11: {=IFERROR(INDEX(dispo!$A$2:$A$21,SMALL(IF(COUNTIF(choix!E$2:E$32,dispo!$A$2:$A$21)=0,ROW(dispo!$A$2:$A$21)-1,""),ROW(D10))),"")} -> Robins | F11: {=IFERROR(INDEX(dispo!$A$2:$A$21,SMALL(IF(COUNTIF(choix!F$2:F$32,dispo!$A$2:$A$21)=0,ROW(dispo!$A$2:$A$21)-1,""),ROW(E10))),"")} -> Rewido
A12: Robins | B12: {=IFERROR(INDEX(dispo!$A$2:$A$21,SMALL(IF(COUNTIF(choix!B$2:B$32,dispo!$A$2:$A$21)=0,ROW(dispo!$A$2:$A$21)-1,""),ROW(A11))),"")} -> Villeroy | C12: {=IFERROR(INDEX(dispo!$A$2:$A$21,SMALL(IF(COUNTIF(choix!C$2:C$32,dispo!$A$2:$A$21)=0,ROW(dispo!$A$2:$A$21)-1,""),ROW(B11))),"")} -> Souviens toi | D12: {=IFERROR(INDEX(dispo!$A$2:$A$21,SMALL(IF(COUNTIF(choix!D$2:D$32,dispo!$A$2:$A$21)=0,ROW(dispo!$A$2:$A$21)-1,""),ROW(C11))),"")} -> Sateen | E12: {=IFERROR(INDEX(dispo!$A$2:$A$21,SMALL(IF(COUNTIF(choix!E$2:E$32,dispo!$A$2:$A$21)=0,ROW(dispo!$A$2:$A$21)-1,""),ROW(D11))),"")} -> Sateen | F12: {=IFERROR(INDEX(dispo!$A$2:$A$21,SMALL(IF(COUNTIF(choix!F$2:F$32,dispo!$A$2:$A$21)=0,ROW(dispo!$A$2:$A$21)-1,""),ROW(E11))),"")} -> Robins
A13: Sateen | B13: {=IFERROR(INDEX(dispo!$A$2:$A$21,SMALL(IF(COUNTIF(choix!B$2:B$32,dispo!$A$2:$A$21)=0,ROW(dispo!$A$2:$A$21)-1,""),ROW(A12))),"")} -> Wisconcin | C13: {=IFERROR(INDEX(dispo!$A$2:$A$21,SMALL(IF(COUNTIF(choix!C$2:C$32,dispo!$A$2:$A$21)=0,ROW(dispo!$A$2:$A$21)-1,""),ROW(B12))),"")} -> Titan | D13: {=IFERROR(INDEX(dispo!$A$2:$A$21,SMALL(IF(COUNTIF(choix!D$2:D$32,dispo!$A$2:$A$21)=0,ROW(dispo!$A$2:$A$21)-1,""),ROW(C12))),"")} -> Scampano | E13: {=IFERROR(INDEX(dispo!$A$2:$A$21,SMALL(IF(COUNTIF(choix!E$2:E$32,dispo!$A$2:$A$21)=0,ROW(dispo!$A$2:$A$21)-1,""),ROW(D12))),"")} -> Scampano | F13: {=IFERROR(INDEX(dispo!$A$2:$A$21,SMALL(IF(COUNTIF(choix!F$2:F$32,dispo!$A$2:$A$21)=0,ROW(dispo!$A$2:$A$21)-1,""),ROW(E12))),"")} -> Sateen
... A21: Wisconcin | B21: {=IFERROR(INDEX(dispo!$A$2:$A$21,SMALL(IF(COUNTIF(choix!B$2:B$32,dispo!$A$2:$A$21)=0,ROW(dispo!$A$2:$A$21)-1,""),ROW(A20))),"")} | C21: {=IFERROR(INDEX(dispo!$A$2:$A$21,SMALL(IF(COUNTIF(choix!C$2:C$32,dispo!$A$2:$A$21)=0,ROW(dispo!$A$2:$A$21)-1,""),ROW(B20))),"")} | D21: {=IFERROR(INDEX(dispo!$A$2:$A$21,SMALL(IF(COUNTIF(choix!D$2:D$32,dispo!$A$2:$A$21)=0,ROW(dispo!$A$2:$A$21)-1,""),ROW(C20))),"")} | E21: {=IFERROR(INDEX(dispo!$A$2:$A$21,SMALL(IF(COUNTIF(choix!E$2:E$32,dispo!$A$2:$A$21)=0,ROW(dispo!$A$2:$A$21)-1,""),ROW(D20))),"")} | F21: {=IFERROR(INDEX(dispo!$A$2:$A$21,SMALL(IF(COUNTIF(choix!F$2:F$32,dispo!$A$2:$A$21)=0,ROW(dispo!$A$2:$A$21)-1,""),ROW(E20))),"")} -> Wisconcin
