Workbook

Sheet Planning
A1: Equipe | B1: A
A2: Année | B2: 2017
A3: Semaine | B3: 1
A5: Date | B5: =DATE(B$2,1,1)-WEEKDAY(DATE(B$2,1,1),2)+1+IF(WEEKDAY(DATE(B$2,1,1),2)>4,7,0)+(B3-1)*7 -> 42737 | C5: =B5+1 -> 42738 | D5: =C5+1 -> 42739 | E5: =D5+1 -> 42740 | F5: =E5+1 -> 42741 | G5: =F5+1 -> 42742 | H5: =G5+1 -> 42743
A6: M. X | B6: =IFERROR(OFFSET('Présence entreprise'!$A$1,MATCH($A6,'Présence entreprise'!$A:$A,0)-1,MATCH(B$5,'Présence entreprise'!$3:$3,0)-1),"") -> Repos | C6: =IFERROR(OFFSET('Présence entreprise'!$A$1,MATCH($A6,'Présence entreprise'!$A:$A,0)-1,MATCH(C$5,'Présence entreprise'!$3:$3,0)-1),"") -> Présent | D6: =IFERROR(OFFSET('Présence entreprise'!$A$1,MATCH($A6,'Présence entreprise'!$A:$A,0)-1,MATCH(D$5,'Présence entreprise'!$3:$3,0)-1),"") -> Congés | E6: =IFERROR(OFFSET('Présence entreprise'!$A$1,MATCH($A6,'Présence entreprise'!$A:$A,0)-1,MATCH(E$5,'Présence entreprise'!$3:$3,0)-1),"") -> Congés | F6: =IFERROR(OFFSET('Présence entreprise'!$A$1,MATCH($A6,'Présence entreprise'!$A:$A,0)-1,MATCH(F$5,'Présence entreprise'!$3:$3,0)-1),"") -> Congés | G6: =IFERROR(OFFSET('Présence entreprise'!$A$1,MATCH($A6,'Présence entreprise'!$A:$A,0)-1,MATCH(G$5,'Présence entreprise'!$3:$3,0)-1),"") -> Congés | H6: =IFERROR(OFFSET('Présence entreprise'!$A$1,MATCH($A6,'Présence entreprise'!$A:$A,0)-1,MATCH(H$5,'Présence entreprise'!$3:$3,0)-1),"") -> Repos
A7: M. Z | B7: =IFERROR(OFFSET('Présence entreprise'!$A$1,MATCH($A7,'Présence entreprise'!$A:$A,0)-1,MATCH(B$5,'Présence entreprise'!$3:$3,0)-1),"") -> Repos | C7: =IFERROR(OFFSET('Présence entreprise'!$A$1,MATCH($A7,'Présence entreprise'!$A:$A,0)-1,MATCH(C$5,'Présence entreprise'!$3:$3,0)-1),"") -> Présent | D7: =IFERROR(OFFSET('Présence entreprise'!$A$1,MATCH($A7,'Présence entreprise'!$A:$A,0)-1,MATCH(D$5,'Présence entreprise'!$3:$3,0)-1),"") -> Présent | E7: =IFERROR(OFFSET('Présence entreprise'!$A$1,MATCH($A7,'Présence entreprise'!$A:$A,0)-1,MATCH(E$5,'Présence entreprise'!$3:$3,0)-1),"") -> Présent | F7: =IFERROR(OFFSET('Présence entreprise'!$A$1,MATCH($A7,'Présence entreprise'!$A:$A,0)-1,MATCH(F$5,'Présence entreprise'!$3:$3,0)-1),"") -> Présent | G7: =IFERROR(OFFSET('Présence entreprise'!$A$1,MATCH($A7,'Présence entreprise'!$A:$A,0)-1,MATCH(G$5,'Présence entreprise'!$3:$3,0)-1),"") -> Présent | H7: =IFERROR(OFFSET('Présence entreprise'!$A$1,MATCH($A7,'Présence entreprise'!$A:$A,0)-1,MATCH(H$5,'Présence entreprise'!$3:$3,0)-1),"") -> Repos

Sheet Présence entreprise
D1: Semaine 1
D2: L | E2: M | F2: M | G2: J | H2: V | I2: S | J2: D
B3: Equipe | C3: Poste | D3: 42737 | E3: 42738 | F3: 42739 | G3: 42740 | H3: 42741 | I3: 42742 | J3: 42743
A4: M. X | B4: A | C4: Encadrant | D4: Repos | E4: Présent | F4: Congés | G4: Congés | H4: Congés | I4: Congés | J4: Repos
A5: Mme Y | B5: B
A6: M. Z | B6: A | C6: Titulaire | D6: Repos | E6: Présent | F6: Présent | G6: Présent | H6: Présent | I6: Présent | J6: Repos
A7: M. A | B7: Nuit
