Workbook
Name CCSInfo_BeginDate: #REF!
Name CCSInfo_BeginHour: #REF!
Name CCSInfo_EndDate: #REF!
Name CCSInfo_EndHour: #REF!
Name CCSInfo_Granularity: #REF!
Name CCSInfo_HelpStat: #REF!
Name CCSInfo_ListObject: #REF!
Name CCSInfo_ListQmcdu: #REF!
Name CCSInfo_TypeEdition: #REF!
Name G_AgName_FormAgtSes: #REF!
Name G_AgNumber_FormAgtSes: #REF!
Name G_Day_FormAgtSes: #REF!
Name G_EdByPilot_FormAgtSes: #REF!
Name G_EdCumulDay_FormAgtSes: #REF!
Name G_EdIntraDay_FormAgtSes: #REF!
Name G_EdNoInfo_FormAgtSes: #REF!
Name G_EdOption_FormAgtSes: #REF!
Name G_HourLogon_FormAgtSes: #REF!
Name G_HourLogout_FormAgtSes: #REF!
Name G_NbInCall_FormAgtSes: #REF!
Name G_NbNonACD_FormAgtSes: #REF!
Name G_NbOutCall_FormAgtSes: #REF!
Name G_NumberOfAgent_FormAgtSes: #REF!
Name G_PilName_FormAgtSes: #REF!
Name G_PilNumber_FormAgtSes: #REF!
Name G_Title_FormAgtSes: #REF!
Name G_TmInCall_FormAgtSes: #REF!
Name G_TmInTalk_FormAgtSes: #REF!
Name G_TmInWrapup_FormAgtSes: #REF!
Name G_TmLogon_FormAgtSes: #REF!
Name G_TmNonACD_FormAgtSes: #REF!
Name G_TmOutCall_FormAgtSes: #REF!
Name G_TmOutTalk_FormAgtSes: #REF!
Name G_TmOutWrapup_FormAgtSes: #REF!
Name G_TmWithdraw_FormAgtSes: #REF!
Name G_TmWrapup_FormAgtSes: #REF!
Name nivel1a: Dimensionement!#REF!
Name nivel1b: Dimensionement!#REF!
Name nivel2a: Dimensionement!#REF!
Name nivel2b: Dimensionement!#REF!
Name nivel3a: Dimensionement!#REF!
Name nivel3b: Dimensionement!#REF!

Sheet Login_Logout
K2: Dimensionamento | AS2: rapport controle
K3: 0.29166667 | M3: 0.33333333 | O3: 0.375 | Q3: 0.41666667 | S3: 0.45833333 | U3: 0.5 | W3: 0.54166667 | Y3: 0.58333333 | AA3: 0.625 | AC3: 0.66666667 | AE3: 0.70833333 | AG3: 0.75 | AI3: 0.79166667 | AK3: 0.83333333 | AM3: 0.875 | AO3: 0.91666667
A4: Site | B4: Resp,equipe | C4: Nom collaborateur | D4: Id collab | E4: poste travail | F4: Heure connexion | G4: Heure déconnexion | H4: Date de déconnexion | I4: Déconnexion | J4: 0.041666667 | K4: 0.020833333 | L4: 0.29166667 | M4: 0.3125 | N4: 0.33333333 | O4: 0.35416667 | P4: 0.375 | Q4: 0.39583333 | R4: 0.41666667 | S4: 0.4375 | T4: 0.45833333 | U4: 0.47916667 | V4: 0.5 | W4: 0.52083333 | X4: 0.54166667 | Y4: 0.5625 | Z4: 0.58333333 | AA4: 0.60416667 | AB4: 0.625 | AC4: 0.64583333 | AD4: 0.66666667 | AE4: 0.6875 | AF4: 0.70833333 | AG4: 0.72916667 | AH4: 0.75 | AI4: 0.77083333 | AJ4: 0.79166667 | AK4: 0.8125 | AL4: 0.83333333 | AM4: 0.85416667 | AN4: 0.875 | AO4: 0.89583333 | AP4: 1 | AQ4: 0.91666667 | AS4: Nom de l'agent | AT4: Extn. | AU4: Heure connexion | AV4: Heure déconnexion | AW4: Date de déconnexion
A5: =VLOOKUP(Login_Logout!D:D,matrice!B:C,2,0) -> Depot 1 | B5: =VLOOKUP(D:D,matrice!B:E,4,0) -> Louis | C5: =VLOOKUP(D:D,matrice!B:D,3,0) -> andre | D5: =AS5 -> 130 | F5: =AU5-$J$4 -> 0.30138889 | G5: =AV5-$J$4 -> 0.30208333 | H5: =AW5 -> 43374 | I5: =F6-G5 -> 0 | L5: =IF(IF($G5>=M$4,M$4,$G5)-IF($F5>=L$4,IF($F5>=M$4,M$4,$F5),L$4)<0,0,IF($G5>=M$4,M$4,$G5)-IF($F5>=L$4,IF($F5>=M$4,M$4,$F5),L$4)) -> 0.00069444444 | M5: =IF(IF($G5>=N$4,N$4,$G5)-IF($F5>=M$4,IF($F5>=N$4,N$4,$F5),M$4)<0,0,IF($G5>=N$4,N$4,$G5)-IF($F5>=M$4,IF($F5>=N$4,N$4,$F5),M$4)) -> 0 | N5: =IF(IF($G5>=O$4,O$4,$G5)-IF($F5>=N$4,IF($F5>=O$4,O$4,$F5),N$4)<0,0,IF($G5>=O$4,O$4,$G5)-IF($F5>=N$4,IF($F5>=O$4,O$4,$F5),N$4)) -> 0 | O5: =IF(IF($G5>=P$4,P$4,$G5)-IF($F5>=O$4,IF($F5>=P$4,P$4,$F5),O$4)<0,0,IF($G5>=P$4,P$4,$G5)-IF($F5>=O$4,IF($F5>=P$4,P$4,$F5),O$4)) -> 0 | P5: =IF(IF($G5>=Q$4,Q$4,$G5)-IF($F5>=P$4,IF($F5>=Q$4,Q$4,$F5),P$4)<0,0,IF($G5>=Q$4,Q$4,$G5)-IF($F5>=P$4,IF($F5>=Q$4,Q$4,$F5),P$4)) -> 0 | Q5: =IF(IF($G5>=R$4,R$4,$G5)-IF($F5>=Q$4,IF($F5>=R$4,R$4,$F5),Q$4)<0,0,IF($G5>=R$4,R$4,$G5)-IF($F5>=Q$4,IF($F5>=R$4,R$4,$F5),Q$4)) -> 0 | R5: =IF(IF($G5>=S$4,S$4,$G5)-IF($F5>=R$4,IF($F5>=S$4,S$4,$F5),R$4)<0,0,IF($G5>=S$4,S$4,$G5)-IF($F5>=R$4,IF($F5>=S$4,S$4,$F5),R$4)) -> 0 | S5: =IF(IF($G5>=T$4,T$4,$G5)-IF($F5>=S$4,IF($F5>=T$4,T$4,$F5),S$4)<0,0,IF($G5>=T$4,T$4,$G5)-IF($F5>=S$4,IF($F5>=T$4,T$4,$F5),S$4)) -> 0 | ... AP5: =IF(IF($G5>=AQ$4,AQ$4,$G5)-IF($F5>=AP$4,IF($F5>=AQ$4,AQ$4,$F5),AP$4)<0,0,IF($G5>=AQ$4,AQ$4,$G5)-IF($F5>=AP$4,IF($F5>=AQ$4,AQ$4,$F5),AP$4)) -> 0 | AS5: 130 | AU5: 0.34305556 | AV5: 0.34375 | AW5: 43374
A6: =VLOOKUP(Login_Logout!D:D,matrice!B:C,2,0) -> Depot 1 | B6: =VLOOKUP(D:D,matrice!B:E,4,0) -> Louis | C6: =VLOOKUP(D:D,matrice!B:D,3,0) -> andre | D6: =AS6 -> 130 | F6: =AU6-$J$4 -> 0.30208333 | G6: =AV6-$J$4 -> 0.40069444 | H6: =AW6 -> 43374 | I6: =F7-G6 -> 0.0076388889 | L6: =IF(IF($G6>=M$4,M$4,$G6)-IF($F6>=L$4,IF($F6>=M$4,M$4,$F6),L$4)<0,0,IF($G6>=M$4,M$4,$G6)-IF($F6>=L$4,IF($F6>=M$4,M$4,$F6),L$4)) -> 0.010416667 | M6: =IF(IF($G6>=N$4,N$4,$G6)-IF($F6>=M$4,IF($F6>=N$4,N$4,$F6),M$4)<0,0,IF($G6>=N$4,N$4,$G6)-IF($F6>=M$4,IF($F6>=N$4,N$4,$F6),M$4)) -> 0.020833333 | N6: =IF(IF($G6>=O$4,O$4,$G6)-IF($F6>=N$4,IF($F6>=O$4,O$4,$F6),N$4)<0,0,IF($G6>=O$4,O$4,$G6)-IF($F6>=N$4,IF($F6>=O$4,O$4,$F6),N$4)) -> 0.020833333 | O6: =IF(IF($G6>=P$4,P$4,$G6)-IF($F6>=O$4,IF($F6>=P$4,P$4,$F6),O$4)<0,0,IF($G6>=P$4,P$4,$G6)-IF($F6>=O$4,IF($F6>=P$4,P$4,$F6),O$4)) -> 0.020833333 | P6: =IF(IF($G6>=Q$4,Q$4,$G6)-IF($F6>=P$4,IF($F6>=Q$4,Q$4,$F6),P$4)<0,0,IF($G6>=Q$4,Q$4,$G6)-IF($F6>=P$4,IF($F6>=Q$4,Q$4,$F6),P$4)) -> 0.020833333 | Q6: =IF(IF($G6>=R$4,R$4,$G6)-IF($F6>=Q$4,IF($F6>=R$4,R$4,$F6),Q$4)<0,0,IF($G6>=R$4,R$4,$G6)-IF($F6>=Q$4,IF($F6>=R$4,R$4,$F6),Q$4)) -> 0.0048611111 | R6: =IF(IF($G6>=S$4,S$4,$G6)-IF($F6>=R$4,IF($F6>=S$4,S$4,$F6),R$4)<0,0,IF($G6>=S$4,S$4,$G6)-IF($F6>=R$4,IF($F6>=S$4,S$4,$F6),R$4)) -> 0 | S6: =IF(IF($G6>=T$4,T$4,$G6)-IF($F6>=S$4,IF($F6>=T$4,T$4,$F6),S$4)<0,0,IF($G6>=T$4,T$4,$G6)-IF($F6>=S$4,IF($F6>=T$4,T$4,$F6),S$4)) -> 0 | ... AP6: =IF(IF($G6>=AQ$4,AQ$4,$G6)-IF($F6>=AP$4,IF($F6>=AQ$4,AQ$4,$F6),AP$4)<0,0,IF($G6>=AQ$4,AQ$4,$G6)-IF($F6>=AP$4,IF($F6>=AQ$4,AQ$4,$F6),AP$4)) -> 0 | AS6: 130 | AU6: 0.34375 | AV6: 0.44236111 | AW6: 43374
A7: =VLOOKUP(Login_Logout!D:D,matrice!B:C,2,0) -> Depot 1 | B7: =VLOOKUP(D:D,matrice!B:E,4,0) -> Louis | C7: =VLOOKUP(D:D,matrice!B:D,3,0) -> andre | D7: =AS7 -> 130 | F7: =AU7-$J$4 -> 0.40833333 | G7: =AV7-$J$4 -> 0.40902778 | H7: =AW7 -> 43374 | I7: =F8-G7 -> 0.00069444444 | L7: =IF(IF($G7>=M$4,M$4,$G7)-IF($F7>=L$4,IF($F7>=M$4,M$4,$F7),L$4)<0,0,IF($G7>=M$4,M$4,$G7)-IF($F7>=L$4,IF($F7>=M$4,M$4,$F7),L$4)) -> 0 | M7: =IF(IF($G7>=N$4,N$4,$G7)-IF($F7>=M$4,IF($F7>=N$4,N$4,$F7),M$4)<0,0,IF($G7>=N$4,N$4,$G7)-IF($F7>=M$4,IF($F7>=N$4,N$4,$F7),M$4)) -> 0 | N7: =IF(IF($G7>=O$4,O$4,$G7)-IF($F7>=N$4,IF($F7>=O$4,O$4,$F7),N$4)<0,0,IF($G7>=O$4,O$4,$G7)-IF($F7>=N$4,IF($F7>=O$4,O$4,$F7),N$4)) -> 0 | O7: =IF(IF($G7>=P$4,P$4,$G7)-IF($F7>=O$4,IF($F7>=P$4,P$4,$F7),O$4)<0,0,IF($G7>=P$4,P$4,$G7)-IF($F7>=O$4,IF($F7>=P$4,P$4,$F7),O$4)) -> 0 | P7: =IF(IF($G7>=Q$4,Q$4,$G7)-IF($F7>=P$4,IF($F7>=Q$4,Q$4,$F7),P$4)<0,0,IF($G7>=Q$4,Q$4,$G7)-IF($F7>=P$4,IF($F7>=Q$4,Q$4,$F7),P$4)) -> 0 | Q7: =IF(IF($G7>=R$4,R$4,$G7)-IF($F7>=Q$4,IF($F7>=R$4,R$4,$F7),Q$4)<0,0,IF($G7>=R$4,R$4,$G7)-IF($F7>=Q$4,IF($F7>=R$4,R$4,$F7),Q$4)) -> 0.00069444444 | R7: =IF(IF($G7>=S$4,S$4,$G7)-IF($F7>=R$4,IF($F7>=S$4,S$4,$F7),R$4)<0,0,IF($G7>=S$4,S$4,$G7)-IF($F7>=R$4,IF($F7>=S$4,S$4,$F7),R$4)) -> 0 | S7: =IF(IF($G7>=T$4,T$4,$G7)-IF($F7>=S$4,IF($F7>=T$4,T$4,$F7),S$4)<0,0,IF($G7>=T$4,T$4,$G7)-IF($F7>=S$4,IF($F7>=T$4,T$4,$F7),S$4)) -> 0 | ... AP7: =IF(IF($G7>=AQ$4,AQ$4,$G7)-IF($F7>=AP$4,IF($F7>=AQ$4,AQ$4,$F7),AP$4)<0,0,IF($G7>=AQ$4,AQ$4,$G7)-IF($F7>=AP$4,IF($F7>=AQ$4,AQ$4,$F7),AP$4)) -> 0 | AS7: 130 | AU7: 0.45 | AV7: 0.45069444 | AW7: 43374
A8: =VLOOKUP(Login_Logout!D:D,matrice!B:C,2,0) -> Depot 1 | B8: =VLOOKUP(D:D,matrice!B:E,4,0) -> Louis | C8: =VLOOKUP(D:D,matrice!B:D,3,0) -> andre | D8: =AS8 -> 130 | F8: =AU8-$J$4 -> 0.40972222 | G8: =AV8-$J$4 -> 0.45833333 | H8: =AW8 -> 43374 | I8: =F9-G8 -> 0.043055556 | L8: =IF(IF($G8>=M$4,M$4,$G8)-IF($F8>=L$4,IF($F8>=M$4,M$4,$F8),L$4)<0,0,IF($G8>=M$4,M$4,$G8)-IF($F8>=L$4,IF($F8>=M$4,M$4,$F8),L$4)) -> 0 | M8: =IF(IF($G8>=N$4,N$4,$G8)-IF($F8>=M$4,IF($F8>=N$4,N$4,$F8),M$4)<0,0,IF($G8>=N$4,N$4,$G8)-IF($F8>=M$4,IF($F8>=N$4,N$4,$F8),M$4)) -> 0 | N8: =IF(IF($G8>=O$4,O$4,$G8)-IF($F8>=N$4,IF($F8>=O$4,O$4,$F8),N$4)<0,0,IF($G8>=O$4,O$4,$G8)-IF($F8>=N$4,IF($F8>=O$4,O$4,$F8),N$4)) -> 0 | O8: =IF(IF($G8>=P$4,P$4,$G8)-IF($F8>=O$4,IF($F8>=P$4,P$4,$F8),O$4)<0,0,IF($G8>=P$4,P$4,$G8)-IF($F8>=O$4,IF($F8>=P$4,P$4,$F8),O$4)) -> 0 | P8: =IF(IF($G8>=Q$4,Q$4,$G8)-IF($F8>=P$4,IF($F8>=Q$4,Q$4,$F8),P$4)<0,0,IF($G8>=Q$4,Q$4,$G8)-IF($F8>=P$4,IF($F8>=Q$4,Q$4,$F8),P$4)) -> 0 | Q8: =IF(IF($G8>=R$4,R$4,$G8)-IF($F8>=Q$4,IF($F8>=R$4,R$4,$F8),Q$4)<0,0,IF($G8>=R$4,R$4,$G8)-IF($F8>=Q$4,IF($F8>=R$4,R$4,$F8),Q$4)) -> 0.0069444444 | R8: =IF(IF($G8>=S$4,S$4,$G8)-IF($F8>=R$4,IF($F8>=S$4,S$4,$F8),R$4)<0,0,IF($G8>=S$4,S$4,$G8)-IF($F8>=R$4,IF($F8>=S$4,S$4,$F8),R$4)) -> 0.020833333 | S8: =IF(IF($G8>=T$4,T$4,$G8)-IF($F8>=S$4,IF($F8>=T$4,T$4,$F8),S$4)<0,0,IF($G8>=T$4,T$4,$G8)-IF($F8>=S$4,IF($F8>=T$4,T$4,$F8),S$4)) -> 0.020833333 | ... AP8: =IF(IF($G8>=AQ$4,AQ$4,$G8)-IF($F8>=AP$4,IF($F8>=AQ$4,AQ$4,$F8),AP$4)<0,0,IF($G8>=AQ$4,AQ$4,$G8)-IF($F8>=AP$4,IF($F8>=AQ$4,AQ$4,$F8),AP$4)) -> 0 | AS8: 130 | AU8: 0.45138889 | AV8: 0.5 | AW8: 43374
A9: =VLOOKUP(Login_Logout!D:D,matrice!B:C,2,0) -> Depot 1 | B9: =VLOOKUP(D:D,matrice!B:E,4,0) -> Louis | C9: =VLOOKUP(D:D,matrice!B:D,3,0) -> andre | D9: =AS9 -> 130 | F9: =AU9-$J$4 -> 0.50138889 | G9: =AV9-$J$4 -> 0.50208333 | H9: =AW9 -> 43374 | I9: =F10-G9 -> 0 | L9: =IF(IF($G9>=M$4,M$4,$G9)-IF($F9>=L$4,IF($F9>=M$4,M$4,$F9),L$4)<0,0,IF($G9>=M$4,M$4,$G9)-IF($F9>=L$4,IF($F9>=M$4,M$4,$F9),L$4)) -> 0 | M9: =IF(IF($G9>=N$4,N$4,$G9)-IF($F9>=M$4,IF($F9>=N$4,N$4,$F9),M$4)<0,0,IF($G9>=N$4,N$4,$G9)-IF($F9>=M$4,IF($F9>=N$4,N$4,$F9),M$4)) -> 0 | N9: =IF(IF($G9>=O$4,O$4,$G9)-IF($F9>=N$4,IF($F9>=O$4,O$4,$F9),N$4)<0,0,IF($G9>=O$4,O$4,$G9)-IF($F9>=N$4,IF($F9>=O$4,O$4,$F9),N$4)) -> 0 | O9: =IF(IF($G9>=P$4,P$4,$G9)-IF($F9>=O$4,IF($F9>=P$4,P$4,$F9),O$4)<0,0,IF($G9>=P$4,P$4,$G9)-IF($F9>=O$4,IF($F9>=P$4,P$4,$F9),O$4)) -> 0 | P9: =IF(IF($G9>=Q$4,Q$4,$G9)-IF($F9>=P$4,IF($F9>=Q$4,Q$4,$F9),P$4)<0,0,IF($G9>=Q$4,Q$4,$G9)-IF($F9>=P$4,IF($F9>=Q$4,Q$4,$F9),P$4)) -> 0 | Q9: =IF(IF($G9>=R$4,R$4,$G9)-IF($F9>=Q$4,IF($F9>=R$4,R$4,$F9),Q$4)<0,0,IF($G9>=R$4,R$4,$G9)-IF($F9>=Q$4,IF($F9>=R$4,R$4,$F9),Q$4)) -> 0 | R9: =IF(IF($G9>=S$4,S$4,$G9)-IF($F9>=R$4,IF($F9>=S$4,S$4,$F9),R$4)<0,0,IF($G9>=S$4,S$4,$G9)-IF($F9>=R$4,IF($F9>=S$4,S$4,$F9),R$4)) -> 0 | S9: =IF(IF($G9>=T$4,T$4,$G9)-IF($F9>=S$4,IF($F9>=T$4,T$4,$F9),S$4)<0,0,IF($G9>=T$4,T$4,$G9)-IF($F9>=S$4,IF($F9>=T$4,T$4,$F9),S$4)) -> 0 | ... AP9: =IF(IF($G9>=AQ$4,AQ$4,$G9)-IF($F9>=AP$4,IF($F9>=AQ$4,AQ$4,$F9),AP$4)<0,0,IF($G9>=AQ$4,AQ$4,$G9)-IF($F9>=AP$4,IF($F9>=AQ$4,AQ$4,$F9),AP$4)) -> 0 | AS9: 130 | AU9: 0.54305556 | AV9: 0.54375 | AW9: 43374
A10: =VLOOKUP(Login_Logout!D:D,matrice!B:C,2,0) -> Depot 1 | B10: =VLOOKUP(D:D,matrice!B:E,4,0) -> Louis | C10: =VLOOKUP(D:D,matrice!B:D,3,0) -> andre | D10: =AS10 -> 130 | F10: =AU10-$J$4 -> 0.50208333 | G10: =AV10-$J$4 -> 0.66666667 | H10: =AW10 -> 43374 | I10: =F11-G10 -> -0.37638889 | L10: =IF(IF($G10>=M$4,M$4,$G10)-IF($F10>=L$4,IF($F10>=M$4,M$4,$F10),L$4)<0,0,IF($G10>=M$4,M$4,$G10)-IF($F10>=L$4,IF($F10>=M$4,M$4,$F10),L$4)) -> 0 | M10: =IF(IF($G10>=N$4,N$4,$G10)-IF($F10>=M$4,IF($F10>=N$4,N$4,$F10),M$4)<0,0,IF($G10>=N$4,N$4,$G10)-IF($F10>=M$4,IF($F10>=N$4,N$4,$F10),M$4)) -> 0 | N10: =IF(IF($G10>=O$4,O$4,$G10)-IF($F10>=N$4,IF($F10>=O$4,O$4,$F10),N$4)<0,0,IF($G10>=O$4,O$4,$G10)-IF($F10>=N$4,IF($F10>=O$4,O$4,$F10),N$4)) -> 0 | O10: =IF(IF($G10>=P$4,P$4,$G10)-IF($F10>=O$4,IF($F10>=P$4,P$4,$F10),O$4)<0,0,IF($G10>=P$4,P$4,$G10)-IF($F10>=O$4,IF($F10>=P$4,P$4,$F10),O$4)) -> 0 | P10: =IF(IF($G10>=Q$4,Q$4,$G10)-IF($F10>=P$4,IF($F10>=Q$4,Q$4,$F10),P$4)<0,0,IF($G10>=Q$4,Q$4,$G10)-IF($F10>=P$4,IF($F10>=Q$4,Q$4,$F10),P$4)) -> 0 | Q10: =IF(IF($G10>=R$4,R$4,$G10)-IF($F10>=Q$4,IF($F10>=R$4,R$4,$F10),Q$4)<0,0,IF($G10>=R$4,R$4,$G10)-IF($F10>=Q$4,IF($F10>=R$4,R$4,$F10),Q$4)) -> 0 | R10: =IF(IF($G10>=S$4,S$4,$G10)-IF($F10>=R$4,IF($F10>=S$4,S$4,$F10),R$4)<0,0,IF($G10>=S$4,S$4,$G10)-IF($F10>=R$4,IF($F10>=S$4,S$4,$F10),R$4)) -> 0 | S10: =IF(IF($G10>=T$4,T$4,$G10)-IF($F10>=S$4,IF($F10>=T$4,T$4,$F10),S$4)<0,0,IF($G10>=T$4,T$4,$G10)-IF($F10>=S$4,IF($F10>=T$4,T$4,$F10),S$4)) -> 0 | ... AP10: =IF(IF($G10>=AQ$4,AQ$4,$G10)-IF($F10>=AP$4,IF($F10>=AQ$4,AQ$4,$F10),AP$4)<0,0,IF($G10>=AQ$4,AQ$4,$G10)-IF($F10>=AP$4,IF($F10>=AQ$4,AQ$4,$F10),AP$4)) -> 0 | AS10: 130 | AU10: 0.54375 | AV10: 0.70833333 | AW10: 43374
A11: =VLOOKUP(Login_Logout!D:D,matrice!B:C,2,0) -> Depot 1 | B11: =VLOOKUP(D:D,matrice!B:E,4,0) -> Louis | C11: =VLOOKUP(D:D,matrice!B:D,3,0) -> andre | D11: =AS11 -> 130 | F11: =AU11-$J$4 -> 0.29027778 | G11: =AV11-$J$4 -> 0.29097222 | H11: =AW11 -> 43375 | I11: =F12-G11 -> 0 | L11: =IF(IF($G11>=M$4,M$4,$G11)-IF($F11>=L$4,IF($F11>=M$4,M$4,$F11),L$4)<0,0,IF($G11>=M$4,M$4,$G11)-IF($F11>=L$4,IF($F11>=M$4,M$4,$F11),L$4)) -> 0 | M11: =IF(IF($G11>=N$4,N$4,$G11)-IF($F11>=M$4,IF($F11>=N$4,N$4,$F11),M$4)<0,0,IF($G11>=N$4,N$4,$G11)-IF($F11>=M$4,IF($F11>=N$4,N$4,$F11),M$4)) -> 0 | N11: =IF(IF($G11>=O$4,O$4,$G11)-IF($F11>=N$4,IF($F11>=O$4,O$4,$F11),N$4)<0,0,IF($G11>=O$4,O$4,$G11)-IF($F11>=N$4,IF($F11>=O$4,O$4,$F11),N$4)) -> 0 | O11: =IF(IF($G11>=P$4,P$4,$G11)-IF($F11>=O$4,IF($F11>=P$4,P$4,$F11),O$4)<0,0,IF($G11>=P$4,P$4,$G11)-IF($F11>=O$4,IF($F11>=P$4,P$4,$F11),O$4)) -> 0 | P11: =IF(IF($G11>=Q$4,Q$4,$G11)-IF($F11>=P$4,IF($F11>=Q$4,Q$4,$F11),P$4)<0,0,IF($G11>=Q$4,Q$4,$G11)-IF($F11>=P$4,IF($F11>=Q$4,Q$4,$F11),P$4)) -> 0 | Q11: =IF(IF($G11>=R$4,R$4,$G11)-IF($F11>=Q$4,IF($F11>=R$4,R$4,$F11),Q$4)<0,0,IF($G11>=R$4,R$4,$G11)-IF($F11>=Q$4,IF($F11>=R$4,R$4,$F11),Q$4)) -> 0 | R11: =IF(IF($G11>=S$4,S$4,$G11)-IF($F11>=R$4,IF($F11>=S$4,S$4,$F11),R$4)<0,0,IF($G11>=S$4,S$4,$G11)-IF($F11>=R$4,IF($F11>=S$4,S$4,$F11),R$4)) -> 0 | S11: =IF(IF($G11>=T$4,T$4,$G11)-IF($F11>=S$4,IF($F11>=T$4,T$4,$F11),S$4)<0,0,IF($G11>=T$4,T$4,$G11)-IF($F11>=S$4,IF($F11>=T$4,T$4,$F11),S$4)) -> 0 | ... AP11: =IF(IF($G11>=AQ$4,AQ$4,$G11)-IF($F11>=AP$4,IF($F11>=AQ$4,AQ$4,$F11),AP$4)<0,0,IF($G11>=AQ$4,AQ$4,$G11)-IF($F11>=AP$4,IF($F11>=AQ$4,AQ$4,$F11),AP$4)) -> 0 | AS11: 130 | AU11: 0.33194444 | AV11: 0.33263889 | AW11: 43375
A12: =VLOOKUP(Login_Logout!D:D,matrice!B:C,2,0) -> Depot 1 | B12: =VLOOKUP(D:D,matrice!B:E,4,0) -> Louis | C12: =VLOOKUP(D:D,matrice!B:D,3,0) -> andre | D12: =AS12 -> 130 | F12: =AU12-$J$4 -> 0.29097222 | G12: =AV12-$J$4 -> 0.46180556 | H12: =AW12 -> 43375 | I12: =F13-G12 -> 0.039583333 | L12: =IF(IF($G12>=M$4,M$4,$G12)-IF($F12>=L$4,IF($F12>=M$4,M$4,$F12),L$4)<0,0,IF($G12>=M$4,M$4,$G12)-IF($F12>=L$4,IF($F12>=M$4,M$4,$F12),L$4)) -> 0.020833333 | M12: =IF(IF($G12>=N$4,N$4,$G12)-IF($F12>=M$4,IF($F12>=N$4,N$4,$F12),M$4)<0,0,IF($G12>=N$4,N$4,$G12)-IF($F12>=M$4,IF($F12>=N$4,N$4,$F12),M$4)) -> 0.020833333 | N12: =IF(IF($G12>=O$4,O$4,$G12)-IF($F12>=N$4,IF($F12>=O$4,O$4,$F12),N$4)<0,0,IF($G12>=O$4,O$4,$G12)-IF($F12>=N$4,IF($F12>=O$4,O$4,$F12),N$4)) -> 0.020833333 | O12: =IF(IF($G12>=P$4,P$4,$G12)-IF($F12>=O$4,IF($F12>=P$4,P$4,$F12),O$4)<0,0,IF($G12>=P$4,P$4,$G12)-IF($F12>=O$4,IF($F12>=P$4,P$4,$F12),O$4)) -> 0.020833333 | P12: =IF(IF($G12>=Q$4,Q$4,$G12)-IF($F12>=P$4,IF($F12>=Q$4,Q$4,$F12),P$4)<0,0,IF($G12>=Q$4,Q$4,$G12)-IF($F12>=P$4,IF($F12>=Q$4,Q$4,$F12),P$4)) -> 0.020833333 | Q12: =IF(IF($G12>=R$4,R$4,$G12)-IF($F12>=Q$4,IF($F12>=R$4,R$4,$F12),Q$4)<0,0,IF($G12>=R$4,R$4,$G12)-IF($F12>=Q$4,IF($F12>=R$4,R$4,$F12),Q$4)) -> 0.020833333 | R12: =IF(IF($G12>=S$4,S$4,$G12)-IF($F12>=R$4,IF($F12>=S$4,S$4,$F12),R$4)<0,0,IF($G12>=S$4,S$4,$G12)-IF($F12>=R$4,IF($F12>=S$4,S$4,$F12),R$4)) -> 0.020833333 | S12: =IF(IF($G12>=T$4,T$4,$G12)-IF($F12>=S$4,IF($F12>=T$4,T$4,$F12),S$4)<0,0,IF($G12>=T$4,T$4,$G12)-IF($F12>=S$4,IF($F12>=T$4,T$4,$F12),S$4)) -> 0.020833333 | ... AP12: =IF(IF($G12>=AQ$4,AQ$4,$G12)-IF($F12>=AP$4,IF($F12>=AQ$4,AQ$4,$F12),AP$4)<0,0,IF($G12>=AQ$4,AQ$4,$G12)-IF($F12>=AP$4,IF($F12>=AQ$4,AQ$4,$F12),AP$4)) -> 0 | AS12: 130 | AU12: 0.33263889 | AV12: 0.50347222 | AW12: 43375
A13: =VLOOKUP(Login_Logout!D:D,matrice!B:C,2,0) -> Depot 1 | B13: Louis | C13: =VLOOKUP(D:D,matrice!B:D,3,0) -> andre | D13: =AS13 -> 130 | F13: =AU13-$J$4 -> 0.50138889 | G13: =AV13-$J$4 -> 0.50208333 | H13: =AW13 -> 43375 | I13: =F14-G13 -> 0 | L13: =IF(IF($G13>=M$4,M$4,$G13)-IF($F13>=L$4,IF($F13>=M$4,M$4,$F13),L$4)<0,0,IF($G13>=M$4,M$4,$G13)-IF($F13>=L$4,IF($F13>=M$4,M$4,$F13),L$4)) -> 0 | M13: =IF(IF($G13>=N$4,N$4,$G13)-IF($F13>=M$4,IF($F13>=N$4,N$4,$F13),M$4)<0,0,IF($G13>=N$4,N$4,$G13)-IF($F13>=M$4,IF($F13>=N$4,N$4,$F13),M$4)) -> 0 | N13: =IF(IF($G13>=O$4,O$4,$G13)-IF($F13>=N$4,IF($F13>=O$4,O$4,$F13),N$4)<0,0,IF($G13>=O$4,O$4,$G13)-IF($F13>=N$4,IF($F13>=O$4,O$4,$F13),N$4)) -> 0 | O13: =IF(IF($G13>=P$4,P$4,$G13)-IF($F13>=O$4,IF($F13>=P$4,P$4,$F13),O$4)<0,0,IF($G13>=P$4,P$4,$G13)-IF($F13>=O$4,IF($F13>=P$4,P$4,$F13),O$4)) -> 0 | P13: =IF(IF($G13>=Q$4,Q$4,$G13)-IF($F13>=P$4,IF($F13>=Q$4,Q$4,$F13),P$4)<0,0,IF($G13>=Q$4,Q$4,$G13)-IF($F13>=P$4,IF($F13>=Q$4,Q$4,$F13),P$4)) -> 0 | Q13: =IF(IF($G13>=R$4,R$4,$G13)-IF($F13>=Q$4,IF($F13>=R$4,R$4,$F13),Q$4)<0,0,IF($G13>=R$4,R$4,$G13)-IF($F13>=Q$4,IF($F13>=R$4,R$4,$F13),Q$4)) -> 0 | R13: =IF(IF($G13>=S$4,S$4,$G13)-IF($F13>=R$4,IF($F13>=S$4,S$4,$F13),R$4)<0,0,IF($G13>=S$4,S$4,$G13)-IF($F13>=R$4,IF($F13>=S$4,S$4,$F13),R$4)) -> 0 | S13: =IF(IF($G13>=T$4,T$4,$G13)-IF($F13>=S$4,IF($F13>=T$4,T$4,$F13),S$4)<0,0,IF($G13>=T$4,T$4,$G13)-IF($F13>=S$4,IF($F13>=T$4,T$4,$F13),S$4)) -> 0 | ... AP13: =IF(IF($G13>=AQ$4,AQ$4,$G13)-IF($F13>=AP$4,IF($F13>=AQ$4,AQ$4,$F13),AP$4)<0,0,IF($G13>=AQ$4,AQ$4,$G13)-IF($F13>=AP$4,IF($F13>=AQ$4,AQ$4,$F13),AP$4)) -> 0 | AS13: 130 | AU13: 0.54305556 | AV13: 0.54375 | AW13: 43375
A14: =VLOOKUP(Login_Logout!D:D,matrice!B:C,2,0) -> Depot 1 | B14: =VLOOKUP(D:D,matrice!B:E,4,0) -> Louis | C14: =VLOOKUP(D:D,matrice!B:D,3,0) -> andre | D14: =AS14 -> 130 | F14: =AU14-$J$4 -> 0.50208333 | G14: =AV14-$J$4 -> 0.66666667 | H14: =AW14 -> 43375 | I14: =F15-G14 -> 0.040972222 | L14: =IF(IF($G14>=M$4,M$4,$G14)-IF($F14>=L$4,IF($F14>=M$4,M$4,$F14),L$4)<0,0,IF($G14>=M$4,M$4,$G14)-IF($F14>=L$4,IF($F14>=M$4,M$4,$F14),L$4)) -> 0 | M14: =IF(IF($G14>=N$4,N$4,$G14)-IF($F14>=M$4,IF($F14>=N$4,N$4,$F14),M$4)<0,0,IF($G14>=N$4,N$4,$G14)-IF($F14>=M$4,IF($F14>=N$4,N$4,$F14),M$4)) -> 0 | N14: =IF(IF($G14>=O$4,O$4,$G14)-IF($F14>=N$4,IF($F14>=O$4,O$4,$F14),N$4)<0,0,IF($G14>=O$4,O$4,$G14)-IF($F14>=N$4,IF($F14>=O$4,O$4,$F14),N$4)) -> 0 | O14: =IF(IF($G14>=P$4,P$4,$G14)-IF($F14>=O$4,IF($F14>=P$4,P$4,$F14),O$4)<0,0,IF($G14>=P$4,P$4,$G14)-IF($F14>=O$4,IF($F14>=P$4,P$4,$F14),O$4)) -> 0 | P14: =IF(IF($G14>=Q$4,Q$4,$G14)-IF($F14>=P$4,IF($F14>=Q$4,Q$4,$F14),P$4)<0,0,IF($G14>=Q$4,Q$4,$G14)-IF($F14>=P$4,IF($F14>=Q$4,Q$4,$F14),P$4)) -> 0 | Q14: =IF(IF($G14>=R$4,R$4,$G14)-IF($F14>=Q$4,IF($F14>=R$4,R$4,$F14),Q$4)<0,0,IF($G14>=R$4,R$4,$G14)-IF($F14>=Q$4,IF($F14>=R$4,R$4,$F14),Q$4)) -> 0 | R14: =IF(IF($G14>=S$4,S$4,$G14)-IF($F14>=R$4,IF($F14>=S$4,S$4,$F14),R$4)<0,0,IF($G14>=S$4,S$4,$G14)-IF($F14>=R$4,IF($F14>=S$4,S$4,$F14),R$4)) -> 0 | S14: =IF(IF($G14>=T$4,T$4,$G14)-IF($F14>=S$4,IF($F14>=T$4,T$4,$F14),S$4)<0,0,IF($G14>=T$4,T$4,$G14)-IF($F14>=S$4,IF($F14>=T$4,T$4,$F14),S$4)) -> 0 | ... AP14: =IF(IF($G14>=AQ$4,AQ$4,$G14)-IF($F14>=AP$4,IF($F14>=AQ$4,AQ$4,$F14),AP$4)<0,0,IF($G14>=AQ$4,AQ$4,$G14)-IF($F14>=AP$4,IF($F14>=AQ$4,AQ$4,$F14),AP$4)) -> 0 | AS14: 130 | AU14: 0.54375 | AV14: 0.70833333 | AW14: 43375
A15: =VLOOKUP(Login_Logout!D:D,matrice!B:C,2,0) -> Depot 1 | B15: =VLOOKUP(D:D,matrice!B:E,4,0) -> Louis | C15: =VLOOKUP(D:D,matrice!B:D,3,0) -> andre | D15: =AS15 -> 130 | F15: =AU15-$J$4 -> 0.70763889 | G15: =AV15-$J$4 -> 0.70833333 | H15: =AW15 -> 43375 | I15: =F16-G15 -> 0 | L15: =IF(IF($G15>=M$4,M$4,$G15)-IF($F15>=L$4,IF($F15>=M$4,M$4,$F15),L$4)<0,0,IF($G15>=M$4,M$4,$G15)-IF($F15>=L$4,IF($F15>=M$4,M$4,$F15),L$4)) -> 0 | M15: =IF(IF($G15>=N$4,N$4,$G15)-IF($F15>=M$4,IF($F15>=N$4,N$4,$F15),M$4)<0,0,IF($G15>=N$4,N$4,$G15)-IF($F15>=M$4,IF($F15>=N$4,N$4,$F15),M$4)) -> 0 | N15: =IF(IF($G15>=O$4,O$4,$G15)-IF($F15>=N$4,IF($F15>=O$4,O$4,$F15),N$4)<0,0,IF($G15>=O$4,O$4,$G15)-IF($F15>=N$4,IF($F15>=O$4,O$4,$F15),N$4)) -> 0 | O15: =IF(IF($G15>=P$4,P$4,$G15)-IF($F15>=O$4,IF($F15>=P$4,P$4,$F15),O$4)<0,0,IF($G15>=P$4,P$4,$G15)-IF($F15>=O$4,IF($F15>=P$4,P$4,$F15),O$4)) -> 0 | P15: =IF(IF($G15>=Q$4,Q$4,$G15)-IF($F15>=P$4,IF($F15>=Q$4,Q$4,$F15),P$4)<0,0,IF($G15>=Q$4,Q$4,$G15)-IF($F15>=P$4,IF($F15>=Q$4,Q$4,$F15),P$4)) -> 0 | Q15: =IF(IF($G15>=R$4,R$4,$G15)-IF($F15>=Q$4,IF($F15>=R$4,R$4,$F15),Q$4)<0,0,IF($G15>=R$4,R$4,$G15)-IF($F15>=Q$4,IF($F15>=R$4,R$4,$F15),Q$4)) -> 0 | R15: =IF(IF($G15>=S$4,S$4,$G15)-IF($F15>=R$4,IF($F15>=S$4,S$4,$F15),R$4)<0,0,IF($G15>=S$4,S$4,$G15)-IF($F15>=R$4,IF($F15>=S$4,S$4,$F15),R$4)) -> 0 | S15: =IF(IF($G15>=T$4,T$4,$G15)-IF($F15>=S$4,IF($F15>=T$4,T$4,$F15),S$4)<0,0,IF($G15>=T$4,T$4,$G15)-IF($F15>=S$4,IF($F15>=T$4,T$4,$F15),S$4)) -> 0 | ... AP15: =IF(IF($G15>=AQ$4,AQ$4,$G15)-IF($F15>=AP$4,IF($F15>=AQ$4,AQ$4,$F15),AP$4)<0,0,IF($G15>=AQ$4,AQ$4,$G15)-IF($F15>=AP$4,IF($F15>=AQ$4,AQ$4,$F15),AP$4)) -> 0 | AS15: 130 | AU15: 0.74930556 | AV15: 0.75 | AW15: 43375
A16: =VLOOKUP(Login_Logout!D:D,matrice!B:C,2,0) -> Depot 1 | B16: =VLOOKUP(D:D,matrice!B:E,4,0) -> Louis | C16: =VLOOKUP(D:D,matrice!B:D,3,0) -> andre | D16: =AS16 -> 130 | F16: =AU16-$J$4 -> 0.70833333 | G16: =AV16-$J$4 -> 0.79166667 | H16: =AW16 -> 43375 | I16: =F17-G16 -> -0.50069444 | L16: =IF(IF($G16>=M$4,M$4,$G16)-IF($F16>=L$4,IF($F16>=M$4,M$4,$F16),L$4)<0,0,IF($G16>=M$4,M$4,$G16)-IF($F16>=L$4,IF($F16>=M$4,M$4,$F16),L$4)) -> 0 | M16: =IF(IF($G16>=N$4,N$4,$G16)-IF($F16>=M$4,IF($F16>=N$4,N$4,$F16),M$4)<0,0,IF($G16>=N$4,N$4,$G16)-IF($F16>=M$4,IF($F16>=N$4,N$4,$F16),M$4)) -> 0 | N16: =IF(IF($G16>=O$4,O$4,$G16)-IF($F16>=N$4,IF($F16>=O$4,O$4,$F16),N$4)<0,0,IF($G16>=O$4,O$4,$G16)-IF($F16>=N$4,IF($F16>=O$4,O$4,$F16),N$4)) -> 0 | O16: =IF(IF($G16>=P$4,P$4,$G16)-IF($F16>=O$4,IF($F16>=P$4,P$4,$F16),O$4)<0,0,IF($G16>=P$4,P$4,$G16)-IF($F16>=O$4,IF($F16>=P$4,P$4,$F16),O$4)) -> 0 | P16: =IF(IF($G16>=Q$4,Q$4,$G16)-IF($F16>=P$4,IF($F16>=Q$4,Q$4,$F16),P$4)<0,0,IF($G16>=Q$4,Q$4,$G16)-IF($F16>=P$4,IF($F16>=Q$4,Q$4,$F16),P$4)) -> 0 | Q16: =IF(IF($G16>=R$4,R$4,$G16)-IF($F16>=Q$4,IF($F16>=R$4,R$4,$F16),Q$4)<0,0,IF($G16>=R$4,R$4,$G16)-IF($F16>=Q$4,IF($F16>=R$4,R$4,$F16),Q$4)) -> 0 | R16: =IF(IF($G16>=S$4,S$4,$G16)-IF($F16>=R$4,IF($F16>=S$4,S$4,$F16),R$4)<0,0,IF($G16>=S$4,S$4,$G16)-IF($F16>=R$4,IF($F16>=S$4,S$4,$F16),R$4)) -> 0 | S16: =IF(IF($G16>=T$4,T$4,$G16)-IF($F16>=S$4,IF($F16>=T$4,T$4,$F16),S$4)<0,0,IF($G16>=T$4,T$4,$G16)-IF($F16>=S$4,IF($F16>=T$4,T$4,$F16),S$4)) -> 0 | ... AP16: =IF(IF($G16>=AQ$4,AQ$4,$G16)-IF($F16>=AP$4,IF($F16>=AQ$4,AQ$4,$F16),AP$4)<0,0,IF($G16>=AQ$4,AQ$4,$G16)-IF($F16>=AP$4,IF($F16>=AQ$4,AQ$4,$F16),AP$4)) -> 0 | AS16: 130 | AU16: 0.75 | AV16: 0.83333333 | AW16: 43375
A17: =VLOOKUP(Login_Logout!D:D,matrice!B:C,2,0) -> Depot 1 | B17: =VLOOKUP(D:D,matrice!B:E,4,0) -> Louis | C17: =VLOOKUP(D:D,matrice!B:D,3,0) -> andre | D17: =AS17 -> 130 | F17: =AU17-$J$4 -> 0.29097222 | G17: =AV17-$J$4 -> 0.29166667 | H17: =AW17 -> 43376 | I17: =F18-G17 -> 0 | L17: =IF(IF($G17>=M$4,M$4,$G17)-IF($F17>=L$4,IF($F17>=M$4,M$4,$F17),L$4)<0,0,IF($G17>=M$4,M$4,$G17)-IF($F17>=L$4,IF($F17>=M$4,M$4,$F17),L$4)) -> 0 | M17: =IF(IF($G17>=N$4,N$4,$G17)-IF($F17>=M$4,IF($F17>=N$4,N$4,$F17),M$4)<0,0,IF($G17>=N$4,N$4,$G17)-IF($F17>=M$4,IF($F17>=N$4,N$4,$F17),M$4)) -> 0 | N17: =IF(IF($G17>=O$4,O$4,$G17)-IF($F17>=N$4,IF($F17>=O$4,O$4,$F17),N$4)<0,0,IF($G17>=O$4,O$4,$G17)-IF($F17>=N$4,IF($F17>=O$4,O$4,$F17),N$4)) -> 0 | O17: =IF(IF($G17>=P$4,P$4,$G17)-IF($F17>=O$4,IF($F17>=P$4,P$4,$F17),O$4)<0,0,IF($G17>=P$4,P$4,$G17)-IF($F17>=O$4,IF($F17>=P$4,P$4,$F17),O$4)) -> 0 | P17: =IF(IF($G17>=Q$4,Q$4,$G17)-IF($F17>=P$4,IF($F17>=Q$4,Q$4,$F17),P$4)<0,0,IF($G17>=Q$4,Q$4,$G17)-IF($F17>=P$4,IF($F17>=Q$4,Q$4,$F17),P$4)) -> 0 | Q17: =IF(IF($G17>=R$4,R$4,$G17)-IF($F17>=Q$4,IF($F17>=R$4,R$4,$F17),Q$4)<0,0,IF($G17>=R$4,R$4,$G17)-IF($F17>=Q$4,IF($F17>=R$4,R$4,$F17),Q$4)) -> 0 | R17: =IF(IF($G17>=S$4,S$4,$G17)-IF($F17>=R$4,IF($F17>=S$4,S$4,$F17),R$4)<0,0,IF($G17>=S$4,S$4,$G17)-IF($F17>=R$4,IF($F17>=S$4,S$4,$F17),R$4)) -> 0 | S17: =IF(IF($G17>=T$4,T$4,$G17)-IF($F17>=S$4,IF($F17>=T$4,T$4,$F17),S$4)<0,0,IF($G17>=T$4,T$4,$G17)-IF($F17>=S$4,IF($F17>=T$4,T$4,$F17),S$4)) -> 0 | ... AP17: =IF(IF($G17>=AQ$4,AQ$4,$G17)-IF($F17>=AP$4,IF($F17>=AQ$4,AQ$4,$F17),AP$4)<0,0,IF($G17>=AQ$4,AQ$4,$G17)-IF($F17>=AP$4,IF($F17>=AQ$4,AQ$4,$F17),AP$4)) -> 0 | AS17: 130 | AU17: 0.33263889 | AV17: 0.33333333 | AW17: 43376
A18: =VLOOKUP(Login_Logout!D:D,matrice!B:C,2,0) -> Depot 1 | B18: =VLOOKUP(D:D,matrice!B:E,4,0) -> Louis | C18: =VLOOKUP(D:D,matrice!B:D,3,0) -> andre | D18: =AS18 -> 130 | F18: =AU18-$J$4 -> 0.29166667 | G18: =AV18-$J$4 -> 0.48958333 | H18: =AW18 -> 43376 | I18: =F19-G18 -> 0.042361111 | L18: =IF(IF($G18>=M$4,M$4,$G18)-IF($F18>=L$4,IF($F18>=M$4,M$4,$F18),L$4)<0,0,IF($G18>=M$4,M$4,$G18)-IF($F18>=L$4,IF($F18>=M$4,M$4,$F18),L$4)) -> 0.020833333 | M18: =IF(IF($G18>=N$4,N$4,$G18)-IF($F18>=M$4,IF($F18>=N$4,N$4,$F18),M$4)<0,0,IF($G18>=N$4,N$4,$G18)-IF($F18>=M$4,IF($F18>=N$4,N$4,$F18),M$4)) -> 0.020833333 | N18: =IF(IF($G18>=O$4,O$4,$G18)-IF($F18>=N$4,IF($F18>=O$4,O$4,$F18),N$4)<0,0,IF($G18>=O$4,O$4,$G18)-IF($F18>=N$4,IF($F18>=O$4,O$4,$F18),N$4)) -> 0.020833333 | O18: =IF(IF($G18>=P$4,P$4,$G18)-IF($F18>=O$4,IF($F18>=P$4,P$4,$F18),O$4)<0,0,IF($G18>=P$4,P$4,$G18)-IF($F18>=O$4,IF($F18>=P$4,P$4,$F18),O$4)) -> 0.020833333 | P18: =IF(IF($G18>=Q$4,Q$4,$G18)-IF($F18>=P$4,IF($F18>=Q$4,Q$4,$F18),P$4)<0,0,IF($G18>=Q$4,Q$4,$G18)-IF($F18>=P$4,IF($F18>=Q$4,Q$4,$F18),P$4)) -> 0.020833333 | Q18: =IF(IF($G18>=R$4,R$4,$G18)-IF($F18>=Q$4,IF($F18>=R$4,R$4,$F18),Q$4)<0,0,IF($G18>=R$4,R$4,$G18)-IF($F18>=Q$4,IF($F18>=R$4,R$4,$F18),Q$4)) -> 0.020833333 | R18: =IF(IF($G18>=S$4,S$4,$G18)-IF($F18>=R$4,IF($F18>=S$4,S$4,$F18),R$4)<0,0,IF($G18>=S$4,S$4,$G18)-IF($F18>=R$4,IF($F18>=S$4,S$4,$F18),R$4)) -> 0.020833333 | S18: =IF(IF($G18>=T$4,T$4,$G18)-IF($F18>=S$4,IF($F18>=T$4,T$4,$F18),S$4)<0,0,IF($G18>=T$4,T$4,$G18)-IF($F18>=S$4,IF($F18>=T$4,T$4,$F18),S$4)) -> 0.020833333 | ... AP18: =IF(IF($G18>=AQ$4,AQ$4,$G18)-IF($F18>=AP$4,IF($F18>=AQ$4,AQ$4,$F18),AP$4)<0,0,IF($G18>=AQ$4,AQ$4,$G18)-IF($F18>=AP$4,IF($F18>=AQ$4,AQ$4,$F18),AP$4)) -> 0 | AS18: 130 | AU18: 0.33333333 | AV18: 0.53125 | AW18: 43376
A19: =VLOOKUP(Login_Logout!D:D,matrice!B:C,2,0) -> Depot 1 | B19: =VLOOKUP(D:D,matrice!B:E,4,0) -> Louis | C19: =VLOOKUP(D:D,matrice!B:D,3,0) -> andre | D19: =AS19 -> 130 | F19: =AU19-$J$4 -> 0.53194444 | G19: =AV19-$J$4 -> 0.53263889 | H19: =AW19 -> 43376 | I19: =F20-G19 -> 0 | L19: =IF(IF($G19>=M$4,M$4,$G19)-IF($F19>=L$4,IF($F19>=M$4,M$4,$F19),L$4)<0,0,IF($G19>=M$4,M$4,$G19)-IF($F19>=L$4,IF($F19>=M$4,M$4,$F19),L$4)) -> 0 | M19: =IF(IF($G19>=N$4,N$4,$G19)-IF($F19>=M$4,IF($F19>=N$4,N$4,$F19),M$4)<0,0,IF($G19>=N$4,N$4,$G19)-IF($F19>=M$4,IF($F19>=N$4,N$4,$F19),M$4)) -> 0 | N19: =IF(IF($G19>=O$4,O$4,$G19)-IF($F19>=N$4,IF($F19>=O$4,O$4,$F19),N$4)<0,0,IF($G19>=O$4,O$4,$G19)-IF($F19>=N$4,IF($F19>=O$4,O$4,$F19),N$4)) -> 0 | O19: =IF(IF($G19>=P$4,P$4,$G19)-IF($F19>=O$4,IF($F19>=P$4,P$4,$F19),O$4)<0,0,IF($G19>=P$4,P$4,$G19)-IF($F19>=O$4,IF($F19>=P$4,P$4,$F19),O$4)) -> 0 | P19: =IF(IF($G19>=Q$4,Q$4,$G19)-IF($F19>=P$4,IF($F19>=Q$4,Q$4,$F19),P$4)<0,0,IF($G19>=Q$4,Q$4,$G19)-IF($F19>=P$4,IF($F19>=Q$4,Q$4,$F19),P$4)) -> 0 | Q19: =IF(IF($G19>=R$4,R$4,$G19)-IF($F19>=Q$4,IF($F19>=R$4,R$4,$F19),Q$4)<0,0,IF($G19>=R$4,R$4,$G19)-IF($F19>=Q$4,IF($F19>=R$4,R$4,$F19),Q$4)) -> 0 | R19: =IF(IF($G19>=S$4,S$4,$G19)-IF($F19>=R$4,IF($F19>=S$4,S$4,$F19),R$4)<0,0,IF($G19>=S$4,S$4,$G19)-IF($F19>=R$4,IF($F19>=S$4,S$4,$F19),R$4)) -> 0 | S19: =IF(IF($G19>=T$4,T$4,$G19)-IF($F19>=S$4,IF($F19>=T$4,T$4,$F19),S$4)<0,0,IF($G19>=T$4,T$4,$G19)-IF($F19>=S$4,IF($F19>=T$4,T$4,$F19),S$4)) -> 0 | ... AP19: =IF(IF($G19>=AQ$4,AQ$4,$G19)-IF($F19>=AP$4,IF($F19>=AQ$4,AQ$4,$F19),AP$4)<0,0,IF($G19>=AQ$4,AQ$4,$G19)-IF($F19>=AP$4,IF($F19>=AQ$4,AQ$4,$F19),AP$4)) -> 0 | AS19: 130 | AU19: 0.57361111 | AV19: 0.57430556 | AW19: 43376
A20: =VLOOKUP(Login_Logout!D:D,matrice!B:C,2,0) -> Depot 1 | B20: =VLOOKUP(D:D,matrice!B:E,4,0) -> Louis | C20: =VLOOKUP(D:D,matrice!B:D,3,0) -> andre | D20: =AS20 -> 130 | F20: =AU20-$J$4 -> 0.53263889 | G20: =AV20-$J$4 -> 0.66736111 | H20: =AW20 -> 43376 | I20: =F21-G20 -> -0.37638889 | L20: =IF(IF($G20>=M$4,M$4,$G20)-IF($F20>=L$4,IF($F20>=M$4,M$4,$F20),L$4)<0,0,IF($G20>=M$4,M$4,$G20)-IF($F20>=L$4,IF($F20>=M$4,M$4,$F20),L$4)) -> 0 | M20: =IF(IF($G20>=N$4,N$4,$G20)-IF($F20>=M$4,IF($F20>=N$4,N$4,$F20),M$4)<0,0,IF($G20>=N$4,N$4,$G20)-IF($F20>=M$4,IF($F20>=N$4,N$4,$F20),M$4)) -> 0 | N20: =IF(IF($G20>=O$4,O$4,$G20)-IF($F20>=N$4,IF($F20>=O$4,O$4,$F20),N$4)<0,0,IF($G20>=O$4,O$4,$G20)-IF($F20>=N$4,IF($F20>=O$4,O$4,$F20),N$4)) -> 0 | O20: =IF(IF($G20>=P$4,P$4,$G20)-IF($F20>=O$4,IF($F20>=P$4,P$4,$F20),O$4)<0,0,IF($G20>=P$4,P$4,$G20)-IF($F20>=O$4,IF($F20>=P$4,P$4,$F20),O$4)) -> 0 | P20: =IF(IF($G20>=Q$4,Q$4,$G20)-IF($F20>=P$4,IF($F20>=Q$4,Q$4,$F20),P$4)<0,0,IF($G20>=Q$4,Q$4,$G20)-IF($F20>=P$4,IF($F20>=Q$4,Q$4,$F20),P$4)) -> 0 | Q20: =IF(IF($G20>=R$4,R$4,$G20)-IF($F20>=Q$4,IF($F20>=R$4,R$4,$F20),Q$4)<0,0,IF($G20>=R$4,R$4,$G20)-IF($F20>=Q$4,IF($F20>=R$4,R$4,$F20),Q$4)) -> 0 | R20: =IF(IF($G20>=S$4,S$4,$G20)-IF($F20>=R$4,IF($F20>=S$4,S$4,$F20),R$4)<0,0,IF($G20>=S$4,S$4,$G20)-IF($F20>=R$4,IF($F20>=S$4,S$4,$F20),R$4)) -> 0 | S20: =IF(IF($G20>=T$4,T$4,$G20)-IF($F20>=S$4,IF($F20>=T$4,T$4,$F20),S$4)<0,0,IF($G20>=T$4,T$4,$G20)-IF($F20>=S$4,IF($F20>=T$4,T$4,$F20),S$4)) -> 0 | ... AP20: =IF(IF($G20>=AQ$4,AQ$4,$G20)-IF($F20>=AP$4,IF($F20>=AQ$4,AQ$4,$F20),AP$4)<0,0,IF($G20>=AQ$4,AQ$4,$G20)-IF($F20>=AP$4,IF($F20>=AQ$4,AQ$4,$F20),AP$4)) -> 0 | AS20: 130 | AU20: 0.57430556 | AV20: 0.70902778 | AW20: 43376
A21: =VLOOKUP(Login_Logout!D:D,matrice!B:C,2,0) -> Depot 1 | B21: =VLOOKUP(D:D,matrice!B:E,4,0) -> Louis | C21: =VLOOKUP(D:D,matrice!B:D,3,0) -> andre | D21: =AS21 -> 130 | F21: =AU21-$J$4 -> 0.29097222 | G21: =AV21-$J$4 -> 0.29166667 | H21: =AW21 -> 43377 | I21: =F22-G21 -> 0 | L21: =IF(IF($G21>=M$4,M$4,$G21)-IF($F21>=L$4,IF($F21>=M$4,M$4,$F21),L$4)<0,0,IF($G21>=M$4,M$4,$G21)-IF($F21>=L$4,IF($F21>=M$4,M$4,$F21),L$4)) -> 0 | M21: =IF(IF($G21>=N$4,N$4,$G21)-IF($F21>=M$4,IF($F21>=N$4,N$4,$F21),M$4)<0,0,IF($G21>=N$4,N$4,$G21)-IF($F21>=M$4,IF($F21>=N$4,N$4,$F21),M$4)) -> 0 | N21: =IF(IF($G21>=O$4,O$4,$G21)-IF($F21>=N$4,IF($F21>=O$4,O$4,$F21),N$4)<0,0,IF($G21>=O$4,O$4,$G21)-IF($F21>=N$4,IF($F21>=O$4,O$4,$F21),N$4)) -> 0 | O21: =IF(IF($G21>=P$4,P$4,$G21)-IF($F21>=O$4,IF($F21>=P$4,P$4,$F21),O$4)<0,0,IF($G21>=P$4,P$4,$G21)-IF($F21>=O$4,IF($F21>=P$4,P$4,$F21),O$4)) -> 0 | P21: =IF(IF($G21>=Q$4,Q$4,$G21)-IF($F21>=P$4,IF($F21>=Q$4,Q$4,$F21),P$4)<0,0,IF($G21>=Q$4,Q$4,$G21)-IF($F21>=P$4,IF($F21>=Q$4,Q$4,$F21),P$4)) -> 0 | Q21: =IF(IF($G21>=R$4,R$4,$G21)-IF($F21>=Q$4,IF($F21>=R$4,R$4,$F21),Q$4)<0,0,IF($G21>=R$4,R$4,$G21)-IF($F21>=Q$4,IF($F21>=R$4,R$4,$F21),Q$4)) -> 0 | R21: =IF(IF($G21>=S$4,S$4,$G21)-IF($F21>=R$4,IF($F21>=S$4,S$4,$F21),R$4)<0,0,IF($G21>=S$4,S$4,$G21)-IF($F21>=R$4,IF($F21>=S$4,S$4,$F21),R$4)) -> 0 | S21: =IF(IF($G21>=T$4,T$4,$G21)-IF($F21>=S$4,IF($F21>=T$4,T$4,$F21),S$4)<0,0,IF($G21>=T$4,T$4,$G21)-IF($F21>=S$4,IF($F21>=T$4,T$4,$F21),S$4)) -> 0 | ... AP21: =IF(IF($G21>=AQ$4,AQ$4,$G21)-IF($F21>=AP$4,IF($F21>=AQ$4,AQ$4,$F21),AP$4)<0,0,IF($G21>=AQ$4,AQ$4,$G21)-IF($F21>=AP$4,IF($F21>=AQ$4,AQ$4,$F21),AP$4)) -> 0 | AS21: 130 | AU21: 0.33263889 | AV21: 0.33333333 | AW21: 43377
A22: =VLOOKUP(Login_Logout!D:D,matrice!B:C,2,0) -> Depot 1 | B22: =VLOOKUP(D:D,matrice!B:E,4,0) -> Louis | C22: =VLOOKUP(D:D,matrice!B:D,3,0) -> andre | D22: =AS22 -> 130 | F22: =AU22-$J$4 -> 0.29166667 | G22: =AV22-$J$4 -> 0.46180556 | H22: =AW22 -> 43377 | I22: =F23-G22 -> 0.040277778 | L22: =IF(IF($G22>=M$4,M$4,$G22)-IF($F22>=L$4,IF($F22>=M$4,M$4,$F22),L$4)<0,0,IF($G22>=M$4,M$4,$G22)-IF($F22>=L$4,IF($F22>=M$4,M$4,$F22),L$4)) -> 0.020833333 | M22: =IF(IF($G22>=N$4,N$4,$G22)-IF($F22>=M$4,IF($F22>=N$4,N$4,$F22),M$4)<0,0,IF($G22>=N$4,N$4,$G22)-IF($F22>=M$4,IF($F22>=N$4,N$4,$F22),M$4)) -> 0.020833333 | N22: =IF(IF($G22>=O$4,O$4,$G22)-IF($F22>=N$4,IF($F22>=O$4,O$4,$F22),N$4)<0,0,IF($G22>=O$4,O$4,$G22)-IF($F22>=N$4,IF($F22>=O$4,O$4,$F22),N$4)) -> 0.020833333 | O22: =IF(IF($G22>=P$4,P$4,$G22)-IF($F22>=O$4,IF($F22>=P$4,P$4,$F22),O$4)<0,0,IF($G22>=P$4,P$4,$G22)-IF($F22>=O$4,IF($F22>=P$4,P$4,$F22),O$4)) -> 0.020833333 | P22: =IF(IF($G22>=Q$4,Q$4,$G22)-IF($F22>=P$4,IF($F22>=Q$4,Q$4,$F22),P$4)<0,0,IF($G22>=Q$4,Q$4,$G22)-IF($F22>=P$4,IF($F22>=Q$4,Q$4,$F22),P$4)) -> 0.020833333 | Q22: =IF(IF($G22>=R$4,R$4,$G22)-IF($F22>=Q$4,IF($F22>=R$4,R$4,$F22),Q$4)<0,0,IF($G22>=R$4,R$4,$G22)-IF($F22>=Q$4,IF($F22>=R$4,R$4,$F22),Q$4)) -> 0.020833333 | R22: =IF(IF($G22>=S$4,S$4,$G22)-IF($F22>=R$4,IF($F22>=S$4,S$4,$F22),R$4)<0,0,IF($G22>=S$4,S$4,$G22)-IF($F22>=R$4,IF($F22>=S$4,S$4,$F22),R$4)) -> 0.020833333 | S22: =IF(IF($G22>=T$4,T$4,$G22)-IF($F22>=S$4,IF($F22>=T$4,T$4,$F22),S$4)<0,0,IF($G22>=T$4,T$4,$G22)-IF($F22>=S$4,IF($F22>=T$4,T$4,$F22),S$4)) -> 0.020833333 | ... AP22: =IF(IF($G22>=AQ$4,AQ$4,$G22)-IF($F22>=AP$4,IF($F22>=AQ$4,AQ$4,$F22),AP$4)<0,0,IF($G22>=AQ$4,AQ$4,$G22)-IF($F22>=AP$4,IF($F22>=AQ$4,AQ$4,$F22),AP$4)) -> 0 | AS22: 130 | AU22: 0.33333333 | AV22: 0.50347222 | AW22: 43377
A23: =VLOOKUP(Login_Logout!D:D,matrice!B:C,2,0) -> Depot 1 | B23: =VLOOKUP(D:D,matrice!B:E,4,0) -> Louis | C23: =VLOOKUP(D:D,matrice!B:D,3,0) -> andre | D23: =AS23 -> 130 | F23: =AU23-$J$4 -> 0.50208333 | G23: =AV23-$J$4 -> 0.50277778 | H23: =AW23 -> 43377 | I23: =F24-G23 -> 0 | L23: =IF(IF($G23>=M$4,M$4,$G23)-IF($F23>=L$4,IF($F23>=M$4,M$4,$F23),L$4)<0,0,IF($G23>=M$4,M$4,$G23)-IF($F23>=L$4,IF($F23>=M$4,M$4,$F23),L$4)) -> 0 | M23: =IF(IF($G23>=N$4,N$4,$G23)-IF($F23>=M$4,IF($F23>=N$4,N$4,$F23),M$4)<0,0,IF($G23>=N$4,N$4,$G23)-IF($F23>=M$4,IF($F23>=N$4,N$4,$F23),M$4)) -> 0 | N23: =IF(IF($G23>=O$4,O$4,$G23)-IF($F23>=N$4,IF($F23>=O$4,O$4,$F23),N$4)<0,0,IF($G23>=O$4,O$4,$G23)-IF($F23>=N$4,IF($F23>=O$4,O$4,$F23),N$4)) -> 0 | O23: =IF(IF($G23>=P$4,P$4,$G23)-IF($F23>=O$4,IF($F23>=P$4,P$4,$F23),O$4)<0,0,IF($G23>=P$4,P$4,$G23)-IF($F23>=O$4,IF($F23>=P$4,P$4,$F23),O$4)) -> 0 | P23: =IF(IF($G23>=Q$4,Q$4,$G23)-IF($F23>=P$4,IF($F23>=Q$4,Q$4,$F23),P$4)<0,0,IF($G23>=Q$4,Q$4,$G23)-IF($F23>=P$4,IF($F23>=Q$4,Q$4,$F23),P$4)) -> 0 | Q23: =IF(IF($G23>=R$4,R$4,$G23)-IF($F23>=Q$4,IF($F23>=R$4,R$4,$F23),Q$4)<0,0,IF($G23>=R$4,R$4,$G23)-IF($F23>=Q$4,IF($F23>=R$4,R$4,$F23),Q$4)) -> 0 | R23: =IF(IF($G23>=S$4,S$4,$G23)-IF($F23>=R$4,IF($F23>=S$4,S$4,$F23),R$4)<0,0,IF($G23>=S$4,S$4,$G23)-IF($F23>=R$4,IF($F23>=S$4,S$4,$F23),R$4)) -> 0 | S23: =IF(IF($G23>=T$4,T$4,$G23)-IF($F23>=S$4,IF($F23>=T$4,T$4,$F23),S$4)<0,0,IF($G23>=T$4,T$4,$G23)-IF($F23>=S$4,IF($F23>=T$4,T$4,$F23),S$4)) -> 0 | ... AP23: =IF(IF($G23>=AQ$4,AQ$4,$G23)-IF($F23>=AP$4,IF($F23>=AQ$4,AQ$4,$F23),AP$4)<0,0,IF($G23>=AQ$4,AQ$4,$G23)-IF($F23>=AP$4,IF($F23>=AQ$4,AQ$4,$F23),AP$4)) -> 0 | AS23: 130 | AU23: 0.54375 | AV23: 0.54444444 | AW23: 43377
A24: =VLOOKUP(Login_Logout!D:D,matrice!B:C,2,0) -> Depot 1 | B24: =VLOOKUP(D:D,matrice!B:E,4,0) -> Louis | C24: =VLOOKUP(D:D,matrice!B:D,3,0) -> andre | D24: =AS24 -> 130 | F24: =AU24-$J$4 -> 0.50277778 | G24: =AV24-$J$4 -> 0.66666667 | H24: =AW24 -> 43377 | I24: =F25-G24 -> -0.37569444 | L24: =IF(IF($G24>=M$4,M$4,$G24)-IF($F24>=L$4,IF($F24>=M$4,M$4,$F24),L$4)<0,0,IF($G24>=M$4,M$4,$G24)-IF($F24>=L$4,IF($F24>=M$4,M$4,$F24),L$4)) -> 0 | M24: =IF(IF($G24>=N$4,N$4,$G24)-IF($F24>=M$4,IF($F24>=N$4,N$4,$F24),M$4)<0,0,IF($G24>=N$4,N$4,$G24)-IF($F24>=M$4,IF($F24>=N$4,N$4,$F24),M$4)) -> 0 | N24: =IF(IF($G24>=O$4,O$4,$G24)-IF($F24>=N$4,IF($F24>=O$4,O$4,$F24),N$4)<0,0,IF($G24>=O$4,O$4,$G24)-IF($F24>=N$4,IF($F24>=O$4,O$4,$F24),N$4)) -> 0 | O24: =IF(IF($G24>=P$4,P$4,$G24)-IF($F24>=O$4,IF($F24>=P$4,P$4,$F24),O$4)<0,0,IF($G24>=P$4,P$4,$G24)-IF($F24>=O$4,IF($F24>=P$4,P$4,$F24),O$4)) -> 0 | P24: =IF(IF($G24>=Q$4,Q$4,$G24)-IF($F24>=P$4,IF($F24>=Q$4,Q$4,$F24),P$4)<0,0,IF($G24>=Q$4,Q$4,$G24)-IF($F24>=P$4,IF($F24>=Q$4,Q$4,$F24),P$4)) -> 0 | Q24: =IF(IF($G24>=R$4,R$4,$G24)-IF($F24>=Q$4,IF($F24>=R$4,R$4,$F24),Q$4)<0,0,IF($G24>=R$4,R$4,$G24)-IF($F24>=Q$4,IF($F24>=R$4,R$4,$F24),Q$4)) -> 0 | R24: =IF(IF($G24>=S$4,S$4,$G24)-IF($F24>=R$4,IF($F24>=S$4,S$4,$F24),R$4)<0,0,IF($G24>=S$4,S$4,$G24)-IF($F24>=R$4,IF($F24>=S$4,S$4,$F24),R$4)) -> 0 | S24: =IF(IF($G24>=T$4,T$4,$G24)-IF($F24>=S$4,IF($F24>=T$4,T$4,$F24),S$4)<0,0,IF($G24>=T$4,T$4,$G24)-IF($F24>=S$4,IF($F24>=T$4,T$4,$F24),S$4)) -> 0 | ... AP24: =IF(IF($G24>=AQ$4,AQ$4,$G24)-IF($F24>=AP$4,IF($F24>=AQ$4,AQ$4,$F24),AP$4)<0,0,IF($G24>=AQ$4,AQ$4,$G24)-IF($F24>=AP$4,IF($F24>=AQ$4,AQ$4,$F24),AP$4)) -> 0 | AS24: 130 | AU24: 0.54444444 | AV24: 0.70833333 | AW24: 43377
A25: =VLOOKUP(Login_Logout!D:D,matrice!B:C,2,0) -> Depot 1 | B25: =VLOOKUP(D:D,matrice!B:E,4,0) -> Louis | C25: =VLOOKUP(D:D,matrice!B:D,3,0) -> andre | D25: =AS25 -> 130 | F25: =AU25-$J$4 -> 0.29097222 | G25: =AV25-$J$4 -> 0.29236111 | H25: =AW25 -> 43378 | I25: =F26-G25 -> 0 | L25: =IF(IF($G25>=M$4,M$4,$G25)-IF($F25>=L$4,IF($F25>=M$4,M$4,$F25),L$4)<0,0,IF($G25>=M$4,M$4,$G25)-IF($F25>=L$4,IF($F25>=M$4,M$4,$F25),L$4)) -> 0.00069444444 | M25: =IF(IF($G25>=N$4,N$4,$G25)-IF($F25>=M$4,IF($F25>=N$4,N$4,$F25),M$4)<0,0,IF($G25>=N$4,N$4,$G25)-IF($F25>=M$4,IF($F25>=N$4,N$4,$F25),M$4)) -> 0 | N25: =IF(IF($G25>=O$4,O$4,$G25)-IF($F25>=N$4,IF($F25>=O$4,O$4,$F25),N$4)<0,0,IF($G25>=O$4,O$4,$G25)-IF($F25>=N$4,IF($F25>=O$4,O$4,$F25),N$4)) -> 0 | O25: =IF(IF($G25>=P$4,P$4,$G25)-IF($F25>=O$4,IF($F25>=P$4,P$4,$F25),O$4)<0,0,IF($G25>=P$4,P$4,$G25)-IF($F25>=O$4,IF($F25>=P$4,P$4,$F25),O$4)) -> 0 | P25: =IF(IF($G25>=Q$4,Q$4,$G25)-IF($F25>=P$4,IF($F25>=Q$4,Q$4,$F25),P$4)<0,0,IF($G25>=Q$4,Q$4,$G25)-IF($F25>=P$4,IF($F25>=Q$4,Q$4,$F25),P$4)) -> 0 | Q25: =IF(IF($G25>=R$4,R$4,$G25)-IF($F25>=Q$4,IF($F25>=R$4,R$4,$F25),Q$4)<0,0,IF($G25>=R$4,R$4,$G25)-IF($F25>=Q$4,IF($F25>=R$4,R$4,$F25),Q$4)) -> 0 | R25: =IF(IF($G25>=S$4,S$4,$G25)-IF($F25>=R$4,IF($F25>=S$4,S$4,$F25),R$4)<0,0,IF($G25>=S$4,S$4,$G25)-IF($F25>=R$4,IF($F25>=S$4,S$4,$F25),R$4)) -> 0 | S25: =IF(IF($G25>=T$4,T$4,$G25)-IF($F25>=S$4,IF($F25>=T$4,T$4,$F25),S$4)<0,0,IF($G25>=T$4,T$4,$G25)-IF($F25>=S$4,IF($F25>=T$4,T$4,$F25),S$4)) -> 0 | ... AP25: =IF(IF($G25>=AQ$4,AQ$4,$G25)-IF($F25>=AP$4,IF($F25>=AQ$4,AQ$4,$F25),AP$4)<0,0,IF($G25>=AQ$4,AQ$4,$G25)-IF($F25>=AP$4,IF($F25>=AQ$4,AQ$4,$F25),AP$4)) -> 0 | AS25: 130 | AU25: 0.33263889 | AV25: 0.33402778 | AW25: 43378
... A76: =VLOOKUP(Login_Logout!D:D,matrice!B:C,2,0) -> Depot 2 | B76: =VLOOKUP(D:D,matrice!B:E,4,0) -> Nicolas | C76: =VLOOKUP(D:D,matrice!B:D,3,0) -> Paulo F | D76: =AS76 -> 148 | F76: =AU76-$J$4 -> 0.63472222 | G76: =AV76-$J$4 -> 0.63472222 | H76: =AW76 -> 43381 | I76: =F77-G76 -> 0 | L76: =IF(IF($G76>=M$4,M$4,$G76)-IF($F76>=L$4,IF($F76>=M$4,M$4,$F76),L$4)<0,0,IF($G76>=M$4,M$4,$G76)-IF($F76>=L$4,IF($F76>=M$4,M$4,$F76),L$4)) -> 0 | M76: =IF(IF($G76>=N$4,N$4,$G76)-IF($F76>=M$4,IF($F76>=N$4,N$4,$F76),M$4)<0,0,IF($G76>=N$4,N$4,$G76)-IF($F76>=M$4,IF($F76>=N$4,N$4,$F76),M$4)) -> 0 | N76: =IF(IF($G76>=O$4,O$4,$G76)-IF($F76>=N$4,IF($F76>=O$4,O$4,$F76),N$4)<0,0,IF($G76>=O$4,O$4,$G76)-IF($F76>=N$4,IF($F76>=O$4,O$4,$F76),N$4)) -> 0 | O76: =IF(IF($G76>=P$4,P$4,$G76)-IF($F76>=O$4,IF($F76>=P$4,P$4,$F76),O$4)<0,0,IF($G76>=P$4,P$4,$G76)-IF($F76>=O$4,IF($F76>=P$4,P$4,$F76),O$4)) -> 0 | P76: =IF(IF($G76>=Q$4,Q$4,$G76)-IF($F76>=P$4,IF($F76>=Q$4,Q$4,$F76),P$4)<0,0,IF($G76>=Q$4,Q$4,$G76)-IF($F76>=P$4,IF($F76>=Q$4,Q$4,$F76),P$4)) -> 0 | Q76: =IF(IF($G76>=R$4,R$4,$G76)-IF($F76>=Q$4,IF($F76>=R$4,R$4,$F76),Q$4)<0,0,IF($G76>=R$4,R$4,$G76)-IF($F76>=Q$4,IF($F76>=R$4,R$4,$F76),Q$4)) -> 0 | R76: =IF(IF($G76>=S$4,S$4,$G76)-IF($F76>=R$4,IF($F76>=S$4,S$4,$F76),R$4)<0,0,IF($G76>=S$4,S$4,$G76)-IF($F76>=R$4,IF($F76>=S$4,S$4,$F76),R$4)) -> 0 | S76: =IF(IF($G76>=T$4,T$4,$G76)-IF($F76>=S$4,IF($F76>=T$4,T$4,$F76),S$4)<0,0,IF($G76>=T$4,T$4,$G76)-IF($F76>=S$4,IF($F76>=T$4,T$4,$F76),S$4)) -> 0 | ... AP76: =IF(IF($G76>=AQ$4,AQ$4,$G76)-IF($F76>=AP$4,IF($F76>=AQ$4,AQ$4,$F76),AP$4)<0,0,IF($G76>=AQ$4,AQ$4,$G76)-IF($F76>=AP$4,IF($F76>=AQ$4,AQ$4,$F76),AP$4)) -> 0 | AS76: 148 | AU76: 0.67638889 | AV76: 0.67638889 | AW76: 43381
A77: =VLOOKUP(Login_Logout!D:D,matrice!B:C,2,0) -> Depot 2 | B77: =VLOOKUP(D:D,matrice!B:E,4,0) -> Nicolas | C77: =VLOOKUP(D:D,matrice!B:D,3,0) -> Paulo F | D77: =AS77 -> 148 | F77: =AU77-$J$4 -> 0.63472222 | G77: =AV77-$J$4 -> 0.64027778 | H77: =AW77 -> 43381 | I77: =#REF!-G77 -> #REF! | L77: =IF(IF($G77>=M$4,M$4,$G77)-IF($F77>=L$4,IF($F77>=M$4,M$4,$F77),L$4)<0,0,IF($G77>=M$4,M$4,$G77)-IF($F77>=L$4,IF($F77>=M$4,M$4,$F77),L$4)) -> 0 | M77: =IF(IF($G77>=N$4,N$4,$G77)-IF($F77>=M$4,IF($F77>=N$4,N$4,$F77),M$4)<0,0,IF($G77>=N$4,N$4,$G77)-IF($F77>=M$4,IF($F77>=N$4,N$4,$F77),M$4)) -> 0 | N77: =IF(IF($G77>=O$4,O$4,$G77)-IF($F77>=N$4,IF($F77>=O$4,O$4,$F77),N$4)<0,0,IF($G77>=O$4,O$4,$G77)-IF($F77>=N$4,IF($F77>=O$4,O$4,$F77),N$4)) -> 0 | O77: =IF(IF($G77>=P$4,P$4,$G77)-IF($F77>=O$4,IF($F77>=P$4,P$4,$F77),O$4)<0,0,IF($G77>=P$4,P$4,$G77)-IF($F77>=O$4,IF($F77>=P$4,P$4,$F77),O$4)) -> 0 | P77: =IF(IF($G77>=Q$4,Q$4,$G77)-IF($F77>=P$4,IF($F77>=Q$4,Q$4,$F77),P$4)<0,0,IF($G77>=Q$4,Q$4,$G77)-IF($F77>=P$4,IF($F77>=Q$4,Q$4,$F77),P$4)) -> 0 | Q77: =IF(IF($G77>=R$4,R$4,$G77)-IF($F77>=Q$4,IF($F77>=R$4,R$4,$F77),Q$4)<0,0,IF($G77>=R$4,R$4,$G77)-IF($F77>=Q$4,IF($F77>=R$4,R$4,$F77),Q$4)) -> 0 | R77: =IF(IF($G77>=S$4,S$4,$G77)-IF($F77>=R$4,IF($F77>=S$4,S$4,$F77),R$4)<0,0,IF($G77>=S$4,S$4,$G77)-IF($F77>=R$4,IF($F77>=S$4,S$4,$F77),R$4)) -> 0 | S77: =IF(IF($G77>=T$4,T$4,$G77)-IF($F77>=S$4,IF($F77>=T$4,T$4,$F77),S$4)<0,0,IF($G77>=T$4,T$4,$G77)-IF($F77>=S$4,IF($F77>=T$4,T$4,$F77),S$4)) -> 0 | ... AP77: =IF(IF($G77>=AQ$4,AQ$4,$G77)-IF($F77>=AP$4,IF($F77>=AQ$4,AQ$4,$F77),AP$4)<0,0,IF($G77>=AQ$4,AQ$4,$G77)-IF($F77>=AP$4,IF($F77>=AQ$4,AQ$4,$F77),AP$4)) -> 0 | AS77: 148 | AU77: 0.67638889 | AV77: 0.68194444 | AW77: 43381
A78: =VLOOKUP(Login_Logout!D:D,matrice!B:C,2,0) -> Depot 2 | B78: =VLOOKUP(D:D,matrice!B:E,4,0) -> Nicolas | C78: =VLOOKUP(D:D,matrice!B:D,3,0) -> Paulo F | D78: =AS78 -> 148 | F78: =AU78-$J$4 -> 0.64444444 | G78: =AV78-$J$4 -> 0.70833333 | H78: =AW78 -> 43381 | I78: =F79-G78 -> 0.0020833333 | L78: =IF(IF($G78>=M$4,M$4,$G78)-IF($F78>=L$4,IF($F78>=M$4,M$4,$F78),L$4)<0,0,IF($G78>=M$4,M$4,$G78)-IF($F78>=L$4,IF($F78>=M$4,M$4,$F78),L$4)) -> 0 | M78: =IF(IF($G78>=N$4,N$4,$G78)-IF($F78>=M$4,IF($F78>=N$4,N$4,$F78),M$4)<0,0,IF($G78>=N$4,N$4,$G78)-IF($F78>=M$4,IF($F78>=N$4,N$4,$F78),M$4)) -> 0 | N78: =IF(IF($G78>=O$4,O$4,$G78)-IF($F78>=N$4,IF($F78>=O$4,O$4,$F78),N$4)<0,0,IF($G78>=O$4,O$4,$G78)-IF($F78>=N$4,IF($F78>=O$4,O$4,$F78),N$4)) -> 0 | O78: =IF(IF($G78>=P$4,P$4,$G78)-IF($F78>=O$4,IF($F78>=P$4,P$4,$F78),O$4)<0,0,IF($G78>=P$4,P$4,$G78)-IF($F78>=O$4,IF($F78>=P$4,P$4,$F78),O$4)) -> 0 | P78: =IF(IF($G78>=Q$4,Q$4,$G78)-IF($F78>=P$4,IF($F78>=Q$4,Q$4,$F78),P$4)<0,0,IF($G78>=Q$4,Q$4,$G78)-IF($F78>=P$4,IF($F78>=Q$4,Q$4,$F78),P$4)) -> 0 | Q78: =IF(IF($G78>=R$4,R$4,$G78)-IF($F78>=Q$4,IF($F78>=R$4,R$4,$F78),Q$4)<0,0,IF($G78>=R$4,R$4,$G78)-IF($F78>=Q$4,IF($F78>=R$4,R$4,$F78),Q$4)) -> 0 | R78: =IF(IF($G78>=S$4,S$4,$G78)-IF($F78>=R$4,IF($F78>=S$4,S$4,$F78),R$4)<0,0,IF($G78>=S$4,S$4,$G78)-IF($F78>=R$4,IF($F78>=S$4,S$4,$F78),R$4)) -> 0 | S78: =IF(IF($G78>=T$4,T$4,$G78)-IF($F78>=S$4,IF($F78>=T$4,T$4,$F78),S$4)<0,0,IF($G78>=T$4,T$4,$G78)-IF($F78>=S$4,IF($F78>=T$4,T$4,$F78),S$4)) -> 0 | ... AP78: =IF(IF($G78>=AQ$4,AQ$4,$G78)-IF($F78>=AP$4,IF($F78>=AQ$4,AQ$4,$F78),AP$4)<0,0,IF($G78>=AQ$4,AQ$4,$G78)-IF($F78>=AP$4,IF($F78>=AQ$4,AQ$4,$F78),AP$4)) -> 0 | AS78: 148 | AU78: 0.68611111 | AV78: 0.75 | AW78: 43381
A79: =VLOOKUP(Login_Logout!D:D,matrice!B:C,2,0) -> Depot 2 | B79: =VLOOKUP(D:D,matrice!B:E,4,0) -> François | C79: =VLOOKUP(D:D,matrice!B:D,3,0) -> Samuel | D79: =AS79 -> 161 | F79: =AU79-$J$4 -> 0.71041667 | G79: =AV79-$J$4 -> 0.71180556 | H79: =AW79 -> 43374 | I79: =F80-G79 -> 0 | L79: =IF(IF($G79>=M$4,M$4,$G79)-IF($F79>=L$4,IF($F79>=M$4,M$4,$F79),L$4)<0,0,IF($G79>=M$4,M$4,$G79)-IF($F79>=L$4,IF($F79>=M$4,M$4,$F79),L$4)) -> 0 | M79: =IF(IF($G79>=N$4,N$4,$G79)-IF($F79>=M$4,IF($F79>=N$4,N$4,$F79),M$4)<0,0,IF($G79>=N$4,N$4,$G79)-IF($F79>=M$4,IF($F79>=N$4,N$4,$F79),M$4)) -> 0 | N79: =IF(IF($G79>=O$4,O$4,$G79)-IF($F79>=N$4,IF($F79>=O$4,O$4,$F79),N$4)<0,0,IF($G79>=O$4,O$4,$G79)-IF($F79>=N$4,IF($F79>=O$4,O$4,$F79),N$4)) -> 0 | O79: =IF(IF($G79>=P$4,P$4,$G79)-IF($F79>=O$4,IF($F79>=P$4,P$4,$F79),O$4)<0,0,IF($G79>=P$4,P$4,$G79)-IF($F79>=O$4,IF($F79>=P$4,P$4,$F79),O$4)) -> 0 | P79: =IF(IF($G79>=Q$4,Q$4,$G79)-IF($F79>=P$4,IF($F79>=Q$4,Q$4,$F79),P$4)<0,0,IF($G79>=Q$4,Q$4,$G79)-IF($F79>=P$4,IF($F79>=Q$4,Q$4,$F79),P$4)) -> 0 | Q79: =IF(IF($G79>=R$4,R$4,$G79)-IF($F79>=Q$4,IF($F79>=R$4,R$4,$F79),Q$4)<0,0,IF($G79>=R$4,R$4,$G79)-IF($F79>=Q$4,IF($F79>=R$4,R$4,$F79),Q$4)) -> 0 | R79: =IF(IF($G79>=S$4,S$4,$G79)-IF($F79>=R$4,IF($F79>=S$4,S$4,$F79),R$4)<0,0,IF($G79>=S$4,S$4,$G79)-IF($F79>=R$4,IF($F79>=S$4,S$4,$F79),R$4)) -> 0 | S79: =IF(IF($G79>=T$4,T$4,$G79)-IF($F79>=S$4,IF($F79>=T$4,T$4,$F79),S$4)<0,0,IF($G79>=T$4,T$4,$G79)-IF($F79>=S$4,IF($F79>=T$4,T$4,$F79),S$4)) -> 0 | ... AP79: =IF(IF($G79>=AQ$4,AQ$4,$G79)-IF($F79>=AP$4,IF($F79>=AQ$4,AQ$4,$F79),AP$4)<0,0,IF($G79>=AQ$4,AQ$4,$G79)-IF($F79>=AP$4,IF($F79>=AQ$4,AQ$4,$F79),AP$4)) -> 0 | AS79: 161 | AU79: 0.75208333 | AV79: 0.75347222 | AW79: 43374
A80: =VLOOKUP(Login_Logout!D:D,matrice!B:C,2,0) -> Depot 2 | B80: =VLOOKUP(D:D,matrice!B:E,4,0) -> François | C80: =VLOOKUP(D:D,matrice!B:D,3,0) -> Samuel | D80: =AS80 -> 161 | F80: =AU80-$J$4 -> 0.71180556 | G80: =AV80-$J$4 -> 0.73125 | H80: =AW80 -> 43374 | I80: =F81-G80 -> 0.0020833333 | L80: =IF(IF($G80>=M$4,M$4,$G80)-IF($F80>=L$4,IF($F80>=M$4,M$4,$F80),L$4)<0,0,IF($G80>=M$4,M$4,$G80)-IF($F80>=L$4,IF($F80>=M$4,M$4,$F80),L$4)) -> 0 | M80: =IF(IF($G80>=N$4,N$4,$G80)-IF($F80>=M$4,IF($F80>=N$4,N$4,$F80),M$4)<0,0,IF($G80>=N$4,N$4,$G80)-IF($F80>=M$4,IF($F80>=N$4,N$4,$F80),M$4)) -> 0 | N80: =IF(IF($G80>=O$4,O$4,$G80)-IF($F80>=N$4,IF($F80>=O$4,O$4,$F80),N$4)<0,0,IF($G80>=O$4,O$4,$G80)-IF($F80>=N$4,IF($F80>=O$4,O$4,$F80),N$4)) -> 0 | O80: =IF(IF($G80>=P$4,P$4,$G80)-IF($F80>=O$4,IF($F80>=P$4,P$4,$F80),O$4)<0,0,IF($G80>=P$4,P$4,$G80)-IF($F80>=O$4,IF($F80>=P$4,P$4,$F80),O$4)) -> 0 | P80: =IF(IF($G80>=Q$4,Q$4,$G80)-IF($F80>=P$4,IF($F80>=Q$4,Q$4,$F80),P$4)<0,0,IF($G80>=Q$4,Q$4,$G80)-IF($F80>=P$4,IF($F80>=Q$4,Q$4,$F80),P$4)) -> 0 | Q80: =IF(IF($G80>=R$4,R$4,$G80)-IF($F80>=Q$4,IF($F80>=R$4,R$4,$F80),Q$4)<0,0,IF($G80>=R$4,R$4,$G80)-IF($F80>=Q$4,IF($F80>=R$4,R$4,$F80),Q$4)) -> 0 | R80: =IF(IF($G80>=S$4,S$4,$G80)-IF($F80>=R$4,IF($F80>=S$4,S$4,$F80),R$4)<0,0,IF($G80>=S$4,S$4,$G80)-IF($F80>=R$4,IF($F80>=S$4,S$4,$F80),R$4)) -> 0 | S80: =IF(IF($G80>=T$4,T$4,$G80)-IF($F80>=S$4,IF($F80>=T$4,T$4,$F80),S$4)<0,0,IF($G80>=T$4,T$4,$G80)-IF($F80>=S$4,IF($F80>=T$4,T$4,$F80),S$4)) -> 0 | ... AP80: =IF(IF($G80>=AQ$4,AQ$4,$G80)-IF($F80>=AP$4,IF($F80>=AQ$4,AQ$4,$F80),AP$4)<0,0,IF($G80>=AQ$4,AQ$4,$G80)-IF($F80>=AP$4,IF($F80>=AQ$4,AQ$4,$F80),AP$4)) -> 0 | AS80: 161 | AU80: 0.75347222 | AV80: 0.77291667 | AW80: 43374
A81: =VLOOKUP(Login_Logout!D:D,matrice!B:C,2,0) -> Depot 2 | B81: =VLOOKUP(D:D,matrice!B:E,4,0) -> François | C81: =VLOOKUP(D:D,matrice!B:D,3,0) -> Samuel | D81: =AS81 -> 161 | F81: =AU81-$J$4 -> 0.73333333 | G81: =AV81-$J$4 -> 0.73472222 | H81: =AW81 -> 43374 | I81: =F82-G81 -> 0 | L81: =IF(IF($G81>=M$4,M$4,$G81)-IF($F81>=L$4,IF($F81>=M$4,M$4,$F81),L$4)<0,0,IF($G81>=M$4,M$4,$G81)-IF($F81>=L$4,IF($F81>=M$4,M$4,$F81),L$4)) -> 0 | M81: =IF(IF($G81>=N$4,N$4,$G81)-IF($F81>=M$4,IF($F81>=N$4,N$4,$F81),M$4)<0,0,IF($G81>=N$4,N$4,$G81)-IF($F81>=M$4,IF($F81>=N$4,N$4,$F81),M$4)) -> 0 | N81: =IF(IF($G81>=O$4,O$4,$G81)-IF($F81>=N$4,IF($F81>=O$4,O$4,$F81),N$4)<0,0,IF($G81>=O$4,O$4,$G81)-IF($F81>=N$4,IF($F81>=O$4,O$4,$F81),N$4)) -> 0 | O81: =IF(IF($G81>=P$4,P$4,$G81)-IF($F81>=O$4,IF($F81>=P$4,P$4,$F81),O$4)<0,0,IF($G81>=P$4,P$4,$G81)-IF($F81>=O$4,IF($F81>=P$4,P$4,$F81),O$4)) -> 0 | P81: =IF(IF($G81>=Q$4,Q$4,$G81)-IF($F81>=P$4,IF($F81>=Q$4,Q$4,$F81),P$4)<0,0,IF($G81>=Q$4,Q$4,$G81)-IF($F81>=P$4,IF($F81>=Q$4,Q$4,$F81),P$4)) -> 0 | Q81: =IF(IF($G81>=R$4,R$4,$G81)-IF($F81>=Q$4,IF($F81>=R$4,R$4,$F81),Q$4)<0,0,IF($G81>=R$4,R$4,$G81)-IF($F81>=Q$4,IF($F81>=R$4,R$4,$F81),Q$4)) -> 0 | R81: =IF(IF($G81>=S$4,S$4,$G81)-IF($F81>=R$4,IF($F81>=S$4,S$4,$F81),R$4)<0,0,IF($G81>=S$4,S$4,$G81)-IF($F81>=R$4,IF($F81>=S$4,S$4,$F81),R$4)) -> 0 | S81: =IF(IF($G81>=T$4,T$4,$G81)-IF($F81>=S$4,IF($F81>=T$4,T$4,$F81),S$4)<0,0,IF($G81>=T$4,T$4,$G81)-IF($F81>=S$4,IF($F81>=T$4,T$4,$F81),S$4)) -> 0 | ... AP81: =IF(IF($G81>=AQ$4,AQ$4,$G81)-IF($F81>=AP$4,IF($F81>=AQ$4,AQ$4,$F81),AP$4)<0,0,IF($G81>=AQ$4,AQ$4,$G81)-IF($F81>=AP$4,IF($F81>=AQ$4,AQ$4,$F81),AP$4)) -> 0 | AS81: 161 | AU81: 0.775 | AV81: 0.77638889 | AW81: 43374
A82: =VLOOKUP(Login_Logout!D:D,matrice!B:C,2,0) -> Depot 2 | B82: =VLOOKUP(D:D,matrice!B:E,4,0) -> François | C82: =VLOOKUP(D:D,matrice!B:D,3,0) -> Samuel | D82: =AS82 -> 161 | F82: =AU82-$J$4 -> 0.73472222 | G82: =AV82-$J$4 -> 0.74375 | H82: =AW82 -> 43374 | I82: =F83-G82 -> -0.14722222 | L82: =IF(IF($G82>=M$4,M$4,$G82)-IF($F82>=L$4,IF($F82>=M$4,M$4,$F82),L$4)<0,0,IF($G82>=M$4,M$4,$G82)-IF($F82>=L$4,IF($F82>=M$4,M$4,$F82),L$4)) -> 0 | M82: =IF(IF($G82>=N$4,N$4,$G82)-IF($F82>=M$4,IF($F82>=N$4,N$4,$F82),M$4)<0,0,IF($G82>=N$4,N$4,$G82)-IF($F82>=M$4,IF($F82>=N$4,N$4,$F82),M$4)) -> 0 | N82: =IF(IF($G82>=O$4,O$4,$G82)-IF($F82>=N$4,IF($F82>=O$4,O$4,$F82),N$4)<0,0,IF($G82>=O$4,O$4,$G82)-IF($F82>=N$4,IF($F82>=O$4,O$4,$F82),N$4)) -> 0 | O82: =IF(IF($G82>=P$4,P$4,$G82)-IF($F82>=O$4,IF($F82>=P$4,P$4,$F82),O$4)<0,0,IF($G82>=P$4,P$4,$G82)-IF($F82>=O$4,IF($F82>=P$4,P$4,$F82),O$4)) -> 0 | P82: =IF(IF($G82>=Q$4,Q$4,$G82)-IF($F82>=P$4,IF($F82>=Q$4,Q$4,$F82),P$4)<0,0,IF($G82>=Q$4,Q$4,$G82)-IF($F82>=P$4,IF($F82>=Q$4,Q$4,$F82),P$4)) -> 0 | Q82: =IF(IF($G82>=R$4,R$4,$G82)-IF($F82>=Q$4,IF($F82>=R$4,R$4,$F82),Q$4)<0,0,IF($G82>=R$4,R$4,$G82)-IF($F82>=Q$4,IF($F82>=R$4,R$4,$F82),Q$4)) -> 0 | R82: =IF(IF($G82>=S$4,S$4,$G82)-IF($F82>=R$4,IF($F82>=S$4,S$4,$F82),R$4)<0,0,IF($G82>=S$4,S$4,$G82)-IF($F82>=R$4,IF($F82>=S$4,S$4,$F82),R$4)) -> 0 | S82: =IF(IF($G82>=T$4,T$4,$G82)-IF($F82>=S$4,IF($F82>=T$4,T$4,$F82),S$4)<0,0,IF($G82>=T$4,T$4,$G82)-IF($F82>=S$4,IF($F82>=T$4,T$4,$F82),S$4)) -> 0 | ... AP82: =IF(IF($G82>=AQ$4,AQ$4,$G82)-IF($F82>=AP$4,IF($F82>=AQ$4,AQ$4,$F82),AP$4)<0,0,IF($G82>=AQ$4,AQ$4,$G82)-IF($F82>=AP$4,IF($F82>=AQ$4,AQ$4,$F82),AP$4)) -> 0 | AS82: 161 | AU82: 0.77638889 | AV82: 0.78541667 | AW82: 43374
A83: =VLOOKUP(Login_Logout!D:D,matrice!B:C,2,0) -> Depot 2 | B83: =VLOOKUP(D:D,matrice!B:E,4,0) -> François | C83: =VLOOKUP(D:D,matrice!B:D,3,0) -> Samuel | D83: =AS83 -> 161 | F83: =AU83-$J$4 -> 0.59652778 | G83: =AV83-$J$4 -> 0.59722222 | H83: =AW83 -> 43375 | I83: =F84-G83 -> 0 | L83: =IF(IF($G83>=M$4,M$4,$G83)-IF($F83>=L$4,IF($F83>=M$4,M$4,$F83),L$4)<0,0,IF($G83>=M$4,M$4,$G83)-IF($F83>=L$4,IF($F83>=M$4,M$4,$F83),L$4)) -> 0 | M83: =IF(IF($G83>=N$4,N$4,$G83)-IF($F83>=M$4,IF($F83>=N$4,N$4,$F83),M$4)<0,0,IF($G83>=N$4,N$4,$G83)-IF($F83>=M$4,IF($F83>=N$4,N$4,$F83),M$4)) -> 0 | N83: =IF(IF($G83>=O$4,O$4,$G83)-IF($F83>=N$4,IF($F83>=O$4,O$4,$F83),N$4)<0,0,IF($G83>=O$4,O$4,$G83)-IF($F83>=N$4,IF($F83>=O$4,O$4,$F83),N$4)) -> 0 | O83: =IF(IF($G83>=P$4,P$4,$G83)-IF($F83>=O$4,IF($F83>=P$4,P$4,$F83),O$4)<0,0,IF($G83>=P$4,P$4,$G83)-IF($F83>=O$4,IF($F83>=P$4,P$4,$F83),O$4)) -> 0 | P83: =IF(IF($G83>=Q$4,Q$4,$G83)-IF($F83>=P$4,IF($F83>=Q$4,Q$4,$F83),P$4)<0,0,IF($G83>=Q$4,Q$4,$G83)-IF($F83>=P$4,IF($F83>=Q$4,Q$4,$F83),P$4)) -> 0 | Q83: =IF(IF($G83>=R$4,R$4,$G83)-IF($F83>=Q$4,IF($F83>=R$4,R$4,$F83),Q$4)<0,0,IF($G83>=R$4,R$4,$G83)-IF($F83>=Q$4,IF($F83>=R$4,R$4,$F83),Q$4)) -> 0 | R83: =IF(IF($G83>=S$4,S$4,$G83)-IF($F83>=R$4,IF($F83>=S$4,S$4,$F83),R$4)<0,0,IF($G83>=S$4,S$4,$G83)-IF($F83>=R$4,IF($F83>=S$4,S$4,$F83),R$4)) -> 0 | S83: =IF(IF($G83>=T$4,T$4,$G83)-IF($F83>=S$4,IF($F83>=T$4,T$4,$F83),S$4)<0,0,IF($G83>=T$4,T$4,$G83)-IF($F83>=S$4,IF($F83>=T$4,T$4,$F83),S$4)) -> 0 | ... AP83: =IF(IF($G83>=AQ$4,AQ$4,$G83)-IF($F83>=AP$4,IF($F83>=AQ$4,AQ$4,$F83),AP$4)<0,0,IF($G83>=AQ$4,AQ$4,$G83)-IF($F83>=AP$4,IF($F83>=AQ$4,AQ$4,$F83),AP$4)) -> 0 | AS83: 161 | AU83: 0.63819444 | AV83: 0.63888889 | AW83: 43375
A84: =VLOOKUP(Login_Logout!D:D,matrice!B:C,2,0) -> Depot 2 | B84: =VLOOKUP(D:D,matrice!B:E,4,0) -> François | C84: =VLOOKUP(D:D,matrice!B:D,3,0) -> Samuel | D84: =AS84 -> 161 | F84: =AU84-$J$4 -> 0.59722222 | G84: =AV84-$J$4 -> 0.60347222 | H84: =AW84 -> 43375 | I84: =F85-G84 -> 0.00069444444 | L84: =IF(IF($G84>=M$4,M$4,$G84)-IF($F84>=L$4,IF($F84>=M$4,M$4,$F84),L$4)<0,0,IF($G84>=M$4,M$4,$G84)-IF($F84>=L$4,IF($F84>=M$4,M$4,$F84),L$4)) -> 0 | M84: =IF(IF($G84>=N$4,N$4,$G84)-IF($F84>=M$4,IF($F84>=N$4,N$4,$F84),M$4)<0,0,IF($G84>=N$4,N$4,$G84)-IF($F84>=M$4,IF($F84>=N$4,N$4,$F84),M$4)) -> 0 | N84: =IF(IF($G84>=O$4,O$4,$G84)-IF($F84>=N$4,IF($F84>=O$4,O$4,$F84),N$4)<0,0,IF($G84>=O$4,O$4,$G84)-IF($F84>=N$4,IF($F84>=O$4,O$4,$F84),N$4)) -> 0 | O84: =IF(IF($G84>=P$4,P$4,$G84)-IF($F84>=O$4,IF($F84>=P$4,P$4,$F84),O$4)<0,0,IF($G84>=P$4,P$4,$G84)-IF($F84>=O$4,IF($F84>=P$4,P$4,$F84),O$4)) -> 0 | P84: =IF(IF($G84>=Q$4,Q$4,$G84)-IF($F84>=P$4,IF($F84>=Q$4,Q$4,$F84),P$4)<0,0,IF($G84>=Q$4,Q$4,$G84)-IF($F84>=P$4,IF($F84>=Q$4,Q$4,$F84),P$4)) -> 0 | Q84: =IF(IF($G84>=R$4,R$4,$G84)-IF($F84>=Q$4,IF($F84>=R$4,R$4,$F84),Q$4)<0,0,IF($G84>=R$4,R$4,$G84)-IF($F84>=Q$4,IF($F84>=R$4,R$4,$F84),Q$4)) -> 0 | R84: =IF(IF($G84>=S$4,S$4,$G84)-IF($F84>=R$4,IF($F84>=S$4,S$4,$F84),R$4)<0,0,IF($G84>=S$4,S$4,$G84)-IF($F84>=R$4,IF($F84>=S$4,S$4,$F84),R$4)) -> 0 | S84: =IF(IF($G84>=T$4,T$4,$G84)-IF($F84>=S$4,IF($F84>=T$4,T$4,$F84),S$4)<0,0,IF($G84>=T$4,T$4,$G84)-IF($F84>=S$4,IF($F84>=T$4,T$4,$F84),S$4)) -> 0 | ... AP84: =IF(IF($G84>=AQ$4,AQ$4,$G84)-IF($F84>=AP$4,IF($F84>=AQ$4,AQ$4,$F84),AP$4)<0,0,IF($G84>=AQ$4,AQ$4,$G84)-IF($F84>=AP$4,IF($F84>=AQ$4,AQ$4,$F84),AP$4)) -> 0 | AS84: 161 | AU84: 0.63888889 | AV84: 0.64513889 | AW84: 43375
A85: =VLOOKUP(Login_Logout!D:D,matrice!B:C,2,0) -> Depot 2 | B85: =VLOOKUP(D:D,matrice!B:E,4,0) -> François | C85: =VLOOKUP(D:D,matrice!B:D,3,0) -> Samuel | D85: =AS85 -> 161 | F85: =AU85-$J$4 -> 0.60416667 | G85: =AV85-$J$4 -> 0.60486111 | H85: =AW85 -> 43375 | I85: =F86-G85 -> 0 | L85: =IF(IF($G85>=M$4,M$4,$G85)-IF($F85>=L$4,IF($F85>=M$4,M$4,$F85),L$4)<0,0,IF($G85>=M$4,M$4,$G85)-IF($F85>=L$4,IF($F85>=M$4,M$4,$F85),L$4)) -> 0 | M85: =IF(IF($G85>=N$4,N$4,$G85)-IF($F85>=M$4,IF($F85>=N$4,N$4,$F85),M$4)<0,0,IF($G85>=N$4,N$4,$G85)-IF($F85>=M$4,IF($F85>=N$4,N$4,$F85),M$4)) -> 0 | N85: =IF(IF($G85>=O$4,O$4,$G85)-IF($F85>=N$4,IF($F85>=O$4,O$4,$F85),N$4)<0,0,IF($G85>=O$4,O$4,$G85)-IF($F85>=N$4,IF($F85>=O$4,O$4,$F85),N$4)) -> 0 | O85: =IF(IF($G85>=P$4,P$4,$G85)-IF($F85>=O$4,IF($F85>=P$4,P$4,$F85),O$4)<0,0,IF($G85>=P$4,P$4,$G85)-IF($F85>=O$4,IF($F85>=P$4,P$4,$F85),O$4)) -> 0 | P85: =IF(IF($G85>=Q$4,Q$4,$G85)-IF($F85>=P$4,IF($F85>=Q$4,Q$4,$F85),P$4)<0,0,IF($G85>=Q$4,Q$4,$G85)-IF($F85>=P$4,IF($F85>=Q$4,Q$4,$F85),P$4)) -> 0 | Q85: =IF(IF($G85>=R$4,R$4,$G85)-IF($F85>=Q$4,IF($F85>=R$4,R$4,$F85),Q$4)<0,0,IF($G85>=R$4,R$4,$G85)-IF($F85>=Q$4,IF($F85>=R$4,R$4,$F85),Q$4)) -> 0 | R85: =IF(IF($G85>=S$4,S$4,$G85)-IF($F85>=R$4,IF($F85>=S$4,S$4,$F85),R$4)<0,0,IF($G85>=S$4,S$4,$G85)-IF($F85>=R$4,IF($F85>=S$4,S$4,$F85),R$4)) -> 0 | S85: =IF(IF($G85>=T$4,T$4,$G85)-IF($F85>=S$4,IF($F85>=T$4,T$4,$F85),S$4)<0,0,IF($G85>=T$4,T$4,$G85)-IF($F85>=S$4,IF($F85>=T$4,T$4,$F85),S$4)) -> 0 | ... AP85: =IF(IF($G85>=AQ$4,AQ$4,$G85)-IF($F85>=AP$4,IF($F85>=AQ$4,AQ$4,$F85),AP$4)<0,0,IF($G85>=AQ$4,AQ$4,$G85)-IF($F85>=AP$4,IF($F85>=AQ$4,AQ$4,$F85),AP$4)) -> 0 | AS85: 161 | AU85: 0.64583333 | AV85: 0.64652778 | AW85: 43375
A86: =VLOOKUP(Login_Logout!D:D,matrice!B:C,2,0) -> Depot 2 | B86: =VLOOKUP(D:D,matrice!B:E,4,0) -> François | C86: =VLOOKUP(D:D,matrice!B:D,3,0) -> Samuel | D86: =AS86 -> 161 | F86: =AU86-$J$4 -> 0.60486111 | G86: =AV86-$J$4 -> 0.6125 | H86: =AW86 -> 43375 | I86: =F87-G86 -> -0.11180556 | L86: =IF(IF($G86>=M$4,M$4,$G86)-IF($F86>=L$4,IF($F86>=M$4,M$4,$F86),L$4)<0,0,IF($G86>=M$4,M$4,$G86)-IF($F86>=L$4,IF($F86>=M$4,M$4,$F86),L$4)) -> 0 | M86: =IF(IF($G86>=N$4,N$4,$G86)-IF($F86>=M$4,IF($F86>=N$4,N$4,$F86),M$4)<0,0,IF($G86>=N$4,N$4,$G86)-IF($F86>=M$4,IF($F86>=N$4,N$4,$F86),M$4)) -> 0 | N86: =IF(IF($G86>=O$4,O$4,$G86)-IF($F86>=N$4,IF($F86>=O$4,O$4,$F86),N$4)<0,0,IF($G86>=O$4,O$4,$G86)-IF($F86>=N$4,IF($F86>=O$4,O$4,$F86),N$4)) -> 0 | O86: =IF(IF($G86>=P$4,P$4,$G86)-IF($F86>=O$4,IF($F86>=P$4,P$4,$F86),O$4)<0,0,IF($G86>=P$4,P$4,$G86)-IF($F86>=O$4,IF($F86>=P$4,P$4,$F86),O$4)) -> 0 | P86: =IF(IF($G86>=Q$4,Q$4,$G86)-IF($F86>=P$4,IF($F86>=Q$4,Q$4,$F86),P$4)<0,0,IF($G86>=Q$4,Q$4,$G86)-IF($F86>=P$4,IF($F86>=Q$4,Q$4,$F86),P$4)) -> 0 | Q86: =IF(IF($G86>=R$4,R$4,$G86)-IF($F86>=Q$4,IF($F86>=R$4,R$4,$F86),Q$4)<0,0,IF($G86>=R$4,R$4,$G86)-IF($F86>=Q$4,IF($F86>=R$4,R$4,$F86),Q$4)) -> 0 | R86: =IF(IF($G86>=S$4,S$4,$G86)-IF($F86>=R$4,IF($F86>=S$4,S$4,$F86),R$4)<0,0,IF($G86>=S$4,S$4,$G86)-IF($F86>=R$4,IF($F86>=S$4,S$4,$F86),R$4)) -> 0 | S86: =IF(IF($G86>=T$4,T$4,$G86)-IF($F86>=S$4,IF($F86>=T$4,T$4,$F86),S$4)<0,0,IF($G86>=T$4,T$4,$G86)-IF($F86>=S$4,IF($F86>=T$4,T$4,$F86),S$4)) -> 0 | ... AP86: =IF(IF($G86>=AQ$4,AQ$4,$G86)-IF($F86>=AP$4,IF($F86>=AQ$4,AQ$4,$F86),AP$4)<0,0,IF($G86>=AQ$4,AQ$4,$G86)-IF($F86>=AP$4,IF($F86>=AQ$4,AQ$4,$F86),AP$4)) -> 0 | AS86: 161 | AU86: 0.64652778 | AV86: 0.65416667 | AW86: 43375
A87: =VLOOKUP(Login_Logout!D:D,matrice!B:C,2,0) -> Depot 2 | B87: =VLOOKUP(D:D,matrice!B:E,4,0) -> François | C87: =VLOOKUP(D:D,matrice!B:D,3,0) -> Samuel | D87: =AS87 -> 161 | F87: =AU87-$J$4 -> 0.50069444 | G87: =AV87-$J$4 -> 0.54791667 | H87: =AW87 -> 43376 | I87: =F88-G87 -> -0.12222222 | L87: =IF(IF($G87>=M$4,M$4,$G87)-IF($F87>=L$4,IF($F87>=M$4,M$4,$F87),L$4)<0,0,IF($G87>=M$4,M$4,$G87)-IF($F87>=L$4,IF($F87>=M$4,M$4,$F87),L$4)) -> 0 | M87: =IF(IF($G87>=N$4,N$4,$G87)-IF($F87>=M$4,IF($F87>=N$4,N$4,$F87),M$4)<0,0,IF($G87>=N$4,N$4,$G87)-IF($F87>=M$4,IF($F87>=N$4,N$4,$F87),M$4)) -> 0 | N87: =IF(IF($G87>=O$4,O$4,$G87)-IF($F87>=N$4,IF($F87>=O$4,O$4,$F87),N$4)<0,0,IF($G87>=O$4,O$4,$G87)-IF($F87>=N$4,IF($F87>=O$4,O$4,$F87),N$4)) -> 0 | O87: =IF(IF($G87>=P$4,P$4,$G87)-IF($F87>=O$4,IF($F87>=P$4,P$4,$F87),O$4)<0,0,IF($G87>=P$4,P$4,$G87)-IF($F87>=O$4,IF($F87>=P$4,P$4,$F87),O$4)) -> 0 | P87: =IF(IF($G87>=Q$4,Q$4,$G87)-IF($F87>=P$4,IF($F87>=Q$4,Q$4,$F87),P$4)<0,0,IF($G87>=Q$4,Q$4,$G87)-IF($F87>=P$4,IF($F87>=Q$4,Q$4,$F87),P$4)) -> 0 | Q87: =IF(IF($G87>=R$4,R$4,$G87)-IF($F87>=Q$4,IF($F87>=R$4,R$4,$F87),Q$4)<0,0,IF($G87>=R$4,R$4,$G87)-IF($F87>=Q$4,IF($F87>=R$4,R$4,$F87),Q$4)) -> 0 | R87: =IF(IF($G87>=S$4,S$4,$G87)-IF($F87>=R$4,IF($F87>=S$4,S$4,$F87),R$4)<0,0,IF($G87>=S$4,S$4,$G87)-IF($F87>=R$4,IF($F87>=S$4,S$4,$F87),R$4)) -> 0 | S87: =IF(IF($G87>=T$4,T$4,$G87)-IF($F87>=S$4,IF($F87>=T$4,T$4,$F87),S$4)<0,0,IF($G87>=T$4,T$4,$G87)-IF($F87>=S$4,IF($F87>=T$4,T$4,$F87),S$4)) -> 0 | ... AP87: =IF(IF($G87>=AQ$4,AQ$4,$G87)-IF($F87>=AP$4,IF($F87>=AQ$4,AQ$4,$F87),AP$4)<0,0,IF($G87>=AQ$4,AQ$4,$G87)-IF($F87>=AP$4,IF($F87>=AQ$4,AQ$4,$F87),AP$4)) -> 0 | AS87: 161 | AU87: 0.54236111 | AV87: 0.58958333 | AW87: 43376
A88: =VLOOKUP(Login_Logout!D:D,matrice!B:C,2,0) -> Depot 2 | B88: =VLOOKUP(D:D,matrice!B:E,4,0) -> François | C88: =VLOOKUP(D:D,matrice!B:D,3,0) -> Samuel | D88: =AS88 -> 161 | F88: =AU88-$J$4 -> 0.42569444 | G88: =AV88-$J$4 -> 0.42708333 | H88: =AW88 -> 43379 | I88: =F89-G88 -> 0 | L88: =IF(IF($G88>=M$4,M$4,$G88)-IF($F88>=L$4,IF($F88>=M$4,M$4,$F88),L$4)<0,0,IF($G88>=M$4,M$4,$G88)-IF($F88>=L$4,IF($F88>=M$4,M$4,$F88),L$4)) -> 0 | M88: =IF(IF($G88>=N$4,N$4,$G88)-IF($F88>=M$4,IF($F88>=N$4,N$4,$F88),M$4)<0,0,IF($G88>=N$4,N$4,$G88)-IF($F88>=M$4,IF($F88>=N$4,N$4,$F88),M$4)) -> 0 | N88: =IF(IF($G88>=O$4,O$4,$G88)-IF($F88>=N$4,IF($F88>=O$4,O$4,$F88),N$4)<0,0,IF($G88>=O$4,O$4,$G88)-IF($F88>=N$4,IF($F88>=O$4,O$4,$F88),N$4)) -> 0 | O88: =IF(IF($G88>=P$4,P$4,$G88)-IF($F88>=O$4,IF($F88>=P$4,P$4,$F88),O$4)<0,0,IF($G88>=P$4,P$4,$G88)-IF($F88>=O$4,IF($F88>=P$4,P$4,$F88),O$4)) -> 0 | P88: =IF(IF($G88>=Q$4,Q$4,$G88)-IF($F88>=P$4,IF($F88>=Q$4,Q$4,$F88),P$4)<0,0,IF($G88>=Q$4,Q$4,$G88)-IF($F88>=P$4,IF($F88>=Q$4,Q$4,$F88),P$4)) -> 0 | Q88: =IF(IF($G88>=R$4,R$4,$G88)-IF($F88>=Q$4,IF($F88>=R$4,R$4,$F88),Q$4)<0,0,IF($G88>=R$4,R$4,$G88)-IF($F88>=Q$4,IF($F88>=R$4,R$4,$F88),Q$4)) -> 0 | R88: =IF(IF($G88>=S$4,S$4,$G88)-IF($F88>=R$4,IF($F88>=S$4,S$4,$F88),R$4)<0,0,IF($G88>=S$4,S$4,$G88)-IF($F88>=R$4,IF($F88>=S$4,S$4,$F88),R$4)) -> 0.0013888889 | S88: =IF(IF($G88>=T$4,T$4,$G88)-IF($F88>=S$4,IF($F88>=T$4,T$4,$F88),S$4)<0,0,IF($G88>=T$4,T$4,$G88)-IF($F88>=S$4,IF($F88>=T$4,T$4,$F88),S$4)) -> 0 | ... AP88: =IF(IF($G88>=AQ$4,AQ$4,$G88)-IF($F88>=AP$4,IF($F88>=AQ$4,AQ$4,$F88),AP$4)<0,0,IF($G88>=AQ$4,AQ$4,$G88)-IF($F88>=AP$4,IF($F88>=AQ$4,AQ$4,$F88),AP$4)) -> 0 | AS88: 161 | AU88: 0.46736111 | AV88: 0.46875 | AW88: 43379
A89: =VLOOKUP(Login_Logout!D:D,matrice!B:C,2,0) -> Depot 2 | B89: =VLOOKUP(D:D,matrice!B:E,4,0) -> François | C89: =VLOOKUP(D:D,matrice!B:D,3,0) -> Samuel | D89: =AS89 -> 161 | F89: =AU89-$J$4 -> 0.42708333 | G89: =AV89-$J$4 -> 0.42708333 | H89: =AW89 -> 43379 | I89: =F90-G89 -> 0 | L89: =IF(IF($G89>=M$4,M$4,$G89)-IF($F89>=L$4,IF($F89>=M$4,M$4,$F89),L$4)<0,0,IF($G89>=M$4,M$4,$G89)-IF($F89>=L$4,IF($F89>=M$4,M$4,$F89),L$4)) -> 0 | M89: =IF(IF($G89>=N$4,N$4,$G89)-IF($F89>=M$4,IF($F89>=N$4,N$4,$F89),M$4)<0,0,IF($G89>=N$4,N$4,$G89)-IF($F89>=M$4,IF($F89>=N$4,N$4,$F89),M$4)) -> 0 | N89: =IF(IF($G89>=O$4,O$4,$G89)-IF($F89>=N$4,IF($F89>=O$4,O$4,$F89),N$4)<0,0,IF($G89>=O$4,O$4,$G89)-IF($F89>=N$4,IF($F89>=O$4,O$4,$F89),N$4)) -> 0 | O89: =IF(IF($G89>=P$4,P$4,$G89)-IF($F89>=O$4,IF($F89>=P$4,P$4,$F89),O$4)<0,0,IF($G89>=P$4,P$4,$G89)-IF($F89>=O$4,IF($F89>=P$4,P$4,$F89),O$4)) -> 0 | P89: =IF(IF($G89>=Q$4,Q$4,$G89)-IF($F89>=P$4,IF($F89>=Q$4,Q$4,$F89),P$4)<0,0,IF($G89>=Q$4,Q$4,$G89)-IF($F89>=P$4,IF($F89>=Q$4,Q$4,$F89),P$4)) -> 0 | Q89: =IF(IF($G89>=R$4,R$4,$G89)-IF($F89>=Q$4,IF($F89>=R$4,R$4,$F89),Q$4)<0,0,IF($G89>=R$4,R$4,$G89)-IF($F89>=Q$4,IF($F89>=R$4,R$4,$F89),Q$4)) -> 0 | R89: =IF(IF($G89>=S$4,S$4,$G89)-IF($F89>=R$4,IF($F89>=S$4,S$4,$F89),R$4)<0,0,IF($G89>=S$4,S$4,$G89)-IF($F89>=R$4,IF($F89>=S$4,S$4,$F89),R$4)) -> 0 | S89: =IF(IF($G89>=T$4,T$4,$G89)-IF($F89>=S$4,IF($F89>=T$4,T$4,$F89),S$4)<0,0,IF($G89>=T$4,T$4,$G89)-IF($F89>=S$4,IF($F89>=T$4,T$4,$F89),S$4)) -> 0 | ... AP89: =IF(IF($G89>=AQ$4,AQ$4,$G89)-IF($F89>=AP$4,IF($F89>=AQ$4,AQ$4,$F89),AP$4)<0,0,IF($G89>=AQ$4,AQ$4,$G89)-IF($F89>=AP$4,IF($F89>=AQ$4,AQ$4,$F89),AP$4)) -> 0 | AS89: 161 | AU89: 0.46875 | AV89: 0.46875 | AW89: 43379
... A91: =VLOOKUP(Login_Logout!D:D,matrice!B:C,2,0) -> Depot 2 | B91: =VLOOKUP(D:D,matrice!B:E,4,0) -> François | C91: =VLOOKUP(D:D,matrice!B:D,3,0) -> Samuel | D91: =AS91 -> 161 | F91: =AU91-$J$4 -> 0.71388889 | G91: =AV91-$J$4 -> 0.71527778 | H91: =AW91 -> 43381 | I91: =F92-G91 -> 0 | L91: =IF(IF($G91>=M$4,M$4,$G91)-IF($F91>=L$4,IF($F91>=M$4,M$4,$F91),L$4)<0,0,IF($G91>=M$4,M$4,$G91)-IF($F91>=L$4,IF($F91>=M$4,M$4,$F91),L$4)) -> 0 | M91: =IF(IF($G91>=N$4,N$4,$G91)-IF($F91>=M$4,IF($F91>=N$4,N$4,$F91),M$4)<0,0,IF($G91>=N$4,N$4,$G91)-IF($F91>=M$4,IF($F91>=N$4,N$4,$F91),M$4)) -> 0 | N91: =IF(IF($G91>=O$4,O$4,$G91)-IF($F91>=N$4,IF($F91>=O$4,O$4,$F91),N$4)<0,0,IF($G91>=O$4,O$4,$G91)-IF($F91>=N$4,IF($F91>=O$4,O$4,$F91),N$4)) -> 0 | O91: =IF(IF($G91>=P$4,P$4,$G91)-IF($F91>=O$4,IF($F91>=P$4,P$4,$F91),O$4)<0,0,IF($G91>=P$4,P$4,$G91)-IF($F91>=O$4,IF($F91>=P$4,P$4,$F91),O$4)) -> 0 | P91: =IF(IF($G91>=Q$4,Q$4,$G91)-IF($F91>=P$4,IF($F91>=Q$4,Q$4,$F91),P$4)<0,0,IF($G91>=Q$4,Q$4,$G91)-IF($F91>=P$4,IF($F91>=Q$4,Q$4,$F91),P$4)) -> 0 | Q91: =IF(IF($G91>=R$4,R$4,$G91)-IF($F91>=Q$4,IF($F91>=R$4,R$4,$F91),Q$4)<0,0,IF($G91>=R$4,R$4,$G91)-IF($F91>=Q$4,IF($F91>=R$4,R$4,$F91),Q$4)) -> 0 | R91: =IF(IF($G91>=S$4,S$4,$G91)-IF($F91>=R$4,IF($F91>=S$4,S$4,$F91),R$4)<0,0,IF($G91>=S$4,S$4,$G91)-IF($F91>=R$4,IF($F91>=S$4,S$4,$F91),R$4)) -> 0 | S91: =IF(IF($G91>=T$4,T$4,$G91)-IF($F91>=S$4,IF($F91>=T$4,T$4,$F91),S$4)<0,0,IF($G91>=T$4,T$4,$G91)-IF($F91>=S$4,IF($F91>=T$4,T$4,$F91),S$4)) -> 0 | ... AP91: =IF(IF($G91>=AQ$4,AQ$4,$G91)-IF($F91>=AP$4,IF($F91>=AQ$4,AQ$4,$F91),AP$4)<0,0,IF($G91>=AQ$4,AQ$4,$G91)-IF($F91>=AP$4,IF($F91>=AQ$4,AQ$4,$F91),AP$4)) -> 0 | AS91: 161 | AU91: 0.75555556 | AV91: 0.75694444 | AW91: 43381
A92: =VLOOKUP(Login_Logout!D:D,matrice!B:C,2,0) -> Depot 2 | B92: =VLOOKUP(D:D,matrice!B:E,4,0) -> François | C92: =VLOOKUP(D:D,matrice!B:D,3,0) -> Samuel | D92: =AS92 -> 161 | F92: =AU92-$J$4 -> 0.71527778 | G92: =AV92-$J$4 -> 0.71527778 | H92: =AW92 -> 43381 | I92: =#REF!-G92 -> #REF! | L92: =IF(IF($G92>=M$4,M$4,$G92)-IF($F92>=L$4,IF($F92>=M$4,M$4,$F92),L$4)<0,0,IF($G92>=M$4,M$4,$G92)-IF($F92>=L$4,IF($F92>=M$4,M$4,$F92),L$4)) -> 0 | M92: =IF(IF($G92>=N$4,N$4,$G92)-IF($F92>=M$4,IF($F92>=N$4,N$4,$F92),M$4)<0,0,IF($G92>=N$4,N$4,$G92)-IF($F92>=M$4,IF($F92>=N$4,N$4,$F92),M$4)) -> 0 | N92: =IF(IF($G92>=O$4,O$4,$G92)-IF($F92>=N$4,IF($F92>=O$4,O$4,$F92),N$4)<0,0,IF($G92>=O$4,O$4,$G92)-IF($F92>=N$4,IF($F92>=O$4,O$4,$F92),N$4)) -> 0 | O92: =IF(IF($G92>=P$4,P$4,$G92)-IF($F92>=O$4,IF($F92>=P$4,P$4,$F92),O$4)<0,0,IF($G92>=P$4,P$4,$G92)-IF($F92>=O$4,IF($F92>=P$4,P$4,$F92),O$4)) -> 0 | P92: =IF(IF($G92>=Q$4,Q$4,$G92)-IF($F92>=P$4,IF($F92>=Q$4,Q$4,$F92),P$4)<0,0,IF($G92>=Q$4,Q$4,$G92)-IF($F92>=P$4,IF($F92>=Q$4,Q$4,$F92),P$4)) -> 0 | Q92: =IF(IF($G92>=R$4,R$4,$G92)-IF($F92>=Q$4,IF($F92>=R$4,R$4,$F92),Q$4)<0,0,IF($G92>=R$4,R$4,$G92)-IF($F92>=Q$4,IF($F92>=R$4,R$4,$F92),Q$4)) -> 0 | R92: =IF(IF($G92>=S$4,S$4,$G92)-IF($F92>=R$4,IF($F92>=S$4,S$4,$F92),R$4)<0,0,IF($G92>=S$4,S$4,$G92)-IF($F92>=R$4,IF($F92>=S$4,S$4,$F92),R$4)) -> 0 | S92: =IF(IF($G92>=T$4,T$4,$G92)-IF($F92>=S$4,IF($F92>=T$4,T$4,$F92),S$4)<0,0,IF($G92>=T$4,T$4,$G92)-IF($F92>=S$4,IF($F92>=T$4,T$4,$F92),S$4)) -> 0 | ... AP92: =IF(IF($G92>=AQ$4,AQ$4,$G92)-IF($F92>=AP$4,IF($F92>=AQ$4,AQ$4,$F92),AP$4)<0,0,IF($G92>=AQ$4,AQ$4,$G92)-IF($F92>=AP$4,IF($F92>=AQ$4,AQ$4,$F92),AP$4)) -> 0 | AS92: 161 | AU92: 0.75694444 | AV92: 0.75694444 | AW92: 43381

Sheet Dimensionement
B2: DATA | C2: Dimensionement
C3: 0.29166667 | E3: 0.33333333 | G3: 0.375 | I3: 0.41666667 | K3: 0.45833333 | M3: 0.5 | O3: 0.54166667 | Q3: 0.58333333 | S3: 0.625 | U3: 0.66666667 | W3: 0.70833333 | Y3: 0.75 | AA3: 0.79166667 | AC3: 0.83333333 | AE3: 0.875 | AG3: 0.91666667
C4: 0.020833333 | D4: 0.29166667 | E4: 0.3125 | F4: 0.33333333 | G4: 0.35416667 | H4: 0.375 | I4: 0.39583333 | J4: 0.41666667 | K4: 0.4375 | L4: 0.45833333 | M4: 0.47916667 | N4: 0.5 | O4: 0.52083333 | P4: 0.54166667 | Q4: 0.5625 | R4: 0.58333333 | S4: 0.60416667 | T4: 0.625 | U4: 0.64583333 | V4: 0.66666667 | W4: 0.6875 | X4: 0.70833333 | Y4: 0.72916667 | Z4: 0.75 | AA4: 0.77083333 | AB4: 0.79166667 | AC4: 0.8125 | AD4: 0.83333333 | AE4: 0.85416667 | AF4: 0.875 | AG4: 0.89583333 | AH4: 0.91666667
B5: 43374 | D5: =ROUND(SUMIFS(Login_Logout!L$5:L$87102,Login_Logout!$H$5:$H$87102,$B5)/$C$4,0) -> 1 | E5: =ROUND(SUMIFS(Login_Logout!M$5:M$87102,Login_Logout!$H$5:$H$87102,$B5)/$C$4,0) -> 1 | F5: =ROUND(SUMIFS(Login_Logout!N$5:N$87102,Login_Logout!$H$5:$H$87102,$B5)/$C$4,0) -> 1 | G5: =ROUND(SUMIFS(Login_Logout!O$5:O$87102,Login_Logout!$H$5:$H$87102,$B5)/$C$4,0) -> 1 | H5: =ROUND(SUMIFS(Login_Logout!P$5:P$87102,Login_Logout!$H$5:$H$87102,$B5)/$C$4,0) -> 2 | I5: =ROUND(SUMIFS(Login_Logout!Q$5:Q$87102,Login_Logout!$H$5:$H$87102,$B5)/$C$4,0) -> 2 | J5: =ROUND(SUMIFS(Login_Logout!R$5:R$87102,Login_Logout!$H$5:$H$87102,$B5)/$C$4,0) -> 2 | K5: =ROUND(SUMIFS(Login_Logout!S$5:S$87102,Login_Logout!$H$5:$H$87102,$B5)/$C$4,0) -> 2 | ... AH5: =ROUND(SUMIFS(Login_Logout!AP$5:AP$87102,Login_Logout!$H$5:$H$87102,$B5)/$C$4,0) -> 0
B6: =B5+1 -> 43375 | D6: =ROUND(SUMIFS(Login_Logout!L$5:L$87102,Login_Logout!$H$5:$H$87102,$B6)/$C$4,0) -> 1 | E6: =ROUND(SUMIFS(Login_Logout!M$5:M$87102,Login_Logout!$H$5:$H$87102,$B6)/$C$4,0) -> 1 | F6: =ROUND(SUMIFS(Login_Logout!N$5:N$87102,Login_Logout!$H$5:$H$87102,$B6)/$C$4,0) -> 2 | G6: =ROUND(SUMIFS(Login_Logout!O$5:O$87102,Login_Logout!$H$5:$H$87102,$B6)/$C$4,0) -> 2 | H6: =ROUND(SUMIFS(Login_Logout!P$5:P$87102,Login_Logout!$H$5:$H$87102,$B6)/$C$4,0) -> 2 | I6: =ROUND(SUMIFS(Login_Logout!Q$5:Q$87102,Login_Logout!$H$5:$H$87102,$B6)/$C$4,0) -> 2 | J6: =ROUND(SUMIFS(Login_Logout!R$5:R$87102,Login_Logout!$H$5:$H$87102,$B6)/$C$4,0) -> 2 | K6: =ROUND(SUMIFS(Login_Logout!S$5:S$87102,Login_Logout!$H$5:$H$87102,$B6)/$C$4,0) -> 2 | ... AH6: =ROUND(SUMIFS(Login_Logout!AP$5:AP$87102,Login_Logout!$H$5:$H$87102,$B6)/$C$4,0) -> 0
B7: =B6+1 -> 43376 | D7: =ROUND(SUMIFS(Login_Logout!L$5:L$87102,Login_Logout!$H$5:$H$87102,$B7)/$C$4,0) -> 1 | E7: =ROUND(SUMIFS(Login_Logout!M$5:M$87102,Login_Logout!$H$5:$H$87102,$B7)/$C$4,0) -> 1 | F7: =ROUND(SUMIFS(Login_Logout!N$5:N$87102,Login_Logout!$H$5:$H$87102,$B7)/$C$4,0) -> 2 | G7: =ROUND(SUMIFS(Login_Logout!O$5:O$87102,Login_Logout!$H$5:$H$87102,$B7)/$C$4,0) -> 2 | H7: =ROUND(SUMIFS(Login_Logout!P$5:P$87102,Login_Logout!$H$5:$H$87102,$B7)/$C$4,0) -> 2 | I7: =ROUND(SUMIFS(Login_Logout!Q$5:Q$87102,Login_Logout!$H$5:$H$87102,$B7)/$C$4,0) -> 2 | J7: =ROUND(SUMIFS(Login_Logout!R$5:R$87102,Login_Logout!$H$5:$H$87102,$B7)/$C$4,0) -> 2 | K7: =ROUND(SUMIFS(Login_Logout!S$5:S$87102,Login_Logout!$H$5:$H$87102,$B7)/$C$4,0) -> 2 | ... AH7: =ROUND(SUMIFS(Login_Logout!AP$5:AP$87102,Login_Logout!$H$5:$H$87102,$B7)/$C$4,0) -> 0
B8: =B7+1 -> 43377 | D8: =ROUND(SUMIFS(Login_Logout!L$5:L$87102,Login_Logout!$H$5:$H$87102,$B8)/$C$4,0) -> 1 | E8: =ROUND(SUMIFS(Login_Logout!M$5:M$87102,Login_Logout!$H$5:$H$87102,$B8)/$C$4,0) -> 1 | F8: =ROUND(SUMIFS(Login_Logout!N$5:N$87102,Login_Logout!$H$5:$H$87102,$B8)/$C$4,0) -> 2 | G8: =ROUND(SUMIFS(Login_Logout!O$5:O$87102,Login_Logout!$H$5:$H$87102,$B8)/$C$4,0) -> 2 | H8: =ROUND(SUMIFS(Login_Logout!P$5:P$87102,Login_Logout!$H$5:$H$87102,$B8)/$C$4,0) -> 2 | I8: =ROUND(SUMIFS(Login_Logout!Q$5:Q$87102,Login_Logout!$H$5:$H$87102,$B8)/$C$4,0) -> 2 | J8: =ROUND(SUMIFS(Login_Logout!R$5:R$87102,Login_Logout!$H$5:$H$87102,$B8)/$C$4,0) -> 2 | K8: =ROUND(SUMIFS(Login_Logout!S$5:S$87102,Login_Logout!$H$5:$H$87102,$B8)/$C$4,0) -> 2 | ... AH8: =ROUND(SUMIFS(Login_Logout!AP$5:AP$87102,Login_Logout!$H$5:$H$87102,$B8)/$C$4,0) -> 0
B9: =B8+1 -> 43378 | D9: =ROUND(SUMIFS(Login_Logout!L$5:L$87102,Login_Logout!$H$5:$H$87102,$B9)/$C$4,0) -> 1 | E9: =ROUND(SUMIFS(Login_Logout!M$5:M$87102,Login_Logout!$H$5:$H$87102,$B9)/$C$4,0) -> 1 | F9: =ROUND(SUMIFS(Login_Logout!N$5:N$87102,Login_Logout!$H$5:$H$87102,$B9)/$C$4,0) -> 2 | G9: =ROUND(SUMIFS(Login_Logout!O$5:O$87102,Login_Logout!$H$5:$H$87102,$B9)/$C$4,0) -> 2 | H9: =ROUND(SUMIFS(Login_Logout!P$5:P$87102,Login_Logout!$H$5:$H$87102,$B9)/$C$4,0) -> 2 | I9: =ROUND(SUMIFS(Login_Logout!Q$5:Q$87102,Login_Logout!$H$5:$H$87102,$B9)/$C$4,0) -> 2 | J9: =ROUND(SUMIFS(Login_Logout!R$5:R$87102,Login_Logout!$H$5:$H$87102,$B9)/$C$4,0) -> 2 | K9: =ROUND(SUMIFS(Login_Logout!S$5:S$87102,Login_Logout!$H$5:$H$87102,$B9)/$C$4,0) -> 2 | ... AH9: =ROUND(SUMIFS(Login_Logout!AP$5:AP$87102,Login_Logout!$H$5:$H$87102,$B9)/$C$4,0) -> 0
B10: =B9+1 -> 43379 | D10: =ROUND(SUMIFS(Login_Logout!L$5:L$87102,Login_Logout!$H$5:$H$87102,$B10)/$C$4,0) -> 0 | E10: =ROUND(SUMIFS(Login_Logout!M$5:M$87102,Login_Logout!$H$5:$H$87102,$B10)/$C$4,0) -> 0 | F10: =ROUND(SUMIFS(Login_Logout!N$5:N$87102,Login_Logout!$H$5:$H$87102,$B10)/$C$4,0) -> 0 | G10: =ROUND(SUMIFS(Login_Logout!O$5:O$87102,Login_Logout!$H$5:$H$87102,$B10)/$C$4,0) -> 0 | H10: =ROUND(SUMIFS(Login_Logout!P$5:P$87102,Login_Logout!$H$5:$H$87102,$B10)/$C$4,0) -> 0 | I10: =ROUND(SUMIFS(Login_Logout!Q$5:Q$87102,Login_Logout!$H$5:$H$87102,$B10)/$C$4,0) -> 0 | J10: =ROUND(SUMIFS(Login_Logout!R$5:R$87102,Login_Logout!$H$5:$H$87102,$B10)/$C$4,0) -> 0 | K10: =ROUND(SUMIFS(Login_Logout!S$5:S$87102,Login_Logout!$H$5:$H$87102,$B10)/$C$4,0) -> 0 | ... AH10: =ROUND(SUMIFS(Login_Logout!AP$5:AP$87102,Login_Logout!$H$5:$H$87102,$B10)/$C$4,0) -> 0
B11: =B10+1 -> 43380 | D11: =ROUND(SUMIFS(Login_Logout!L$5:L$87102,Login_Logout!$H$5:$H$87102,$B11)/$C$4,0) -> 0 | E11: =ROUND(SUMIFS(Login_Logout!M$5:M$87102,Login_Logout!$H$5:$H$87102,$B11)/$C$4,0) -> 0 | F11: =ROUND(SUMIFS(Login_Logout!N$5:N$87102,Login_Logout!$H$5:$H$87102,$B11)/$C$4,0) -> 0 | G11: =ROUND(SUMIFS(Login_Logout!O$5:O$87102,Login_Logout!$H$5:$H$87102,$B11)/$C$4,0) -> 0 | H11: =ROUND(SUMIFS(Login_Logout!P$5:P$87102,Login_Logout!$H$5:$H$87102,$B11)/$C$4,0) -> 0 | I11: =ROUND(SUMIFS(Login_Logout!Q$5:Q$87102,Login_Logout!$H$5:$H$87102,$B11)/$C$4,0) -> 0 | J11: =ROUND(SUMIFS(Login_Logout!R$5:R$87102,Login_Logout!$H$5:$H$87102,$B11)/$C$4,0) -> 0 | K11: =ROUND(SUMIFS(Login_Logout!S$5:S$87102,Login_Logout!$H$5:$H$87102,$B11)/$C$4,0) -> 0 | ... AH11: =ROUND(SUMIFS(Login_Logout!AP$5:AP$87102,Login_Logout!$H$5:$H$87102,$B11)/$C$4,0) -> 0
B12: =B11+1 -> 43381 | D12: =ROUND(SUMIFS(Login_Logout!L$5:L$87102,Login_Logout!$H$5:$H$87102,$B12)/$C$4,0) -> 1 | E12: =ROUND(SUMIFS(Login_Logout!M$5:M$87102,Login_Logout!$H$5:$H$87102,$B12)/$C$4,0) -> 1 | F12: =ROUND(SUMIFS(Login_Logout!N$5:N$87102,Login_Logout!$H$5:$H$87102,$B12)/$C$4,0) -> 2 | G12: =ROUND(SUMIFS(Login_Logout!O$5:O$87102,Login_Logout!$H$5:$H$87102,$B12)/$C$4,0) -> 2 | H12: =ROUND(SUMIFS(Login_Logout!P$5:P$87102,Login_Logout!$H$5:$H$87102,$B12)/$C$4,0) -> 2 | I12: =ROUND(SUMIFS(Login_Logout!Q$5:Q$87102,Login_Logout!$H$5:$H$87102,$B12)/$C$4,0) -> 2 | J12: =ROUND(SUMIFS(Login_Logout!R$5:R$87102,Login_Logout!$H$5:$H$87102,$B12)/$C$4,0) -> 2 | K12: =ROUND(SUMIFS(Login_Logout!S$5:S$87102,Login_Logout!$H$5:$H$87102,$B12)/$C$4,0) -> 2 | ... AH12: =ROUND(SUMIFS(Login_Logout!AP$5:AP$87102,Login_Logout!$H$5:$H$87102,$B12)/$C$4,0) -> 0
B13: =B12+1 -> 43382 | D13: =ROUND(SUMIFS(Login_Logout!L$5:L$87102,Login_Logout!$H$5:$H$87102,$B13)/$C$4,0) -> 0 | E13: =ROUND(SUMIFS(Login_Logout!M$5:M$87102,Login_Logout!$H$5:$H$87102,$B13)/$C$4,0) -> 0 | F13: =ROUND(SUMIFS(Login_Logout!N$5:N$87102,Login_Logout!$H$5:$H$87102,$B13)/$C$4,0) -> 0 | G13: =ROUND(SUMIFS(Login_Logout!O$5:O$87102,Login_Logout!$H$5:$H$87102,$B13)/$C$4,0) -> 0 | H13: =ROUND(SUMIFS(Login_Logout!P$5:P$87102,Login_Logout!$H$5:$H$87102,$B13)/$C$4,0) -> 0 | I13: =ROUND(SUMIFS(Login_Logout!Q$5:Q$87102,Login_Logout!$H$5:$H$87102,$B13)/$C$4,0) -> 0 | J13: =ROUND(SUMIFS(Login_Logout!R$5:R$87102,Login_Logout!$H$5:$H$87102,$B13)/$C$4,0) -> 0 | K13: =ROUND(SUMIFS(Login_Logout!S$5:S$87102,Login_Logout!$H$5:$H$87102,$B13)/$C$4,0) -> 0 | ... AH13: =ROUND(SUMIFS(Login_Logout!AP$5:AP$87102,Login_Logout!$H$5:$H$87102,$B13)/$C$4,0) -> 0
B14: =B13+1 -> 43383 | D14: =ROUND(SUMIFS(Login_Logout!L$5:L$87102,Login_Logout!$H$5:$H$87102,$B14)/$C$4,0) -> 0 | E14: =ROUND(SUMIFS(Login_Logout!M$5:M$87102,Login_Logout!$H$5:$H$87102,$B14)/$C$4,0) -> 0 | F14: =ROUND(SUMIFS(Login_Logout!N$5:N$87102,Login_Logout!$H$5:$H$87102,$B14)/$C$4,0) -> 0 | G14: =ROUND(SUMIFS(Login_Logout!O$5:O$87102,Login_Logout!$H$5:$H$87102,$B14)/$C$4,0) -> 0 | H14: =ROUND(SUMIFS(Login_Logout!P$5:P$87102,Login_Logout!$H$5:$H$87102,$B14)/$C$4,0) -> 0 | I14: =ROUND(SUMIFS(Login_Logout!Q$5:Q$87102,Login_Logout!$H$5:$H$87102,$B14)/$C$4,0) -> 0 | J14: =ROUND(SUMIFS(Login_Logout!R$5:R$87102,Login_Logout!$H$5:$H$87102,$B14)/$C$4,0) -> 0 | K14: =ROUND(SUMIFS(Login_Logout!S$5:S$87102,Login_Logout!$H$5:$H$87102,$B14)/$C$4,0) -> 0 | ... AH14: =ROUND(SUMIFS(Login_Logout!AP$5:AP$87102,Login_Logout!$H$5:$H$87102,$B14)/$C$4,0) -> 0
B15: =B14+1 -> 43384 | D15: =ROUND(SUMIFS(Login_Logout!L$5:L$87102,Login_Logout!$H$5:$H$87102,$B15)/$C$4,0) -> 0 | E15: =ROUND(SUMIFS(Login_Logout!M$5:M$87102,Login_Logout!$H$5:$H$87102,$B15)/$C$4,0) -> 0 | F15: =ROUND(SUMIFS(Login_Logout!N$5:N$87102,Login_Logout!$H$5:$H$87102,$B15)/$C$4,0) -> 0 | G15: =ROUND(SUMIFS(Login_Logout!O$5:O$87102,Login_Logout!$H$5:$H$87102,$B15)/$C$4,0) -> 0 | H15: =ROUND(SUMIFS(Login_Logout!P$5:P$87102,Login_Logout!$H$5:$H$87102,$B15)/$C$4,0) -> 0 | I15: =ROUND(SUMIFS(Login_Logout!Q$5:Q$87102,Login_Logout!$H$5:$H$87102,$B15)/$C$4,0) -> 0 | J15: =ROUND(SUMIFS(Login_Logout!R$5:R$87102,Login_Logout!$H$5:$H$87102,$B15)/$C$4,0) -> 0 | K15: =ROUND(SUMIFS(Login_Logout!S$5:S$87102,Login_Logout!$H$5:$H$87102,$B15)/$C$4,0) -> 0 | ... AH15: =ROUND(SUMIFS(Login_Logout!AP$5:AP$87102,Login_Logout!$H$5:$H$87102,$B15)/$C$4,0) -> 0
B16: =B15+1 -> 43385 | D16: =ROUND(SUMIFS(Login_Logout!L$5:L$87102,Login_Logout!$H$5:$H$87102,$B16)/$C$4,0) -> 0 | E16: =ROUND(SUMIFS(Login_Logout!M$5:M$87102,Login_Logout!$H$5:$H$87102,$B16)/$C$4,0) -> 0 | F16: =ROUND(SUMIFS(Login_Logout!N$5:N$87102,Login_Logout!$H$5:$H$87102,$B16)/$C$4,0) -> 0 | G16: =ROUND(SUMIFS(Login_Logout!O$5:O$87102,Login_Logout!$H$5:$H$87102,$B16)/$C$4,0) -> 0 | H16: =ROUND(SUMIFS(Login_Logout!P$5:P$87102,Login_Logout!$H$5:$H$87102,$B16)/$C$4,0) -> 0 | I16: =ROUND(SUMIFS(Login_Logout!Q$5:Q$87102,Login_Logout!$H$5:$H$87102,$B16)/$C$4,0) -> 0 | J16: =ROUND(SUMIFS(Login_Logout!R$5:R$87102,Login_Logout!$H$5:$H$87102,$B16)/$C$4,0) -> 0 | K16: =ROUND(SUMIFS(Login_Logout!S$5:S$87102,Login_Logout!$H$5:$H$87102,$B16)/$C$4,0) -> 0 | ... AH16: =ROUND(SUMIFS(Login_Logout!AP$5:AP$87102,Login_Logout!$H$5:$H$87102,$B16)/$C$4,0) -> 0
B17: =B16+1 -> 43386 | D17: =ROUND(SUMIFS(Login_Logout!L$5:L$87102,Login_Logout!$H$5:$H$87102,$B17)/$C$4,0) -> 0 | E17: =ROUND(SUMIFS(Login_Logout!M$5:M$87102,Login_Logout!$H$5:$H$87102,$B17)/$C$4,0) -> 0 | F17: =ROUND(SUMIFS(Login_Logout!N$5:N$87102,Login_Logout!$H$5:$H$87102,$B17)/$C$4,0) -> 0 | G17: =ROUND(SUMIFS(Login_Logout!O$5:O$87102,Login_Logout!$H$5:$H$87102,$B17)/$C$4,0) -> 0 | H17: =ROUND(SUMIFS(Login_Logout!P$5:P$87102,Login_Logout!$H$5:$H$87102,$B17)/$C$4,0) -> 0 | I17: =ROUND(SUMIFS(Login_Logout!Q$5:Q$87102,Login_Logout!$H$5:$H$87102,$B17)/$C$4,0) -> 0 | J17: =ROUND(SUMIFS(Login_Logout!R$5:R$87102,Login_Logout!$H$5:$H$87102,$B17)/$C$4,0) -> 0 | K17: =ROUND(SUMIFS(Login_Logout!S$5:S$87102,Login_Logout!$H$5:$H$87102,$B17)/$C$4,0) -> 0 | ... AH17: =ROUND(SUMIFS(Login_Logout!AP$5:AP$87102,Login_Logout!$H$5:$H$87102,$B17)/$C$4,0) -> 0
... B32: =B31+1 -> 43401 | D32: =ROUND(SUMIFS(Login_Logout!L$5:L$87102,Login_Logout!$H$5:$H$87102,$B32)/$C$4,0) -> 0 | E32: =ROUND(SUMIFS(Login_Logout!M$5:M$87102,Login_Logout!$H$5:$H$87102,$B32)/$C$4,0) -> 0 | F32: =ROUND(SUMIFS(Login_Logout!N$5:N$87102,Login_Logout!$H$5:$H$87102,$B32)/$C$4,0) -> 0 | G32: =ROUND(SUMIFS(Login_Logout!O$5:O$87102,Login_Logout!$H$5:$H$87102,$B32)/$C$4,0) -> 0 | H32: =ROUND(SUMIFS(Login_Logout!P$5:P$87102,Login_Logout!$H$5:$H$87102,$B32)/$C$4,0) -> 0 | I32: =ROUND(SUMIFS(Login_Logout!Q$5:Q$87102,Login_Logout!$H$5:$H$87102,$B32)/$C$4,0) -> 0 | J32: =ROUND(SUMIFS(Login_Logout!R$5:R$87102,Login_Logout!$H$5:$H$87102,$B32)/$C$4,0) -> 0 | K32: =ROUND(SUMIFS(Login_Logout!S$5:S$87102,Login_Logout!$H$5:$H$87102,$B32)/$C$4,0) -> 0 | ... AH32: =ROUND(SUMIFS(Login_Logout!AP$5:AP$87102,Login_Logout!$H$5:$H$87102,$B32)/$C$4,0) -> 0
B33: =IF(MONTH(B32+1)=MONTH(B32),B32+1,"") -> 43402 | D33: =ROUND(SUMIFS(Login_Logout!L$5:L$87102,Login_Logout!$H$5:$H$87102,$B33)/$C$4,0) -> 0 | E33: =ROUND(SUMIFS(Login_Logout!M$5:M$87102,Login_Logout!$H$5:$H$87102,$B33)/$C$4,0) -> 0 | F33: =ROUND(SUMIFS(Login_Logout!N$5:N$87102,Login_Logout!$H$5:$H$87102,$B33)/$C$4,0) -> 0 | G33: =ROUND(SUMIFS(Login_Logout!O$5:O$87102,Login_Logout!$H$5:$H$87102,$B33)/$C$4,0) -> 0 | H33: =ROUND(SUMIFS(Login_Logout!P$5:P$87102,Login_Logout!$H$5:$H$87102,$B33)/$C$4,0) -> 0 | I33: =ROUND(SUMIFS(Login_Logout!Q$5:Q$87102,Login_Logout!$H$5:$H$87102,$B33)/$C$4,0) -> 0 | J33: =ROUND(SUMIFS(Login_Logout!R$5:R$87102,Login_Logout!$H$5:$H$87102,$B33)/$C$4,0) -> 0 | K33: =ROUND(SUMIFS(Login_Logout!S$5:S$87102,Login_Logout!$H$5:$H$87102,$B33)/$C$4,0) -> 0 | ... AH33: =ROUND(SUMIFS(Login_Logout!AP$5:AP$87102,Login_Logout!$H$5:$H$87102,$B33)/$C$4,0) -> 0
B34: =IF(MONTH(B33+1)=MONTH(B33),B33+1,"") -> 43403 | D34: =ROUND(SUMIFS(Login_Logout!L$5:L$87102,Login_Logout!$H$5:$H$87102,$B34)/$C$4,0) -> 0 | E34: =ROUND(SUMIFS(Login_Logout!M$5:M$87102,Login_Logout!$H$5:$H$87102,$B34)/$C$4,0) -> 0 | F34: =ROUND(SUMIFS(Login_Logout!N$5:N$87102,Login_Logout!$H$5:$H$87102,$B34)/$C$4,0) -> 0 | G34: =ROUND(SUMIFS(Login_Logout!O$5:O$87102,Login_Logout!$H$5:$H$87102,$B34)/$C$4,0) -> 0 | H34: =ROUND(SUMIFS(Login_Logout!P$5:P$87102,Login_Logout!$H$5:$H$87102,$B34)/$C$4,0) -> 0 | I34: =ROUND(SUMIFS(Login_Logout!Q$5:Q$87102,Login_Logout!$H$5:$H$87102,$B34)/$C$4,0) -> 0 | J34: =ROUND(SUMIFS(Login_Logout!R$5:R$87102,Login_Logout!$H$5:$H$87102,$B34)/$C$4,0) -> 0 | K34: =ROUND(SUMIFS(Login_Logout!S$5:S$87102,Login_Logout!$H$5:$H$87102,$B34)/$C$4,0) -> 0 | ... AH34: =ROUND(SUMIFS(Login_Logout!AP$5:AP$87102,Login_Logout!$H$5:$H$87102,$B34)/$C$4,0) -> 0
B35: =IF(MONTH(B34+1)=MONTH(B34),B34+1,"") -> 43404 | D35: =ROUND(SUMIFS(Login_Logout!L$5:L$87102,Login_Logout!$H$5:$H$87102,$B35)/$C$4,0) -> 0 | E35: =ROUND(SUMIFS(Login_Logout!M$5:M$87102,Login_Logout!$H$5:$H$87102,$B35)/$C$4,0) -> 0 | F35: =ROUND(SUMIFS(Login_Logout!N$5:N$87102,Login_Logout!$H$5:$H$87102,$B35)/$C$4,0) -> 0 | G35: =ROUND(SUMIFS(Login_Logout!O$5:O$87102,Login_Logout!$H$5:$H$87102,$B35)/$C$4,0) -> 0 | H35: =ROUND(SUMIFS(Login_Logout!P$5:P$87102,Login_Logout!$H$5:$H$87102,$B35)/$C$4,0) -> 0 | I35: =ROUND(SUMIFS(Login_Logout!Q$5:Q$87102,Login_Logout!$H$5:$H$87102,$B35)/$C$4,0) -> 0 | J35: =ROUND(SUMIFS(Login_Logout!R$5:R$87102,Login_Logout!$H$5:$H$87102,$B35)/$C$4,0) -> 0 | K35: =ROUND(SUMIFS(Login_Logout!S$5:S$87102,Login_Logout!$H$5:$H$87102,$B35)/$C$4,0) -> 0 | ... AH35: =ROUND(SUMIFS(Login_Logout!AP$5:AP$87102,Login_Logout!$H$5:$H$87102,$B35)/$C$4,0) -> 0

Sheet matrice
A1: id afectation | B1: id collab | C1: local depot | D1: Nome collab | E1: Responsable equipe
A2: D2003 | B2: 142 | C2: Depot 2 | D2: Alexandra O | E2: François
A3: D1004 | B3: 130 | C3: Depot 1 | D3: andre | E3: Louis
A4: D1001 | B4: 111 | C4: Depot 1 | D4: Cristine | E4: Louis
A5: D2006 | B5: 18 | C5: Depot 2 | D5: Edouard | E5: charles
A6: D1002 | B6: 111 | C6: Depot 1 | D6: françoise | E6: Georges
A7: D1005 | B7: 142 | C7: Depot 1 | D7: jorges | E7: Georges
A8: 84160rsd
A9: 84165rsd
A10: 84167rsd
A11: 84170rsd
A12: 84170rsd
A13: 84175rsd
A14: 84176rsd
A15: 84195rsd
A16: 84201rsd
A17: 84212rsd
A18: 84213rsd
A19: 84214rsd
... A88: 86846rsd
A89: D1006 | B89: 142 | C89: Depot 1 | D89: marie | E89: Ronald
A90: D2004 | B90: 142 | C90: Depot 2 | D90: Marisa | E90: Ronald
A91: D1003 | B91: 128 | C91: Depot 1 | D91: michel | E91: Ronald
A92: D2001 | B92: 148 | C92: Depot 2 | D92: Paulo F | E92: Nicolas
A93: D2002 | B93: 148 | C93: Depot 2 | D93: Paulo R | E93: charles
A94: D2007 | B94: 161 | C94: Depot 2 | D94: Samuel | E94: François
A95: D2005 | B95: 18 | C95: Depot 2 | D95: Terese | E95: Nicolas
A96: 84091rsd
A97: 84129rsd
A98: 84129rsd
A99: 84169rsd
A100: 84169rsd
A101: 84271rsd
A102: 84271rsd
A103: 84327rsd
A104: 84327rsd
A105: 84331rsd
A106: 84331rsd
A107: 84337rsd
... A383: 87278rsd
