Workbook

Sheet Feuil1
B1: JEAN-CLAUDE | C1: MAXIME | D1: JADE | E1: NADIA
A2: 43101 | B2: cu1 | C2: cu2 | D2: sa1 | E2: sa2
A3: 43102 | B3: cu1 | C3: cu2 | D3: sa1 | E3: sa2
A4: 43103 | B4: repos | C4: cu2 | D4: sa1 | E4: sa2
A5: 43104 | B5: cu2 | C5: repos | D5: sa1 | E5: sa2
A6: 43105 | B6: cu2 | C6: cu2 | D6: repos | E6: sa2
A7: 43106 | B7: cu1 | C7: cu2 | D7: sa1 | E7: repos
A8: 43107 | B8: cu1 | C8: cu1 | D8: sa1 | E8: sa1

Sheet Feuil2
C1: 43101 | D1: 43102 | E1: 43103 | F1: 43104 | G1: 43105 | H1: 43106 | I1: 43107
A2: CUISINE | B2: cu1 | C2: =IFERROR(INDEX(Feuil1!$B$1:$E$1,MATCH($B2,OFFSET(Feuil1!$A$1,(MATCH(C$1,Feuil1!$A:$A,0))-1,1,1,4),0)),"") -> JEAN-CLAUDE | D2: =IFERROR(INDEX(Feuil1!$B$1:$E$1,MATCH($B2,OFFSET(Feuil1!$A$1,(MATCH(D$1,Feuil1!$A:$A,0))-1,1,1,4),0)),"") -> JEAN-CLAUDE | E2: =IFERROR(INDEX(Feuil1!$B$1:$E$1,MATCH($B2,OFFSET(Feuil1!$A$1,(MATCH(E$1,Feuil1!$A:$A,0))-1,1,1,4),0)),"") | F2: =IFERROR(INDEX(Feuil1!$B$1:$E$1,MATCH($B2,OFFSET(Feuil1!$A$1,(MATCH(F$1,Feuil1!$A:$A,0))-1,1,1,4),0)),"") | G2: =IFERROR(INDEX(Feuil1!$B$1:$E$1,MATCH($B2,OFFSET(Feuil1!$A$1,(MATCH(G$1,Feuil1!$A:$A,0))-1,1,1,4),0)),"") | H2: =IFERROR(INDEX(Feuil1!$B$1:$E$1,MATCH($B2,OFFSET(Feuil1!$A$1,(MATCH(H$1,Feuil1!$A:$A,0))-1,1,1,4),0)),"") -> JEAN-CLAUDE | I2: =IFERROR(INDEX(Feuil1!$B$1:$E$1,MATCH($B2,OFFSET(Feuil1!$A$1,(MATCH(I$1,Feuil1!$A:$A,0))-1,1,1,4),0)),"") -> JEAN-CLAUDE
B3: cu2 | C3: =IFERROR(INDEX(Feuil1!$B$1:$E$1,MATCH($B3,OFFSET(Feuil1!$A$1,(MATCH(C$1,Feuil1!$A:$A,0))-1,1,1,4),0)),"") -> MAXIME | D3: =IFERROR(INDEX(Feuil1!$B$1:$E$1,MATCH($B3,OFFSET(Feuil1!$A$1,(MATCH(D$1,Feuil1!$A:$A,0))-1,1,1,4),0)),"") -> MAXIME | E3: =IFERROR(INDEX(Feuil1!$B$1:$E$1,MATCH($B3,OFFSET(Feuil1!$A$1,(MATCH(E$1,Feuil1!$A:$A,0))-1,1,1,4),0)),"") -> MAXIME | F3: =IFERROR(INDEX(Feuil1!$B$1:$E$1,MATCH($B3,OFFSET(Feuil1!$A$1,(MATCH(F$1,Feuil1!$A:$A,0))-1,1,1,4),0)),"") -> JEAN-CLAUDE | G3: =IFERROR(INDEX(Feuil1!$B$1:$E$1,MATCH($B3,OFFSET(Feuil1!$A$1,(MATCH(G$1,Feuil1!$A:$A,0))-1,1,1,4),0)),"") -> JEAN-CLAUDE | H3: =IFERROR(INDEX(Feuil1!$B$1:$E$1,MATCH($B3,OFFSET(Feuil1!$A$1,(MATCH(H$1,Feuil1!$A:$A,0))-1,1,1,4),0)),"") -> MAXIME | I3: =IFERROR(INDEX(Feuil1!$B$1:$E$1,MATCH($B3,OFFSET(Feuil1!$A$1,(MATCH(I$1,Feuil1!$A:$A,0))-1,1,1,4),0)),"")
B4: cu3 | C4: =IFERROR(INDEX(Feuil1!$B$1:$E$1,MATCH($B4,OFFSET(Feuil1!$A$1,(MATCH(C$1,Feuil1!$A:$A,0))-1,1,1,4),0)),"") | D4: =IFERROR(INDEX(Feuil1!$B$1:$E$1,MATCH($B4,OFFSET(Feuil1!$A$1,(MATCH(D$1,Feuil1!$A:$A,0))-1,1,1,4),0)),"") | E4: =IFERROR(INDEX(Feuil1!$B$1:$E$1,MATCH($B4,OFFSET(Feuil1!$A$1,(MATCH(E$1,Feuil1!$A:$A,0))-1,1,1,4),0)),"") | F4: =IFERROR(INDEX(Feuil1!$B$1:$E$1,MATCH($B4,OFFSET(Feuil1!$A$1,(MATCH(F$1,Feuil1!$A:$A,0))-1,1,1,4),0)),"") | G4: =IFERROR(INDEX(Feuil1!$B$1:$E$1,MATCH($B4,OFFSET(Feuil1!$A$1,(MATCH(G$1,Feuil1!$A:$A,0))-1,1,1,4),0)),"") | H4: =IFERROR(INDEX(Feuil1!$B$1:$E$1,MATCH($B4,OFFSET(Feuil1!$A$1,(MATCH(H$1,Feuil1!$A:$A,0))-1,1,1,4),0)),"") | I4: =IFERROR(INDEX(Feuil1!$B$1:$E$1,MATCH($B4,OFFSET(Feuil1!$A$1,(MATCH(I$1,Feuil1!$A:$A,0))-1,1,1,4),0)),"")
B5: cu4 | C5: =IFERROR(INDEX(Feuil1!$B$1:$E$1,MATCH($B5,OFFSET(Feuil1!$A$1,(MATCH(C$1,Feuil1!$A:$A,0))-1,1,1,4),0)),"") | D5: =IFERROR(INDEX(Feuil1!$B$1:$E$1,MATCH($B5,OFFSET(Feuil1!$A$1,(MATCH(D$1,Feuil1!$A:$A,0))-1,1,1,4),0)),"") | E5: =IFERROR(INDEX(Feuil1!$B$1:$E$1,MATCH($B5,OFFSET(Feuil1!$A$1,(MATCH(E$1,Feuil1!$A:$A,0))-1,1,1,4),0)),"") | F5: =IFERROR(INDEX(Feuil1!$B$1:$E$1,MATCH($B5,OFFSET(Feuil1!$A$1,(MATCH(F$1,Feuil1!$A:$A,0))-1,1,1,4),0)),"") | G5: =IFERROR(INDEX(Feuil1!$B$1:$E$1,MATCH($B5,OFFSET(Feuil1!$A$1,(MATCH(G$1,Feuil1!$A:$A,0))-1,1,1,4),0)),"") | H5: =IFERROR(INDEX(Feuil1!$B$1:$E$1,MATCH($B5,OFFSET(Feuil1!$A$1,(MATCH(H$1,Feuil1!$A:$A,0))-1,1,1,4),0)),"") | I5: =IFERROR(INDEX(Feuil1!$B$1:$E$1,MATCH($B5,OFFSET(Feuil1!$A$1,(MATCH(I$1,Feuil1!$A:$A,0))-1,1,1,4),0)),"")
A6: SALLE | B6: sa1 | C6: =IFERROR(INDEX(Feuil1!$B$1:$E$1,MATCH($B6,OFFSET(Feuil1!$A$1,(MATCH(C$1,Feuil1!$A:$A,0))-1,1,1,4),0)),"") -> JADE | D6: =IFERROR(INDEX(Feuil1!$B$1:$E$1,MATCH($B6,OFFSET(Feuil1!$A$1,(MATCH(D$1,Feuil1!$A:$A,0))-1,1,1,4),0)),"") -> JADE | E6: =IFERROR(INDEX(Feuil1!$B$1:$E$1,MATCH($B6,OFFSET(Feuil1!$A$1,(MATCH(E$1,Feuil1!$A:$A,0))-1,1,1,4),0)),"") -> JADE | F6: =IFERROR(INDEX(Feuil1!$B$1:$E$1,MATCH($B6,OFFSET(Feuil1!$A$1,(MATCH(F$1,Feuil1!$A:$A,0))-1,1,1,4),0)),"") -> JADE | G6: =IFERROR(INDEX(Feuil1!$B$1:$E$1,MATCH($B6,OFFSET(Feuil1!$A$1,(MATCH(G$1,Feuil1!$A:$A,0))-1,1,1,4),0)),"") | H6: =IFERROR(INDEX(Feuil1!$B$1:$E$1,MATCH($B6,OFFSET(Feuil1!$A$1,(MATCH(H$1,Feuil1!$A:$A,0))-1,1,1,4),0)),"") -> JADE | I6: =IFERROR(INDEX(Feuil1!$B$1:$E$1,MATCH($B6,OFFSET(Feuil1!$A$1,(MATCH(I$1,Feuil1!$A:$A,0))-1,1,1,4),0)),"") -> JADE
B7: sa2 | C7: =IFERROR(INDEX(Feuil1!$B$1:$E$1,MATCH($B7,OFFSET(Feuil1!$A$1,(MATCH(C$1,Feuil1!$A:$A,0))-1,1,1,4),0)),"") -> NADIA | D7: =IFERROR(INDEX(Feuil1!$B$1:$E$1,MATCH($B7,OFFSET(Feuil1!$A$1,(MATCH(D$1,Feuil1!$A:$A,0))-1,1,1,4),0)),"") -> NADIA | E7: =IFERROR(INDEX(Feuil1!$B$1:$E$1,MATCH($B7,OFFSET(Feuil1!$A$1,(MATCH(E$1,Feuil1!$A:$A,0))-1,1,1,4),0)),"") -> NADIA | F7: =IFERROR(INDEX(Feuil1!$B$1:$E$1,MATCH($B7,OFFSET(Feuil1!$A$1,(MATCH(F$1,Feuil1!$A:$A,0))-1,1,1,4),0)),"") -> NADIA | G7: =IFERROR(INDEX(Feuil1!$B$1:$E$1,MATCH($B7,OFFSET(Feuil1!$A$1,(MATCH(G$1,Feuil1!$A:$A,0))-1,1,1,4),0)),"") -> NADIA | H7: =IFERROR(INDEX(Feuil1!$B$1:$E$1,MATCH($B7,OFFSET(Feuil1!$A$1,(MATCH(H$1,Feuil1!$A:$A,0))-1,1,1,4),0)),"") | I7: =IFERROR(INDEX(Feuil1!$B$1:$E$1,MATCH($B7,OFFSET(Feuil1!$A$1,(MATCH(I$1,Feuil1!$A:$A,0))-1,1,1,4),0)),"")
B8: sa3 | C8: =IFERROR(INDEX(Feuil1!$B$1:$E$1,MATCH($B8,OFFSET(Feuil1!$A$1,(MATCH(C$1,Feuil1!$A:$A,0))-1,1,1,4),0)),"") | D8: =IFERROR(INDEX(Feuil1!$B$1:$E$1,MATCH($B8,OFFSET(Feuil1!$A$1,(MATCH(D$1,Feuil1!$A:$A,0))-1,1,1,4),0)),"") | E8: =IFERROR(INDEX(Feuil1!$B$1:$E$1,MATCH($B8,OFFSET(Feuil1!$A$1,(MATCH(E$1,Feuil1!$A:$A,0))-1,1,1,4),0)),"") | F8: =IFERROR(INDEX(Feuil1!$B$1:$E$1,MATCH($B8,OFFSET(Feuil1!$A$1,(MATCH(F$1,Feuil1!$A:$A,0))-1,1,1,4),0)),"") | G8: =IFERROR(INDEX(Feuil1!$B$1:$E$1,MATCH($B8,OFFSET(Feuil1!$A$1,(MATCH(G$1,Feuil1!$A:$A,0))-1,1,1,4),0)),"") | H8: =IFERROR(INDEX(Feuil1!$B$1:$E$1,MATCH($B8,OFFSET(Feuil1!$A$1,(MATCH(H$1,Feuil1!$A:$A,0))-1,1,1,4),0)),"") | I8: =IFERROR(INDEX(Feuil1!$B$1:$E$1,MATCH($B8,OFFSET(Feuil1!$A$1,(MATCH(I$1,Feuil1!$A:$A,0))-1,1,1,4),0)),"")
B9: sa4 | C9: =IFERROR(INDEX(Feuil1!$B$1:$E$1,MATCH($B9,OFFSET(Feuil1!$A$1,(MATCH(C$1,Feuil1!$A:$A,0))-1,1,1,4),0)),"") | D9: =IFERROR(INDEX(Feuil1!$B$1:$E$1,MATCH($B9,OFFSET(Feuil1!$A$1,(MATCH(D$1,Feuil1!$A:$A,0))-1,1,1,4),0)),"") | E9: =IFERROR(INDEX(Feuil1!$B$1:$E$1,MATCH($B9,OFFSET(Feuil1!$A$1,(MATCH(E$1,Feuil1!$A:$A,0))-1,1,1,4),0)),"") | F9: =IFERROR(INDEX(Feuil1!$B$1:$E$1,MATCH($B9,OFFSET(Feuil1!$A$1,(MATCH(F$1,Feuil1!$A:$A,0))-1,1,1,4),0)),"") | G9: =IFERROR(INDEX(Feuil1!$B$1:$E$1,MATCH($B9,OFFSET(Feuil1!$A$1,(MATCH(G$1,Feuil1!$A:$A,0))-1,1,1,4),0)),"") | H9: =IFERROR(INDEX(Feuil1!$B$1:$E$1,MATCH($B9,OFFSET(Feuil1!$A$1,(MATCH(H$1,Feuil1!$A:$A,0))-1,1,1,4),0)),"") | I9: =IFERROR(INDEX(Feuil1!$B$1:$E$1,MATCH($B9,OFFSET(Feuil1!$A$1,(MATCH(I$1,Feuil1!$A:$A,0))-1,1,1,4),0)),"")
A10: REPOS | B10: repos | C10: =IFERROR(INDEX(Feuil1!$B$1:$E$1,MATCH($B10,OFFSET(Feuil1!$A$1,(MATCH(C$1,Feuil1!$A:$A,0))-1,1,1,4),0)),"") | D10: =IFERROR(INDEX(Feuil1!$B$1:$E$1,MATCH($B10,OFFSET(Feuil1!$A$1,(MATCH(D$1,Feuil1!$A:$A,0))-1,1,1,4),0)),"") | E10: =IFERROR(INDEX(Feuil1!$B$1:$E$1,MATCH($B10,OFFSET(Feuil1!$A$1,(MATCH(E$1,Feuil1!$A:$A,0))-1,1,1,4),0)),"") -> JEAN-CLAUDE | F10: =IFERROR(INDEX(Feuil1!$B$1:$E$1,MATCH($B10,OFFSET(Feuil1!$A$1,(MATCH(F$1,Feuil1!$A:$A,0))-1,1,1,4),0)),"") -> MAXIME | G10: =IFERROR(INDEX(Feuil1!$B$1:$E$1,MATCH($B10,OFFSET(Feuil1!$A$1,(MATCH(G$1,Feuil1!$A:$A,0))-1,1,1,4),0)),"") -> JADE | H10: =IFERROR(INDEX(Feuil1!$B$1:$E$1,MATCH($B10,OFFSET(Feuil1!$A$1,(MATCH(H$1,Feuil1!$A:$A,0))-1,1,1,4),0)),"") -> NADIA | I10: =IFERROR(INDEX(Feuil1!$B$1:$E$1,MATCH($B10,OFFSET(Feuil1!$A$1,(MATCH(I$1,Feuil1!$A:$A,0))-1,1,1,4),0)),"")
