Workbook

Sheet tableau de bord
B1: 43832 | C1: nb de véhicules impactés | D1: jour d'immobilisation | E1: moyenne véhicule /jour (jusqu’à aujourd'hui)
A2: R | B2: Remplacement | C2: =COUNTIF(Tableau1[Remplacement],">0") -> 0 | D2: =SUM(Tableau1[Remplacement]) -> 0 | E2: =D2/$I$4 -> 0
A3: P | B3: Panne | C3: =COUNTIF(Tableau1[Panne],">0") -> 1 | D3: =SUM(Tableau1[Panne]) -> 3 | E3: =D3/$I$4 -> -0.27272727
A4: M | B4: Maintenance | C4: =COUNTIF(Tableau1[Maintenance],">0") -> 0 | D4: =SUM(Tableau1[Maintenance]) -> 0 | E4: =D4/$I$4 -> 0 | G4: 43831 | H4: =TODAY() -> 43820 | I4: =H4-G4 -> -11
A5: CT | B5: Contrôle Technique | C5: =COUNTIF(Tableau1[Contrôle Technique],">0") -> 1 | D5: =SUM(Tableau1[Contrôle Technique]) -> 1 | E5: =D5/$I$4 -> -0.090909091
A6: S | B6: Stage Reunion Formation | C6: =COUNTIF(Tableau1[Stage Reunion Formation],">0") -> 1 | D6: =SUM(Tableau1[Stage Reunion Formation]) -> 4 | E6: =D6/$I$4 -> -0.36363636
A7: PR | B7: Panne avec Remplacement | C7: =COUNTIF(Tableau1[Panne avec Remplacement],">0") -> 1 | D7: =SUM(Tableau1[Panne avec Remplacement]) -> 1 | E7: =D7/$I$4 -> -0.090909091
A8: C | B8: carrosserie | C8: =COUNTIF(Tableau1[carrosserie],">0") -> 1 | D8: =SUM(Tableau1[carrosserie]) -> 4 | E8: =D8/$I$4 -> -0.36363636
C9: =SUM(C2:C8) -> 5 | D9: =SUM(D2:D8) -> 13 | E9: =SUM(E2:E8) -> -1.1818182
A12: nombre de véhicules impactés sur 7 jours
C14: 43831 | D14: =C14+1 -> 43832 | E14: =D14+1 -> 43833 | F14: =E14+1 -> 43834 | G14: =F14+1 -> 43835 | H14: =G14+1 -> 43836 | I14: =H14+1 -> 43837 | K14: date recherchée :
A15: R | B15: Remplacement | C15: =COUNTIF(OFFSET(Tableau1[carrosserie],,MATCH(TEXT(C$14,"jj/mm/aaaa"),Feuil1!$4:$4,0)-1),$A15) -> 0 | D15: =COUNTIF(OFFSET(Tableau1[immatriculation],,MATCH(TEXT(D$14,"jj/mm/aaaa"),Feuil1!$4:$4,0)-1),$A15) -> 0 | E15: =COUNTIF(OFFSET(Tableau1[immatriculation],,MATCH(TEXT(E$14,"jj/mm/aaaa"),Feuil1!$4:$4,0)-1),$A15) -> 0 | F15: =COUNTIF(OFFSET(Tableau1[type],,MATCH(TEXT(F$14,"jj/mm/aaaa"),Feuil1!$4:$4,0)-1),$A15) -> 0 | G15: =COUNTIF(OFFSET(Tableau1[type],,MATCH(TEXT(G$14,"jj/mm/aaaa"),Feuil1!$4:$4,0)-1),$A15) -> 0 | H15: =COUNTIF(OFFSET(Tableau1[modele],,MATCH(TEXT(H$14,"jj/mm/aaaa"),Feuil1!$4:$4,0)-1),$A15) -> 0 | I15: =COUNTIF(OFFSET(Tableau1[modele],,MATCH(TEXT(I$14,"jj/mm/aaaa"),Feuil1!$4:$4,0)-1),$A15) -> 0
A16: P | B16: Panne | C16: =COUNTIF(OFFSET(Tableau1[carrosserie],,MATCH(TEXT(C$14,"jj/mm/aaaa"),Feuil1!$4:$4,0)-1),$A16) -> 0 | D16: =COUNTIF(OFFSET(Tableau1[immatriculation],,MATCH(TEXT(D$14,"jj/mm/aaaa"),Feuil1!$4:$4,0)-1),$A16) -> 1 | E16: =COUNTIF(OFFSET(Tableau1[immatriculation],,MATCH(TEXT(E$14,"jj/mm/aaaa"),Feuil1!$4:$4,0)-1),$A16) -> 1 | F16: =COUNTIF(OFFSET(Tableau1[type],,MATCH(TEXT(F$14,"jj/mm/aaaa"),Feuil1!$4:$4,0)-1),$A16) -> 0 | G16: =COUNTIF(OFFSET(Tableau1[type],,MATCH(TEXT(G$14,"jj/mm/aaaa"),Feuil1!$4:$4,0)-1),$A16) -> 0 | H16: =COUNTIF(OFFSET(Tableau1[modele],,MATCH(TEXT(H$14,"jj/mm/aaaa"),Feuil1!$4:$4,0)-1),$A16) -> 0 | I16: =COUNTIF(OFFSET(Tableau1[modele],,MATCH(TEXT(I$14,"jj/mm/aaaa"),Feuil1!$4:$4,0)-1),$A16) -> 0
A17: M | B17: Maintenance | C17: =COUNTIF(OFFSET(Tableau1[carrosserie],,MATCH(TEXT(C$14,"jj/mm/aaaa"),Feuil1!$4:$4,0)-1),$A17) -> 0 | D17: =COUNTIF(OFFSET(Tableau1[immatriculation],,MATCH(TEXT(D$14,"jj/mm/aaaa"),Feuil1!$4:$4,0)-1),$A17) -> 0 | E17: =COUNTIF(OFFSET(Tableau1[immatriculation],,MATCH(TEXT(E$14,"jj/mm/aaaa"),Feuil1!$4:$4,0)-1),$A17) -> 0 | F17: =COUNTIF(OFFSET(Tableau1[type],,MATCH(TEXT(F$14,"jj/mm/aaaa"),Feuil1!$4:$4,0)-1),$A17) -> 0 | G17: =COUNTIF(OFFSET(Tableau1[type],,MATCH(TEXT(G$14,"jj/mm/aaaa"),Feuil1!$4:$4,0)-1),$A17) -> 0 | H17: =COUNTIF(OFFSET(Tableau1[modele],,MATCH(TEXT(H$14,"jj/mm/aaaa"),Feuil1!$4:$4,0)-1),$A17) -> 0 | I17: =COUNTIF(OFFSET(Tableau1[modele],,MATCH(TEXT(I$14,"jj/mm/aaaa"),Feuil1!$4:$4,0)-1),$A17) -> 0
A18: CT | B18: Contrôle Technique | C18: =COUNTIF(OFFSET(Tableau1[carrosserie],,MATCH(TEXT(C$14,"jj/mm/aaaa"),Feuil1!$4:$4,0)-1),$A18) -> 0 | D18: =COUNTIF(OFFSET(Tableau1[immatriculation],,MATCH(TEXT(D$14,"jj/mm/aaaa"),Feuil1!$4:$4,0)-1),$A18) -> 0 | E18: =COUNTIF(OFFSET(Tableau1[immatriculation],,MATCH(TEXT(E$14,"jj/mm/aaaa"),Feuil1!$4:$4,0)-1),$A18) -> 0 | F18: =COUNTIF(OFFSET(Tableau1[type],,MATCH(TEXT(F$14,"jj/mm/aaaa"),Feuil1!$4:$4,0)-1),$A18) -> 0 | G18: =COUNTIF(OFFSET(Tableau1[type],,MATCH(TEXT(G$14,"jj/mm/aaaa"),Feuil1!$4:$4,0)-1),$A18) -> 0 | H18: =COUNTIF(OFFSET(Tableau1[modele],,MATCH(TEXT(H$14,"jj/mm/aaaa"),Feuil1!$4:$4,0)-1),$A18) -> 0 | I18: =COUNTIF(OFFSET(Tableau1[modele],,MATCH(TEXT(I$14,"jj/mm/aaaa"),Feuil1!$4:$4,0)-1),$A18) -> 0
A19: S | B19: Stage Reunion Formation | C19: =COUNTIF(OFFSET(Tableau1[carrosserie],,MATCH(TEXT(C$14,"jj/mm/aaaa"),Feuil1!$4:$4,0)-1),$A19) -> 0 | D19: =COUNTIF(OFFSET(Tableau1[immatriculation],,MATCH(TEXT(D$14,"jj/mm/aaaa"),Feuil1!$4:$4,0)-1),$A19) -> 0 | E19: =COUNTIF(OFFSET(Tableau1[immatriculation],,MATCH(TEXT(E$14,"jj/mm/aaaa"),Feuil1!$4:$4,0)-1),$A19) -> 0 | F19: =COUNTIF(OFFSET(Tableau1[type],,MATCH(TEXT(F$14,"jj/mm/aaaa"),Feuil1!$4:$4,0)-1),$A19) -> 0 | G19: =COUNTIF(OFFSET(Tableau1[type],,MATCH(TEXT(G$14,"jj/mm/aaaa"),Feuil1!$4:$4,0)-1),$A19) -> 0 | H19: =COUNTIF(OFFSET(Tableau1[modele],,MATCH(TEXT(H$14,"jj/mm/aaaa"),Feuil1!$4:$4,0)-1),$A19) -> 0 | I19: =COUNTIF(OFFSET(Tableau1[modele],,MATCH(TEXT(I$14,"jj/mm/aaaa"),Feuil1!$4:$4,0)-1),$A19) -> 0
A20: PR | B20: Panne avec Remplacement | C20: =COUNTIF(OFFSET(Tableau1[carrosserie],,MATCH(TEXT(C$14,"jj/mm/aaaa"),Feuil1!$4:$4,0)-1),$A20) -> 0 | D20: =COUNTIF(OFFSET(Tableau1[immatriculation],,MATCH(TEXT(D$14,"jj/mm/aaaa"),Feuil1!$4:$4,0)-1),$A20) -> 0 | E20: =COUNTIF(OFFSET(Tableau1[immatriculation],,MATCH(TEXT(E$14,"jj/mm/aaaa"),Feuil1!$4:$4,0)-1),$A20) -> 0 | F20: =COUNTIF(OFFSET(Tableau1[type],,MATCH(TEXT(F$14,"jj/mm/aaaa"),Feuil1!$4:$4,0)-1),$A20) -> 0 | G20: =COUNTIF(OFFSET(Tableau1[type],,MATCH(TEXT(G$14,"jj/mm/aaaa"),Feuil1!$4:$4,0)-1),$A20) -> 0 | H20: =COUNTIF(OFFSET(Tableau1[modele],,MATCH(TEXT(H$14,"jj/mm/aaaa"),Feuil1!$4:$4,0)-1),$A20) -> 0 | I20: =COUNTIF(OFFSET(Tableau1[modele],,MATCH(TEXT(I$14,"jj/mm/aaaa"),Feuil1!$4:$4,0)-1),$A20) -> 1
A21: C | B21: carrosserie | C21: =COUNTIF(OFFSET(Tableau1[carrosserie],,MATCH(TEXT(C$14,"jj/mm/aaaa"),Feuil1!$4:$4,0)-1),$A21) -> 0 | D21: =COUNTIF(OFFSET(Tableau1[immatriculation],,MATCH(TEXT(D$14,"jj/mm/aaaa"),Feuil1!$4:$4,0)-1),$A21) -> 1 | E21: =COUNTIF(OFFSET(Tableau1[immatriculation],,MATCH(TEXT(E$14,"jj/mm/aaaa"),Feuil1!$4:$4,0)-1),$A21) -> 1 | F21: =COUNTIF(OFFSET(Tableau1[type],,MATCH(TEXT(F$14,"jj/mm/aaaa"),Feuil1!$4:$4,0)-1),$A21) -> 0 | G21: =COUNTIF(OFFSET(Tableau1[type],,MATCH(TEXT(G$14,"jj/mm/aaaa"),Feuil1!$4:$4,0)-1),$A21) -> 0 | H21: =COUNTIF(OFFSET(Tableau1[modele],,MATCH(TEXT(H$14,"jj/mm/aaaa"),Feuil1!$4:$4,0)-1),$A21) -> 0 | I21: =COUNTIF(OFFSET(Tableau1[modele],,MATCH(TEXT(I$14,"jj/mm/aaaa"),Feuil1!$4:$4,0)-1),$A21) -> 0

Sheet Feuil1
A1: M | B1: Maintenance | C1: PR | D1: Panne avec remplacement de véhicule | E1: C | F1: Carrosserie | G1: 01/01/2020 | H1: 02/01/2020 | I1: 03/01/2020 | J1: 04/01/2020 | K1: 05/01/2020 | L1: 06/01/2020 | M1: 07/01/2020 | N1: 08/01/2020 | O1: 09/01/2020 | P1: 10/01/2020 | Q1: 11/01/2020 | R1: 12/01/2020 | S1: 13/01/2020 | T1: 14/01/2020 | U1: 15/01/2020 | V1: 16/01/2020 | W1: 17/01/2020 | X1: 18/01/2020 | Y1: 19/01/2020 | Z1: 20/01/2020 | AA1: 21/01/2020 | AB1: 22/01/2020 | AC1: 23/01/2020 | AD1: 24/01/2020 | AE1: 25/01/2020 | AF1: 26/01/2020 | AG1: 27/01/2020 | AH1: 28/01/2020 | AI1: 29/01/2020 | AJ1: 30/01/2020 | AK1: 31/01/2020 | AL1: 01/02/2020 | AM1: 02/02/2020 | AN1: 03/02/2020 | AO1: 04/02/2020 | AP1: 05/02/2020 | AQ1: 06/02/2020 | AR1: 07/02/2020 | AS1: 08/02/2020 | AT1: 09/02/2020 | AU1: 10/02/2020 | AV1: 11/02/2020 | AW1: 12/02/2020 | AX1: 13/02/2020 | AY1: 14/02/2020 | AZ1: 15/02/2020 | BA1: 16/02/2020 | BB1: 17/02/2020 | BC1: 18/02/2020 | BD1: 19/02/2020 | BE1: 20/02/2020 | BF1: 21/02/2020 | BG1: 22/02/2020 | BH1: 23/02/2020 | BI1: 24/02/2020 | BJ1: 25/02/2020 | BK1: 26/02/2020 | BL1: 27/02/2020 | BM1: 28/02/2020 | BN1: 29/02/2020 | BO1: 01/03/2020 | BP1: 02/03/2020 | BQ1: 03/03/2020 | BR1: 04/03/2020 | BS1: 05/03/2020 | BT1: 06/03/2020 | BU1: 07/03/2020 | BV1: 08/03/2020 | BW1: 09/03/2020 | BX1: 10/03/2020 | BY1: 11/03/2020 | BZ1: 12/03/2020 | CA1: 13/03/2020 | CB1: 14/03/2020 | CC1: 15/03/2020 | CD1: 16/03/2020 | CE1: 17/03/2020 | CF1: 18/03/2020 | CG1: 19/03/2020 | CH1: 20/03/2020 | CI1: 21/03/2020 | CJ1: 22/03/2020 | CK1: 23/03/2020 | CL1: 24/03/2020 | CM1: 25/03/2020 | CN1: 26/03/2020 | CO1: 27/03/2020 | CP1: 28/03/2020 | CQ1: 29/03/2020 | CR1: 30/03/2020 | CS1: 31/03/2020 | CT1: 01/04/2020 | CU1: 02/04/2020 | CV1: 03/04/2020 | CW1: 04/04/2020 | CX1: 05/04/2020 | CY1: 06/04/2020 | CZ1: 07/04/2020 | DA1: 08/04/2020 | DB1: 09/04/2020 | DC1: 10/04/2020 | DD1: 11/04/2020 | DE1: 12/04/2020 | DF1: 13/04/2020 | DG1: 14/04/2020 | DH1: 15/04/2020 | DI1: 16/04/2020 | DJ1: 17/04/2020 | DK1: 18/04/2020 | DL1: 19/04/2020 | DM1: 20/04/2020 | DN1: 21/04/2020 | DO1: 22/04/2020 | DP1: 23/04/2020 | DQ1: 24/04/2020 | DR1: 25/04/2020 | DS1: 26/04/2020 | DT1: 27/04/2020 | DU1: 28/04/2020 | DV1: 29/04/2020 | DW1: 30/04/2020 | DX1: 01/05/2020 | DY1: 02/05/2020 | DZ1: 03/05/2020 | EA1: 04/05/2020 | EB1: 05/05/2020 | EC1: 06/05/2020 | ED1: 07/05/2020 | EE1: 08/05/2020 | EF1: 09/05/2020 | EG1: 10/05/2020 | EH1: 11/05/2020 | EI1: 12/05/2020 | EJ1: 13/05/2020 | EK1: 14/05/2020 | EL1: 15/05/2020 | EM1: 16/05/2020 | EN1: 17/05/2020 | EO1: 18/05/2020 | EP1: 19/05/2020 | EQ1: 20/05/2020 | ER1: 21/05/2020 | ES1: 22/05/2020 | ET1: 23/05/2020 | EU1: 24/05/2020 | EV1: 25/05/2020 | EW1: 26/05/2020 | EX1: 27/05/2020 | EY1: 28/05/2020 | EZ1: 29/05/2020 | FA1: 30/05/2020 | FB1: 31/05/2020 | FC1: 01/06/2020 | FD1: 02/06/2020 | FE1: 03/06/2020 | FF1: 04/06/2020 | FG1: 05/06/2020 | FH1: 06/06/2020 | FI1: 07/06/2020 | FJ1: 08/06/2020 | FK1: 09/06/2020 | FL1: 10/06/2020 | FM1: 11/06/2020 | FN1: 12/06/2020 | FO1: 13/06/2020 | FP1: 14/06/2020 | FQ1: 15/06/2020 | FR1: 16/06/2020 | FS1: 17/06/2020 | FT1: 18/06/2020 | FU1: 19/06/2020 | FV1: 20/06/2020 | FW1: 21/06/2020 | FX1: 22/06/2020 | FY1: 23/06/2020 | FZ1: 24/06/2020 | GA1: 25/06/2020 | GB1: 26/06/2020 | GC1: 27/06/2020 | GD1: 28/06/2020 | GE1: 29/06/2020 | GF1: 30/06/2020 | GG1: 01/07/2020 | GH1: 02/07/2020 | GI1: 03/07/2020 | GJ1: 04/07/2020 | GK1: 05/07/2020 | GL1: 06/07/2020 | GM1: 07/07/2020 | GN1: 08/07/2020 | GO1: 09/07/2020 | GP1: 10/07/2020 | GQ1: 11/07/2020 | GR1: 12/07/2020 | GS1: 13/07/2020 | GT1: 14/07/2020 | GU1: 15/07/2020 | GV1: 16/07/2020 | GW1: 17/07/2020 | GX1: 18/07/2020 | GY1: 19/07/2020 | GZ1: 20/07/2020 | HA1: 21/07/2020 | HB1: 22/07/2020 | HC1: 23/07/2020 | HD1: 24/07/2020 | HE1: 25/07/2020 | HF1: 26/07/2020 | HG1: 27/07/2020 | HH1: 28/07/2020 | HI1: 29/07/2020 | HJ1: 30/07/2020 | HK1: 31/07/2020 | HL1: 01/08/2020 | HM1: 02/08/2020 | HN1: 03/08/2020 | HO1: 04/08/2020 | HP1: 05/08/2020 | HQ1: 06/08/2020 | HR1: 07/08/2020 | HS1: 08/08/2020 | HT1: 09/08/2020 | HU1: 10/08/2020 | HV1: 11/08/2020 | HW1: 12/08/2020 | HX1: 13/08/2020 | HY1: 14/08/2020 | HZ1: 15/08/2020 | IA1: 16/08/2020 | IB1: 17/08/2020 | IC1: 18/08/2020 | ID1: 19/08/2020 | IE1: 20/08/2020 | IF1: 21/08/2020 | IG1: 22/08/2020 | IH1: 23/08/2020 | II1: 24/08/2020 | IJ1: 25/08/2020 | IK1: 26/08/2020 | IL1: 27/08/2020 | IM1: 28/08/2020 | IN1: 29/08/2020 | IO1: 30/08/2020 | IP1: 31/08/2020 | IQ1: 01/09/2020 | IR1: 02/09/2020 | IS1: 03/09/2020 | IT1: 04/09/2020 | IU1: 05/09/2020 | IV1: 06/09/2020 | IW1: 07/09/2020 | IX1: 08/09/2020 | IY1: 09/09/2020 | IZ1: 10/09/2020 | JA1: 11/09/2020 | JB1: 12/09/2020 | JC1: 13/09/2020 | JD1: 14/09/2020 | JE1: 15/09/2020 | JF1: 16/09/2020 | JG1: 17/09/2020 | JH1: 18/09/2020 | JI1: 19/09/2020 | JJ1: 20/09/2020 | JK1: 21/09/2020 | JL1: 22/09/2020 | JM1: 23/09/2020 | JN1: 24/09/2020 | JO1: 25/09/2020 | JP1: 26/09/2020 | JQ1: 27/09/2020 | JR1: 28/09/2020 | JS1: 29/09/2020 | JT1: 30/09/2020 | JU1: 01/10/2020 | JV1: 02/10/2020 | JW1: 03/10/2020 | JX1: 04/10/2020 | JY1: 05/10/2020 | JZ1: 06/10/2020 | KA1: 07/10/2020 | KB1: 08/10/2020 | KC1: 09/10/2020 | KD1: 10/10/2020 | KE1: 11/10/2020 | KF1: 12/10/2020 | KG1: 13/10/2020 | KH1: 14/10/2020 | KI1: 15/10/2020 | KJ1: 16/10/2020 | KK1: 17/10/2020 | KL1: 18/10/2020 | KM1: 19/10/2020 | KN1: 20/10/2020 | KO1: 21/10/2020 | KP1: 22/10/2020 | KQ1: 23/10/2020 | KR1: 24/10/2020 | KS1: 25/10/2020 | KT1: 26/10/2020 | KU1: 27/10/2020 | KV1: 28/10/2020 | KW1: 29/10/2020 | KX1: 30/10/2020 | KY1: 31/10/2020 | KZ1: 01/11/2020 | LA1: 02/11/2020 | LB1: 03/11/2020 | LC1: 04/11/2020 | LD1: 05/11/2020 | LE1: 06/11/2020 | LF1: 07/11/2020 | LG1: 08/11/2020 | LH1: 09/11/2020 | LI1: 10/11/2020 | LJ1: 11/11/2020 | LK1: 12/11/2020 | LL1: 13/11/2020 | LM1: 14/11/2020 | LN1: 15/11/2020 | LO1: 16/11/2020 | LP1: 17/11/2020 | LQ1: 18/11/2020 | LR1: 19/11/2020 | LS1: 20/11/2020 | LT1: 21/11/2020 | LU1: 22/11/2020 | LV1: 23/11/2020 | LW1: 24/11/2020 | LX1: 25/11/2020 | LY1: 26/11/2020 | LZ1: 27/11/2020 | MA1: 28/11/2020 | MB1: 29/11/2020 | MC1: 30/11/2020 | MD1: 01/12/2020 | ME1: 02/12/2020 | MF1: 03/12/2020 | MG1: 04/12/2020 | MH1: 05/12/2020 | MI1: 06/12/2020 | MJ1: 07/12/2020 | MK1: 08/12/2020 | ML1: 09/12/2020 | MM1: 10/12/2020 | MN1: 11/12/2020 | MO1: 12/12/2020 | MP1: 13/12/2020 | MQ1: 14/12/2020 | MR1: 15/12/2020 | MS1: 16/12/2020 | MT1: 17/12/2020 | MU1: 18/12/2020 | MV1: 19/12/2020 | MW1: 20/12/2020 | MX1: 21/12/2020 | MY1: 22/12/2020 | MZ1: 23/12/2020 | NA1: 24/12/2020 | NB1: 25/12/2020 | NC1: 26/12/2020 | ND1: 27/12/2020 | NE1: 28/12/2020 | NF1: 29/12/2020 | NG1: 30/12/2020 | NH1: 31/12/2020
A2: CT | B2: contrôle technique | C2: R | D2: En remplacement de véhicule | G2: Janvier | AL2: fevrier | BO2: mars | CT2: avril | DX2: mai | FC2: juin | GG2: juillet | HL2: aout | IQ2: septembre | JU2: octobre | KZ2: novembre | MD2: decembre
A3: S | B3: Stage formation Reunion | C3: P | D3: Panne | G3: semaine 1 | L3: semaine 2 | S3: semaine 3 | V3: semaine 4 | Z3: semaine 4 | AG3: semaine 5 | AN3: semaine 6 | AU3: semaine 7 | BB3: semaine 8 | BI3: semaine 9 | BP3: semaine 10 | BW3: semaine 11 | CD3: semaine 12 | CK3: semaine 13 | CR3: semaine 14 | CY3: semaine 15 | DF3: semaine 16 | DM3: semaine 17 | DT3: semaine 18 | EA3: semaine 19 | EH3: semaine 20 | EO3: semaine 21 | EV3: semaine 22 | FC3: semaine 23 | FJ3: semaine 24 | FQ3: semaine 25 | FX3: semaine 26 | GE3: semaine 27 | GL3: semaine 28 | GS3: semaine 29 | GZ3: semaine 30 | HG3: semaine 31 | HN3: semaine 32 | HU3: semaine 33 | IB3: semaine 34 | II3: semaine 35 | IP3: semaine 36 | IW3: semaine 37 | JD3: semaine 38 | JK3: semaine 39 | JR3: semaine 40 | JY3: semaine 41 | KF3: semaine 42 | KM3: semaine 43 | KT3: semaine 44 | LA3: semaine 45 | LH3: semaine 46 | LO3: semaine 47 | LV3: semaine 48 | MC3: semaine 49 | MJ3: semaine 50 | MQ3: semaine 51 | MX3: semaine 52 | NE3: semaine 53 | NI3: R | NJ3: P | NK3: M | NL3: CT | NM3: S | NN3: PR | NO3: C
A4: immatriculation | B4: type | C4: modele | D4: centre | E4: pole | F4: secteur | G4: 01/01/2020 | H4: 02/01/2020 | I4: 03/01/2020 | J4: 04/01/2020 | K4: 05/01/2020 | L4: 06/01/2020 | M4: 07/01/2020 | N4: 08/01/2020 | O4: 09/01/2020 | P4: 10/01/2020 | Q4: 11/01/2020 | R4: 12/01/2020 | S4: 13/01/2020 | T4: 14/01/2020 | U4: 15/01/2020 | V4: 16/01/2020 | W4: 17/01/2020 | X4: 18/01/2020 | Y4: 19/01/2020 | Z4: 20/01/2020 | AA4: 21/01/2020 | AB4: 22/01/2020 | AC4: 23/01/2020 | AD4: 24/01/2020 | AE4: 25/01/2020 | AF4: 26/01/2020 | AG4: 27/01/2020 | AH4: 28/01/2020 | AI4: 29/01/2020 | AJ4: 30/01/2020 | AK4: 31/01/2020 | AL4: 01/02/2020 | AM4: 02/02/2020 | AN4: 03/02/2020 | AO4: 04/02/2020 | AP4: 05/02/2020 | AQ4: 06/02/2020 | AR4: 07/02/2020 | AS4: 08/02/2020 | AT4: 09/02/2020 | AU4: 10/02/2020 | AV4: 11/02/2020 | AW4: 12/02/2020 | AX4: 13/02/2020 | AY4: 14/02/2020 | AZ4: 15/02/2020 | BA4: 16/02/2020 | BB4: 17/02/2020 | BC4: 18/02/2020 | BD4: 19/02/2020 | BE4: 20/02/2020 | BF4: 21/02/2020 | BG4: 22/02/2020 | BH4: 23/02/2020 | BI4: 24/02/2020 | BJ4: 25/02/2020 | BK4: 26/02/2020 | BL4: 27/02/2020 | BM4: 28/02/2020 | BN4: 29/02/2020 | BO4: 01/03/2020 | BP4: 02/03/2020 | BQ4: 03/03/2020 | BR4: 04/03/2020 | BS4: 05/03/2020 | BT4: 06/03/2020 | BU4: 07/03/2020 | BV4: 08/03/2020 | BW4: 09/03/2020 | BX4: 10/03/2020 | BY4: 11/03/2020 | BZ4: 12/03/2020 | CA4: 13/03/2020 | CB4: 14/03/2020 | CC4: 15/03/2020 | CD4: 16/03/2020 | CE4: 17/03/2020 | CF4: 18/03/2020 | CG4: 19/03/2020 | CH4: 20/03/2020 | CI4: 21/03/2020 | CJ4: 22/03/2020 | CK4: 23/03/2020 | CL4: 24/03/2020 | CM4: 25/03/2020 | CN4: 26/03/2020 | CO4: 27/03/2020 | CP4: 28/03/2020 | CQ4: 29/03/2020 | CR4: 30/03/2020 | CS4: 31/03/2020 | CT4: 01/04/2020 | CU4: 02/04/2020 | CV4: 03/04/2020 | CW4: 04/04/2020 | CX4: 05/04/2020 | CY4: 06/04/2020 | CZ4: 07/04/2020 | DA4: 08/04/2020 | DB4: 09/04/2020 | DC4: 10/04/2020 | DD4: 11/04/2020 | DE4: 12/04/2020 | DF4: 13/04/2020 | DG4: 14/04/2020 | DH4: 15/04/2020 | DI4: 16/04/2020 | DJ4: 17/04/2020 | DK4: 18/04/2020 | DL4: 19/04/2020 | DM4: 20/04/2020 | DN4: 21/04/2020 | DO4: 22/04/2020 | DP4: 23/04/2020 | DQ4: 24/04/2020 | DR4: 25/04/2020 | DS4: 26/04/2020 | DT4: 27/04/2020 | DU4: 28/04/2020 | DV4: 29/04/2020 | DW4: 30/04/2020 | DX4: 01/05/2020 | DY4: 02/05/2020 | DZ4: 03/05/2020 | EA4: 04/05/2020 | EB4: 05/05/2020 | EC4: 06/05/2020 | ED4: 07/05/2020 | EE4: 08/05/2020 | EF4: 09/05/2020 | EG4: 10/05/2020 | EH4: 11/05/2020 | EI4: 12/05/2020 | EJ4: 13/05/2020 | EK4: 14/05/2020 | EL4: 15/05/2020 | EM4: 16/05/2020 | EN4: 17/05/2020 | EO4: 18/05/2020 | EP4: 19/05/2020 | EQ4: 20/05/2020 | ER4: 21/05/2020 | ES4: 22/05/2020 | ET4: 23/05/2020 | EU4: 24/05/2020 | EV4: 25/05/2020 | EW4: 26/05/2020 | EX4: 27/05/2020 | EY4: 28/05/2020 | EZ4: 29/05/2020 | FA4: 30/05/2020 | FB4: 31/05/2020 | FC4: 01/06/2020 | FD4: 02/06/2020 | FE4: 03/06/2020 | FF4: 04/06/2020 | FG4: 05/06/2020 | FH4: 06/06/2020 | FI4: 07/06/2020 | FJ4: 08/06/2020 | FK4: 09/06/2020 | FL4: 10/06/2020 | FM4: 11/06/2020 | FN4: 12/06/2020 | FO4: 13/06/2020 | FP4: 14/06/2020 | FQ4: 15/06/2020 | FR4: 16/06/2020 | FS4: 17/06/2020 | FT4: 18/06/2020 | FU4: 19/06/2020 | FV4: 20/06/2020 | FW4: 21/06/2020 | FX4: 22/06/2020 | FY4: 23/06/2020 | FZ4: 24/06/2020 | GA4: 25/06/2020 | GB4: 26/06/2020 | GC4: 27/06/2020 | GD4: 28/06/2020 | GE4: 29/06/2020 | GF4: 30/06/2020 | GG4: 01/07/2020 | GH4: 02/07/2020 | GI4: 03/07/2020 | GJ4: 04/07/2020 | GK4: 05/07/2020 | GL4: 06/07/2020 | GM4: 07/07/2020 | GN4: 08/07/2020 | GO4: 09/07/2020 | GP4: 10/07/2020 | GQ4: 11/07/2020 | GR4: 12/07/2020 | GS4: 13/07/2020 | GT4: 14/07/2020 | GU4: 15/07/2020 | GV4: 16/07/2020 | GW4: 17/07/2020 | GX4: 18/07/2020 | GY4: 19/07/2020 | GZ4: 20/07/2020 | HA4: 21/07/2020 | HB4: 22/07/2020 | HC4: 23/07/2020 | HD4: 24/07/2020 | HE4: 25/07/2020 | HF4: 26/07/2020 | HG4: 27/07/2020 | HH4: 28/07/2020 | HI4: 29/07/2020 | HJ4: 30/07/2020 | HK4: 31/07/2020 | HL4: 01/08/2020 | HM4: 02/08/2020 | HN4: 03/08/2020 | HO4: 04/08/2020 | HP4: 05/08/2020 | HQ4: 06/08/2020 | HR4: 07/08/2020 | HS4: 08/08/2020 | HT4: 09/08/2020 | HU4: 10/08/2020 | HV4: 11/08/2020 | HW4: 12/08/2020 | HX4: 13/08/2020 | HY4: 14/08/2020 | HZ4: 15/08/2020 | IA4: 16/08/2020 | IB4: 17/08/2020 | IC4: 18/08/2020 | ID4: 19/08/2020 | IE4: 20/08/2020 | IF4: 21/08/2020 | IG4: 22/08/2020 | IH4: 23/08/2020 | II4: 24/08/2020 | IJ4: 25/08/2020 | IK4: 26/08/2020 | IL4: 27/08/2020 | IM4: 28/08/2020 | IN4: 29/08/2020 | IO4: 30/08/2020 | IP4: 31/08/2020 | IQ4: 01/09/2020 | IR4: 02/09/2020 | IS4: 03/09/2020 | IT4: 04/09/2020 | IU4: 05/09/2020 | IV4: 06/09/2020 | IW4: 07/09/2020 | IX4: 08/09/2020 | IY4: 09/09/2020 | IZ4: 10/09/2020 | JA4: 11/09/2020 | JB4: 12/09/2020 | JC4: 13/09/2020 | JD4: 14/09/2020 | JE4: 15/09/2020 | JF4: 16/09/2020 | JG4: 17/09/2020 | JH4: 18/09/2020 | JI4: 19/09/2020 | JJ4: 20/09/2020 | JK4: 21/09/2020 | JL4: 22/09/2020 | JM4: 23/09/2020 | JN4: 24/09/2020 | JO4: 25/09/2020 | JP4: 26/09/2020 | JQ4: 27/09/2020 | JR4: 28/09/2020 | JS4: 29/09/2020 | JT4: 30/09/2020 | JU4: 01/10/2020 | JV4: 02/10/2020 | JW4: 03/10/2020 | JX4: 04/10/2020 | JY4: 05/10/2020 | JZ4: 06/10/2020 | KA4: 07/10/2020 | KB4: 08/10/2020 | KC4: 09/10/2020 | KD4: 10/10/2020 | KE4: 11/10/2020 | KF4: 12/10/2020 | KG4: 13/10/2020 | KH4: 14/10/2020 | KI4: 15/10/2020 | KJ4: 16/10/2020 | KK4: 17/10/2020 | KL4: 18/10/2020 | KM4: 19/10/2020 | KN4: 20/10/2020 | KO4: 21/10/2020 | KP4: 22/10/2020 | KQ4: 23/10/2020 | KR4: 24/10/2020 | KS4: 25/10/2020 | KT4: 26/10/2020 | KU4: 27/10/2020 | KV4: 28/10/2020 | KW4: 29/10/2020 | KX4: 30/10/2020 | KY4: 31/10/2020 | KZ4: 01/11/2020 | LA4: 02/11/2020 | LB4: 03/11/2020 | LC4: 04/11/2020 | LD4: 05/11/2020 | LE4: 06/11/2020 | LF4: 07/11/2020 | LG4: 08/11/2020 | LH4: 09/11/2020 | LI4: 10/11/2020 | LJ4: 11/11/2020 | LK4: 12/11/2020 | LL4: 13/11/2020 | LM4: 14/11/2020 | LN4: 15/11/2020 | LO4: 16/11/2020 | LP4: 17/11/2020 | LQ4: 18/11/2020 | LR4: 19/11/2020 | LS4: 20/11/2020 | LT4: 21/11/2020 | LU4: 22/11/2020 | LV4: 23/11/2020 | LW4: 24/11/2020 | LX4: 25/11/2020 | LY4: 26/11/2020 | LZ4: 27/11/2020 | MA4: 28/11/2020 | MB4: 29/11/2020 | MC4: 30/11/2020 | MD4: 01/12/2020 | ME4: 02/12/2020 | MF4: 03/12/2020 | MG4: 04/12/2020 | MH4: 05/12/2020 | MI4: 06/12/2020 | MJ4: 07/12/2020 | MK4: 08/12/2020 | ML4: 09/12/2020 | MM4: 10/12/2020 | MN4: 11/12/2020 | MO4: 12/12/2020 | MP4: 13/12/2020 | MQ4: 14/12/2020 | MR4: 15/12/2020 | MS4: 16/12/2020 | MT4: 17/12/2020 | MU4: 18/12/2020 | MV4: 19/12/2020 | MW4: 20/12/2020 | MX4: 21/12/2020 | MY4: 22/12/2020 | MZ4: 23/12/2020 | NA4: 24/12/2020 | NB4: 25/12/2020 | NC4: 26/12/2020 | ND4: 27/12/2020 | NE4: 28/12/2020 | NF4: 29/12/2020 | NG4: 30/12/2020 | NH4: 31/12/2020 | NI4: Remplacement | NJ4: Panne | NK4: Maintenance | NL4: Contrôle Technique | NM4: Stage Reunion Formation | NN4: Panne avec Remplacement | NO4: carrosserie
A5: aa 111 aa | E5: =VLOOKUP(Tableau1[[#This Row],[centre]],Feuil3!$A$2:$C$47,2,FALSE) -> #N/A | F5: =VLOOKUP(Tableau1[[#This Row],[centre]],Feuil3!$A$2:$C$47,3,FALSE) -> #N/A | G5: c | H5: c | I5: c | J5: c | R5: s | S5: s | T5: s | U5: s | NI5: =COUNTIF(Tableau1[[#This Row],[01/01/2020]:[31/12/2020]],NI$3) -> 0 | NJ5: =COUNTIF(Tableau1[[#This Row],[01/01/2020]:[31/12/2020]],NJ$3) -> 0 | NK5: =COUNTIF(Tableau1[[#This Row],[01/01/2020]:[31/12/2020]],NK$3) -> 0 | NL5: =COUNTIF(Tableau1[[#This Row],[01/01/2020]:[31/12/2020]],NL$3) -> 0 | NM5: =COUNTIF(Tableau1[[#This Row],[01/01/2020]:[31/12/2020]],NM$3) -> 4 | NN5: =COUNTIF(Tableau1[[#This Row],[01/01/2020]:[31/12/2020]],NN$3) -> 0 | NO5: =COUNTIF(Tableau1[[#This Row],[01/01/2020]:[31/12/2020]],NO$3) -> 4
A6: bb 111 bb | E6: =VLOOKUP(Tableau1[[#This Row],[centre]],Feuil3!$A$2:$C$47,2,FALSE) -> #N/A | F6: =VLOOKUP(Tableau1[[#This Row],[centre]],Feuil3!$A$2:$C$47,3,FALSE) -> #N/A | H6: p | I6: p | J6: p | O6: pr | NI6: =COUNTIF(Tableau1[[#This Row],[01/01/2020]:[31/12/2020]],NI$3) -> 0 | NJ6: =COUNTIF(Tableau1[[#This Row],[01/01/2020]:[31/12/2020]],NJ$3) -> 3 | NK6: =COUNTIF(Tableau1[[#This Row],[01/01/2020]:[31/12/2020]],NK$3) -> 0 | NL6: =COUNTIF(Tableau1[[#This Row],[01/01/2020]:[31/12/2020]],NL$3) -> 0 | NM6: =COUNTIF(Tableau1[[#This Row],[01/01/2020]:[31/12/2020]],NM$3) -> 0 | NN6: =COUNTIF(Tableau1[[#This Row],[01/01/2020]:[31/12/2020]],NN$3) -> 1 | NO6: =COUNTIF(Tableau1[[#This Row],[01/01/2020]:[31/12/2020]],NO$3) -> 0
A7: cc 111 cc | E7: =VLOOKUP(Tableau1[[#This Row],[centre]],Feuil3!$A$2:$C$47,2,FALSE) -> #N/A | F7: =VLOOKUP(Tableau1[[#This Row],[centre]],Feuil3!$A$2:$C$47,3,FALSE) -> #N/A | M7: ct | NI7: =COUNTIF(Tableau1[[#This Row],[01/01/2020]:[31/12/2020]],NI$3) -> 0 | NJ7: =COUNTIF(Tableau1[[#This Row],[01/01/2020]:[31/12/2020]],NJ$3) -> 0 | NK7: =COUNTIF(Tableau1[[#This Row],[01/01/2020]:[31/12/2020]],NK$3) -> 0 | NL7: =COUNTIF(Tableau1[[#This Row],[01/01/2020]:[31/12/2020]],NL$3) -> 1 | NM7: =COUNTIF(Tableau1[[#This Row],[01/01/2020]:[31/12/2020]],NM$3) -> 0 | NN7: =COUNTIF(Tableau1[[#This Row],[01/01/2020]:[31/12/2020]],NN$3) -> 0 | NO7: =COUNTIF(Tableau1[[#This Row],[01/01/2020]:[31/12/2020]],NO$3) -> 0

Sheet Feuil3
A1: CIS | B1: POLE | C1: SECTEUR | E1: véhicule | F1: type
