Workbook
Name Fermeture: JFP!#REF!
Name JFP: JFP!$D$2:$E$28
Name Pont: JFP!$E$1

Sheet Calendrier
A1: =JFP!A1 -> 2018
B2: 1 | E2: 2 | H2: 3 | K2: 4 | N2: 5 | Q2: 6
B3: =DATE(A1,B2,1) -> 43101 | E3: =DATE(A1,E2,1) -> 43132 | H3: =DATE(A1,H2,1) -> 43160 | K3: =DATE(A1,K2,1) -> 43191 | N3: =DATE(A1,N2,1) -> 43221 | Q3: =DATE(A1,Q2,1) -> 43252
B4: =B3+20 -> 43121 | C4: =IF(B4="","",IFERROR(VLOOKUP(B4,JFP!$B:$C,2,0),IF(WEEKDAY(B4,2)>5,"WE",""))&IF(COUNTIF(JFP!$E:$E,B4),JFP!$E$1,"")) -> WE | E4: =E3+20 -> 43152 | F4: =IF(E4="","",IFERROR(VLOOKUP(E4,JFP!$B:$C,2,0),IF(WEEKDAY(E4,2)>5,"WE",""))&IF(COUNTIF(JFP!$E:$E,E4),JFP!$E$1,"")) | H4: =H3+20 -> 43180 | I4: =IF(H4="","",IFERROR(VLOOKUP(H4,JFP!$B:$C,2,0),IF(WEEKDAY(H4,2)>5,"WE",""))&IF(COUNTIF(JFP!$E:$E,H4),JFP!$E$1,"")) | K4: =K3+20 -> 43211 | L4: =IF(K4="","",IFERROR(VLOOKUP(K4,JFP!$B:$C,2,0),IF(WEEKDAY(K4,2)>5,"WE",""))&IF(COUNTIF(JFP!$E:$E,K4),JFP!$E$1,"")) -> WE | N4: =N3+20 -> 43241 | O4: =IF(N4="","",IFERROR(VLOOKUP(N4,JFP!$B:$C,2,0),IF(WEEKDAY(N4,2)>5,"WE",""))&IF(COUNTIF(JFP!$E:$E,N4),JFP!$E$1,"")) -> Pentecôte | Q4: =Q3+20 -> 43272 | R4: =IF(Q4="","",IFERROR(VLOOKUP(Q4,JFP!$B:$C,2,0),IF(WEEKDAY(Q4,2)>5,"WE",""))&IF(COUNTIF(JFP!$E:$E,Q4),JFP!$E$1,""))
B5: =B4+1 -> 43122 | C5: =IF(B5="","",IFERROR(VLOOKUP(B5,JFP!$B:$C,2,0),IF(WEEKDAY(B5,2)>5,"WE",""))&IF(COUNTIF(JFP!$E:$E,B5),JFP!$E$1,"")) | E5: =E4+1 -> 43153 | F5: =IF(E5="","",IFERROR(VLOOKUP(E5,JFP!$B:$C,2,0),IF(WEEKDAY(E5,2)>5,"WE",""))&IF(COUNTIF(JFP!$E:$E,E5),JFP!$E$1,"")) | H5: =H4+1 -> 43181 | I5: =IF(H5="","",IFERROR(VLOOKUP(H5,JFP!$B:$C,2,0),IF(WEEKDAY(H5,2)>5,"WE",""))&IF(COUNTIF(JFP!$E:$E,H5),JFP!$E$1,"")) | K5: =K4+1 -> 43212 | L5: =IF(K5="","",IFERROR(VLOOKUP(K5,JFP!$B:$C,2,0),IF(WEEKDAY(K5,2)>5,"WE",""))&IF(COUNTIF(JFP!$E:$E,K5),JFP!$E$1,"")) -> WE | N5: =N4+1 -> 43242 | O5: =IF(N5="","",IFERROR(VLOOKUP(N5,JFP!$B:$C,2,0),IF(WEEKDAY(N5,2)>5,"WE",""))&IF(COUNTIF(JFP!$E:$E,N5),JFP!$E$1,"")) | Q5: =Q4+1 -> 43273 | R5: =IF(Q5="","",IFERROR(VLOOKUP(Q5,JFP!$B:$C,2,0),IF(WEEKDAY(Q5,2)>5,"WE",""))&IF(COUNTIF(JFP!$E:$E,Q5),JFP!$E$1,""))
B6: =B5+1 -> 43123 | C6: =IF(B6="","",IFERROR(VLOOKUP(B6,JFP!$B:$C,2,0),IF(WEEKDAY(B6,2)>5,"WE",""))&IF(COUNTIF(JFP!$E:$E,B6),JFP!$E$1,"")) | E6: =E5+1 -> 43154 | F6: =IF(E6="","",IFERROR(VLOOKUP(E6,JFP!$B:$C,2,0),IF(WEEKDAY(E6,2)>5,"WE",""))&IF(COUNTIF(JFP!$E:$E,E6),JFP!$E$1,"")) | H6: =H5+1 -> 43182 | I6: =IF(H6="","",IFERROR(VLOOKUP(H6,JFP!$B:$C,2,0),IF(WEEKDAY(H6,2)>5,"WE",""))&IF(COUNTIF(JFP!$E:$E,H6),JFP!$E$1,"")) | K6: =K5+1 -> 43213 | L6: =IF(K6="","",IFERROR(VLOOKUP(K6,JFP!$B:$C,2,0),IF(WEEKDAY(K6,2)>5,"WE",""))&IF(COUNTIF(JFP!$E:$E,K6),JFP!$E$1,"")) | N6: =N5+1 -> 43243 | O6: =IF(N6="","",IFERROR(VLOOKUP(N6,JFP!$B:$C,2,0),IF(WEEKDAY(N6,2)>5,"WE",""))&IF(COUNTIF(JFP!$E:$E,N6),JFP!$E$1,"")) | Q6: =Q5+1 -> 43274 | R6: =IF(Q6="","",IFERROR(VLOOKUP(Q6,JFP!$B:$C,2,0),IF(WEEKDAY(Q6,2)>5,"WE",""))&IF(COUNTIF(JFP!$E:$E,Q6),JFP!$E$1,"")) -> WE
B7: =B6+1 -> 43124 | C7: =IF(B7="","",IFERROR(VLOOKUP(B7,JFP!$B:$C,2,0),IF(WEEKDAY(B7,2)>5,"WE",""))&IF(COUNTIF(JFP!$E:$E,B7),JFP!$E$1,"")) | E7: =E6+1 -> 43155 | F7: =IF(E7="","",IFERROR(VLOOKUP(E7,JFP!$B:$C,2,0),IF(WEEKDAY(E7,2)>5,"WE",""))&IF(COUNTIF(JFP!$E:$E,E7),JFP!$E$1,"")) -> WE | H7: =H6+1 -> 43183 | I7: =IF(H7="","",IFERROR(VLOOKUP(H7,JFP!$B:$C,2,0),IF(WEEKDAY(H7,2)>5,"WE",""))&IF(COUNTIF(JFP!$E:$E,H7),JFP!$E$1,"")) -> WE | K7: =K6+1 -> 43214 | L7: =IF(K7="","",IFERROR(VLOOKUP(K7,JFP!$B:$C,2,0),IF(WEEKDAY(K7,2)>5,"WE",""))&IF(COUNTIF(JFP!$E:$E,K7),JFP!$E$1,"")) | N7: =N6+1 -> 43244 | O7: =IF(N7="","",IFERROR(VLOOKUP(N7,JFP!$B:$C,2,0),IF(WEEKDAY(N7,2)>5,"WE",""))&IF(COUNTIF(JFP!$E:$E,N7),JFP!$E$1,"")) | Q7: =Q6+1 -> 43275 | R7: =IF(Q7="","",IFERROR(VLOOKUP(Q7,JFP!$B:$C,2,0),IF(WEEKDAY(Q7,2)>5,"WE",""))&IF(COUNTIF(JFP!$E:$E,Q7),JFP!$E$1,"")) -> WE
B8: =B7+1 -> 43125 | C8: =IF(B8="","",IFERROR(VLOOKUP(B8,JFP!$B:$C,2,0),IF(WEEKDAY(B8,2)>5,"WE",""))&IF(COUNTIF(JFP!$E:$E,B8),JFP!$E$1,"")) | E8: =E7+1 -> 43156 | F8: =IF(E8="","",IFERROR(VLOOKUP(E8,JFP!$B:$C,2,0),IF(WEEKDAY(E8,2)>5,"WE",""))&IF(COUNTIF(JFP!$E:$E,E8),JFP!$E$1,"")) -> WE | H8: =H7+1 -> 43184 | I8: =IF(H8="","",IFERROR(VLOOKUP(H8,JFP!$B:$C,2,0),IF(WEEKDAY(H8,2)>5,"WE",""))&IF(COUNTIF(JFP!$E:$E,H8),JFP!$E$1,"")) -> WE | K8: =K7+1 -> 43215 | L8: =IF(K8="","",IFERROR(VLOOKUP(K8,JFP!$B:$C,2,0),IF(WEEKDAY(K8,2)>5,"WE",""))&IF(COUNTIF(JFP!$E:$E,K8),JFP!$E$1,"")) | N8: =N7+1 -> 43245 | O8: =IF(N8="","",IFERROR(VLOOKUP(N8,JFP!$B:$C,2,0),IF(WEEKDAY(N8,2)>5,"WE",""))&IF(COUNTIF(JFP!$E:$E,N8),JFP!$E$1,"")) | Q8: =Q7+1 -> 43276 | R8: =IF(Q8="","",IFERROR(VLOOKUP(Q8,JFP!$B:$C,2,0),IF(WEEKDAY(Q8,2)>5,"WE",""))&IF(COUNTIF(JFP!$E:$E,Q8),JFP!$E$1,""))
B9: =B8+1 -> 43126 | C9: =IF(B9="","",IFERROR(VLOOKUP(B9,JFP!$B:$C,2,0),IF(WEEKDAY(B9,2)>5,"WE",""))&IF(COUNTIF(JFP!$E:$E,B9),JFP!$E$1,"")) | E9: =E8+1 -> 43157 | F9: =IF(E9="","",IFERROR(VLOOKUP(E9,JFP!$B:$C,2,0),IF(WEEKDAY(E9,2)>5,"WE",""))&IF(COUNTIF(JFP!$E:$E,E9),JFP!$E$1,"")) | H9: =H8+1 -> 43185 | I9: =IF(H9="","",IFERROR(VLOOKUP(H9,JFP!$B:$C,2,0),IF(WEEKDAY(H9,2)>5,"WE",""))&IF(COUNTIF(JFP!$E:$E,H9),JFP!$E$1,"")) | K9: =K8+1 -> 43216 | L9: =IF(K9="","",IFERROR(VLOOKUP(K9,JFP!$B:$C,2,0),IF(WEEKDAY(K9,2)>5,"WE",""))&IF(COUNTIF(JFP!$E:$E,K9),JFP!$E$1,"")) | N9: =N8+1 -> 43246 | O9: =IF(N9="","",IFERROR(VLOOKUP(N9,JFP!$B:$C,2,0),IF(WEEKDAY(N9,2)>5,"WE",""))&IF(COUNTIF(JFP!$E:$E,N9),JFP!$E$1,"")) -> WE | Q9: =Q8+1 -> 43277 | R9: =IF(Q9="","",IFERROR(VLOOKUP(Q9,JFP!$B:$C,2,0),IF(WEEKDAY(Q9,2)>5,"WE",""))&IF(COUNTIF(JFP!$E:$E,Q9),JFP!$E$1,""))
B10: =B9+1 -> 43127 | C10: =IF(B10="","",IFERROR(VLOOKUP(B10,JFP!$B:$C,2,0),IF(WEEKDAY(B10,2)>5,"WE",""))&IF(COUNTIF(JFP!$E:$E,B10),JFP!$E$1,"")) -> WE | E10: =E9+1 -> 43158 | F10: =IF(E10="","",IFERROR(VLOOKUP(E10,JFP!$B:$C,2,0),IF(WEEKDAY(E10,2)>5,"WE",""))&IF(COUNTIF(JFP!$E:$E,E10),JFP!$E$1,"")) | H10: =H9+1 -> 43186 | I10: =IF(H10="","",IFERROR(VLOOKUP(H10,JFP!$B:$C,2,0),IF(WEEKDAY(H10,2)>5,"WE",""))&IF(COUNTIF(JFP!$E:$E,H10),JFP!$E$1,"")) | K10: =K9+1 -> 43217 | L10: =IF(K10="","",IFERROR(VLOOKUP(K10,JFP!$B:$C,2,0),IF(WEEKDAY(K10,2)>5,"WE",""))&IF(COUNTIF(JFP!$E:$E,K10),JFP!$E$1,"")) | N10: =N9+1 -> 43247 | O10: =IF(N10="","",IFERROR(VLOOKUP(N10,JFP!$B:$C,2,0),IF(WEEKDAY(N10,2)>5,"WE",""))&IF(COUNTIF(JFP!$E:$E,N10),JFP!$E$1,"")) -> WE | Q10: =Q9+1 -> 43278 | R10: =IF(Q10="","",IFERROR(VLOOKUP(Q10,JFP!$B:$C,2,0),IF(WEEKDAY(Q10,2)>5,"WE",""))&IF(COUNTIF(JFP!$E:$E,Q10),JFP!$E$1,""))
B11: =B10+1 -> 43128 | C11: =IF(B11="","",IFERROR(VLOOKUP(B11,JFP!$B:$C,2,0),IF(WEEKDAY(B11,2)>5,"WE",""))&IF(COUNTIF(JFP!$E:$E,B11),JFP!$E$1,"")) -> WE | E11: =E10+1 -> 43159 | F11: =IF(E11="","",IFERROR(VLOOKUP(E11,JFP!$B:$C,2,0),IF(WEEKDAY(E11,2)>5,"WE",""))&IF(COUNTIF(JFP!$E:$E,E11),JFP!$E$1,"")) | H11: =H10+1 -> 43187 | I11: =IF(H11="","",IFERROR(VLOOKUP(H11,JFP!$B:$C,2,0),IF(WEEKDAY(H11,2)>5,"WE",""))&IF(COUNTIF(JFP!$E:$E,H11),JFP!$E$1,"")) | K11: =K10+1 -> 43218 | L11: =IF(K11="","",IFERROR(VLOOKUP(K11,JFP!$B:$C,2,0),IF(WEEKDAY(K11,2)>5,"WE",""))&IF(COUNTIF(JFP!$E:$E,K11),JFP!$E$1,"")) -> WE | N11: =N10+1 -> 43248 | O11: =IF(N11="","",IFERROR(VLOOKUP(N11,JFP!$B:$C,2,0),IF(WEEKDAY(N11,2)>5,"WE",""))&IF(COUNTIF(JFP!$E:$E,N11),JFP!$E$1,"")) | Q11: =Q10+1 -> 43279 | R11: =IF(Q11="","",IFERROR(VLOOKUP(Q11,JFP!$B:$C,2,0),IF(WEEKDAY(Q11,2)>5,"WE",""))&IF(COUNTIF(JFP!$E:$E,Q11),JFP!$E$1,""))
B12: =B11+1 -> 43129 | C12: =IF(B12="","",IFERROR(VLOOKUP(B12,JFP!$B:$C,2,0),IF(WEEKDAY(B12,2)>5,"WE",""))&IF(COUNTIF(JFP!$E:$E,B12),JFP!$E$1,"")) | E12: =E11+1 -> 43160 | F12: =IF(E12="","",IFERROR(VLOOKUP(E12,JFP!$B:$C,2,0),IF(WEEKDAY(E12,2)>5,"WE",""))&IF(COUNTIF(JFP!$E:$E,E12),JFP!$E$1,"")) | H12: =H11+1 -> 43188 | I12: =IF(H12="","",IFERROR(VLOOKUP(H12,JFP!$B:$C,2,0),IF(WEEKDAY(H12,2)>5,"WE",""))&IF(COUNTIF(JFP!$E:$E,H12),JFP!$E$1,"")) | K12: =K11+1 -> 43219 | L12: =IF(K12="","",IFERROR(VLOOKUP(K12,JFP!$B:$C,2,0),IF(WEEKDAY(K12,2)>5,"WE",""))&IF(COUNTIF(JFP!$E:$E,K12),JFP!$E$1,"")) -> WE | N12: =N11+1 -> 43249 | O12: =IF(N12="","",IFERROR(VLOOKUP(N12,JFP!$B:$C,2,0),IF(WEEKDAY(N12,2)>5,"WE",""))&IF(COUNTIF(JFP!$E:$E,N12),JFP!$E$1,"")) | Q12: =Q11+1 -> 43280 | R12: =IF(Q12="","",IFERROR(VLOOKUP(Q12,JFP!$B:$C,2,0),IF(WEEKDAY(Q12,2)>5,"WE",""))&IF(COUNTIF(JFP!$E:$E,Q12),JFP!$E$1,""))
B13: =B12+1 -> 43130 | C13: =IF(B13="","",IFERROR(VLOOKUP(B13,JFP!$B:$C,2,0),IF(WEEKDAY(B13,2)>5,"WE",""))&IF(COUNTIF(JFP!$E:$E,B13),JFP!$E$1,"")) | E13: =E12+1 -> 43161 | F13: =IF(E13="","",IFERROR(VLOOKUP(E13,JFP!$B:$C,2,0),IF(WEEKDAY(E13,2)>5,"WE",""))&IF(COUNTIF(JFP!$E:$E,E13),JFP!$E$1,"")) | H13: =H12+1 -> 43189 | I13: =IF(H13="","",IFERROR(VLOOKUP(H13,JFP!$B:$C,2,0),IF(WEEKDAY(H13,2)>5,"WE",""))&IF(COUNTIF(JFP!$E:$E,H13),JFP!$E$1,"")) | K13: =K12+1 -> 43220 | L13: =IF(K13="","",IFERROR(VLOOKUP(K13,JFP!$B:$C,2,0),IF(WEEKDAY(K13,2)>5,"WE",""))&IF(COUNTIF(JFP!$E:$E,K13),JFP!$E$1,"")) -> Pont | N13: =N12+1 -> 43250 | O13: =IF(N13="","",IFERROR(VLOOKUP(N13,JFP!$B:$C,2,0),IF(WEEKDAY(N13,2)>5,"WE",""))&IF(COUNTIF(JFP!$E:$E,N13),JFP!$E$1,"")) | Q13: =Q12+1 -> 43281 | R13: =IF(Q13="","",IFERROR(VLOOKUP(Q13,JFP!$B:$C,2,0),IF(WEEKDAY(Q13,2)>5,"WE",""))&IF(COUNTIF(JFP!$E:$E,Q13),JFP!$E$1,"")) -> WE
B14: =B13+1 -> 43131 | C14: =IF(B14="","",IFERROR(VLOOKUP(B14,JFP!$B:$C,2,0),IF(WEEKDAY(B14,2)>5,"WE",""))&IF(COUNTIF(JFP!$E:$E,B14),JFP!$E$1,"")) | E14: =E13+1 -> 43162 | F14: =IF(E14="","",IFERROR(VLOOKUP(E14,JFP!$B:$C,2,0),IF(WEEKDAY(E14,2)>5,"WE",""))&IF(COUNTIF(JFP!$E:$E,E14),JFP!$E$1,"")) -> WE | H14: =H13+1 -> 43190 | I14: =IF(H14="","",IFERROR(VLOOKUP(H14,JFP!$B:$C,2,0),IF(WEEKDAY(H14,2)>5,"WE",""))&IF(COUNTIF(JFP!$E:$E,H14),JFP!$E$1,"")) -> WE | K14: =K13+1 -> 43221 | L14: =IF(K14="","",IFERROR(VLOOKUP(K14,JFP!$B:$C,2,0),IF(WEEKDAY(K14,2)>5,"WE",""))&IF(COUNTIF(JFP!$E:$E,K14),JFP!$E$1,"")) -> Fête du travail | N14: =N13+1 -> 43251 | O14: =IF(N14="","",IFERROR(VLOOKUP(N14,JFP!$B:$C,2,0),IF(WEEKDAY(N14,2)>5,"WE",""))&IF(COUNTIF(JFP!$E:$E,N14),JFP!$E$1,"")) | Q14: =Q13+1 -> 43282 | R14: =IF(Q14="","",IFERROR(VLOOKUP(Q14,JFP!$B:$C,2,0),IF(WEEKDAY(Q14,2)>5,"WE",""))&IF(COUNTIF(JFP!$E:$E,Q14),JFP!$E$1,"")) -> WE
B15: =B14+1 -> 43132 | C15: =IF(B15="","",IFERROR(VLOOKUP(B15,JFP!$B:$C,2,0),IF(WEEKDAY(B15,2)>5,"WE",""))&IF(COUNTIF(JFP!$E:$E,B15),JFP!$E$1,"")) | E15: =E14+1 -> 43163 | F15: =IF(E15="","",IFERROR(VLOOKUP(E15,JFP!$B:$C,2,0),IF(WEEKDAY(E15,2)>5,"WE",""))&IF(COUNTIF(JFP!$E:$E,E15),JFP!$E$1,"")) -> WE | H15: =H14+1 -> 43191 | I15: =IF(H15="","",IFERROR(VLOOKUP(H15,JFP!$B:$C,2,0),IF(WEEKDAY(H15,2)>5,"WE",""))&IF(COUNTIF(JFP!$E:$E,H15),JFP!$E$1,"")) -> Pâques | K15: =K14+1 -> 43222 | L15: =IF(K15="","",IFERROR(VLOOKUP(K15,JFP!$B:$C,2,0),IF(WEEKDAY(K15,2)>5,"WE",""))&IF(COUNTIF(JFP!$E:$E,K15),JFP!$E$1,"")) | N15: =N14+1 -> 43252 | O15: =IF(N15="","",IFERROR(VLOOKUP(N15,JFP!$B:$C,2,0),IF(WEEKDAY(N15,2)>5,"WE",""))&IF(COUNTIF(JFP!$E:$E,N15),JFP!$E$1,"")) | Q15: =Q14+1 -> 43283 | R15: =IF(Q15="","",IFERROR(VLOOKUP(Q15,JFP!$B:$C,2,0),IF(WEEKDAY(Q15,2)>5,"WE",""))&IF(COUNTIF(JFP!$E:$E,Q15),JFP!$E$1,""))
B16: =B15+1 -> 43133 | C16: =IF(B16="","",IFERROR(VLOOKUP(B16,JFP!$B:$C,2,0),IF(WEEKDAY(B16,2)>5,"WE",""))&IF(COUNTIF(JFP!$E:$E,B16),JFP!$E$1,"")) | E16: =E15+1 -> 43164 | F16: =IF(E16="","",IFERROR(VLOOKUP(E16,JFP!$B:$C,2,0),IF(WEEKDAY(E16,2)>5,"WE",""))&IF(COUNTIF(JFP!$E:$E,E16),JFP!$E$1,"")) | H16: =H15+1 -> 43192 | I16: =IF(H16="","",IFERROR(VLOOKUP(H16,JFP!$B:$C,2,0),IF(WEEKDAY(H16,2)>5,"WE",""))&IF(COUNTIF(JFP!$E:$E,H16),JFP!$E$1,"")) -> Lundi de Pâques | K16: =K15+1 -> 43223 | L16: =IF(K16="","",IFERROR(VLOOKUP(K16,JFP!$B:$C,2,0),IF(WEEKDAY(K16,2)>5,"WE",""))&IF(COUNTIF(JFP!$E:$E,K16),JFP!$E$1,"")) | N16: =N15+1 -> 43253 | O16: =IF(N16="","",IFERROR(VLOOKUP(N16,JFP!$B:$C,2,0),IF(WEEKDAY(N16,2)>5,"WE",""))&IF(COUNTIF(JFP!$E:$E,N16),JFP!$E$1,"")) -> WE | Q16: =Q15+1 -> 43284 | R16: =IF(Q16="","",IFERROR(VLOOKUP(Q16,JFP!$B:$C,2,0),IF(WEEKDAY(Q16,2)>5,"WE",""))&IF(COUNTIF(JFP!$E:$E,Q16),JFP!$E$1,""))
... B31: =B30+1 -> 43148 | C31: =IF(B31="","",IFERROR(VLOOKUP(B31,JFP!$B:$C,2,0),IF(WEEKDAY(B31,2)>5,"WE",""))&IF(COUNTIF(JFP!$E:$E,B31),JFP!$E$1,"")) -> WE | E31: =E30+1 -> 43179 | F31: =IF(E31="","",IFERROR(VLOOKUP(E31,JFP!$B:$C,2,0),IF(WEEKDAY(E31,2)>5,"WE",""))&IF(COUNTIF(JFP!$E:$E,E31),JFP!$E$1,"")) | H31: =H30+1 -> 43207 | I31: =IF(H31="","",IFERROR(VLOOKUP(H31,JFP!$B:$C,2,0),IF(WEEKDAY(H31,2)>5,"WE",""))&IF(COUNTIF(JFP!$E:$E,H31),JFP!$E$1,"")) | K31: =K30+1 -> 43238 | L31: =IF(K31="","",IFERROR(VLOOKUP(K31,JFP!$B:$C,2,0),IF(WEEKDAY(K31,2)>5,"WE",""))&IF(COUNTIF(JFP!$E:$E,K31),JFP!$E$1,"")) | N31: =N30+1 -> 43268 | O31: =IF(N31="","",IFERROR(VLOOKUP(N31,JFP!$B:$C,2,0),IF(WEEKDAY(N31,2)>5,"WE",""))&IF(COUNTIF(JFP!$E:$E,N31),JFP!$E$1,"")) -> WE | Q31: =Q30+1 -> 43299 | R31: =IF(Q31="","",IFERROR(VLOOKUP(Q31,JFP!$B:$C,2,0),IF(WEEKDAY(Q31,2)>5,"WE",""))&IF(COUNTIF(JFP!$E:$E,Q31),JFP!$E$1,""))
B32: =B31+1 -> 43149 | C32: =IF(B32="","",IFERROR(VLOOKUP(B32,JFP!$B:$C,2,0),IF(WEEKDAY(B32,2)>5,"WE",""))&IF(COUNTIF(JFP!$E:$E,B32),JFP!$E$1,"")) -> WE | E32: =IF(DAY(E31+1)=21,"",E31+1) | F32: =IF(E32="","",IFERROR(VLOOKUP(E32,JFP!$B:$C,2,0),IF(WEEKDAY(E32,2)>5,"WE",""))&IF(COUNTIF(JFP!$E:$E,E32),JFP!$E$1,"")) | H32: =H31+1 -> 43208 | I32: =IF(H32="","",IFERROR(VLOOKUP(H32,JFP!$B:$C,2,0),IF(WEEKDAY(H32,2)>5,"WE",""))&IF(COUNTIF(JFP!$E:$E,H32),JFP!$E$1,"")) | K32: =K31+1 -> 43239 | L32: =IF(K32="","",IFERROR(VLOOKUP(K32,JFP!$B:$C,2,0),IF(WEEKDAY(K32,2)>5,"WE",""))&IF(COUNTIF(JFP!$E:$E,K32),JFP!$E$1,"")) -> WE | N32: =N31+1 -> 43269 | O32: =IF(N32="","",IFERROR(VLOOKUP(N32,JFP!$B:$C,2,0),IF(WEEKDAY(N32,2)>5,"WE",""))&IF(COUNTIF(JFP!$E:$E,N32),JFP!$E$1,"")) | Q32: =Q31+1 -> 43300 | R32: =IF(Q32="","",IFERROR(VLOOKUP(Q32,JFP!$B:$C,2,0),IF(WEEKDAY(Q32,2)>5,"WE",""))&IF(COUNTIF(JFP!$E:$E,Q32),JFP!$E$1,""))
B33: =B32+1 -> 43150 | C33: =IF(B33="","",IFERROR(VLOOKUP(B33,JFP!$B:$C,2,0),IF(WEEKDAY(B33,2)>5,"WE",""))&IF(COUNTIF(JFP!$E:$E,B33),JFP!$E$1,"")) | F33: =IF(E33="","",IFERROR(VLOOKUP(E33,JFP!$B:$C,2,0),IF(WEEKDAY(E33,2)>5,"WE",""))&IF(COUNTIF(JFP!$E:$E,E33),JFP!$E$1,"")) | H33: =H32+1 -> 43209 | I33: =IF(H33="","",IFERROR(VLOOKUP(H33,JFP!$B:$C,2,0),IF(WEEKDAY(H33,2)>5,"WE",""))&IF(COUNTIF(JFP!$E:$E,H33),JFP!$E$1,"")) | K33: =K32+1 -> 43240 | L33: =IF(K33="","",IFERROR(VLOOKUP(K33,JFP!$B:$C,2,0),IF(WEEKDAY(K33,2)>5,"WE",""))&IF(COUNTIF(JFP!$E:$E,K33),JFP!$E$1,"")) -> WE | N33: =N32+1 -> 43270 | O33: =IF(N33="","",IFERROR(VLOOKUP(N33,JFP!$B:$C,2,0),IF(WEEKDAY(N33,2)>5,"WE",""))&IF(COUNTIF(JFP!$E:$E,N33),JFP!$E$1,"")) | Q33: =Q32+1 -> 43301 | R33: =IF(Q33="","",IFERROR(VLOOKUP(Q33,JFP!$B:$C,2,0),IF(WEEKDAY(Q33,2)>5,"WE",""))&IF(COUNTIF(JFP!$E:$E,Q33),JFP!$E$1,""))
B34: =B33+1 -> 43151 | C34: =IF(B34="","",IFERROR(VLOOKUP(B34,JFP!$B:$C,2,0),IF(WEEKDAY(B34,2)>5,"WE",""))&IF(COUNTIF(JFP!$E:$E,B34),JFP!$E$1,"")) | F34: =IF(E34="","",IFERROR(VLOOKUP(E34,JFP!$B:$C,2,0),IF(WEEKDAY(E34,2)>5,"WE",""))&IF(COUNTIF(JFP!$E:$E,E34),JFP!$E$1,"")) | H34: =H33+1 -> 43210 | I34: =IF(H34="","",IFERROR(VLOOKUP(H34,JFP!$B:$C,2,0),IF(WEEKDAY(H34,2)>5,"WE",""))&IF(COUNTIF(JFP!$E:$E,H34),JFP!$E$1,"")) | L34: =IF(K34="","",IFERROR(VLOOKUP(K34,JFP!$B:$C,2,0),IF(WEEKDAY(K34,2)>5,"WE",""))&IF(COUNTIF(JFP!$E:$E,K34),JFP!$E$1,"")) | N34: =N33+1 -> 43271 | O34: =IF(N34="","",IFERROR(VLOOKUP(N34,JFP!$B:$C,2,0),IF(WEEKDAY(N34,2)>5,"WE",""))&IF(COUNTIF(JFP!$E:$E,N34),JFP!$E$1,"")) | R34: =IF(Q34="","",IFERROR(VLOOKUP(Q34,JFP!$B:$C,2,0),IF(WEEKDAY(Q34,2)>5,"WE",""))&IF(COUNTIF(JFP!$E:$E,Q34),JFP!$E$1,""))
B36: =NETWORKDAYS(B4,MAX(B31:B34),JFP ) -> 22 | E36: =NETWORKDAYS(E4,MAX(E31:E34),JFP ) -> 20 | H36: =NETWORKDAYS(H4,MAX(H31:H34),JFP ) -> 22 | K36: =NETWORKDAYS(K4,MAX(K31:K34),JFP ) -> 14 | N36: =NETWORKDAYS(N4,MAX(N31:N34),JFP ) -> 22 | Q36: =NETWORKDAYS(Q4,MAX(Q31:Q34),JFP ) -> 22 | T36: =SUM(B36:Q36) -> 122
B38: 7 | E38: 8 | H38: 9 | K38: 10 | N38: 11 | Q38: 12
B39: =DATE(A1,B38,1) -> 43282 | E39: =DATE(A1,E38,1) -> 43313 | H39: =DATE(A1,H38,1) -> 43344 | K39: =DATE(A1,K38,1) -> 43374 | N39: =DATE(A1,N38,1) -> 43405 | Q39: =DATE(A1,Q38,1) -> 43435
B40: =B39+20 -> 43302 | C40: =IF(B40="","",IFERROR(VLOOKUP(B40,JFP!$B:$C,2,0),IF(WEEKDAY(B40,2)>5,"WE",""))&IF(COUNTIF(JFP!$E:$E,B40),JFP!$E$1,"")) -> WE | E40: =E39+20 -> 43333 | F40: =IF(E40="","",IFERROR(VLOOKUP(E40,JFP!$B:$C,2,0),IF(WEEKDAY(E40,2)>5,"WE",""))&IF(COUNTIF(JFP!$E:$E,E40),JFP!$E$1,"")) | H40: =H39+20 -> 43364 | I40: =IF(H40="","",IFERROR(VLOOKUP(H40,JFP!$B:$C,2,0),IF(WEEKDAY(H40,2)>5,"WE",""))&IF(COUNTIF(JFP!$E:$E,H40),JFP!$E$1,"")) | K40: =K39+20 -> 43394 | L40: =IF(K40="","",IFERROR(VLOOKUP(K40,JFP!$B:$C,2,0),IF(WEEKDAY(K40,2)>5,"WE",""))&IF(COUNTIF(JFP!$E:$E,K40),JFP!$E$1,"")) -> WE | N40: =N39+20 -> 43425 | O40: =IF(N40="","",IFERROR(VLOOKUP(N40,JFP!$B:$C,2,0),IF(WEEKDAY(N40,2)>5,"WE",""))&IF(COUNTIF(JFP!$E:$E,N40),JFP!$E$1,"")) | Q40: =Q39+20 -> 43455 | R40: =IF(Q40="","",IFERROR(VLOOKUP(Q40,JFP!$B:$C,2,0),IF(WEEKDAY(Q40,2)>5,"WE",""))&IF(COUNTIF(JFP!$E:$E,Q40),JFP!$E$1,""))
B41: =B40+1 -> 43303 | C41: =IF(B41="","",IFERROR(VLOOKUP(B41,JFP!$B:$C,2,0),IF(WEEKDAY(B41,2)>5,"WE",""))&IF(COUNTIF(JFP!$E:$E,B41),JFP!$E$1,"")) -> WE | E41: =E40+1 -> 43334 | F41: =IF(E41="","",IFERROR(VLOOKUP(E41,JFP!$B:$C,2,0),IF(WEEKDAY(E41,2)>5,"WE",""))&IF(COUNTIF(JFP!$E:$E,E41),JFP!$E$1,"")) | H41: =H40+1 -> 43365 | I41: =IF(H41="","",IFERROR(VLOOKUP(H41,JFP!$B:$C,2,0),IF(WEEKDAY(H41,2)>5,"WE",""))&IF(COUNTIF(JFP!$E:$E,H41),JFP!$E$1,"")) -> WE | K41: =K40+1 -> 43395 | L41: =IF(K41="","",IFERROR(VLOOKUP(K41,JFP!$B:$C,2,0),IF(WEEKDAY(K41,2)>5,"WE",""))&IF(COUNTIF(JFP!$E:$E,K41),JFP!$E$1,"")) | N41: =N40+1 -> 43426 | O41: =IF(N41="","",IFERROR(VLOOKUP(N41,JFP!$B:$C,2,0),IF(WEEKDAY(N41,2)>5,"WE",""))&IF(COUNTIF(JFP!$E:$E,N41),JFP!$E$1,"")) | Q41: =Q40+1 -> 43456 | R41: =IF(Q41="","",IFERROR(VLOOKUP(Q41,JFP!$B:$C,2,0),IF(WEEKDAY(Q41,2)>5,"WE",""))&IF(COUNTIF(JFP!$E:$E,Q41),JFP!$E$1,"")) -> WE
B42: =B41+1 -> 43304 | C42: =IF(B42="","",IFERROR(VLOOKUP(B42,JFP!$B:$C,2,0),IF(WEEKDAY(B42,2)>5,"WE",""))&IF(COUNTIF(JFP!$E:$E,B42),JFP!$E$1,"")) | E42: =E41+1 -> 43335 | F42: =IF(E42="","",IFERROR(VLOOKUP(E42,JFP!$B:$C,2,0),IF(WEEKDAY(E42,2)>5,"WE",""))&IF(COUNTIF(JFP!$E:$E,E42),JFP!$E$1,"")) | H42: =H41+1 -> 43366 | I42: =IF(H42="","",IFERROR(VLOOKUP(H42,JFP!$B:$C,2,0),IF(WEEKDAY(H42,2)>5,"WE",""))&IF(COUNTIF(JFP!$E:$E,H42),JFP!$E$1,"")) -> WE | K42: =K41+1 -> 43396 | L42: =IF(K42="","",IFERROR(VLOOKUP(K42,JFP!$B:$C,2,0),IF(WEEKDAY(K42,2)>5,"WE",""))&IF(COUNTIF(JFP!$E:$E,K42),JFP!$E$1,"")) | N42: =N41+1 -> 43427 | O42: =IF(N42="","",IFERROR(VLOOKUP(N42,JFP!$B:$C,2,0),IF(WEEKDAY(N42,2)>5,"WE",""))&IF(COUNTIF(JFP!$E:$E,N42),JFP!$E$1,"")) | Q42: =Q41+1 -> 43457 | R42: =IF(Q42="","",IFERROR(VLOOKUP(Q42,JFP!$B:$C,2,0),IF(WEEKDAY(Q42,2)>5,"WE",""))&IF(COUNTIF(JFP!$E:$E,Q42),JFP!$E$1,"")) -> WE
B43: =B42+1 -> 43305 | C43: =IF(B43="","",IFERROR(VLOOKUP(B43,JFP!$B:$C,2,0),IF(WEEKDAY(B43,2)>5,"WE",""))&IF(COUNTIF(JFP!$E:$E,B43),JFP!$E$1,"")) | E43: =E42+1 -> 43336 | F43: =IF(E43="","",IFERROR(VLOOKUP(E43,JFP!$B:$C,2,0),IF(WEEKDAY(E43,2)>5,"WE",""))&IF(COUNTIF(JFP!$E:$E,E43),JFP!$E$1,"")) | H43: =H42+1 -> 43367 | I43: =IF(H43="","",IFERROR(VLOOKUP(H43,JFP!$B:$C,2,0),IF(WEEKDAY(H43,2)>5,"WE",""))&IF(COUNTIF(JFP!$E:$E,H43),JFP!$E$1,"")) | K43: =K42+1 -> 43397 | L43: =IF(K43="","",IFERROR(VLOOKUP(K43,JFP!$B:$C,2,0),IF(WEEKDAY(K43,2)>5,"WE",""))&IF(COUNTIF(JFP!$E:$E,K43),JFP!$E$1,"")) | N43: =N42+1 -> 43428 | O43: =IF(N43="","",IFERROR(VLOOKUP(N43,JFP!$B:$C,2,0),IF(WEEKDAY(N43,2)>5,"WE",""))&IF(COUNTIF(JFP!$E:$E,N43),JFP!$E$1,"")) -> WE | Q43: =Q42+1 -> 43458 | R43: =IF(Q43="","",IFERROR(VLOOKUP(Q43,JFP!$B:$C,2,0),IF(WEEKDAY(Q43,2)>5,"WE",""))&IF(COUNTIF(JFP!$E:$E,Q43),JFP!$E$1,"")) -> Pont
B44: =B43+1 -> 43306 | C44: =IF(B44="","",IFERROR(VLOOKUP(B44,JFP!$B:$C,2,0),IF(WEEKDAY(B44,2)>5,"WE",""))&IF(COUNTIF(JFP!$E:$E,B44),JFP!$E$1,"")) | E44: =E43+1 -> 43337 | F44: =IF(E44="","",IFERROR(VLOOKUP(E44,JFP!$B:$C,2,0),IF(WEEKDAY(E44,2)>5,"WE",""))&IF(COUNTIF(JFP!$E:$E,E44),JFP!$E$1,"")) -> WE | H44: =H43+1 -> 43368 | I44: =IF(H44="","",IFERROR(VLOOKUP(H44,JFP!$B:$C,2,0),IF(WEEKDAY(H44,2)>5,"WE",""))&IF(COUNTIF(JFP!$E:$E,H44),JFP!$E$1,"")) | K44: =K43+1 -> 43398 | L44: =IF(K44="","",IFERROR(VLOOKUP(K44,JFP!$B:$C,2,0),IF(WEEKDAY(K44,2)>5,"WE",""))&IF(COUNTIF(JFP!$E:$E,K44),JFP!$E$1,"")) | N44: =N43+1 -> 43429 | O44: =IF(N44="","",IFERROR(VLOOKUP(N44,JFP!$B:$C,2,0),IF(WEEKDAY(N44,2)>5,"WE",""))&IF(COUNTIF(JFP!$E:$E,N44),JFP!$E$1,"")) -> WE | Q44: =Q43+1 -> 43459 | R44: =IF(Q44="","",IFERROR(VLOOKUP(Q44,JFP!$B:$C,2,0),IF(WEEKDAY(Q44,2)>5,"WE",""))&IF(COUNTIF(JFP!$E:$E,Q44),JFP!$E$1,"")) -> Noël
B45: =B44+1 -> 43307 | C45: =IF(B45="","",IFERROR(VLOOKUP(B45,JFP!$B:$C,2,0),IF(WEEKDAY(B45,2)>5,"WE",""))&IF(COUNTIF(JFP!$E:$E,B45),JFP!$E$1,"")) | E45: =E44+1 -> 43338 | F45: =IF(E45="","",IFERROR(VLOOKUP(E45,JFP!$B:$C,2,0),IF(WEEKDAY(E45,2)>5,"WE",""))&IF(COUNTIF(JFP!$E:$E,E45),JFP!$E$1,"")) -> WE | H45: =H44+1 -> 43369 | I45: =IF(H45="","",IFERROR(VLOOKUP(H45,JFP!$B:$C,2,0),IF(WEEKDAY(H45,2)>5,"WE",""))&IF(COUNTIF(JFP!$E:$E,H45),JFP!$E$1,"")) | K45: =K44+1 -> 43399 | L45: =IF(K45="","",IFERROR(VLOOKUP(K45,JFP!$B:$C,2,0),IF(WEEKDAY(K45,2)>5,"WE",""))&IF(COUNTIF(JFP!$E:$E,K45),JFP!$E$1,"")) | N45: =N44+1 -> 43430 | O45: =IF(N45="","",IFERROR(VLOOKUP(N45,JFP!$B:$C,2,0),IF(WEEKDAY(N45,2)>5,"WE",""))&IF(COUNTIF(JFP!$E:$E,N45),JFP!$E$1,"")) | Q45: =Q44+1 -> 43460 | R45: =IF(Q45="","",IFERROR(VLOOKUP(Q45,JFP!$B:$C,2,0),IF(WEEKDAY(Q45,2)>5,"WE",""))&IF(COUNTIF(JFP!$E:$E,Q45),JFP!$E$1,""))
B46: =B45+1 -> 43308 | C46: =IF(B46="","",IFERROR(VLOOKUP(B46,JFP!$B:$C,2,0),IF(WEEKDAY(B46,2)>5,"WE",""))&IF(COUNTIF(JFP!$E:$E,B46),JFP!$E$1,"")) | E46: =E45+1 -> 43339 | F46: =IF(E46="","",IFERROR(VLOOKUP(E46,JFP!$B:$C,2,0),IF(WEEKDAY(E46,2)>5,"WE",""))&IF(COUNTIF(JFP!$E:$E,E46),JFP!$E$1,"")) | H46: =H45+1 -> 43370 | I46: =IF(H46="","",IFERROR(VLOOKUP(H46,JFP!$B:$C,2,0),IF(WEEKDAY(H46,2)>5,"WE",""))&IF(COUNTIF(JFP!$E:$E,H46),JFP!$E$1,"")) | K46: =K45+1 -> 43400 | L46: =IF(K46="","",IFERROR(VLOOKUP(K46,JFP!$B:$C,2,0),IF(WEEKDAY(K46,2)>5,"WE",""))&IF(COUNTIF(JFP!$E:$E,K46),JFP!$E$1,"")) -> WE | N46: =N45+1 -> 43431 | O46: =IF(N46="","",IFERROR(VLOOKUP(N46,JFP!$B:$C,2,0),IF(WEEKDAY(N46,2)>5,"WE",""))&IF(COUNTIF(JFP!$E:$E,N46),JFP!$E$1,"")) | Q46: =Q45+1 -> 43461 | R46: =IF(Q46="","",IFERROR(VLOOKUP(Q46,JFP!$B:$C,2,0),IF(WEEKDAY(Q46,2)>5,"WE",""))&IF(COUNTIF(JFP!$E:$E,Q46),JFP!$E$1,""))
B47: =B46+1 -> 43309 | C47: =IF(B47="","",IFERROR(VLOOKUP(B47,JFP!$B:$C,2,0),IF(WEEKDAY(B47,2)>5,"WE",""))&IF(COUNTIF(JFP!$E:$E,B47),JFP!$E$1,"")) -> WE | E47: =E46+1 -> 43340 | F47: =IF(E47="","",IFERROR(VLOOKUP(E47,JFP!$B:$C,2,0),IF(WEEKDAY(E47,2)>5,"WE",""))&IF(COUNTIF(JFP!$E:$E,E47),JFP!$E$1,"")) | H47: =H46+1 -> 43371 | I47: =IF(H47="","",IFERROR(VLOOKUP(H47,JFP!$B:$C,2,0),IF(WEEKDAY(H47,2)>5,"WE",""))&IF(COUNTIF(JFP!$E:$E,H47),JFP!$E$1,"")) | K47: =K46+1 -> 43401 | L47: =IF(K47="","",IFERROR(VLOOKUP(K47,JFP!$B:$C,2,0),IF(WEEKDAY(K47,2)>5,"WE",""))&IF(COUNTIF(JFP!$E:$E,K47),JFP!$E$1,"")) -> WE | N47: =N46+1 -> 43432 | O47: =IF(N47="","",IFERROR(VLOOKUP(N47,JFP!$B:$C,2,0),IF(WEEKDAY(N47,2)>5,"WE",""))&IF(COUNTIF(JFP!$E:$E,N47),JFP!$E$1,"")) | Q47: =Q46+1 -> 43462 | R47: =IF(Q47="","",IFERROR(VLOOKUP(Q47,JFP!$B:$C,2,0),IF(WEEKDAY(Q47,2)>5,"WE",""))&IF(COUNTIF(JFP!$E:$E,Q47),JFP!$E$1,""))
B48: =B47+1 -> 43310 | C48: =IF(B48="","",IFERROR(VLOOKUP(B48,JFP!$B:$C,2,0),IF(WEEKDAY(B48,2)>5,"WE",""))&IF(COUNTIF(JFP!$E:$E,B48),JFP!$E$1,"")) -> WE | E48: =E47+1 -> 43341 | F48: =IF(E48="","",IFERROR(VLOOKUP(E48,JFP!$B:$C,2,0),IF(WEEKDAY(E48,2)>5,"WE",""))&IF(COUNTIF(JFP!$E:$E,E48),JFP!$E$1,"")) | H48: =H47+1 -> 43372 | I48: =IF(H48="","",IFERROR(VLOOKUP(H48,JFP!$B:$C,2,0),IF(WEEKDAY(H48,2)>5,"WE",""))&IF(COUNTIF(JFP!$E:$E,H48),JFP!$E$1,"")) -> WE | K48: =K47+1 -> 43402 | L48: =IF(K48="","",IFERROR(VLOOKUP(K48,JFP!$B:$C,2,0),IF(WEEKDAY(K48,2)>5,"WE",""))&IF(COUNTIF(JFP!$E:$E,K48),JFP!$E$1,"")) | N48: =N47+1 -> 43433 | O48: =IF(N48="","",IFERROR(VLOOKUP(N48,JFP!$B:$C,2,0),IF(WEEKDAY(N48,2)>5,"WE",""))&IF(COUNTIF(JFP!$E:$E,N48),JFP!$E$1,"")) | Q48: =Q47+1 -> 43463 | R48: =IF(Q48="","",IFERROR(VLOOKUP(Q48,JFP!$B:$C,2,0),IF(WEEKDAY(Q48,2)>5,"WE",""))&IF(COUNTIF(JFP!$E:$E,Q48),JFP!$E$1,"")) -> WE
B49: =B48+1 -> 43311 | C49: =IF(B49="","",IFERROR(VLOOKUP(B49,JFP!$B:$C,2,0),IF(WEEKDAY(B49,2)>5,"WE",""))&IF(COUNTIF(JFP!$E:$E,B49),JFP!$E$1,"")) | E49: =E48+1 -> 43342 | F49: =IF(E49="","",IFERROR(VLOOKUP(E49,JFP!$B:$C,2,0),IF(WEEKDAY(E49,2)>5,"WE",""))&IF(COUNTIF(JFP!$E:$E,E49),JFP!$E$1,"")) | H49: =H48+1 -> 43373 | I49: =IF(H49="","",IFERROR(VLOOKUP(H49,JFP!$B:$C,2,0),IF(WEEKDAY(H49,2)>5,"WE",""))&IF(COUNTIF(JFP!$E:$E,H49),JFP!$E$1,"")) -> WE | K49: =K48+1 -> 43403 | L49: =IF(K49="","",IFERROR(VLOOKUP(K49,JFP!$B:$C,2,0),IF(WEEKDAY(K49,2)>5,"WE",""))&IF(COUNTIF(JFP!$E:$E,K49),JFP!$E$1,"")) | N49: =N48+1 -> 43434 | O49: =IF(N49="","",IFERROR(VLOOKUP(N49,JFP!$B:$C,2,0),IF(WEEKDAY(N49,2)>5,"WE",""))&IF(COUNTIF(JFP!$E:$E,N49),JFP!$E$1,"")) | Q49: =Q48+1 -> 43464 | R49: =IF(Q49="","",IFERROR(VLOOKUP(Q49,JFP!$B:$C,2,0),IF(WEEKDAY(Q49,2)>5,"WE",""))&IF(COUNTIF(JFP!$E:$E,Q49),JFP!$E$1,"")) -> WE
B50: =B49+1 -> 43312 | C50: =IF(B50="","",IFERROR(VLOOKUP(B50,JFP!$B:$C,2,0),IF(WEEKDAY(B50,2)>5,"WE",""))&IF(COUNTIF(JFP!$E:$E,B50),JFP!$E$1,"")) | E50: =E49+1 -> 43343 | F50: =IF(E50="","",IFERROR(VLOOKUP(E50,JFP!$B:$C,2,0),IF(WEEKDAY(E50,2)>5,"WE",""))&IF(COUNTIF(JFP!$E:$E,E50),JFP!$E$1,"")) | H50: =H49+1 -> 43374 | I50: =IF(H50="","",IFERROR(VLOOKUP(H50,JFP!$B:$C,2,0),IF(WEEKDAY(H50,2)>5,"WE",""))&IF(COUNTIF(JFP!$E:$E,H50),JFP!$E$1,"")) | K50: =K49+1 -> 43404 | L50: =IF(K50="","",IFERROR(VLOOKUP(K50,JFP!$B:$C,2,0),IF(WEEKDAY(K50,2)>5,"WE",""))&IF(COUNTIF(JFP!$E:$E,K50),JFP!$E$1,"")) | N50: =N49+1 -> 43435 | O50: =IF(N50="","",IFERROR(VLOOKUP(N50,JFP!$B:$C,2,0),IF(WEEKDAY(N50,2)>5,"WE",""))&IF(COUNTIF(JFP!$E:$E,N50),JFP!$E$1,"")) -> WE | Q50: =Q49+1 -> 43465 | R50: =IF(Q50="","",IFERROR(VLOOKUP(Q50,JFP!$B:$C,2,0),IF(WEEKDAY(Q50,2)>5,"WE",""))&IF(COUNTIF(JFP!$E:$E,Q50),JFP!$E$1,"")) -> Pont
B51: =B50+1 -> 43313 | C51: =IF(B51="","",IFERROR(VLOOKUP(B51,JFP!$B:$C,2,0),IF(WEEKDAY(B51,2)>5,"WE",""))&IF(COUNTIF(JFP!$E:$E,B51),JFP!$E$1,"")) | E51: =E50+1 -> 43344 | F51: =IF(E51="","",IFERROR(VLOOKUP(E51,JFP!$B:$C,2,0),IF(WEEKDAY(E51,2)>5,"WE",""))&IF(COUNTIF(JFP!$E:$E,E51),JFP!$E$1,"")) -> WE | H51: =H50+1 -> 43375 | I51: =IF(H51="","",IFERROR(VLOOKUP(H51,JFP!$B:$C,2,0),IF(WEEKDAY(H51,2)>5,"WE",""))&IF(COUNTIF(JFP!$E:$E,H51),JFP!$E$1,"")) | K51: =K50+1 -> 43405 | L51: =IF(K51="","",IFERROR(VLOOKUP(K51,JFP!$B:$C,2,0),IF(WEEKDAY(K51,2)>5,"WE",""))&IF(COUNTIF(JFP!$E:$E,K51),JFP!$E$1,"")) -> Toussaint | N51: =N50+1 -> 43436 | O51: =IF(N51="","",IFERROR(VLOOKUP(N51,JFP!$B:$C,2,0),IF(WEEKDAY(N51,2)>5,"WE",""))&IF(COUNTIF(JFP!$E:$E,N51),JFP!$E$1,"")) -> WE | Q51: =Q50+1 -> 43466 | R51: =IF(Q51="","",IFERROR(VLOOKUP(Q51,JFP!$B:$C,2,0),IF(WEEKDAY(Q51,2)>5,"WE",""))&IF(COUNTIF(JFP!$E:$E,Q51),JFP!$E$1,"")) -> Premier de l'AN
B52: =B51+1 -> 43314 | C52: =IF(B52="","",IFERROR(VLOOKUP(B52,JFP!$B:$C,2,0),IF(WEEKDAY(B52,2)>5,"WE",""))&IF(COUNTIF(JFP!$E:$E,B52),JFP!$E$1,"")) | E52: =E51+1 -> 43345 | F52: =IF(E52="","",IFERROR(VLOOKUP(E52,JFP!$B:$C,2,0),IF(WEEKDAY(E52,2)>5,"WE",""))&IF(COUNTIF(JFP!$E:$E,E52),JFP!$E$1,"")) -> WE | H52: =H51+1 -> 43376 | I52: =IF(H52="","",IFERROR(VLOOKUP(H52,JFP!$B:$C,2,0),IF(WEEKDAY(H52,2)>5,"WE",""))&IF(COUNTIF(JFP!$E:$E,H52),JFP!$E$1,"")) | K52: =K51+1 -> 43406 | L52: =IF(K52="","",IFERROR(VLOOKUP(K52,JFP!$B:$C,2,0),IF(WEEKDAY(K52,2)>5,"WE",""))&IF(COUNTIF(JFP!$E:$E,K52),JFP!$E$1,"")) -> Pont | N52: =N51+1 -> 43437 | O52: =IF(N52="","",IFERROR(VLOOKUP(N52,JFP!$B:$C,2,0),IF(WEEKDAY(N52,2)>5,"WE",""))&IF(COUNTIF(JFP!$E:$E,N52),JFP!$E$1,"")) | Q52: =Q51+1 -> 43467 | R52: =IF(Q52="","",IFERROR(VLOOKUP(Q52,JFP!$B:$C,2,0),IF(WEEKDAY(Q52,2)>5,"WE",""))&IF(COUNTIF(JFP!$E:$E,Q52),JFP!$E$1,""))
... B69: =B68+1 -> 43331 | C69: =IF(B69="","",IFERROR(VLOOKUP(B69,JFP!$B:$C,2,0),IF(WEEKDAY(B69,2)>5,"WE",""))&IF(COUNTIF(JFP!$E:$E,B69),JFP!$E$1,"")) -> WE | E69: =E68+1 -> 43362 | F69: =IF(E69="","",IFERROR(VLOOKUP(E69,JFP!$B:$C,2,0),IF(WEEKDAY(E69,2)>5,"WE",""))&IF(COUNTIF(JFP!$E:$E,E69),JFP!$E$1,"")) | H69: =H68+1 -> 43393 | I69: =IF(H69="","",IFERROR(VLOOKUP(H69,JFP!$B:$C,2,0),IF(WEEKDAY(H69,2)>5,"WE",""))&IF(COUNTIF(JFP!$E:$E,H69),JFP!$E$1,"")) -> WE | K69: =K68+1 -> 43423 | L69: =IF(K69="","",IFERROR(VLOOKUP(K69,JFP!$B:$C,2,0),IF(WEEKDAY(K69,2)>5,"WE",""))&IF(COUNTIF(JFP!$E:$E,K69),JFP!$E$1,"")) | N69: =N68+1 -> 43454 | O69: =IF(N69="","",IFERROR(VLOOKUP(N69,JFP!$B:$C,2,0),IF(WEEKDAY(N69,2)>5,"WE",""))&IF(COUNTIF(JFP!$E:$E,N69),JFP!$E$1,"")) | Q69: =Q68+1 -> 43484 | R69: =IF(Q69="","",IFERROR(VLOOKUP(Q69,JFP!$B:$C,2,0),IF(WEEKDAY(Q69,2)>5,"WE",""))&IF(COUNTIF(JFP!$E:$E,Q69),JFP!$E$1,"")) -> WE
B70: =B69+1 -> 43332 | C70: =IF(B70="","",IFERROR(VLOOKUP(B70,JFP!$B:$C,2,0),IF(WEEKDAY(B70,2)>5,"WE",""))&IF(COUNTIF(JFP!$E:$E,B70),JFP!$E$1,"")) | E70: =E69+1 -> 43363 | F70: =IF(E70="","",IFERROR(VLOOKUP(E70,JFP!$B:$C,2,0),IF(WEEKDAY(E70,2)>5,"WE",""))&IF(COUNTIF(JFP!$E:$E,E70),JFP!$E$1,"")) | I70: =IF(H70="","",IFERROR(VLOOKUP(H70,JFP!$B:$C,2,0),IF(WEEKDAY(H70,2)>5,"WE",""))&IF(COUNTIF(JFP!$E:$E,H70),JFP!$E$1,"")) | K70: =K69+1 -> 43424 | L70: =IF(K70="","",IFERROR(VLOOKUP(K70,JFP!$B:$C,2,0),IF(WEEKDAY(K70,2)>5,"WE",""))&IF(COUNTIF(JFP!$E:$E,K70),JFP!$E$1,"")) | O70: =IF(N70="","",IFERROR(VLOOKUP(N70,JFP!$B:$C,2,0),IF(WEEKDAY(N70,2)>5,"WE",""))&IF(COUNTIF(JFP!$E:$E,N70),JFP!$E$1,"")) | Q70: =Q69+1 -> 43485 | R70: =IF(Q70="","",IFERROR(VLOOKUP(Q70,JFP!$B:$C,2,0),IF(WEEKDAY(Q70,2)>5,"WE",""))&IF(COUNTIF(JFP!$E:$E,Q70),JFP!$E$1,"")) -> WE
B72: =NETWORKDAYS(B40,MAX(B67:B70),JFP ) -> 20 | E72: =NETWORKDAYS(E40,MAX(E67:E70),JFP ) -> 23 | H72: =NETWORKDAYS(H40,MAX(H67:H70),JFP ) -> 21 | K72: =NETWORKDAYS(K40,MAX(K67:K70),JFP ) -> 20 | N72: =NETWORKDAYS(N40,MAX(N67:N70),JFP ) -> 22 | Q72: =NETWORKDAYS(Q40,MAX(Q67:Q70),JFP ) -> 17 | T72: =SUM(B72:Q72) -> 123
A74: =JFP!A15 -> 2019
B75: 1 | E75: 2 | H75: 3 | K75: 4 | N75: 5 | Q75: 6
B76: =DATE(A74,B75,1) -> 43466 | E76: =DATE(A74,E75,1) -> 43497 | H76: =DATE(A74,H75,1) -> 43525 | K76: =DATE(A74,K75,1) -> 43556 | N76: =DATE(A74,N75,1) -> 43586 | Q76: =DATE(A74,Q75,1) -> 43617
B77: =B76+20 -> 43486 | C77: =IF(B77="","",IFERROR(VLOOKUP(B77,JFP!$B:$C,2,0),IF(WEEKDAY(B77,2)>5,"WE",""))&IF(COUNTIF(JFP!$E:$E,B77),JFP!$E$1,"")) | E77: =E76+20 -> 43517 | F77: =IF(E77="","",IFERROR(VLOOKUP(E77,JFP!$B:$C,2,0),IF(WEEKDAY(E77,2)>5,"WE",""))&IF(COUNTIF(JFP!$E:$E,E77),JFP!$E$1,"")) | H77: =H76+20 -> 43545 | I77: =IF(H77="","",IFERROR(VLOOKUP(H77,JFP!$B:$C,2,0),IF(WEEKDAY(H77,2)>5,"WE",""))&IF(COUNTIF(JFP!$E:$E,H77),JFP!$E$1,"")) | K77: =K76+20 -> 43576 | L77: =IF(K77="","",IFERROR(VLOOKUP(K77,JFP!$B:$C,2,0),IF(WEEKDAY(K77,2)>5,"WE",""))&IF(COUNTIF(JFP!$E:$E,K77),JFP!$E$1,"")) -> Pâques | N77: =N76+20 -> 43606 | O77: =IF(N77="","",IFERROR(VLOOKUP(N77,JFP!$B:$C,2,0),IF(WEEKDAY(N77,2)>5,"WE",""))&IF(COUNTIF(JFP!$E:$E,N77),JFP!$E$1,"")) | Q77: =Q76+20 -> 43637 | R77: =IF(Q77="","",IFERROR(VLOOKUP(Q77,JFP!$B:$C,2,0),IF(WEEKDAY(Q77,2)>5,"WE",""))&IF(COUNTIF(JFP!$E:$E,Q77),JFP!$E$1,""))
B78: =B77+1 -> 43487 | C78: =IF(B78="","",IFERROR(VLOOKUP(B78,JFP!$B:$C,2,0),IF(WEEKDAY(B78,2)>5,"WE",""))&IF(COUNTIF(JFP!$E:$E,B78),JFP!$E$1,"")) | E78: =E77+1 -> 43518 | F78: =IF(E78="","",IFERROR(VLOOKUP(E78,JFP!$B:$C,2,0),IF(WEEKDAY(E78,2)>5,"WE",""))&IF(COUNTIF(JFP!$E:$E,E78),JFP!$E$1,"")) | H78: =H77+1 -> 43546 | I78: =IF(H78="","",IFERROR(VLOOKUP(H78,JFP!$B:$C,2,0),IF(WEEKDAY(H78,2)>5,"WE",""))&IF(COUNTIF(JFP!$E:$E,H78),JFP!$E$1,"")) | K78: =K77+1 -> 43577 | L78: =IF(K78="","",IFERROR(VLOOKUP(K78,JFP!$B:$C,2,0),IF(WEEKDAY(K78,2)>5,"WE",""))&IF(COUNTIF(JFP!$E:$E,K78),JFP!$E$1,"")) -> Lundi de Pâques | N78: =N77+1 -> 43607 | O78: =IF(N78="","",IFERROR(VLOOKUP(N78,JFP!$B:$C,2,0),IF(WEEKDAY(N78,2)>5,"WE",""))&IF(COUNTIF(JFP!$E:$E,N78),JFP!$E$1,"")) | Q78: =Q77+1 -> 43638 | R78: =IF(Q78="","",IFERROR(VLOOKUP(Q78,JFP!$B:$C,2,0),IF(WEEKDAY(Q78,2)>5,"WE",""))&IF(COUNTIF(JFP!$E:$E,Q78),JFP!$E$1,"")) -> WE
B79: =B78+1 -> 43488 | C79: =IF(B79="","",IFERROR(VLOOKUP(B79,JFP!$B:$C,2,0),IF(WEEKDAY(B79,2)>5,"WE",""))&IF(COUNTIF(JFP!$E:$E,B79),JFP!$E$1,"")) | E79: =E78+1 -> 43519 | F79: =IF(E79="","",IFERROR(VLOOKUP(E79,JFP!$B:$C,2,0),IF(WEEKDAY(E79,2)>5,"WE",""))&IF(COUNTIF(JFP!$E:$E,E79),JFP!$E$1,"")) -> WE | H79: =H78+1 -> 43547 | I79: =IF(H79="","",IFERROR(VLOOKUP(H79,JFP!$B:$C,2,0),IF(WEEKDAY(H79,2)>5,"WE",""))&IF(COUNTIF(JFP!$E:$E,H79),JFP!$E$1,"")) -> WE | K79: =K78+1 -> 43578 | L79: =IF(K79="","",IFERROR(VLOOKUP(K79,JFP!$B:$C,2,0),IF(WEEKDAY(K79,2)>5,"WE",""))&IF(COUNTIF(JFP!$E:$E,K79),JFP!$E$1,"")) | N79: =N78+1 -> 43608 | O79: =IF(N79="","",IFERROR(VLOOKUP(N79,JFP!$B:$C,2,0),IF(WEEKDAY(N79,2)>5,"WE",""))&IF(COUNTIF(JFP!$E:$E,N79),JFP!$E$1,"")) | Q79: =Q78+1 -> 43639 | R79: =IF(Q79="","",IFERROR(VLOOKUP(Q79,JFP!$B:$C,2,0),IF(WEEKDAY(Q79,2)>5,"WE",""))&IF(COUNTIF(JFP!$E:$E,Q79),JFP!$E$1,"")) -> WE
B80: =B79+1 -> 43489 | C80: =IF(B80="","",IFERROR(VLOOKUP(B80,JFP!$B:$C,2,0),IF(WEEKDAY(B80,2)>5,"WE",""))&IF(COUNTIF(JFP!$E:$E,B80),JFP!$E$1,"")) | E80: =E79+1 -> 43520 | F80: =IF(E80="","",IFERROR(VLOOKUP(E80,JFP!$B:$C,2,0),IF(WEEKDAY(E80,2)>5,"WE",""))&IF(COUNTIF(JFP!$E:$E,E80),JFP!$E$1,"")) -> WE | H80: =H79+1 -> 43548 | I80: =IF(H80="","",IFERROR(VLOOKUP(H80,JFP!$B:$C,2,0),IF(WEEKDAY(H80,2)>5,"WE",""))&IF(COUNTIF(JFP!$E:$E,H80),JFP!$E$1,"")) -> WE | K80: =K79+1 -> 43579 | L80: =IF(K80="","",IFERROR(VLOOKUP(K80,JFP!$B:$C,2,0),IF(WEEKDAY(K80,2)>5,"WE",""))&IF(COUNTIF(JFP!$E:$E,K80),JFP!$E$1,"")) | N80: =N79+1 -> 43609 | O80: =IF(N80="","",IFERROR(VLOOKUP(N80,JFP!$B:$C,2,0),IF(WEEKDAY(N80,2)>5,"WE",""))&IF(COUNTIF(JFP!$E:$E,N80),JFP!$E$1,"")) | Q80: =Q79+1 -> 43640 | R80: =IF(Q80="","",IFERROR(VLOOKUP(Q80,JFP!$B:$C,2,0),IF(WEEKDAY(Q80,2)>5,"WE",""))&IF(COUNTIF(JFP!$E:$E,Q80),JFP!$E$1,""))
B81: =B80+1 -> 43490 | C81: =IF(B81="","",IFERROR(VLOOKUP(B81,JFP!$B:$C,2,0),IF(WEEKDAY(B81,2)>5,"WE",""))&IF(COUNTIF(JFP!$E:$E,B81),JFP!$E$1,"")) | E81: =E80+1 -> 43521 | F81: =IF(E81="","",IFERROR(VLOOKUP(E81,JFP!$B:$C,2,0),IF(WEEKDAY(E81,2)>5,"WE",""))&IF(COUNTIF(JFP!$E:$E,E81),JFP!$E$1,"")) | H81: =H80+1 -> 43549 | I81: =IF(H81="","",IFERROR(VLOOKUP(H81,JFP!$B:$C,2,0),IF(WEEKDAY(H81,2)>5,"WE",""))&IF(COUNTIF(JFP!$E:$E,H81),JFP!$E$1,"")) | K81: =K80+1 -> 43580 | L81: =IF(K81="","",IFERROR(VLOOKUP(K81,JFP!$B:$C,2,0),IF(WEEKDAY(K81,2)>5,"WE",""))&IF(COUNTIF(JFP!$E:$E,K81),JFP!$E$1,"")) | N81: =N80+1 -> 43610 | O81: =IF(N81="","",IFERROR(VLOOKUP(N81,JFP!$B:$C,2,0),IF(WEEKDAY(N81,2)>5,"WE",""))&IF(COUNTIF(JFP!$E:$E,N81),JFP!$E$1,"")) -> WE | Q81: =Q80+1 -> 43641 | R81: =IF(Q81="","",IFERROR(VLOOKUP(Q81,JFP!$B:$C,2,0),IF(WEEKDAY(Q81,2)>5,"WE",""))&IF(COUNTIF(JFP!$E:$E,Q81),JFP!$E$1,""))
B82: =B81+1 -> 43491 | C82: =IF(B82="","",IFERROR(VLOOKUP(B82,JFP!$B:$C,2,0),IF(WEEKDAY(B82,2)>5,"WE",""))&IF(COUNTIF(JFP!$E:$E,B82),JFP!$E$1,"")) -> WE | E82: =E81+1 -> 43522 | F82: =IF(E82="","",IFERROR(VLOOKUP(E82,JFP!$B:$C,2,0),IF(WEEKDAY(E82,2)>5,"WE",""))&IF(COUNTIF(JFP!$E:$E,E82),JFP!$E$1,"")) | H82: =H81+1 -> 43550 | I82: =IF(H82="","",IFERROR(VLOOKUP(H82,JFP!$B:$C,2,0),IF(WEEKDAY(H82,2)>5,"WE",""))&IF(COUNTIF(JFP!$E:$E,H82),JFP!$E$1,"")) | K82: =K81+1 -> 43581 | L82: =IF(K82="","",IFERROR(VLOOKUP(K82,JFP!$B:$C,2,0),IF(WEEKDAY(K82,2)>5,"WE",""))&IF(COUNTIF(JFP!$E:$E,K82),JFP!$E$1,"")) | N82: =N81+1 -> 43611 | O82: =IF(N82="","",IFERROR(VLOOKUP(N82,JFP!$B:$C,2,0),IF(WEEKDAY(N82,2)>5,"WE",""))&IF(COUNTIF(JFP!$E:$E,N82),JFP!$E$1,"")) -> WE | Q82: =Q81+1 -> 43642 | R82: =IF(Q82="","",IFERROR(VLOOKUP(Q82,JFP!$B:$C,2,0),IF(WEEKDAY(Q82,2)>5,"WE",""))&IF(COUNTIF(JFP!$E:$E,Q82),JFP!$E$1,""))
B83: =B82+1 -> 43492 | C83: =IF(B83="","",IFERROR(VLOOKUP(B83,JFP!$B:$C,2,0),IF(WEEKDAY(B83,2)>5,"WE",""))&IF(COUNTIF(JFP!$E:$E,B83),JFP!$E$1,"")) -> WE | E83: =E82+1 -> 43523 | F83: =IF(E83="","",IFERROR(VLOOKUP(E83,JFP!$B:$C,2,0),IF(WEEKDAY(E83,2)>5,"WE",""))&IF(COUNTIF(JFP!$E:$E,E83),JFP!$E$1,"")) | H83: =H82+1 -> 43551 | I83: =IF(H83="","",IFERROR(VLOOKUP(H83,JFP!$B:$C,2,0),IF(WEEKDAY(H83,2)>5,"WE",""))&IF(COUNTIF(JFP!$E:$E,H83),JFP!$E$1,"")) | K83: =K82+1 -> 43582 | L83: =IF(K83="","",IFERROR(VLOOKUP(K83,JFP!$B:$C,2,0),IF(WEEKDAY(K83,2)>5,"WE",""))&IF(COUNTIF(JFP!$E:$E,K83),JFP!$E$1,"")) -> WE | N83: =N82+1 -> 43612 | O83: =IF(N83="","",IFERROR(VLOOKUP(N83,JFP!$B:$C,2,0),IF(WEEKDAY(N83,2)>5,"WE",""))&IF(COUNTIF(JFP!$E:$E,N83),JFP!$E$1,"")) | Q83: =Q82+1 -> 43643 | R83: =IF(Q83="","",IFERROR(VLOOKUP(Q83,JFP!$B:$C,2,0),IF(WEEKDAY(Q83,2)>5,"WE",""))&IF(COUNTIF(JFP!$E:$E,Q83),JFP!$E$1,""))
B84: =B83+1 -> 43493 | C84: =IF(B84="","",IFERROR(VLOOKUP(B84,JFP!$B:$C,2,0),IF(WEEKDAY(B84,2)>5,"WE",""))&IF(COUNTIF(JFP!$E:$E,B84),JFP!$E$1,"")) | E84: =E83+1 -> 43524 | F84: =IF(E84="","",IFERROR(VLOOKUP(E84,JFP!$B:$C,2,0),IF(WEEKDAY(E84,2)>5,"WE",""))&IF(COUNTIF(JFP!$E:$E,E84),JFP!$E$1,"")) | H84: =H83+1 -> 43552 | I84: =IF(H84="","",IFERROR(VLOOKUP(H84,JFP!$B:$C,2,0),IF(WEEKDAY(H84,2)>5,"WE",""))&IF(COUNTIF(JFP!$E:$E,H84),JFP!$E$1,"")) | K84: =K83+1 -> 43583 | L84: =IF(K84="","",IFERROR(VLOOKUP(K84,JFP!$B:$C,2,0),IF(WEEKDAY(K84,2)>5,"WE",""))&IF(COUNTIF(JFP!$E:$E,K84),JFP!$E$1,"")) -> WE | N84: =N83+1 -> 43613 | O84: =IF(N84="","",IFERROR(VLOOKUP(N84,JFP!$B:$C,2,0),IF(WEEKDAY(N84,2)>5,"WE",""))&IF(COUNTIF(JFP!$E:$E,N84),JFP!$E$1,"")) | Q84: =Q83+1 -> 43644 | R84: =IF(Q84="","",IFERROR(VLOOKUP(Q84,JFP!$B:$C,2,0),IF(WEEKDAY(Q84,2)>5,"WE",""))&IF(COUNTIF(JFP!$E:$E,Q84),JFP!$E$1,""))
B85: =B84+1 -> 43494 | C85: =IF(B85="","",IFERROR(VLOOKUP(B85,JFP!$B:$C,2,0),IF(WEEKDAY(B85,2)>5,"WE",""))&IF(COUNTIF(JFP!$E:$E,B85),JFP!$E$1,"")) | E85: =E84+1 -> 43525 | F85: =IF(E85="","",IFERROR(VLOOKUP(E85,JFP!$B:$C,2,0),IF(WEEKDAY(E85,2)>5,"WE",""))&IF(COUNTIF(JFP!$E:$E,E85),JFP!$E$1,"")) | H85: =H84+1 -> 43553 | I85: =IF(H85="","",IFERROR(VLOOKUP(H85,JFP!$B:$C,2,0),IF(WEEKDAY(H85,2)>5,"WE",""))&IF(COUNTIF(JFP!$E:$E,H85),JFP!$E$1,"")) | K85: =K84+1 -> 43584 | L85: =IF(K85="","",IFERROR(VLOOKUP(K85,JFP!$B:$C,2,0),IF(WEEKDAY(K85,2)>5,"WE",""))&IF(COUNTIF(JFP!$E:$E,K85),JFP!$E$1,"")) | N85: =N84+1 -> 43614 | O85: =IF(N85="","",IFERROR(VLOOKUP(N85,JFP!$B:$C,2,0),IF(WEEKDAY(N85,2)>5,"WE",""))&IF(COUNTIF(JFP!$E:$E,N85),JFP!$E$1,"")) | Q85: =Q84+1 -> 43645 | R85: =IF(Q85="","",IFERROR(VLOOKUP(Q85,JFP!$B:$C,2,0),IF(WEEKDAY(Q85,2)>5,"WE",""))&IF(COUNTIF(JFP!$E:$E,Q85),JFP!$E$1,"")) -> WE
B86: =B85+1 -> 43495 | C86: =IF(B86="","",IFERROR(VLOOKUP(B86,JFP!$B:$C,2,0),IF(WEEKDAY(B86,2)>5,"WE",""))&IF(COUNTIF(JFP!$E:$E,B86),JFP!$E$1,"")) | E86: =E85+1 -> 43526 | F86: =IF(E86="","",IFERROR(VLOOKUP(E86,JFP!$B:$C,2,0),IF(WEEKDAY(E86,2)>5,"WE",""))&IF(COUNTIF(JFP!$E:$E,E86),JFP!$E$1,"")) -> WE | H86: =H85+1 -> 43554 | I86: =IF(H86="","",IFERROR(VLOOKUP(H86,JFP!$B:$C,2,0),IF(WEEKDAY(H86,2)>5,"WE",""))&IF(COUNTIF(JFP!$E:$E,H86),JFP!$E$1,"")) -> WE | K86: =K85+1 -> 43585 | L86: =IF(K86="","",IFERROR(VLOOKUP(K86,JFP!$B:$C,2,0),IF(WEEKDAY(K86,2)>5,"WE",""))&IF(COUNTIF(JFP!$E:$E,K86),JFP!$E$1,"")) | N86: =N85+1 -> 43615 | O86: =IF(N86="","",IFERROR(VLOOKUP(N86,JFP!$B:$C,2,0),IF(WEEKDAY(N86,2)>5,"WE",""))&IF(COUNTIF(JFP!$E:$E,N86),JFP!$E$1,"")) -> Ascension | Q86: =Q85+1 -> 43646 | R86: =IF(Q86="","",IFERROR(VLOOKUP(Q86,JFP!$B:$C,2,0),IF(WEEKDAY(Q86,2)>5,"WE",""))&IF(COUNTIF(JFP!$E:$E,Q86),JFP!$E$1,"")) -> WE
B87: =B86+1 -> 43496 | C87: =IF(B87="","",IFERROR(VLOOKUP(B87,JFP!$B:$C,2,0),IF(WEEKDAY(B87,2)>5,"WE",""))&IF(COUNTIF(JFP!$E:$E,B87),JFP!$E$1,"")) | E87: =E86+1 -> 43527 | F87: =IF(E87="","",IFERROR(VLOOKUP(E87,JFP!$B:$C,2,0),IF(WEEKDAY(E87,2)>5,"WE",""))&IF(COUNTIF(JFP!$E:$E,E87),JFP!$E$1,"")) -> WE | H87: =H86+1 -> 43555 | I87: =IF(H87="","",IFERROR(VLOOKUP(H87,JFP!$B:$C,2,0),IF(WEEKDAY(H87,2)>5,"WE",""))&IF(COUNTIF(JFP!$E:$E,H87),JFP!$E$1,"")) -> WE | K87: =K86+1 -> 43586 | L87: =IF(K87="","",IFERROR(VLOOKUP(K87,JFP!$B:$C,2,0),IF(WEEKDAY(K87,2)>5,"WE",""))&IF(COUNTIF(JFP!$E:$E,K87),JFP!$E$1,"")) -> Fête du travail | N87: =N86+1 -> 43616 | O87: =IF(N87="","",IFERROR(VLOOKUP(N87,JFP!$B:$C,2,0),IF(WEEKDAY(N87,2)>5,"WE",""))&IF(COUNTIF(JFP!$E:$E,N87),JFP!$E$1,"")) -> Pont | Q87: =Q86+1 -> 43647 | R87: =IF(Q87="","",IFERROR(VLOOKUP(Q87,JFP!$B:$C,2,0),IF(WEEKDAY(Q87,2)>5,"WE",""))&IF(COUNTIF(JFP!$E:$E,Q87),JFP!$E$1,""))
B88: =B87+1 -> 43497 | C88: =IF(B88="","",IFERROR(VLOOKUP(B88,JFP!$B:$C,2,0),IF(WEEKDAY(B88,2)>5,"WE",""))&IF(COUNTIF(JFP!$E:$E,B88),JFP!$E$1,"")) | E88: =E87+1 -> 43528 | F88: =IF(E88="","",IFERROR(VLOOKUP(E88,JFP!$B:$C,2,0),IF(WEEKDAY(E88,2)>5,"WE",""))&IF(COUNTIF(JFP!$E:$E,E88),JFP!$E$1,"")) | H88: =H87+1 -> 43556 | I88: =IF(H88="","",IFERROR(VLOOKUP(H88,JFP!$B:$C,2,0),IF(WEEKDAY(H88,2)>5,"WE",""))&IF(COUNTIF(JFP!$E:$E,H88),JFP!$E$1,"")) | K88: =K87+1 -> 43587 | L88: =IF(K88="","",IFERROR(VLOOKUP(K88,JFP!$B:$C,2,0),IF(WEEKDAY(K88,2)>5,"WE",""))&IF(COUNTIF(JFP!$E:$E,K88),JFP!$E$1,"")) | N88: =N87+1 -> 43617 | O88: =IF(N88="","",IFERROR(VLOOKUP(N88,JFP!$B:$C,2,0),IF(WEEKDAY(N88,2)>5,"WE",""))&IF(COUNTIF(JFP!$E:$E,N88),JFP!$E$1,"")) -> WE | Q88: =Q87+1 -> 43648 | R88: =IF(Q88="","",IFERROR(VLOOKUP(Q88,JFP!$B:$C,2,0),IF(WEEKDAY(Q88,2)>5,"WE",""))&IF(COUNTIF(JFP!$E:$E,Q88),JFP!$E$1,""))
B89: =B88+1 -> 43498 | C89: =IF(B89="","",IFERROR(VLOOKUP(B89,JFP!$B:$C,2,0),IF(WEEKDAY(B89,2)>5,"WE",""))&IF(COUNTIF(JFP!$E:$E,B89),JFP!$E$1,"")) -> WE | E89: =E88+1 -> 43529 | F89: =IF(E89="","",IFERROR(VLOOKUP(E89,JFP!$B:$C,2,0),IF(WEEKDAY(E89,2)>5,"WE",""))&IF(COUNTIF(JFP!$E:$E,E89),JFP!$E$1,"")) | H89: =H88+1 -> 43557 | I89: =IF(H89="","",IFERROR(VLOOKUP(H89,JFP!$B:$C,2,0),IF(WEEKDAY(H89,2)>5,"WE",""))&IF(COUNTIF(JFP!$E:$E,H89),JFP!$E$1,"")) | K89: =K88+1 -> 43588 | L89: =IF(K89="","",IFERROR(VLOOKUP(K89,JFP!$B:$C,2,0),IF(WEEKDAY(K89,2)>5,"WE",""))&IF(COUNTIF(JFP!$E:$E,K89),JFP!$E$1,"")) | N89: =N88+1 -> 43618 | O89: =IF(N89="","",IFERROR(VLOOKUP(N89,JFP!$B:$C,2,0),IF(WEEKDAY(N89,2)>5,"WE",""))&IF(COUNTIF(JFP!$E:$E,N89),JFP!$E$1,"")) -> WE | Q89: =Q88+1 -> 43649 | R89: =IF(Q89="","",IFERROR(VLOOKUP(Q89,JFP!$B:$C,2,0),IF(WEEKDAY(Q89,2)>5,"WE",""))&IF(COUNTIF(JFP!$E:$E,Q89),JFP!$E$1,""))
... B104: =B103+1 -> 43513 | C104: =IF(B104="","",IFERROR(VLOOKUP(B104,JFP!$B:$C,2,0),IF(WEEKDAY(B104,2)>5,"WE",""))&IF(COUNTIF(JFP!$E:$E,B104),JFP!$E$1,"")) -> WE | E104: =E103+1 -> 43544 | F104: =IF(E104="","",IFERROR(VLOOKUP(E104,JFP!$B:$C,2,0),IF(WEEKDAY(E104,2)>5,"WE",""))&IF(COUNTIF(JFP!$E:$E,E104),JFP!$E$1,"")) | H104: =H103+1 -> 43572 | I104: =IF(H104="","",IFERROR(VLOOKUP(H104,JFP!$B:$C,2,0),IF(WEEKDAY(H104,2)>5,"WE",""))&IF(COUNTIF(JFP!$E:$E,H104),JFP!$E$1,"")) | K104: =K103+1 -> 43603 | L104: =IF(K104="","",IFERROR(VLOOKUP(K104,JFP!$B:$C,2,0),IF(WEEKDAY(K104,2)>5,"WE",""))&IF(COUNTIF(JFP!$E:$E,K104),JFP!$E$1,"")) -> WE | N104: =N103+1 -> 43633 | O104: =IF(N104="","",IFERROR(VLOOKUP(N104,JFP!$B:$C,2,0),IF(WEEKDAY(N104,2)>5,"WE",""))&IF(COUNTIF(JFP!$E:$E,N104),JFP!$E$1,"")) | Q104: =Q103+1 -> 43664 | R104: =IF(Q104="","",IFERROR(VLOOKUP(Q104,JFP!$B:$C,2,0),IF(WEEKDAY(Q104,2)>5,"WE",""))&IF(COUNTIF(JFP!$E:$E,Q104),JFP!$E$1,""))
B105: =B104+1 -> 43514 | C105: =IF(B105="","",IFERROR(VLOOKUP(B105,JFP!$B:$C,2,0),IF(WEEKDAY(B105,2)>5,"WE",""))&IF(COUNTIF(JFP!$E:$E,B105),JFP!$E$1,"")) | E105: =IF(DAY(E104+1)=21,"",E104+1) | F105: =IF(E105="","",IFERROR(VLOOKUP(E105,JFP!$B:$C,2,0),IF(WEEKDAY(E105,2)>5,"WE",""))&IF(COUNTIF(JFP!$E:$E,E105),JFP!$E$1,"")) | H105: =H104+1 -> 43573 | I105: =IF(H105="","",IFERROR(VLOOKUP(H105,JFP!$B:$C,2,0),IF(WEEKDAY(H105,2)>5,"WE",""))&IF(COUNTIF(JFP!$E:$E,H105),JFP!$E$1,"")) | K105: =K104+1 -> 43604 | L105: =IF(K105="","",IFERROR(VLOOKUP(K105,JFP!$B:$C,2,0),IF(WEEKDAY(K105,2)>5,"WE",""))&IF(COUNTIF(JFP!$E:$E,K105),JFP!$E$1,"")) -> WE | N105: =N104+1 -> 43634 | O105: =IF(N105="","",IFERROR(VLOOKUP(N105,JFP!$B:$C,2,0),IF(WEEKDAY(N105,2)>5,"WE",""))&IF(COUNTIF(JFP!$E:$E,N105),JFP!$E$1,"")) | Q105: =Q104+1 -> 43665 | R105: =IF(Q105="","",IFERROR(VLOOKUP(Q105,JFP!$B:$C,2,0),IF(WEEKDAY(Q105,2)>5,"WE",""))&IF(COUNTIF(JFP!$E:$E,Q105),JFP!$E$1,""))
B106: =B105+1 -> 43515 | C106: =IF(B106="","",IFERROR(VLOOKUP(B106,JFP!$B:$C,2,0),IF(WEEKDAY(B106,2)>5,"WE",""))&IF(COUNTIF(JFP!$E:$E,B106),JFP!$E$1,"")) | F106: =IF(E106="","",IFERROR(VLOOKUP(E106,JFP!$B:$C,2,0),IF(WEEKDAY(E106,2)>5,"WE",""))&IF(COUNTIF(JFP!$E:$E,E106),JFP!$E$1,"")) | H106: =H105+1 -> 43574 | I106: =IF(H106="","",IFERROR(VLOOKUP(H106,JFP!$B:$C,2,0),IF(WEEKDAY(H106,2)>5,"WE",""))&IF(COUNTIF(JFP!$E:$E,H106),JFP!$E$1,"")) | K106: =K105+1 -> 43605 | L106: =IF(K106="","",IFERROR(VLOOKUP(K106,JFP!$B:$C,2,0),IF(WEEKDAY(K106,2)>5,"WE",""))&IF(COUNTIF(JFP!$E:$E,K106),JFP!$E$1,"")) | N106: =N105+1 -> 43635 | O106: =IF(N106="","",IFERROR(VLOOKUP(N106,JFP!$B:$C,2,0),IF(WEEKDAY(N106,2)>5,"WE",""))&IF(COUNTIF(JFP!$E:$E,N106),JFP!$E$1,"")) | Q106: =Q105+1 -> 43666 | R106: =IF(Q106="","",IFERROR(VLOOKUP(Q106,JFP!$B:$C,2,0),IF(WEEKDAY(Q106,2)>5,"WE",""))&IF(COUNTIF(JFP!$E:$E,Q106),JFP!$E$1,"")) -> WE
B107: =B106+1 -> 43516 | C107: =IF(B107="","",IFERROR(VLOOKUP(B107,JFP!$B:$C,2,0),IF(WEEKDAY(B107,2)>5,"WE",""))&IF(COUNTIF(JFP!$E:$E,B107),JFP!$E$1,"")) | F107: =IF(E107="","",IFERROR(VLOOKUP(E107,JFP!$B:$C,2,0),IF(WEEKDAY(E107,2)>5,"WE",""))&IF(COUNTIF(JFP!$E:$E,E107),JFP!$E$1,"")) | H107: =H106+1 -> 43575 | I107: =IF(H107="","",IFERROR(VLOOKUP(H107,JFP!$B:$C,2,0),IF(WEEKDAY(H107,2)>5,"WE",""))&IF(COUNTIF(JFP!$E:$E,H107),JFP!$E$1,"")) -> WE | L107: =IF(K107="","",IFERROR(VLOOKUP(K107,JFP!$B:$C,2,0),IF(WEEKDAY(K107,2)>5,"WE",""))&IF(COUNTIF(JFP!$E:$E,K107),JFP!$E$1,"")) | N107: =N106+1 -> 43636 | O107: =IF(N107="","",IFERROR(VLOOKUP(N107,JFP!$B:$C,2,0),IF(WEEKDAY(N107,2)>5,"WE",""))&IF(COUNTIF(JFP!$E:$E,N107),JFP!$E$1,"")) | R107: =IF(Q107="","",IFERROR(VLOOKUP(Q107,JFP!$B:$C,2,0),IF(WEEKDAY(Q107,2)>5,"WE",""))&IF(COUNTIF(JFP!$E:$E,Q107),JFP!$E$1,""))
B109: =NETWORKDAYS(B77,MAX(B104:B107),JFP ) -> 23 | E109: =NETWORKDAYS(E77,MAX(E104:E107),JFP ) -> 20 | H109: =NETWORKDAYS(H77,MAX(H104:H107),JFP ) -> 22 | K109: =NETWORKDAYS(K77,MAX(K104:K107),JFP ) -> 18 | N109: =NETWORKDAYS(N77,MAX(N104:N107),JFP ) -> 20 | Q109: =NETWORKDAYS(Q77,MAX(Q104:Q107),JFP ) -> 21
B111: 7 | E111: 8 | H111: 9 | K111: 10 | N111: 11 | Q111: 12
B112: =DATE(A74,B111,1) -> 43647 | E112: =DATE(A74,E111,1) -> 43678 | H112: =DATE(A74,H111,1) -> 43709 | K112: =DATE(A74,K111,1) -> 43739 | N112: =DATE(A74,N111,1) -> 43770 | Q112: =DATE(A74,Q111,1) -> 43800
B113: =B112+20 -> 43667 | C113: =IF(B113="","",IFERROR(VLOOKUP(B113,JFP!$B:$C,2,0),IF(WEEKDAY(B113,2)>5,"WE",""))&IF(COUNTIF(JFP!$E:$E,B113),JFP!$E$1,"")) -> WE | E113: =E112+20 -> 43698 | F113: =IF(E113="","",IFERROR(VLOOKUP(E113,JFP!$B:$C,2,0),IF(WEEKDAY(E113,2)>5,"WE",""))&IF(COUNTIF(JFP!$E:$E,E113),JFP!$E$1,"")) | H113: =H112+20 -> 43729 | I113: =IF(H113="","",IFERROR(VLOOKUP(H113,JFP!$B:$C,2,0),IF(WEEKDAY(H113,2)>5,"WE",""))&IF(COUNTIF(JFP!$E:$E,H113),JFP!$E$1,"")) -> WE | K113: =K112+20 -> 43759 | L113: =IF(K113="","",IFERROR(VLOOKUP(K113,JFP!$B:$C,2,0),IF(WEEKDAY(K113,2)>5,"WE",""))&IF(COUNTIF(JFP!$E:$E,K113),JFP!$E$1,"")) | N113: =N112+20 -> 43790 | O113: =IF(N113="","",IFERROR(VLOOKUP(N113,JFP!$B:$C,2,0),IF(WEEKDAY(N113,2)>5,"WE",""))&IF(COUNTIF(JFP!$E:$E,N113),JFP!$E$1,"")) | Q113: =Q112+20 -> 43820 | R113: =IF(Q113="","",IFERROR(VLOOKUP(Q113,JFP!$B:$C,2,0),IF(WEEKDAY(Q113,2)>5,"WE",""))&IF(COUNTIF(JFP!$E:$E,Q113),JFP!$E$1,"")) -> WE
B114: =B113+1 -> 43668 | C114: =IF(B114="","",IFERROR(VLOOKUP(B114,JFP!$B:$C,2,0),IF(WEEKDAY(B114,2)>5,"WE",""))&IF(COUNTIF(JFP!$E:$E,B114),JFP!$E$1,"")) | E114: =E113+1 -> 43699 | F114: =IF(E114="","",IFERROR(VLOOKUP(E114,JFP!$B:$C,2,0),IF(WEEKDAY(E114,2)>5,"WE",""))&IF(COUNTIF(JFP!$E:$E,E114),JFP!$E$1,"")) | H114: =H113+1 -> 43730 | I114: =IF(H114="","",IFERROR(VLOOKUP(H114,JFP!$B:$C,2,0),IF(WEEKDAY(H114,2)>5,"WE",""))&IF(COUNTIF(JFP!$E:$E,H114),JFP!$E$1,"")) -> WE | K114: =K113+1 -> 43760 | L114: =IF(K114="","",IFERROR(VLOOKUP(K114,JFP!$B:$C,2,0),IF(WEEKDAY(K114,2)>5,"WE",""))&IF(COUNTIF(JFP!$E:$E,K114),JFP!$E$1,"")) | N114: =N113+1 -> 43791 | O114: =IF(N114="","",IFERROR(VLOOKUP(N114,JFP!$B:$C,2,0),IF(WEEKDAY(N114,2)>5,"WE",""))&IF(COUNTIF(JFP!$E:$E,N114),JFP!$E$1,"")) | Q114: =Q113+1 -> 43821 | R114: =IF(Q114="","",IFERROR(VLOOKUP(Q114,JFP!$B:$C,2,0),IF(WEEKDAY(Q114,2)>5,"WE",""))&IF(COUNTIF(JFP!$E:$E,Q114),JFP!$E$1,"")) -> WE
B115: =B114+1 -> 43669 | C115: =IF(B115="","",IFERROR(VLOOKUP(B115,JFP!$B:$C,2,0),IF(WEEKDAY(B115,2)>5,"WE",""))&IF(COUNTIF(JFP!$E:$E,B115),JFP!$E$1,"")) | E115: =E114+1 -> 43700 | F115: =IF(E115="","",IFERROR(VLOOKUP(E115,JFP!$B:$C,2,0),IF(WEEKDAY(E115,2)>5,"WE",""))&IF(COUNTIF(JFP!$E:$E,E115),JFP!$E$1,"")) | H115: =H114+1 -> 43731 | I115: =IF(H115="","",IFERROR(VLOOKUP(H115,JFP!$B:$C,2,0),IF(WEEKDAY(H115,2)>5,"WE",""))&IF(COUNTIF(JFP!$E:$E,H115),JFP!$E$1,"")) | K115: =K114+1 -> 43761 | L115: =IF(K115="","",IFERROR(VLOOKUP(K115,JFP!$B:$C,2,0),IF(WEEKDAY(K115,2)>5,"WE",""))&IF(COUNTIF(JFP!$E:$E,K115),JFP!$E$1,"")) | N115: =N114+1 -> 43792 | O115: =IF(N115="","",IFERROR(VLOOKUP(N115,JFP!$B:$C,2,0),IF(WEEKDAY(N115,2)>5,"WE",""))&IF(COUNTIF(JFP!$E:$E,N115),JFP!$E$1,"")) -> WE | Q115: =Q114+1 -> 43822 | R115: =IF(Q115="","",IFERROR(VLOOKUP(Q115,JFP!$B:$C,2,0),IF(WEEKDAY(Q115,2)>5,"WE",""))&IF(COUNTIF(JFP!$E:$E,Q115),JFP!$E$1,""))
B116: =B115+1 -> 43670 | C116: =IF(B116="","",IFERROR(VLOOKUP(B116,JFP!$B:$C,2,0),IF(WEEKDAY(B116,2)>5,"WE",""))&IF(COUNTIF(JFP!$E:$E,B116),JFP!$E$1,"")) | E116: =E115+1 -> 43701 | F116: =IF(E116="","",IFERROR(VLOOKUP(E116,JFP!$B:$C,2,0),IF(WEEKDAY(E116,2)>5,"WE",""))&IF(COUNTIF(JFP!$E:$E,E116),JFP!$E$1,"")) -> WE | H116: =H115+1 -> 43732 | I116: =IF(H116="","",IFERROR(VLOOKUP(H116,JFP!$B:$C,2,0),IF(WEEKDAY(H116,2)>5,"WE",""))&IF(COUNTIF(JFP!$E:$E,H116),JFP!$E$1,"")) | K116: =K115+1 -> 43762 | L116: =IF(K116="","",IFERROR(VLOOKUP(K116,JFP!$B:$C,2,0),IF(WEEKDAY(K116,2)>5,"WE",""))&IF(COUNTIF(JFP!$E:$E,K116),JFP!$E$1,"")) | N116: =N115+1 -> 43793 | O116: =IF(N116="","",IFERROR(VLOOKUP(N116,JFP!$B:$C,2,0),IF(WEEKDAY(N116,2)>5,"WE",""))&IF(COUNTIF(JFP!$E:$E,N116),JFP!$E$1,"")) -> WE | Q116: =Q115+1 -> 43823 | R116: =IF(Q116="","",IFERROR(VLOOKUP(Q116,JFP!$B:$C,2,0),IF(WEEKDAY(Q116,2)>5,"WE",""))&IF(COUNTIF(JFP!$E:$E,Q116),JFP!$E$1,""))
B117: =B116+1 -> 43671 | C117: =IF(B117="","",IFERROR(VLOOKUP(B117,JFP!$B:$C,2,0),IF(WEEKDAY(B117,2)>5,"WE",""))&IF(COUNTIF(JFP!$E:$E,B117),JFP!$E$1,"")) | E117: =E116+1 -> 43702 | F117: =IF(E117="","",IFERROR(VLOOKUP(E117,JFP!$B:$C,2,0),IF(WEEKDAY(E117,2)>5,"WE",""))&IF(COUNTIF(JFP!$E:$E,E117),JFP!$E$1,"")) -> WE | H117: =H116+1 -> 43733 | I117: =IF(H117="","",IFERROR(VLOOKUP(H117,JFP!$B:$C,2,0),IF(WEEKDAY(H117,2)>5,"WE",""))&IF(COUNTIF(JFP!$E:$E,H117),JFP!$E$1,"")) | K117: =K116+1 -> 43763 | L117: =IF(K117="","",IFERROR(VLOOKUP(K117,JFP!$B:$C,2,0),IF(WEEKDAY(K117,2)>5,"WE",""))&IF(COUNTIF(JFP!$E:$E,K117),JFP!$E$1,"")) | N117: =N116+1 -> 43794 | O117: =IF(N117="","",IFERROR(VLOOKUP(N117,JFP!$B:$C,2,0),IF(WEEKDAY(N117,2)>5,"WE",""))&IF(COUNTIF(JFP!$E:$E,N117),JFP!$E$1,"")) | Q117: =Q116+1 -> 43824 | R117: =IF(Q117="","",IFERROR(VLOOKUP(Q117,JFP!$B:$C,2,0),IF(WEEKDAY(Q117,2)>5,"WE",""))&IF(COUNTIF(JFP!$E:$E,Q117),JFP!$E$1,"")) -> Noël
B118: =B117+1 -> 43672 | C118: =IF(B118="","",IFERROR(VLOOKUP(B118,JFP!$B:$C,2,0),IF(WEEKDAY(B118,2)>5,"WE",""))&IF(COUNTIF(JFP!$E:$E,B118),JFP!$E$1,"")) | E118: =E117+1 -> 43703 | F118: =IF(E118="","",IFERROR(VLOOKUP(E118,JFP!$B:$C,2,0),IF(WEEKDAY(E118,2)>5,"WE",""))&IF(COUNTIF(JFP!$E:$E,E118),JFP!$E$1,"")) | H118: =H117+1 -> 43734 | I118: =IF(H118="","",IFERROR(VLOOKUP(H118,JFP!$B:$C,2,0),IF(WEEKDAY(H118,2)>5,"WE",""))&IF(COUNTIF(JFP!$E:$E,H118),JFP!$E$1,"")) | K118: =K117+1 -> 43764 | L118: =IF(K118="","",IFERROR(VLOOKUP(K118,JFP!$B:$C,2,0),IF(WEEKDAY(K118,2)>5,"WE",""))&IF(COUNTIF(JFP!$E:$E,K118),JFP!$E$1,"")) -> WE | N118: =N117+1 -> 43795 | O118: =IF(N118="","",IFERROR(VLOOKUP(N118,JFP!$B:$C,2,0),IF(WEEKDAY(N118,2)>5,"WE",""))&IF(COUNTIF(JFP!$E:$E,N118),JFP!$E$1,"")) | Q118: =Q117+1 -> 43825 | R118: =IF(Q118="","",IFERROR(VLOOKUP(Q118,JFP!$B:$C,2,0),IF(WEEKDAY(Q118,2)>5,"WE",""))&IF(COUNTIF(JFP!$E:$E,Q118),JFP!$E$1,""))
B119: =B118+1 -> 43673 | C119: =IF(B119="","",IFERROR(VLOOKUP(B119,JFP!$B:$C,2,0),IF(WEEKDAY(B119,2)>5,"WE",""))&IF(COUNTIF(JFP!$E:$E,B119),JFP!$E$1,"")) -> WE | E119: =E118+1 -> 43704 | F119: =IF(E119="","",IFERROR(VLOOKUP(E119,JFP!$B:$C,2,0),IF(WEEKDAY(E119,2)>5,"WE",""))&IF(COUNTIF(JFP!$E:$E,E119),JFP!$E$1,"")) | H119: =H118+1 -> 43735 | I119: =IF(H119="","",IFERROR(VLOOKUP(H119,JFP!$B:$C,2,0),IF(WEEKDAY(H119,2)>5,"WE",""))&IF(COUNTIF(JFP!$E:$E,H119),JFP!$E$1,"")) | K119: =K118+1 -> 43765 | L119: =IF(K119="","",IFERROR(VLOOKUP(K119,JFP!$B:$C,2,0),IF(WEEKDAY(K119,2)>5,"WE",""))&IF(COUNTIF(JFP!$E:$E,K119),JFP!$E$1,"")) -> WE | N119: =N118+1 -> 43796 | O119: =IF(N119="","",IFERROR(VLOOKUP(N119,JFP!$B:$C,2,0),IF(WEEKDAY(N119,2)>5,"WE",""))&IF(COUNTIF(JFP!$E:$E,N119),JFP!$E$1,"")) | Q119: =Q118+1 -> 43826 | R119: =IF(Q119="","",IFERROR(VLOOKUP(Q119,JFP!$B:$C,2,0),IF(WEEKDAY(Q119,2)>5,"WE",""))&IF(COUNTIF(JFP!$E:$E,Q119),JFP!$E$1,""))
B120: =B119+1 -> 43674 | C120: =IF(B120="","",IFERROR(VLOOKUP(B120,JFP!$B:$C,2,0),IF(WEEKDAY(B120,2)>5,"WE",""))&IF(COUNTIF(JFP!$E:$E,B120),JFP!$E$1,"")) -> WE | E120: =E119+1 -> 43705 | F120: =IF(E120="","",IFERROR(VLOOKUP(E120,JFP!$B:$C,2,0),IF(WEEKDAY(E120,2)>5,"WE",""))&IF(COUNTIF(JFP!$E:$E,E120),JFP!$E$1,"")) | H120: =H119+1 -> 43736 | I120: =IF(H120="","",IFERROR(VLOOKUP(H120,JFP!$B:$C,2,0),IF(WEEKDAY(H120,2)>5,"WE",""))&IF(COUNTIF(JFP!$E:$E,H120),JFP!$E$1,"")) -> WE | K120: =K119+1 -> 43766 | L120: =IF(K120="","",IFERROR(VLOOKUP(K120,JFP!$B:$C,2,0),IF(WEEKDAY(K120,2)>5,"WE",""))&IF(COUNTIF(JFP!$E:$E,K120),JFP!$E$1,"")) | N120: =N119+1 -> 43797 | O120: =IF(N120="","",IFERROR(VLOOKUP(N120,JFP!$B:$C,2,0),IF(WEEKDAY(N120,2)>5,"WE",""))&IF(COUNTIF(JFP!$E:$E,N120),JFP!$E$1,"")) | Q120: =Q119+1 -> 43827 | R120: =IF(Q120="","",IFERROR(VLOOKUP(Q120,JFP!$B:$C,2,0),IF(WEEKDAY(Q120,2)>5,"WE",""))&IF(COUNTIF(JFP!$E:$E,Q120),JFP!$E$1,"")) -> WE
B121: =B120+1 -> 43675 | C121: =IF(B121="","",IFERROR(VLOOKUP(B121,JFP!$B:$C,2,0),IF(WEEKDAY(B121,2)>5,"WE",""))&IF(COUNTIF(JFP!$E:$E,B121),JFP!$E$1,"")) | E121: =E120+1 -> 43706 | F121: =IF(E121="","",IFERROR(VLOOKUP(E121,JFP!$B:$C,2,0),IF(WEEKDAY(E121,2)>5,"WE",""))&IF(COUNTIF(JFP!$E:$E,E121),JFP!$E$1,"")) | H121: =H120+1 -> 43737 | I121: =IF(H121="","",IFERROR(VLOOKUP(H121,JFP!$B:$C,2,0),IF(WEEKDAY(H121,2)>5,"WE",""))&IF(COUNTIF(JFP!$E:$E,H121),JFP!$E$1,"")) -> WE | K121: =K120+1 -> 43767 | L121: =IF(K121="","",IFERROR(VLOOKUP(K121,JFP!$B:$C,2,0),IF(WEEKDAY(K121,2)>5,"WE",""))&IF(COUNTIF(JFP!$E:$E,K121),JFP!$E$1,"")) | N121: =N120+1 -> 43798 | O121: =IF(N121="","",IFERROR(VLOOKUP(N121,JFP!$B:$C,2,0),IF(WEEKDAY(N121,2)>5,"WE",""))&IF(COUNTIF(JFP!$E:$E,N121),JFP!$E$1,"")) | Q121: =Q120+1 -> 43828 | R121: =IF(Q121="","",IFERROR(VLOOKUP(Q121,JFP!$B:$C,2,0),IF(WEEKDAY(Q121,2)>5,"WE",""))&IF(COUNTIF(JFP!$E:$E,Q121),JFP!$E$1,"")) -> WE
B122: =B121+1 -> 43676 | C122: =IF(B122="","",IFERROR(VLOOKUP(B122,JFP!$B:$C,2,0),IF(WEEKDAY(B122,2)>5,"WE",""))&IF(COUNTIF(JFP!$E:$E,B122),JFP!$E$1,"")) | E122: =E121+1 -> 43707 | F122: =IF(E122="","",IFERROR(VLOOKUP(E122,JFP!$B:$C,2,0),IF(WEEKDAY(E122,2)>5,"WE",""))&IF(COUNTIF(JFP!$E:$E,E122),JFP!$E$1,"")) | H122: =H121+1 -> 43738 | I122: =IF(H122="","",IFERROR(VLOOKUP(H122,JFP!$B:$C,2,0),IF(WEEKDAY(H122,2)>5,"WE",""))&IF(COUNTIF(JFP!$E:$E,H122),JFP!$E$1,"")) | K122: =K121+1 -> 43768 | L122: =IF(K122="","",IFERROR(VLOOKUP(K122,JFP!$B:$C,2,0),IF(WEEKDAY(K122,2)>5,"WE",""))&IF(COUNTIF(JFP!$E:$E,K122),JFP!$E$1,"")) | N122: =N121+1 -> 43799 | O122: =IF(N122="","",IFERROR(VLOOKUP(N122,JFP!$B:$C,2,0),IF(WEEKDAY(N122,2)>5,"WE",""))&IF(COUNTIF(JFP!$E:$E,N122),JFP!$E$1,"")) -> WE | Q122: =Q121+1 -> 43829 | R122: =IF(Q122="","",IFERROR(VLOOKUP(Q122,JFP!$B:$C,2,0),IF(WEEKDAY(Q122,2)>5,"WE",""))&IF(COUNTIF(JFP!$E:$E,Q122),JFP!$E$1,""))
B123: =B122+1 -> 43677 | C123: =IF(B123="","",IFERROR(VLOOKUP(B123,JFP!$B:$C,2,0),IF(WEEKDAY(B123,2)>5,"WE",""))&IF(COUNTIF(JFP!$E:$E,B123),JFP!$E$1,"")) | E123: =E122+1 -> 43708 | F123: =IF(E123="","",IFERROR(VLOOKUP(E123,JFP!$B:$C,2,0),IF(WEEKDAY(E123,2)>5,"WE",""))&IF(COUNTIF(JFP!$E:$E,E123),JFP!$E$1,"")) -> WE | H123: =H122+1 -> 43739 | I123: =IF(H123="","",IFERROR(VLOOKUP(H123,JFP!$B:$C,2,0),IF(WEEKDAY(H123,2)>5,"WE",""))&IF(COUNTIF(JFP!$E:$E,H123),JFP!$E$1,"")) | K123: =K122+1 -> 43769 | L123: =IF(K123="","",IFERROR(VLOOKUP(K123,JFP!$B:$C,2,0),IF(WEEKDAY(K123,2)>5,"WE",""))&IF(COUNTIF(JFP!$E:$E,K123),JFP!$E$1,"")) | N123: =N122+1 -> 43800 | O123: =IF(N123="","",IFERROR(VLOOKUP(N123,JFP!$B:$C,2,0),IF(WEEKDAY(N123,2)>5,"WE",""))&IF(COUNTIF(JFP!$E:$E,N123),JFP!$E$1,"")) -> WE | Q123: =Q122+1 -> 43830 | R123: =IF(Q123="","",IFERROR(VLOOKUP(Q123,JFP!$B:$C,2,0),IF(WEEKDAY(Q123,2)>5,"WE",""))&IF(COUNTIF(JFP!$E:$E,Q123),JFP!$E$1,""))
B124: =B123+1 -> 43678 | C124: =IF(B124="","",IFERROR(VLOOKUP(B124,JFP!$B:$C,2,0),IF(WEEKDAY(B124,2)>5,"WE",""))&IF(COUNTIF(JFP!$E:$E,B124),JFP!$E$1,"")) | E124: =E123+1 -> 43709 | F124: =IF(E124="","",IFERROR(VLOOKUP(E124,JFP!$B:$C,2,0),IF(WEEKDAY(E124,2)>5,"WE",""))&IF(COUNTIF(JFP!$E:$E,E124),JFP!$E$1,"")) -> WE | H124: =H123+1 -> 43740 | I124: =IF(H124="","",IFERROR(VLOOKUP(H124,JFP!$B:$C,2,0),IF(WEEKDAY(H124,2)>5,"WE",""))&IF(COUNTIF(JFP!$E:$E,H124),JFP!$E$1,"")) | K124: =K123+1 -> 43770 | L124: =IF(K124="","",IFERROR(VLOOKUP(K124,JFP!$B:$C,2,0),IF(WEEKDAY(K124,2)>5,"WE",""))&IF(COUNTIF(JFP!$E:$E,K124),JFP!$E$1,"")) -> Toussaint | N124: =N123+1 -> 43801 | O124: =IF(N124="","",IFERROR(VLOOKUP(N124,JFP!$B:$C,2,0),IF(WEEKDAY(N124,2)>5,"WE",""))&IF(COUNTIF(JFP!$E:$E,N124),JFP!$E$1,"")) | Q124: =Q123+1 -> 43831 | R124: =IF(Q124="","",IFERROR(VLOOKUP(Q124,JFP!$B:$C,2,0),IF(WEEKDAY(Q124,2)>5,"WE",""))&IF(COUNTIF(JFP!$E:$E,Q124),JFP!$E$1,""))
B125: =B124+1 -> 43679 | C125: =IF(B125="","",IFERROR(VLOOKUP(B125,JFP!$B:$C,2,0),IF(WEEKDAY(B125,2)>5,"WE",""))&IF(COUNTIF(JFP!$E:$E,B125),JFP!$E$1,"")) | E125: =E124+1 -> 43710 | F125: =IF(E125="","",IFERROR(VLOOKUP(E125,JFP!$B:$C,2,0),IF(WEEKDAY(E125,2)>5,"WE",""))&IF(COUNTIF(JFP!$E:$E,E125),JFP!$E$1,"")) | H125: =H124+1 -> 43741 | I125: =IF(H125="","",IFERROR(VLOOKUP(H125,JFP!$B:$C,2,0),IF(WEEKDAY(H125,2)>5,"WE",""))&IF(COUNTIF(JFP!$E:$E,H125),JFP!$E$1,"")) | K125: =K124+1 -> 43771 | L125: =IF(K125="","",IFERROR(VLOOKUP(K125,JFP!$B:$C,2,0),IF(WEEKDAY(K125,2)>5,"WE",""))&IF(COUNTIF(JFP!$E:$E,K125),JFP!$E$1,"")) -> WE | N125: =N124+1 -> 43802 | O125: =IF(N125="","",IFERROR(VLOOKUP(N125,JFP!$B:$C,2,0),IF(WEEKDAY(N125,2)>5,"WE",""))&IF(COUNTIF(JFP!$E:$E,N125),JFP!$E$1,"")) | Q125: =Q124+1 -> 43832 | R125: =IF(Q125="","",IFERROR(VLOOKUP(Q125,JFP!$B:$C,2,0),IF(WEEKDAY(Q125,2)>5,"WE",""))&IF(COUNTIF(JFP!$E:$E,Q125),JFP!$E$1,""))
... B142: =B141+1 -> 43696 | C142: =IF(B142="","",IFERROR(VLOOKUP(B142,JFP!$B:$C,2,0),IF(WEEKDAY(B142,2)>5,"WE",""))&IF(COUNTIF(JFP!$E:$E,B142),JFP!$E$1,"")) | E142: =E141+1 -> 43727 | F142: =IF(E142="","",IFERROR(VLOOKUP(E142,JFP!$B:$C,2,0),IF(WEEKDAY(E142,2)>5,"WE",""))&IF(COUNTIF(JFP!$E:$E,E142),JFP!$E$1,"")) | H142: =H141+1 -> 43758 | I142: =IF(H142="","",IFERROR(VLOOKUP(H142,JFP!$B:$C,2,0),IF(WEEKDAY(H142,2)>5,"WE",""))&IF(COUNTIF(JFP!$E:$E,H142),JFP!$E$1,"")) -> WE | K142: =K141+1 -> 43788 | L142: =IF(K142="","",IFERROR(VLOOKUP(K142,JFP!$B:$C,2,0),IF(WEEKDAY(K142,2)>5,"WE",""))&IF(COUNTIF(JFP!$E:$E,K142),JFP!$E$1,"")) | N142: =N141+1 -> 43819 | O142: =IF(N142="","",IFERROR(VLOOKUP(N142,JFP!$B:$C,2,0),IF(WEEKDAY(N142,2)>5,"WE",""))&IF(COUNTIF(JFP!$E:$E,N142),JFP!$E$1,"")) | Q142: =Q141+1 -> 43849 | R142: =IF(Q142="","",IFERROR(VLOOKUP(Q142,JFP!$B:$C,2,0),IF(WEEKDAY(Q142,2)>5,"WE",""))&IF(COUNTIF(JFP!$E:$E,Q142),JFP!$E$1,"")) -> WE
B143: =B142+1 -> 43697 | C143: =IF(B143="","",IFERROR(VLOOKUP(B143,JFP!$B:$C,2,0),IF(WEEKDAY(B143,2)>5,"WE",""))&IF(COUNTIF(JFP!$E:$E,B143),JFP!$E$1,"")) | E143: =E142+1 -> 43728 | F143: =IF(E143="","",IFERROR(VLOOKUP(E143,JFP!$B:$C,2,0),IF(WEEKDAY(E143,2)>5,"WE",""))&IF(COUNTIF(JFP!$E:$E,E143),JFP!$E$1,"")) | I143: =IF(H143="","",IFERROR(VLOOKUP(H143,JFP!$B:$C,2,0),IF(WEEKDAY(H143,2)>5,"WE",""))&IF(COUNTIF(JFP!$E:$E,H143),JFP!$E$1,"")) | K143: =K142+1 -> 43789 | L143: =IF(K143="","",IFERROR(VLOOKUP(K143,JFP!$B:$C,2,0),IF(WEEKDAY(K143,2)>5,"WE",""))&IF(COUNTIF(JFP!$E:$E,K143),JFP!$E$1,"")) | O143: =IF(N143="","",IFERROR(VLOOKUP(N143,JFP!$B:$C,2,0),IF(WEEKDAY(N143,2)>5,"WE",""))&IF(COUNTIF(JFP!$E:$E,N143),JFP!$E$1,"")) | Q143: =Q142+1 -> 43850 | R143: =IF(Q143="","",IFERROR(VLOOKUP(Q143,JFP!$B:$C,2,0),IF(WEEKDAY(Q143,2)>5,"WE",""))&IF(COUNTIF(JFP!$E:$E,Q143),JFP!$E$1,""))
B145: =NETWORKDAYS(B113,MAX(B140:B143),JFP ) -> 20 | E145: =NETWORKDAYS(E113,MAX(E140:E143),JFP ) -> 23 | H145: =NETWORKDAYS(H113,MAX(H140:H143),JFP ) -> 20 | K145: =NETWORKDAYS(K113,MAX(K140:K143),JFP ) -> 21 | N145: =NETWORKDAYS(N113,MAX(N140:N143),JFP ) -> 22 | Q145: =NETWORKDAYS(Q113,MAX(Q140:Q143),JFP ) -> 20

Sheet JFP
A1: 2018 | B1: DATE_JF | C1: JF | D1: JF en semaine | E1: Pont
B2: =DATE(A1,1,1) -> 43101 | C2: Premier de l'AN | D2: =IF(OR(WEEKDAY(B2)=1,WEEKDAY(B2)=7),,B2) -> 43101 | E2: =IF(WEEKDAY(B2)=3,B2-1,IF(WEEKDAY(B2)=5,B2+1,)) -> 0
B3: =DATE(A1,IF((25-MOD((11*MOD(A1-1900,19)+4-INT((7*MOD(A1-1900,19)+1)/19)),29)-MOD(A1-1900+INT((A1-1900)/4)+31-MOD((11*MOD(A1-1900,19)+4-INT((7*MOD(A1-1900,19)+1)/19)),29),7))>0,4,3),IF((25-MOD((11*MOD(A1-1900,19)+4-INT((7*MOD(A1-1900,19)+1)/19)),29)-MOD(A1-1900+INT((A1-1900)/4)+31-MOD((11*MOD(A1-1900,19)+4-INT((7*MOD(A1-1900,19)+1)/19)),29),7))>0,(25-MOD((11*MOD(A1-1900,19)+4-INT((7*MOD(A1-1900,19)+1)/19)),29)-MOD(A1-1900+INT((A1-1900)/4)+31-MOD((11*MOD(A1-1900,19)+4-INT((7*MOD(A1-1900,19)+1)/19)),29),7)),31+(25-MOD((11*MOD(A1-1900,19)+4-INT((7*MOD(A1-1900,19)+1)/19)),29)-MOD(A1-1900+INT((A1-1900)/4)+31-MOD((11*MOD(A1-1900,19)+4-INT((7*MOD(A1-1900,19)+1)/19)),29),7)))) -> 43191 | C3: Pâques
B4: =B3+1 -> 43192 | C4: Lundi de Pâques | D4: =IF(OR(WEEKDAY(B4)=1,WEEKDAY(B4)=7),,B4) -> 43192 | E4: =IF(WEEKDAY(B4)=3,B4-1,IF(WEEKDAY(B4)=5,B4+1,)) -> 0
B5: =DATE(A1,5,1) -> 43221 | C5: Fête du travail | D5: =IF(OR(WEEKDAY(B5)=1,WEEKDAY(B5)=7),,B5) -> 43221 | E5: =IF(WEEKDAY(B5)=3,B5-1,IF(WEEKDAY(B5)=5,B5+1,)) -> 43220
B6: =DATE(A1,5,8) -> 43228 | C6: Victoire de 1945 | D6: =IF(OR(WEEKDAY(B6)=1,WEEKDAY(B6)=7),,B6) -> 43228 | E6: =IF(WEEKDAY(B6)=3,B6-1,IF(WEEKDAY(B6)=5,B6+1,)) -> 43227
B7: =B3+39 -> 43230 | C7: Ascension | D7: =IF(OR(WEEKDAY(B7)=1,WEEKDAY(B7)=7),,B7) -> 43230 | E7: =IF(WEEKDAY(B7)=3,B7-1,IF(WEEKDAY(B7)=5,B7+1,)) -> 43231
B8: =B3+50 -> 43241 | C8: Pentecôte | D8: =IF(OR(WEEKDAY(B8)=1,WEEKDAY(B8)=7),,B8) -> 43241 | E8: =IF(WEEKDAY(B8)=3,B8-1,IF(WEEKDAY(B8)=5,B8+1,)) -> 0
B9: =DATE(A1,7,14) -> 43295 | C9: Fête nationale | D9: =IF(OR(WEEKDAY(B9)=1,WEEKDAY(B9)=7),,B9) -> 0 | E9: =IF(WEEKDAY(B9)=3,B9-1,IF(WEEKDAY(B9)=5,B9+1,)) -> 0
B10: =DATE(A1,8,15) -> 43327 | C10: Assomption | D10: =IF(OR(WEEKDAY(B10)=1,WEEKDAY(B10)=7),,B10) -> 43327 | E10: =IF(WEEKDAY(B10)=3,B10-1,IF(WEEKDAY(B10)=5,B10+1,)) -> 0
B11: =DATE(A1,11,1) -> 43405 | C11: Toussaint | D11: =IF(OR(WEEKDAY(B11)=1,WEEKDAY(B11)=7),,B11) -> 43405 | E11: =IF(WEEKDAY(B11)=3,B11-1,IF(WEEKDAY(B11)=5,B11+1,)) -> 43406
B12: =DATE(A1,11,11) -> 43415 | C12: Armistice | D12: =IF(OR(WEEKDAY(B12)=1,WEEKDAY(B12)=7),,B12) -> 0 | E12: =IF(WEEKDAY(B12)=3,B12-1,IF(WEEKDAY(B12)=5,B12+1,)) -> 0
B13: =DATE(A1,12,25) -> 43459 | C13: Noël | D13: =IF(OR(WEEKDAY(B13)=1,WEEKDAY(B13)=7),,B13) -> 43459 | E13: =IF(WEEKDAY(B13)=3,B13-1,) -> 43458
A15: =A1+1 -> 2019 | B15: DATE_JF | C15: JF
B16: =DATE(A15,1,1) -> 43466 | C16: Premier de l'AN | D16: =IF(OR(WEEKDAY(B16)=1,WEEKDAY(B16)=7),,B16) -> 43466 | E16: =IF(WEEKDAY(B16)=3,B16-1,IF(WEEKDAY(B16)=5,B16+1,)) -> 43465
B17: =DATE(A15,IF((25-MOD((11*MOD(A15-1900,19)+4-INT((7*MOD(A15-1900,19)+1)/19)),29)-MOD(A15-1900+INT((A15-1900)/4)+31-MOD((11*MOD(A15-1900,19)+4-INT((7*MOD(A15-1900,19)+1)/19)),29),7))>0,4,3),IF((25-MOD((11*MOD(A15-1900,19)+4-INT((7*MOD(A15-1900,19)+1)/19)),29)-MOD(A15-1900+INT((A15-1900)/4)+31-MOD((11*MOD(A15-1900,19)+4-INT((7*MOD(A15-1900,19)+1)/19)),29),7))>0,(25-MOD((11*MOD(A15-1900,19)+4-INT((7*MOD(A15-1900,19)+1)/19)),29)-MOD(A15-1900+INT((A15-1900)/4)+31-MOD((11*MOD(A15-1900,19)+4-INT((7*MOD(A15-1900,19)+1)/19)),29),7)),31+(25-MOD((11*MOD(A15-1900,19)+4-INT((7*MOD(A15-1900,19)+1)/19)),29)-MOD(A15-1900+INT((A15-1900)/4)+31-MOD((11*MOD(A15-1900,19)+4-INT((7*MOD(A15-1900,19)+1)/19)),29),7)))) -> 43576 | C17: Pâques
B18: =B17+1 -> 43577 | C18: Lundi de Pâques | D18: =IF(OR(WEEKDAY(B18)=1,WEEKDAY(B18)=7),,B18) -> 43577 | E18: =IF(WEEKDAY(B18)=3,B18-1,IF(WEEKDAY(B18)=5,B18+1,)) -> 0
B19: =DATE(A15,5,1) -> 43586 | C19: Fête du travail | D19: =IF(OR(WEEKDAY(B19)=1,WEEKDAY(B19)=7),,B19) -> 43586 | E19: =IF(WEEKDAY(B19)=3,B19-1,IF(WEEKDAY(B19)=5,B19+1,)) -> 0
B20: =DATE(A15,5,8) -> 43593 | C20: Victoire de 1945 | D20: =IF(OR(WEEKDAY(B20)=1,WEEKDAY(B20)=7),,B20) -> 43593 | E20: =IF(WEEKDAY(B20)=3,B20-1,IF(WEEKDAY(B20)=5,B20+1,)) -> 0
B21: =B17+39 -> 43615 | C21: Ascension | D21: =IF(OR(WEEKDAY(B21)=1,WEEKDAY(B21)=7),,B21) -> 43615 | E21: =IF(WEEKDAY(B21)=3,B21-1,IF(WEEKDAY(B21)=5,B21+1,)) -> 43616
B22: =B17+50 -> 43626 | C22: Pentecôte | D22: =IF(OR(WEEKDAY(B22)=1,WEEKDAY(B22)=7),,B22) -> 43626 | E22: =IF(WEEKDAY(B22)=3,B22-1,IF(WEEKDAY(B22)=5,B22+1,)) -> 0
B23: =DATE(A15,7,14) -> 43660 | C23: Fête nationale | D23: =IF(OR(WEEKDAY(B23)=1,WEEKDAY(B23)=7),,B23) -> 0 | E23: =IF(WEEKDAY(B23)=3,B23-1,IF(WEEKDAY(B23)=5,B23+1,)) -> 0
B24: =DATE(A15,8,15) -> 43692 | C24: Assomption | D24: =IF(OR(WEEKDAY(B24)=1,WEEKDAY(B24)=7),,B24) -> 43692 | E24: =IF(WEEKDAY(B24)=3,B24-1,IF(WEEKDAY(B24)=5,B24+1,)) -> 43693
B25: =DATE(A15,11,1) -> 43770 | C25: Toussaint | D25: =IF(OR(WEEKDAY(B25)=1,WEEKDAY(B25)=7),,B25) -> 43770 | E25: =IF(WEEKDAY(B25)=3,B25-1,IF(WEEKDAY(B25)=5,B25+1,)) -> 0
B26: =DATE(A15,11,11) -> 43780 | C26: Armistice | D26: =IF(OR(WEEKDAY(B26)=1,WEEKDAY(B26)=7),,B26) -> 43780 | E26: =IF(WEEKDAY(B26)=3,B26-1,IF(WEEKDAY(B26)=5,B26+1,)) -> 0
B27: =DATE(A15,12,25) -> 43824 | C27: Noël | D27: =IF(OR(WEEKDAY(B27)=1,WEEKDAY(B27)=7),,B27) -> 43824 | E27: =IF(WEEKDAY(B27)=3,B27-1,) -> 0
