Workbook
Name Tabsem: Postes!$P$3:$P$9

Sheet Wallboard
A1: 1 | B1: 2 | C1: 3 | D1: 4 | E1: 5 | F1: 6 | G1: 7 | H1: 8 | I1: 9 | J1: 10 | K1: 11 | L1: 12 | M1: 13 | N1: 14 | O1: 15 | P1: 16 | Q1: 17 | R1: 18 | S1: 19 | T1: 20 | U1: 21 | V1: 22 | W1: 23 | X1: 24 | Y1: 25 | Z1: 26 | AA1: 27 | AB1: 28 | AC1: 29 | AD1: 30 | AE1: 31 | AF1: 32 | AG1: 33 | AH1: 34 | AI1: 35 | AJ1: 36 | AK1: 37 | AL1: 38 | AM1: 39
A2: LOG 0 | B2: Nom employé | C2: Login | D2: Login 2 | E2: idcard | F2: Nº Poste | G2: Date d'entrée | H2: chef equipe | I2: service | J2: responsable | K2: entre | L2: sort | M2: entre2 | N2: sort2 | O2: Repos | P2: audit | Q2: alerte | R2: 1 | S2: 2 | T2: 3 | U2: 4 | V2: 5 | W2: 6 | X2: jour | Y2: heure | AB2: Lundi | AD2: Mardi | AF2: Mercredi | AH2: Jeudi | AJ2: Vendredi | AL2: Samedi
A3: 1 | B3: a | C3: 1 | D3: 10001 | E3: 220351001 | F3: 2503009 | G3: 43080 | K3: 11H30 | L3: 0.64583333 | M3: 0.6875 | N3: 20H30 | O3: Vendredi | Q3: =IFERROR(VLOOKUP(A:A,#REF!,5,0),"") | X3: 43103 | Y3: 12:00-12:30 | AC3: =IF(AB3,COUNTIF(AB$3:AB3,1)," ") | AE3: =IF(AD3,COUNTIF(AD$3:AD3,1)," ") | AG3: =IF(AF3,COUNTIF(AF$3:AF3,1)," ") | AI3: =IF(AH3,COUNTIF(AH$3:AH3,1)," ") | AJ3: 1 | AK3: =IF(AJ3,COUNTIF(AJ$3:AJ3,1)," ") -> 1 | AM3: =IF(AL3,COUNTIF(AL$3:AL3,1)," ")
A4: =SUM(A3+1) -> 2 | B4: b | C4: =SUM(C3+1) -> 2 | D4: =SUM(D3+1) -> 10002 | E4: =SUM(E3+1) -> 220351002 | F4: 2503022 | G4: 42590 | K4: 0.33333333 | L4: 0.5 | M4: 0.54166667 | N4: 0.58333333 | O4: Samedi | Q4: =IFERROR(VLOOKUP(A:A,#REF!,5,0),"") | X4: 43104 | Y4: 15:00-15:30 | AC4: =IF(AB4,COUNTIF(AB$3:AB4,1)," ") | AE4: =IF(AD4,COUNTIF(AD$3:AD4,1)," ") | AG4: =IF(AF4,COUNTIF(AF$3:AF4,1)," ") | AI4: =IF(AH4,COUNTIF(AH$3:AH4,1)," ") | AK4: =IF(AJ4,COUNTIF(AJ$3:AJ4,1)," ") | AL4: 1 | AM4: =IF(AL4,COUNTIF(AL$3:AL4,1)," ") -> 1
A5: =SUM(A4+1) -> 3 | B5: c | C5: =SUM(C4+1) -> 3 | D5: =SUM(D4+1) -> 10003 | E5: =SUM(E4+1) -> 220351003 | F5: 2503018 | G5: 43080 | K5: 10H00 | L5: 0.58333333 | M5: 0.625 | N5: 19H00 | O5: Vendredi | Q5: =IFERROR(VLOOKUP(A:A,#REF!,5,0),"") | X5: 43103 | Y5: 12:00-12:30 | AC5: =IF(AB5,COUNTIF(AB$3:AB5,1)," ") | AE5: =IF(AD5,COUNTIF(AD$3:AD5,1)," ") | AF5: 1 | AG5: =IF(AF5,COUNTIF(AF$3:AF5,1)," ") -> 1 | AI5: =IF(AH5,COUNTIF(AH$3:AH5,1)," ") | AK5: =IF(AJ5,COUNTIF(AJ$3:AJ5,1)," ") | AM5: =IF(AL5,COUNTIF(AL$3:AL5,1)," ")
A6: =SUM(A5+1) -> 4 | B6: d | C6: =SUM(C5+1) -> 4 | D6: =SUM(D5+1) -> 10004 | E6: =SUM(E5+1) -> 220351004 | F6: 2503019 | G6: 43080 | K6: 11H30 | L6: 0.64583333 | M6: 0.6875 | N6: 20H30 | O6: Vendredi | Q6: =IFERROR(VLOOKUP(A:A,#REF!,5,0),"") | X6: 43103 | Y6: 12:00-12:30 | AC6: =IF(AB6,COUNTIF(AB$3:AB6,1)," ") | AE6: =IF(AD6,COUNTIF(AD$3:AD6,1)," ") | AG6: =IF(AF6,COUNTIF(AF$3:AF6,1)," ") | AI6: =IF(AH6,COUNTIF(AH$3:AH6,1)," ") | AK6: =IF(AJ6,COUNTIF(AJ$3:AJ6,1)," ") | AL6: 1 | AM6: =IF(AL6,COUNTIF(AL$3:AL6,1)," ") -> 2
A7: =SUM(A6+1) -> 5 | B7: e | C7: =SUM(C6+1) -> 5 | D7: =SUM(D6+1) -> 10005 | E7: =SUM(E6+1) -> 220351005 | F7: 2503016 | G7: 43080 | K7: 12H00 | L7: 0.66666667 | M7: 0.70833333 | N7: 21H00 | O7: Vendredi | Q7: =IFERROR(VLOOKUP(A:A,#REF!,5,0),"") | X7: 43103 | Y7: 12:00-12:30 | AC7: =IF(AB7,COUNTIF(AB$3:AB7,1)," ") | AE7: =IF(AD7,COUNTIF(AD$3:AD7,1)," ") | AG7: =IF(AF7,COUNTIF(AF$3:AF7,1)," ") | AI7: =IF(AH7,COUNTIF(AH$3:AH7,1)," ") | AK7: =IF(AJ7,COUNTIF(AJ$3:AJ7,1)," ") | AL7: 1 | AM7: =IF(AL7,COUNTIF(AL$3:AL7,1)," ") -> 3
A8: =SUM(A7+1) -> 6 | B8: f | C8: =SUM(C7+1) -> 6 | D8: =SUM(D7+1) -> 10006 | E8: =SUM(E7+1) -> 220351006 | F8: 2503008 | G8: 42296 | K8: 0.41666667 | L8: 0.58333333 | M8: 0.625 | N8: 0.79166667 | O8: Jeudi | Q8: =IFERROR(VLOOKUP(A:A,#REF!,5,0),"") | X8: 43103 | Y8: 11:00-11:30 | AC8: =IF(AB8,COUNTIF(AB$3:AB8,1)," ") | AE8: =IF(AD8,COUNTIF(AD$3:AD8,1)," ") | AG8: =IF(AF8,COUNTIF(AF$3:AF8,1)," ") | AH8: 1 | AI8: =IF(AH8,COUNTIF(AH$3:AH8,1)," ") -> 1 | AK8: =IF(AJ8,COUNTIF(AJ$3:AJ8,1)," ") | AL8: 1 | AM8: =IF(AL8,COUNTIF(AL$3:AL8,1)," ") -> 4
A9: =SUM(A8+1) -> 7 | B9: g | C9: =SUM(C8+1) -> 7 | D9: =SUM(D8+1) -> 10007 | E9: =SUM(E8+1) -> 220351007 | F9: 2503037 | G9: 42366 | K9: 0.33333333 | L9: 0.5 | M9: 0.54166667 | N9: 0.70833333 | O9: Samedi | Q9: =IFERROR(VLOOKUP(A:A,#REF!,5,0),"") | X9: 43104 | Y9: 11:00-11:30 | AC9: =IF(AB9,COUNTIF(AB$3:AB9,1)," ") | AE9: =IF(AD9,COUNTIF(AD$3:AD9,1)," ") | AG9: =IF(AF9,COUNTIF(AF$3:AF9,1)," ") | AI9: =IF(AH9,COUNTIF(AH$3:AH9,1)," ") | AK9: =IF(AJ9,COUNTIF(AJ$3:AJ9,1)," ") | AL9: 1 | AM9: =IF(AL9,COUNTIF(AL$3:AL9,1)," ") -> 5
A10: =SUM(A9+1) -> 8 | B10: h | C10: =SUM(C9+1) -> 8 | D10: =SUM(D9+1) -> 10008 | E10: =SUM(E9+1) -> 220351008 | F10: 2503024 | G10: 43080 | K10: 10H30 | L10: 0.60416667 | M10: 0.64583333 | N10: 19H30 | O10: Jeudi | Q10: =IFERROR(VLOOKUP(A:A,#REF!,5,0),"") | X10: 43103 | Y10: 12:00-12:30 | AC10: =IF(AB10,COUNTIF(AB$3:AB10,1)," ") | AE10: =IF(AD10,COUNTIF(AD$3:AD10,1)," ") | AF10: 1 | AG10: =IF(AF10,COUNTIF(AF$3:AF10,1)," ") -> 2 | AI10: =IF(AH10,COUNTIF(AH$3:AH10,1)," ") | AK10: =IF(AJ10,COUNTIF(AJ$3:AJ10,1)," ") | AM10: =IF(AL10,COUNTIF(AL$3:AL10,1)," ")
A11: =SUM(A10+1) -> 9 | B11: i | C11: =SUM(C10+1) -> 9 | D11: =SUM(D10+1) -> 10009 | E11: =SUM(E10+1) -> 220351009 | F11: 2503013 | G11: 43080 | K11: 11H30 | L11: 0.64583333 | M11: 0.6875 | N11: 20H30 | O11: Vendredi | Q11: =IFERROR(VLOOKUP(A:A,#REF!,5,0),"") | X11: 43103 | Y11: 12:00-12:30 | AC11: =IF(AB11,COUNTIF(AB$3:AB11,1)," ") | AE11: =IF(AD11,COUNTIF(AD$3:AD11,1)," ") | AG11: =IF(AF11,COUNTIF(AF$3:AF11,1)," ") | AI11: =IF(AH11,COUNTIF(AH$3:AH11,1)," ") | AJ11: 1 | AK11: =IF(AJ11,COUNTIF(AJ$3:AJ11,1)," ") -> 2 | AM11: =IF(AL11,COUNTIF(AL$3:AL11,1)," ")
A12: =SUM(A11+1) -> 10 | B12: j | C12: =SUM(C11+1) -> 10 | D12: =SUM(D11+1) -> 10010 | E12: =SUM(E11+1) -> 220351010 | F12: 2503012 | G12: 43080 | K12: 11H30 | L12: 0.64583333 | M12: 0.6875 | N12: 20H30 | O12: Jeudi | Q12: =IFERROR(VLOOKUP(A:A,#REF!,5,0),"") | X12: 43103 | Y12: 12:00-12:30 | AC12: =IF(AB12,COUNTIF(AB$3:AB12,1)," ") | AE12: =IF(AD12,COUNTIF(AD$3:AD12,1)," ") | AF12: 1 | AG12: =IF(AF12,COUNTIF(AF$3:AF12,1)," ") -> 3 | AI12: =IF(AH12,COUNTIF(AH$3:AH12,1)," ") | AK12: =IF(AJ12,COUNTIF(AJ$3:AJ12,1)," ") | AM12: =IF(AL12,COUNTIF(AL$3:AL12,1)," ")
A13: =SUM(A12+1) -> 11 | B13: k | C13: =SUM(C12+1) -> 11 | D13: =SUM(D12+1) -> 10011 | E13: =SUM(E12+1) -> 220351011 | F13: 2503195 | G13: 42296 | K13: 0.33333333 | L13: 0.5 | M13: 0.54166667 | N13: 0.70833333 | O13: Mercredi | Q13: =IFERROR(VLOOKUP(A:A,#REF!,5,0),"") | X13: 43104 | Y13: 14:30-15:00 | AC13: =IF(AB13,COUNTIF(AB$3:AB13,1)," ") | AE13: =IF(AD13,COUNTIF(AD$3:AD13,1)," ") | AG13: =IF(AF13,COUNTIF(AF$3:AF13,1)," ") | AI13: =IF(AH13,COUNTIF(AH$3:AH13,1)," ") | AK13: =IF(AJ13,COUNTIF(AJ$3:AJ13,1)," ") | AL13: 1 | AM13: =IF(AL13,COUNTIF(AL$3:AL13,1)," ") -> 6
A14: =SUM(A13+1) -> 12 | B14: l | C14: =SUM(C13+1) -> 12 | D14: =SUM(D13+1) -> 10012 | E14: =SUM(E13+1) -> 220351012 | F14: 2503036 | G14: 42296 | K14: 0.35416667 | L14: 0.52083333 | M14: 0.5625 | N14: 0.72916667 | O14: Samedi | Q14: =IFERROR(VLOOKUP(A:A,#REF!,5,0),"") | X14: 43105 | Y14: 15:00-15:30 | AC14: =IF(AB14,COUNTIF(AB$3:AB14,1)," ") | AE14: =IF(AD14,COUNTIF(AD$3:AD14,1)," ") | AF14: 1 | AG14: =IF(AF14,COUNTIF(AF$3:AF14,1)," ") -> 4 | AI14: =IF(AH14,COUNTIF(AH$3:AH14,1)," ") | AK14: =IF(AJ14,COUNTIF(AJ$3:AJ14,1)," ") | AM14: =IF(AL14,COUNTIF(AL$3:AL14,1)," ")
A15: =SUM(A14+1) -> 13 | B15: m | C15: =SUM(C14+1) -> 13 | D15: =SUM(D14+1) -> 10013 | E15: =SUM(E14+1) -> 220351013 | F15: 2503034 | G15: 43080 | K15: 10H30 | L15: 0.60416667 | M15: 0.64583333 | N15: 19H30 | O15: Vendredi | Q15: =IFERROR(VLOOKUP(A:A,#REF!,5,0),"") | X15: 43103 | Y15: 12:00-12:30 | AC15: =IF(AB15,COUNTIF(AB$3:AB15,1)," ") | AE15: =IF(AD15,COUNTIF(AD$3:AD15,1)," ") | AF15: 1 | AG15: =IF(AF15,COUNTIF(AF$3:AF15,1)," ") -> 5 | AI15: =IF(AH15,COUNTIF(AH$3:AH15,1)," ") | AK15: =IF(AJ15,COUNTIF(AJ$3:AJ15,1)," ") | AM15: =IF(AL15,COUNTIF(AL$3:AL15,1)," ")
A16: =SUM(A15+1) -> 14 | B16: n | C16: =SUM(C15+1) -> 14 | D16: =SUM(D15+1) -> 10014 | E16: =SUM(E15+1) -> 220351014 | F16: 2503188 | G16: 42366 | K16: 0.66666667 | L16: 0.875 | N16: 0.875 | O16: Mercredi | Q16: =IFERROR(VLOOKUP(A:A,#REF!,5,0),"") | X16: 43105 | Y16: 16:00-16:30 | AC16: =IF(AB16,COUNTIF(AB$3:AB16,1)," ") | AE16: =IF(AD16,COUNTIF(AD$3:AD16,1)," ") | AG16: =IF(AF16,COUNTIF(AF$3:AF16,1)," ") | AI16: =IF(AH16,COUNTIF(AH$3:AH16,1)," ") | AK16: =IF(AJ16,COUNTIF(AJ$3:AJ16,1)," ") | AL16: 1 | AM16: =IF(AL16,COUNTIF(AL$3:AL16,1)," ") -> 7
A17: =SUM(A16+1) -> 15 | B17: o | C17: =SUM(C16+1) -> 15 | D17: =SUM(D16+1) -> 10015 | E17: =SUM(E16+1) -> 220351015 | F17: 2503026 | G17: 42296 | K17: 0.375 | L17: 0.54166667 | M17: 0.58333333 | N17: 0.75 | O17: Samedi | Q17: =IFERROR(VLOOKUP(A:A,#REF!,5,0),"") | X17: 0 | Y17: 0 | AC17: =IF(AB17,COUNTIF(AB$3:AB17,1)," ") | AE17: =IF(AD17,COUNTIF(AD$3:AD17,1)," ") | AG17: =IF(AF17,COUNTIF(AF$3:AF17,1)," ") | AI17: =IF(AH17,COUNTIF(AH$3:AH17,1)," ") | AK17: =IF(AJ17,COUNTIF(AJ$3:AJ17,1)," ") | AL17: 1 | AM17: =IF(AL17,COUNTIF(AL$3:AL17,1)," ") -> 8
A18: =SUM(A17+1) -> 16 | B18: p | C18: =SUM(C17+1) -> 16 | D18: =SUM(D17+1) -> 10016 | E18: =SUM(E17+1) -> 220351016 | F18: 2503073 | G18: 42513 | K18: 0.33333333 | L18: 0.5 | M18: 0.54166667 | N18: 0.70833333 | O18: Samedi | Q18: =IFERROR(VLOOKUP(A:A,#REF!,5,0),"") | X18: 43105 | Y18: 15:00-15:30 | AC18: =IF(AB18,COUNTIF(AB$3:AB18,1)," ") | AE18: =IF(AD18,COUNTIF(AD$3:AD18,1)," ") | AG18: =IF(AF18,COUNTIF(AF$3:AF18,1)," ") | AH18: 1 | AI18: =IF(AH18,COUNTIF(AH$3:AH18,1)," ") -> 2 | AK18: =IF(AJ18,COUNTIF(AJ$3:AJ18,1)," ") | AM18: =IF(AL18,COUNTIF(AL$3:AL18,1)," ")
A19: =SUM(A18+1) -> 17 | B19: q | C19: =SUM(C18+1) -> 17 | D19: =SUM(D18+1) -> 10017 | E19: =SUM(E18+1) -> 220351017 | F19: 2503048 | G19: 43080 | K19: 10H30 | L19: 0.60416667 | M19: 0.64583333 | N19: 19H30 | O19: Vendredi | Q19: =IFERROR(VLOOKUP(A:A,#REF!,5,0),"") | X19: 43103 | Y19: 12:00-12:30 | AC19: =IF(AB19,COUNTIF(AB$3:AB19,1)," ") | AE19: =IF(AD19,COUNTIF(AD$3:AD19,1)," ") | AG19: =IF(AF19,COUNTIF(AF$3:AF19,1)," ") | AI19: =IF(AH19,COUNTIF(AH$3:AH19,1)," ") | AK19: =IF(AJ19,COUNTIF(AJ$3:AJ19,1)," ") | AL19: 1 | AM19: =IF(AL19,COUNTIF(AL$3:AL19,1)," ") -> 9
A20: =SUM(A19+1) -> 18 | B20: r | C20: =SUM(C19+1) -> 18 | D20: =SUM(D19+1) -> 10018 | E20: =SUM(E19+1) -> 220351018 | F20: 2503085 | G20: 42366 | K20: 0.45833333 | L20: 0.625 | M20: 0.66666667 | N20: 0.83333333 | O20: Jeudi | Q20: =IFERROR(VLOOKUP(A:A,#REF!,5,0),"") | X20: 43103 | Y20: 14:00-14:30 | AC20: =IF(AB20,COUNTIF(AB$3:AB20,1)," ") | AE20: =IF(AD20,COUNTIF(AD$3:AD20,1)," ") | AG20: =IF(AF20,COUNTIF(AF$3:AF20,1)," ") | AI20: =IF(AH20,COUNTIF(AH$3:AH20,1)," ") | AK20: =IF(AJ20,COUNTIF(AJ$3:AJ20,1)," ") | AL20: 1 | AM20: =IF(AL20,COUNTIF(AL$3:AL20,1)," ") -> 10
A21: =SUM(A20+1) -> 19 | B21: s | C21: =SUM(C20+1) -> 19 | D21: =SUM(D20+1) -> 10019 | E21: =SUM(E20+1) -> 220351019 | F21: 2503142 | G21: 42296 | K21: 0.375 | L21: 0.54166667 | M21: 0.58333333 | N21: 0.5625 | O21: Mardi | Q21: =IFERROR(VLOOKUP(A:A,#REF!,5,0),"") | X21: 43103 | Y21: 15:00-15:30 | AC21: =IF(AB21,COUNTIF(AB$3:AB21,1)," ") | AE21: =IF(AD21,COUNTIF(AD$3:AD21,1)," ") | AG21: =IF(AF21,COUNTIF(AF$3:AF21,1)," ") | AI21: =IF(AH21,COUNTIF(AH$3:AH21,1)," ") | AK21: =IF(AJ21,COUNTIF(AJ$3:AJ21,1)," ") | AL21: 1 | AM21: =IF(AL21,COUNTIF(AL$3:AL21,1)," ") -> 11
A22: =SUM(A21+1) -> 20 | B22: t | C22: =SUM(C21+1) -> 20 | D22: =SUM(D21+1) -> 10020 | E22: =SUM(E21+1) -> 220351020 | F22: 2503087 | G22: 42296 | K22: 0.375 | L22: 0.58333333 | N22: 0.58333333 | O22: Jeudi | Q22: =IFERROR(VLOOKUP(A:A,#REF!,5,0),"") | X22: 43103 | Y22: 11:00-11:30 | AC22: =IF(AB22,COUNTIF(AB$3:AB22,1)," ") | AE22: =IF(AD22,COUNTIF(AD$3:AD22,1)," ") | AG22: =IF(AF22,COUNTIF(AF$3:AF22,1)," ") | AI22: =IF(AH22,COUNTIF(AH$3:AH22,1)," ") | AK22: =IF(AJ22,COUNTIF(AJ$3:AJ22,1)," ") | AL22: 1 | AM22: =IF(AL22,COUNTIF(AL$3:AL22,1)," ") -> 12
A23: =SUM(A22+1) -> 21 | B23: u | C23: =SUM(C22+1) -> 21 | D23: =SUM(D22+1) -> 10021 | E23: =SUM(E22+1) -> 220351021 | F23: 2503163 | G23: 43058 | K23: 0.41666667 | L23: 0.58333333 | M23: 0.625 | N23: 0.79166667 | O23: Mardi | Q23: =IFERROR(VLOOKUP(A:A,#REF!,5,0),"") | X23: 43105 | Y23: 11:00-11:30 | AC23: =IF(AB23,COUNTIF(AB$3:AB23,1)," ") | AE23: =IF(AD23,COUNTIF(AD$3:AD23,1)," ") | AG23: =IF(AF23,COUNTIF(AF$3:AF23,1)," ") | AI23: =IF(AH23,COUNTIF(AH$3:AH23,1)," ") | AK23: =IF(AJ23,COUNTIF(AJ$3:AJ23,1)," ") | AL23: 1 | AM23: =IF(AL23,COUNTIF(AL$3:AL23,1)," ") -> 13
A24: =SUM(A23+1) -> 22 | B24: v | C24: =SUM(C23+1) -> 22 | D24: =SUM(D23+1) -> 10022 | E24: =SUM(E23+1) -> 220351022 | F24: 2503103 | G24: 42513 | K24: 0.29166667 | L24: 0.54166667 | N24: 0.54166667 | O24: Jeudi | Q24: =IFERROR(VLOOKUP(A:A,#REF!,5,0),"") | X24: 0 | Y24: 0 | AC24: =IF(AB24,COUNTIF(AB$3:AB24,1)," ") | AE24: =IF(AD24,COUNTIF(AD$3:AD24,1)," ") | AG24: =IF(AF24,COUNTIF(AF$3:AF24,1)," ") | AI24: =IF(AH24,COUNTIF(AH$3:AH24,1)," ") | AK24: =IF(AJ24,COUNTIF(AJ$3:AJ24,1)," ") | AL24: 1 | AM24: =IF(AL24,COUNTIF(AL$3:AL24,1)," ") -> 14
A25: =SUM(A24+1) -> 23 | B25: w | C25: =SUM(C24+1) -> 23 | D25: =SUM(D24+1) -> 10023 | E25: =SUM(E24+1) -> 220351023 | F25: 2503161 | G25: 42422 | K25: 0.29166667 | L25: 0.45833333 | M25: 0.5 | N25: 0.66666667 | O25: Mardi | Q25: =IFERROR(VLOOKUP(A:A,#REF!,5,0),"") | X25: 43103 | Y25: 14:00-14:30 | AC25: =IF(AB25,COUNTIF(AB$3:AB25,1)," ") | AE25: =IF(AD25,COUNTIF(AD$3:AD25,1)," ") | AG25: =IF(AF25,COUNTIF(AF$3:AF25,1)," ") | AI25: =IF(AH25,COUNTIF(AH$3:AH25,1)," ") | AJ25: 1 | AK25: =IF(AJ25,COUNTIF(AJ$3:AJ25,1)," ") -> 3 | AM25: =IF(AL25,COUNTIF(AL$3:AL25,1)," ")
A26: =SUM(A25+1) -> 24 | B26: x | C26: =SUM(C25+1) -> 24 | D26: =SUM(D25+1) -> 10024 | E26: =SUM(E25+1) -> 220351024 | F26: 2503075 | G26: 42296 | K26: 0.375 | L26: 0.54166667 | M26: 0.58333333 | N26: 0.66666667 | O26: Mercredi | Q26: =IFERROR(VLOOKUP(A:A,#REF!,5,0),"") | X26: 0 | Y26: 0 | AC26: =IF(AB26,COUNTIF(AB$3:AB26,1)," ") | AE26: =IF(AD26,COUNTIF(AD$3:AD26,1)," ") | AG26: =IF(AF26,COUNTIF(AF$3:AF26,1)," ") | AI26: =IF(AH26,COUNTIF(AH$3:AH26,1)," ") | AK26: =IF(AJ26,COUNTIF(AJ$3:AJ26,1)," ") | AL26: 1 | AM26: =IF(AL26,COUNTIF(AL$3:AL26,1)," ") -> 15
A27: =SUM(A26+1) -> 25 | B27: y | C27: =SUM(C26+1) -> 25 | D27: =SUM(D26+1) -> 10025 | E27: =SUM(E26+1) -> 220351025 | F27: 2503106 | G27: 42513 | K27: 0.33333333 | L27: 0.5 | M27: 0.54166667 | N27: 0.70833333 | O27: Mardi | Q27: =IFERROR(VLOOKUP(A:A,#REF!,5,0),"") | X27: 43103 | Y27: 11:00-11:30 | AC27: =IF(AB27,COUNTIF(AB$3:AB27,1)," ") | AE27: =IF(AD27,COUNTIF(AD$3:AD27,1)," ") | AG27: =IF(AF27,COUNTIF(AF$3:AF27,1)," ") | AI27: =IF(AH27,COUNTIF(AH$3:AH27,1)," ") | AJ27: 1 | AK27: =IF(AJ27,COUNTIF(AJ$3:AJ27,1)," ") -> 4 | AM27: =IF(AL27,COUNTIF(AL$3:AL27,1)," ")
A28: =SUM(A27+1) -> 26 | B28: z | C28: =SUM(C27+1) -> 26 | D28: =SUM(D27+1) -> 10026 | E28: =SUM(E27+1) -> 220351026 | F28: 2503003 | G28: 42422 | K28: 0.41666667 | L28: 0.66666667 | N28: 0.66666667 | O28: Samedi | Q28: =IFERROR(VLOOKUP(A:A,#REF!,5,0),"") | X28: 0 | Y28: 0 | AC28: =IF(AB28,COUNTIF(AB$3:AB28,1)," ") | AE28: =IF(AD28,COUNTIF(AD$3:AD28,1)," ") | AG28: =IF(AF28,COUNTIF(AF$3:AF28,1)," ") | AI28: =IF(AH28,COUNTIF(AH$3:AH28,1)," ") | AK28: =IF(AJ28,COUNTIF(AJ$3:AJ28,1)," ") | AL28: 1 | AM28: =IF(AL28,COUNTIF(AL$3:AL28,1)," ") -> 16
A29: =SUM(A28+1) -> 27 | B29: a | C29: =SUM(C28+1) -> 27 | D29: =SUM(D28+1) -> 10027 | E29: =SUM(E28+1) -> 220351027 | F29: 2503124 | G29: 42366 | K29: 0.33333333 | L29: 0.58333333 | N29: 0.58333333 | O29: Mardi | Q29: =IFERROR(VLOOKUP(A:A,#REF!,5,0),"") | X29: 43103 | Y29: 11:00-11:30 | AC29: =IF(AB29,COUNTIF(AB$3:AB29,1)," ") | AE29: =IF(AD29,COUNTIF(AD$3:AD29,1)," ") | AG29: =IF(AF29,COUNTIF(AF$3:AF29,1)," ") | AI29: =IF(AH29,COUNTIF(AH$3:AH29,1)," ") | AJ29: 1 | AK29: =IF(AJ29,COUNTIF(AJ$3:AJ29,1)," ") -> 5 | AM29: =IF(AL29,COUNTIF(AL$3:AL29,1)," ")
A30: =SUM(A29+1) -> 28 | B30: b | C30: =SUM(C29+1) -> 28 | D30: =SUM(D29+1) -> 10028 | E30: =SUM(E29+1) -> 220351028 | F30: 2503110 | G30: 42513 | K30: 0.375 | L30: 0.54166667 | M30: 0.58333333 | N30: 0.75 | O30: Lundi | Q30: =IFERROR(VLOOKUP(A:A,#REF!,5,0),"") | X30: 43103 | Y30: 15:00-15:30 | AC30: =IF(AB30,COUNTIF(AB$3:AB30,1)," ") | AE30: =IF(AD30,COUNTIF(AD$3:AD30,1)," ") | AG30: =IF(AF30,COUNTIF(AF$3:AF30,1)," ") | AI30: =IF(AH30,COUNTIF(AH$3:AH30,1)," ") | AK30: =IF(AJ30,COUNTIF(AJ$3:AJ30,1)," ") | AL30: 1 | AM30: =IF(AL30,COUNTIF(AL$3:AL30,1)," ") -> 17
A31: =SUM(A30+1) -> 29 | B31: c | C31: =SUM(C30+1) -> 29 | D31: =SUM(D30+1) -> 10029 | E31: =SUM(E30+1) -> 220351029 | F31: 2503028 | G31: 42296 | K31: 0.33333333 | L31: 0.5 | M31: 0.79166667 | N31: 0.875 | O31: Samedi | Q31: =IFERROR(VLOOKUP(A:A,#REF!,5,0),"") | X31: 43104 | Y31: 11:00-11:30 | AC31: =IF(AB31,COUNTIF(AB$3:AB31,1)," ") | AD31: 1 | AE31: =IF(AD31,COUNTIF(AD$3:AD31,1)," ") -> 1 | AG31: =IF(AF31,COUNTIF(AF$3:AF31,1)," ") | AI31: =IF(AH31,COUNTIF(AH$3:AH31,1)," ") | AK31: =IF(AJ31,COUNTIF(AJ$3:AJ31,1)," ") | AM31: =IF(AL31,COUNTIF(AL$3:AL31,1)," ")
A32: =SUM(A31+1) -> 30 | B32: d | C32: =SUM(C31+1) -> 30 | D32: =SUM(D31+1) -> 10030 | E32: =SUM(E31+1) -> 220351030 | F32: 2503167 | G32: 42366 | K32: 0.33333333 | L32: 0.5 | M32: 0.54166667 | N32: 0.70833333 | O32: Samedi | Q32: =IFERROR(VLOOKUP(A:A,#REF!,5,0),"") | X32: 0 | Y32: 0 | AC32: =IF(AB32,COUNTIF(AB$3:AB32,1)," ") | AD32: 1 | AE32: =IF(AD32,COUNTIF(AD$3:AD32,1)," ") -> 2 | AG32: =IF(AF32,COUNTIF(AF$3:AF32,1)," ") | AI32: =IF(AH32,COUNTIF(AH$3:AH32,1)," ") | AK32: =IF(AJ32,COUNTIF(AJ$3:AJ32,1)," ") | AM32: =IF(AL32,COUNTIF(AL$3:AL32,1)," ")
A33: =SUM(A32+1) -> 31 | B33: e | C33: =SUM(C32+1) -> 31 | D33: =SUM(D32+1) -> 10031 | E33: =SUM(E32+1) -> 220351031 | F33: 2503164 | G33: 42296 | K33: 0.29166667 | L33: 0.45833333 | M33: 0.70833333 | N33: 0.875 | O33: Vendredi | Q33: =IFERROR(VLOOKUP(A:A,#REF!,5,0),"") | R33: 43109.375 | S33: 43109.75 | X33: 43104 | Y33: 10:30-11:00 | AC33: =IF(AB33,COUNTIF(AB$3:AB33,1)," ") | AE33: =IF(AD33,COUNTIF(AD$3:AD33,1)," ") | AF33: 1 | AG33: =IF(AF33,COUNTIF(AF$3:AF33,1)," ") -> 6 | AI33: =IF(AH33,COUNTIF(AH$3:AH33,1)," ") | AK33: =IF(AJ33,COUNTIF(AJ$3:AJ33,1)," ") | AM33: =IF(AL33,COUNTIF(AL$3:AL33,1)," ")
A34: =SUM(A33+1) -> 32 | B34: f | C34: =SUM(C33+1) -> 32 | D34: =SUM(D33+1) -> 10032 | E34: =SUM(E33+1) -> 220351032 | F34: 2503171 | G34: 42366 | K34: 0.41666667 | L34: 0.58333333 | M34: 0.625 | N34: 0.875 | O34: Samedi | Q34: =IFERROR(VLOOKUP(A:A,#REF!,5,0),"") | X34: 43104 | Y34: 12:00-12:30 | AC34: =IF(AB34,COUNTIF(AB$3:AB34,1)," ") | AE34: =IF(AD34,COUNTIF(AD$3:AD34,1)," ") | AG34: =IF(AF34,COUNTIF(AF$3:AF34,1)," ") | AI34: =IF(AH34,COUNTIF(AH$3:AH34,1)," ") | AK34: =IF(AJ34,COUNTIF(AJ$3:AJ34,1)," ") | AL34: 1 | AM34: =IF(AL34,COUNTIF(AL$3:AL34,1)," ") -> 18
A35: =SUM(A34+1) -> 33 | B35: g | C35: =SUM(C34+1) -> 33 | D35: =SUM(D34+1) -> 10033 | E35: =SUM(E34+1) -> 220351033 | F35: 2503177 | G35: 42422 | K35: 0.375 | L35: 0.54166667 | M35: 0.58333333 | N35: 0.75 | O35: Samedi | Q35: =IFERROR(VLOOKUP(A:A,#REF!,5,0),"") | X35: 18/01 | Y35: 0 | AC35: =IF(AB35,COUNTIF(AB$3:AB35,1)," ") | AE35: =IF(AD35,COUNTIF(AD$3:AD35,1)," ") | AG35: =IF(AF35,COUNTIF(AF$3:AF35,1)," ") | AI35: =IF(AH35,COUNTIF(AH$3:AH35,1)," ") | AK35: =IF(AJ35,COUNTIF(AJ$3:AJ35,1)," ") | AL35: 1 | AM35: =IF(AL35,COUNTIF(AL$3:AL35,1)," ") -> 19
A36: =SUM(A35+1) -> 34 | B36: h | C36: =SUM(C35+1) -> 34 | D36: =SUM(D35+1) -> 10034 | E36: =SUM(E35+1) -> 220351034 | F36: 2503063 | G36: 43058 | K36: 0.41666667 | L36: 0.58333333 | M36: 0.625 | N36: 0.79166667 | O36: Mercredi | Q36: =IFERROR(VLOOKUP(A:A,#REF!,5,0),"") | X36: 0 | Y36: 0 | AC36: =IF(AB36,COUNTIF(AB$3:AB36,1)," ") | AE36: =IF(AD36,COUNTIF(AD$3:AD36,1)," ") | AG36: =IF(AF36,COUNTIF(AF$3:AF36,1)," ") | AI36: =IF(AH36,COUNTIF(AH$3:AH36,1)," ") | AK36: =IF(AJ36,COUNTIF(AJ$3:AJ36,1)," ") | AL36: 1 | AM36: =IF(AL36,COUNTIF(AL$3:AL36,1)," ") -> 20
A37: =SUM(A36+1) -> 35 | B37: i | C37: =SUM(C36+1) -> 35 | D37: =SUM(D36+1) -> 10035 | E37: =SUM(E36+1) -> 220351035 | F37: 2503148 | G37: 43058 | K37: 0.41666667 | L37: 0.58333333 | M37: 0.625 | N37: 0.79166667 | O37: Mardi | Q37: =IFERROR(VLOOKUP(A:A,#REF!,5,0),"") | X37: 43103 | Y37: 11:00-11:30 | AC37: =IF(AB37,COUNTIF(AB$3:AB37,1)," ") | AE37: =IF(AD37,COUNTIF(AD$3:AD37,1)," ") | AG37: =IF(AF37,COUNTIF(AF$3:AF37,1)," ") | AI37: =IF(AH37,COUNTIF(AH$3:AH37,1)," ") | AJ37: 1 | AK37: =IF(AJ37,COUNTIF(AJ$3:AJ37,1)," ") -> 6 | AM37: =IF(AL37,COUNTIF(AL$3:AL37,1)," ")
A38: =SUM(A37+1) -> 36 | B38: j | C38: =SUM(C37+1) -> 36 | D38: =SUM(D37+1) -> 10036 | E38: =SUM(E37+1) -> 220351036 | F38: 2503189 | G38: 42688 | K38: 0.29166667 | L38: 0.45833333 | M38: 0.5 | N38: 0.66666667 | O38: Samedi | Q38: =IFERROR(VLOOKUP(A:A,#REF!,5,0),"") | X38: 0 | Y38: 0 | AC38: =IF(AB38,COUNTIF(AB$3:AB38,1)," ") | AE38: =IF(AD38,COUNTIF(AD$3:AD38,1)," ") | AG38: =IF(AF38,COUNTIF(AF$3:AF38,1)," ") | AI38: =IF(AH38,COUNTIF(AH$3:AH38,1)," ") | AK38: =IF(AJ38,COUNTIF(AJ$3:AJ38,1)," ") | AL38: 1 | AM38: =IF(AL38,COUNTIF(AL$3:AL38,1)," ") -> 21
A39: =SUM(A38+1) -> 37 | B39: k | C39: =SUM(C38+1) -> 37 | D39: =SUM(D38+1) -> 10037 | E39: =SUM(E38+1) -> 220351037 | F39: 2503047 | G39: 42422 | K39: 0.45833333 | L39: 0.625 | M39: 0.66666667 | N39: 0.83333333 | O39: Samedi | Q39: =IFERROR(VLOOKUP(A:A,#REF!,5,0),"") | X39: 43105 | Y39: 16:00-16:30 | AC39: =IF(AB39,COUNTIF(AB$3:AB39,1)," ") | AE39: =IF(AD39,COUNTIF(AD$3:AD39,1)," ") | AG39: =IF(AF39,COUNTIF(AF$3:AF39,1)," ") | AI39: =IF(AH39,COUNTIF(AH$3:AH39,1)," ") | AK39: =IF(AJ39,COUNTIF(AJ$3:AJ39,1)," ") | AL39: 1 | AM39: =IF(AL39,COUNTIF(AL$3:AL39,1)," ") -> 22
A40: =SUM(A39+1) -> 38 | B40: l | C40: =SUM(C39+1) -> 38 | D40: =SUM(D39+1) -> 10038 | E40: =SUM(E39+1) -> 220351038 | F40: 2503122 | G40: 42513 | K40: 0.29166667 | L40: 0.45833333 | M40: 0.5 | N40: 0.66666667 | O40: Samedi | Q40: =IFERROR(VLOOKUP(A:A,#REF!,5,0),"") | X40: 43104 | Y40: 15:00-15:30 | AC40: =IF(AB40,COUNTIF(AB$3:AB40,1)," ") | AE40: =IF(AD40,COUNTIF(AD$3:AD40,1)," ") | AG40: =IF(AF40,COUNTIF(AF$3:AF40,1)," ") | AH40: 1 | AI40: =IF(AH40,COUNTIF(AH$3:AH40,1)," ") -> 3 | AK40: =IF(AJ40,COUNTIF(AJ$3:AJ40,1)," ") | AM40: =IF(AL40,COUNTIF(AL$3:AL40,1)," ")
...

Sheet Postes
P3: Lundi
P4: Mardi
F5: Dispo | G5: Lundi | H5: =MATCH(G5,Wallboard!2:2,) -> 28 | P5: Mercredi
E6: 1 | F6: =IFERROR(MATCH(E6,OFFSET(Wallboard!$A$1,1,$H$5,COUNTA(Wallboard!A:A)),0),"") -> 50 | G6: =IF(F6<>"",INDEX(Wallboard!F:F,F6+1),"") -> 2503120 | P6: Jeudi
E7: 2 | F7: =IFERROR(MATCH(E7,OFFSET(Wallboard!$A$1,1,$H$5,COUNTA(Wallboard!A:A)),0),"") -> 64 | G7: =IF(F7<>"",INDEX(Wallboard!F:F,F7+1),"") -> 2503082 | P7: Vendredi
E8: 3 | F8: =IFERROR(MATCH(E8,OFFSET(Wallboard!$A$1,1,$H$5,COUNTA(Wallboard!A:A)),0),"") | G8: =IF(F8<>"",INDEX(Wallboard!F:F,F8+1),"") | P8: Samedi
E9: 4 | F9: =IFERROR(MATCH(E9,OFFSET(Wallboard!$A$1,1,$H$5,COUNTA(Wallboard!A:A)),0),"") | G9: =IF(F9<>"",INDEX(Wallboard!F:F,F9+1),"") | P9: Dimanche
E10: 5 | F10: =IFERROR(MATCH(E10,OFFSET(Wallboard!$A$1,1,$H$5,COUNTA(Wallboard!A:A)),0),"") | G10: =IF(F10<>"",INDEX(Wallboard!F:F,F10+1),"")
E11: 6 | F11: =IFERROR(MATCH(E11,OFFSET(Wallboard!$A$1,1,$H$5,COUNTA(Wallboard!A:A)),0),"") | G11: =IF(F11<>"",INDEX(Wallboard!F:F,F11+1),"")
E12: 7 | F12: =IFERROR(MATCH(E12,OFFSET(Wallboard!$A$1,1,$H$5,COUNTA(Wallboard!A:A)),0),"") | G12: =IF(F12<>"",INDEX(Wallboard!F:F,F12+1),"")
E13: 8 | F13: =IFERROR(MATCH(E13,OFFSET(Wallboard!$A$1,1,$H$5,COUNTA(Wallboard!A:A)),0),"") | G13: =IF(F13<>"",INDEX(Wallboard!F:F,F13+1),"")
E14: 9 | F14: =IFERROR(MATCH(E14,OFFSET(Wallboard!$A$1,1,$H$5,COUNTA(Wallboard!A:A)),0),"") | G14: =IF(F14<>"",INDEX(Wallboard!F:F,F14+1),"")
E15: 10 | F15: =IFERROR(MATCH(E15,OFFSET(Wallboard!$A$1,1,$H$5,COUNTA(Wallboard!A:A)),0),"") | G15: =IF(F15<>"",INDEX(Wallboard!F:F,F15+1),"")
E16: 11 | F16: =IFERROR(MATCH(E16,OFFSET(Wallboard!$A$1,1,$H$5,COUNTA(Wallboard!A:A)),0),"") | G16: =IF(F16<>"",INDEX(Wallboard!F:F,F16+1),"")
E17: 12 | F17: =IFERROR(MATCH(E17,OFFSET(Wallboard!$A$1,1,$H$5,COUNTA(Wallboard!A:A)),0),"") | G17: =IF(F17<>"",INDEX(Wallboard!F:F,F17+1),"")
E18: 13 | F18: =IFERROR(MATCH(E18,OFFSET(Wallboard!$A$1,1,$H$5,COUNTA(Wallboard!A:A)),0),"") | G18: =IF(F18<>"",INDEX(Wallboard!F:F,F18+1),"")
E19: 14 | F19: =IFERROR(MATCH(E19,OFFSET(Wallboard!$A$1,1,$H$5,COUNTA(Wallboard!A:A)),0),"") | G19: =IF(F19<>"",INDEX(Wallboard!F:F,F19+1),"")
E20: 15 | F20: =IFERROR(MATCH(E20,OFFSET(Wallboard!$A$1,1,$H$5,COUNTA(Wallboard!A:A)),0),"") | G20: =IF(F20<>"",INDEX(Wallboard!F:F,F20+1),"")
E21: 16 | F21: =IFERROR(MATCH(E21,OFFSET(Wallboard!$A$1,1,$H$5,COUNTA(Wallboard!A:A)),0),"") | G21: =IF(F21<>"",INDEX(Wallboard!F:F,F21+1),"")
... E25: 20 | F25: =IFERROR(MATCH(E25,OFFSET(Wallboard!$A$1,1,$H$5,COUNTA(Wallboard!A:A)),0),"") | G25: =IF(F25<>"",INDEX(Wallboard!F:F,F25+1),"")
