Workbook
Name Tabsem: Postes!$P$3:$P$9

Sheet Wallboard
A1: 1 | B1: 2 | C1: 3 | D1: 4 | E1: 5 | F1: 6 | G1: 7 | H1: 8 | I1: 9 | J1: 10 | K1: 11 | L1: 12 | M1: 13 | N1: 14 | O1: 15 | P1: 16 | Q1: 17 | R1: 18 | S1: 19 | T1: 20 | U1: 21 | V1: 22 | W1: 23 | X1: 24 | Y1: 25 | Z1: 26 | AA1: 27 | AB1: 28 | AC1: 29 | AD1: 30 | AE1: 31 | AF1: 32 | AG1: 33 | AH1: 34 | AI1: 35 | AJ1: 36 | AK1: 37 | AL1: 38 | AM1: 39
A2: LOG 0 | B2: Nom employé | C2: Login | D2: Login 2 | E2: idcard | F2: Nº Poste | G2: Date d'entrée | H2: chef equipe | I2: service | J2: responsable | K2: entre | L2: sort | M2: entre2 | N2: sort2 | O2: Repos | P2: audit | Q2: alerte | R2: 1 | S2: 2 | T2: 3 | U2: 4 | V2: 5 | W2: 6 | X2: jour | Y2: heure | AB2: Lundi | AD2: Mardi | AF2: Mercredi | AH2: Jeudi | AJ2: Vendredi | AL2: Samedi
A3: 1 | B3: a | C3: 1 | D3: 10001 | E3: 220351001 | F3: 2503009 | G3: 43080 | K3: 11H30 | L3: 0.64583333 | M3: 0.6875 | N3: 20H30 | O3: Vendredi | Q3: =IFERROR(VLOOKUP(A:A,#REF!,5,0),"") | X3: 43103 | Y3: 12:00-12:30 | AC3: =IF(AB3,COUNTIF(AB$3:AB3,1)," ") | AE3: =IF(AD3,COUNTIF(AD$3:AD3,1)," ") | AG3: =IF(AF3,COUNTIF(AF$3:AF3,1)," ") | AI3: =IF(AH3,COUNTIF(AH$3:AH3,1)," ") | AJ3: 1 | AK3: =IF(AJ3,COUNTIF(AJ$3:AJ3,1)," ") -> 1 | AM3: =IF(AL3,COUNTIF(AL$3:AL3,1)," ")
A4: =SUM(A3+1) -> 2 | B4: b | C4: =SUM(C3+1) -> 2 | D4: =SUM(D3+1) -> 10002 | E4: =SUM(E3+1) -> 220351002 | F4: 2503022 | G4: 42590 | K4: 0.33333333 | L4: 0.5 | M4: 0.54166667 | N4: 0.58333333 | O4: Samedi | Q4: =IFERROR(VLOOKUP(A:A,#REF!,5,0),"") | X4: 43104 | Y4: 15:00-15:30 | AC4: =IF(AB4,COUNTIF(AB$3:AB4,1)," ") | AE4: =IF(AD4,COUNTIF(AD$3:AD4,1)," ") | AG4: =IF(AF4,COUNTIF(AF$3:AF4,1)," ") | AI4: =IF(AH4,COUNTIF(AH$3:AH4,1)," ") | AK4: =IF(AJ4,COUNTIF(AJ$3:AJ4,1)," ") | AL4: 1 | AM4: =IF(AL4,COUNTIF(AL$3:AL4,1)," ") -> 1
A5: =SUM(A4+1) -> 3 | B5: c | C5: =SUM(C4+1) -> 3 | D5: =SUM(D4+1) -> 10003 | E5: =SUM(E4+1) -> 220351003 | F5: 2503018 | G5: 43080 | K5: 10H00 | L5: 0.58333333 | M5: 0.625 | N5: 19H00 | O5: Vendredi | Q5: =IFERROR(VLOOKUP(A:A,#REF!,5,0),"") | X5: 43103 | Y5: 12:00-12:30 | AC5: =IF(AB5,COUNTIF(AB$3:AB5,1)," ") | AE5: =IF(AD5,COUNTIF(AD$3:AD5,1)," ") | AF5: 1 | AG5: =IF(AF5,COUNTIF(AF$3:AF5,1)," ") -> 1 | AI5: =IF(AH5,COUNTIF(AH$3:AH5,1)," ") | AK5: =IF(AJ5,COUNTIF(AJ$3:AJ5,1)," ") | AM5: =IF(AL5,COUNTIF(AL$3:AL5,1)," ")
A6: =SUM(A5+1) -> 4 | B6: d | C6: =SUM(C5+1) -> 4 | D6: =SUM(D5+1) -> 10004 | E6: =SUM(E5+1) -> 220351004 | F6: 2503019 | G6: 43080 | K6: 11H30 | L6: 0.64583333 | M6: 0.6875 | N6: 20H30 | O6: Vendredi | Q6: =IFERROR(VLOOKUP(A:A,#REF!,5,0),"") | X6: 43103 | Y6: 12:00-12:30 | AC6: =IF(AB6,COUNTIF(AB$3:AB6,1)," ") | AE6: =IF(AD6,COUNTIF(AD$3:AD6,1)," ") | AG6: =IF(AF6,COUNTIF(AF$3:AF6,1)," ") | AI6: =IF(AH6,COUNTIF(AH$3:AH6,1)," ") | AK6: =IF(AJ6,COUNTIF(AJ$3:AJ6,1)," ") | AL6: 1 | AM6: =IF(AL6,COUNTIF(AL$3:AL6,1)," ") -> 2
A7: =SUM(A6+1) -> 5 | B7: e | C7: =SUM(C6+1) -> 5 | D7: =SUM(D6+1) -> 10005 | E7: =SUM(E6+1) -> 220351005 | F7: 2503016 | G7: 43080 | K7: 12H00 | L7: 0.66666667 | M7: 0.70833333 | N7: 21H00 | O7: Vendredi | Q7: =IFERROR(VLOOKUP(A:A,#REF!,5,0),"") | X7: 43103 | Y7: 12:00-12:30 | AC7: =IF(AB7,COUNTIF(AB$3:AB7,1)," ") | AE7: =IF(AD7,COUNTIF(AD$3:AD7,1)," ") | AG7: =IF(AF7,COUNTIF(AF$3:AF7,1)," ") | AI7: =IF(AH7,COUNTIF(AH$3:AH7,1)," ") | AK7: =IF(AJ7,COUNTIF(AJ$3:AJ7,1)," ") | AL7: 1 | AM7: =IF(AL7,COUNTIF(AL$3:AL7,1)," ") -> 3
A8: =SUM(A7+1) -> 6 | B8: f | C8: =SUM(C7+1) -> 6 | D8: =SUM(D7+1) -> 10006 | E8: =SUM(E7+1) -> 220351006 | F8: 2503008 | G8: 42296 | K8: 0.41666667 | L8: 0.58333333 | M8: 0.625 | N8: 0.79166667 | O8: Jeudi | Q8: =IFERROR(VLOOKUP(A:A,#REF!,5,0),"") | X8: 43103 | Y8: 11:00-11:30 | AC8: =IF(AB8,COUNTIF(AB$3:AB8,1)," ") | AE8: =IF(AD8,COUNTIF(AD$3:AD8,1)," ") | AG8: =IF(AF8,COUNTIF(AF$3:AF8,1)," ") | AH8: 1 | AI8: =IF(AH8,COUNTIF(AH$3:AH8,1)," ") -> 1 | AK8: =IF(AJ8,COUNTIF(AJ$3:AJ8,1)," ") | AL8: 1 | AM8: =IF(AL8,COUNTIF(AL$3:AL8,1)," ") -> 4
A9: =SUM(A8+1) -> 7 | B9: g | C9: =SUM(C8+1) -> 7 | D9: =SUM(D8+1) -> 10007 | E9: =SUM(E8+1) -> 220351007 | F9: 2503037 | G9: 42366 | K9: 0.33333333 | L9: 0.5 | M9: 0.54166667 | N9: 0.70833333 | O9: Samedi | Q9: =IFERROR(VLOOKUP(A:A,#REF!,5,0),"") | X9: 43104 | Y9: 11:00-11:30 | AC9: =IF(AB9,COUNTIF(AB$3:AB9,1)," ") | AE9: =IF(AD9,COUNTIF(AD$3:AD9,1)," ") | AG9: =IF(AF9,COUNTIF(AF$3:AF9,1)," ") | AI9: =IF(AH9,COUNTIF(AH$3:AH9,1)," ") | AK9: =IF(AJ9,COUNTIF(AJ$3:AJ9,1)," ") | AL9: 1 | AM9: =IF(AL9,COUNTIF(AL$3:AL9,1)," ") -> 5
A10: =SUM(A9+1) -> 8 | B10: h | C10: =SUM(C9+1) -> 8 | D10: =SUM(D9+1) -> 10008 | E10: =SUM(E9+1) -> 220351008 | F10: 2503024 | G10: 43080 | K10: 10H30 | L10: 0.60416667 | M10: 0.64583333 | N10: 19H30 | O10: Jeudi | Q10: =IFERROR(VLOOKUP(A:A,#REF!,5,0),"") | X10: 43103 | Y10: 12:00-12:30 | AC10: =IF(AB10,COUNTIF(AB$3:AB10,1)," ") | AE10: =IF(AD10,COUNTIF(AD$3:AD10,1)," ") | AF10: 1 | AG10: =IF(AF10,COUNTIF(AF$3:AF10,1)," ") -> 2 | AI10: =IF(AH10,COUNTIF(AH$3:AH10,1)," ") | AK10: =IF(AJ10,COUNTIF(AJ$3:AJ10,1)," ") | AM10: =IF(AL10,COUNTIF(AL$3:AL10,1)," ")
A11: =SUM(A10+1) -> 9 | B11: i | C11: =SUM(C10+1) -> 9 | D11: =SUM(D10+1) -> 10009 | E11: =SUM(E10+1) -> 220351009 | F11: 2503013 | G11: 43080 | K11: 11H30 | L11: 0.64583333 | M11: 0.6875 | N11: 20H30 | O11: Vendredi | Q11: =IFERROR(VLOOKUP(A:A,#REF!,5,0),"") | X11: 43103 | Y11: 12:00-12:30 | AC11: =IF(AB11,COUNTIF(AB$3:AB11,1)," ") | AE11: =IF(AD11,COUNTIF(AD$3:AD11,1)," ") | AG11: =IF(AF11,COUNTIF(AF$3:AF11,1)," ") | AI11: =IF(AH11,COUNTIF(AH$3:AH11,1)," ") | AJ11: 1 | AK11: =IF(AJ11,COUNTIF(AJ$3:AJ11,1)," ") -> 2 | AM11: =IF(AL11,COUNTIF(AL$3:AL11,1)," ")
A12: =SUM(A11+1) -> 10 | B12: j | C12: =SUM(C11+1) -> 10 | D12: =SUM(D11+1) -> 10010 | E12: =SUM(E11+1) -> 220351010 | F12: 2503012 | G12: 43080 | K12: 11H30 | L12: 0.64583333 | M12: 0.6875 | N12: 20H30 | O12: Jeudi | Q12: =IFERROR(VLOOKUP(A:A,#REF!,5,0),"") | X12: 43103 | Y12: 12:00-12:30 | AC12: =IF(AB12,COUNTIF(AB$3:AB12,1)," ") | AE12: =IF(AD12,COUNTIF(AD$3:AD12,1)," ") | AF12: 1 | AG12: =IF(AF12,COUNTIF(AF$3:AF12,1)," ") -> 3 | AI12: =IF(AH12,COUNTIF(AH$3:AH12,1)," ") | AK12: =IF(AJ12,COUNTIF(AJ$3:AJ12,1)," ") | AM12: =IF(AL12,COUNTIF(AL$3:AL12,1)," ")
A13: =SUM(A12+1) -> 11 | B13: k | C13: =SUM(C12+1) -> 11 | D13: =SUM(D12+1) -> 10011 | E13: =SUM(E12+1) -> 220351011 | F13: 2503195 | G13: 42296 | K13: 0.33333333 | L13: 0.5 | M13: 0.54166667 | N13: 0.70833333 | O13: Mercredi | Q13: =IFERROR(VLOOKUP(A:A,#REF!,5,0),"") | X13: 43104 | Y13: 14:30-15:00 | AC13: =IF(AB13,COUNTIF(AB$3:AB13,1)," ") | AE13: =IF(AD13,COUNTIF(AD$3:AD13,1)," ") | AG13: =IF(AF13,COUNTIF(AF$3:AF13,1)," ") | AI13: =IF(AH13,COUNTIF(AH$3:AH13,1)," ") | AK13: =IF(AJ13,COUNTIF(AJ$3:AJ13,1)," ") | AL13: 1 | AM13: =IF(AL13,COUNTIF(AL$3:AL13,1)," ") -> 6
A14: =SUM(A13+1) -> 12 | B14: l | C14: =SUM(C13+1) -> 12 | D14: =SUM(D13+1) -> 10012 | E14: =SUM(E13+1) -> 220351012 | F14: 2503036 | G14: 42296 | K14: 0.35416667 | L14: 0.52083333 | M14: 0.5625 | N14: 0.72916667 | O14: Samedi | Q14: =IFERROR(VLOOKUP(A:A,#REF!,5,0),"") | X14: 43105 | Y14: 15:00-15:30 | AC14: =IF(AB14,COUNTIF(AB$3:AB14,1)," ") | AE14: =IF(AD14,COUNTIF(AD$3:AD14,1)," ") | AF14: 1 | AG14: =IF(AF14,COUNTIF(AF$3:AF14,1)," ") -> 4 | AI14: =IF(AH14,COUNTIF(AH$3:AH14,1)," ") | AK14: =IF(AJ14,COUNTIF(AJ$3:AJ14,1)," ") | AM14: =IF(AL14,COUNTIF(AL$3:AL14,1)," ")
A15: =SUM(A14+1) -> 13 | B15: m | C15: =SUM(C14+1) -> 13 | D15: =SUM(D14+1) -> 10013 | E15: =SUM(E14+1) -> 220351013 | F15: 2503034 | G15: 43080 | K15: 10H30 | L15: 0.60416667 | M15: 0.64583333 | N15: 19H30 | O15: Vendredi | Q15: =IFERROR(VLOOKUP(A:A,#REF!,5,0),"") | X15: 43103 | Y15: 12:00-12:30 | AC15: =IF(AB15,COUNTIF(AB$3:AB15,1)," ") | AE15: =IF(AD15,COUNTIF(AD$3:AD15,1)," ") | AF15: 1 | AG15: =IF(AF15,COUNTIF(AF$3:AF15,1)," ") -> 5 | AI15: =IF(AH15,COUNTIF(AH$3:AH15,1)," ") | AK15: =IF(AJ15,COUNTIF(AJ$3:AJ15,1)," ") | AM15: =IF(AL15,COUNTIF(AL$3:AL15,1)," ")
A16: =SUM(A15+1) -> 14 | B16: n | C16: =SUM(C15+1) -> 14 | D16: =SUM(D15+1) -> 10014 | E16: =SUM(E15+1) -> 220351014 | F16: 2503188 | G16: 42366 | K16: 0.66666667 | L16: 0.875 | N16: 0.875 | O16: Mercredi | Q16: =IFERROR(VLOOKUP(A:A,#REF!,5,0),"") | X16: 43105 | Y16: 16:00-16:30 | AC16: =IF(AB16,COUNTIF(AB$3:AB16,1)," ") | AE16: =IF(AD16,COUNTIF(AD$3:AD16,1)," ") | AG16: =IF(AF16,COUNTIF(AF$3:AF16,1)," ") | AI16: =IF(AH16,COUNTIF(AH$3:AH16,1)," ") | AK16: =IF(AJ16,COUNTIF(AJ$3:AJ16,1)," ") | AL16: 1 | AM16: =IF(AL16,COUNTIF(AL$3:AL16,1)," ") -> 7
A17: =SUM(A16+1) -> 15 | B17: o | C17: =SUM(C16+1) -> 15 | D17: =SUM(D16+1) -> 10015 | E17: =SUM(E16+1) -> 220351015 | F17: 2503026 | G17: 42296 | K17: 0.375 | L17: 0.54166667 | M17: 0.58333333 | N17: 0.75 | O17: Samedi | Q17: =IFERROR(VLOOKUP(A:A,#REF!,5,0),"") | X17: 0 | Y17: 0 | AC17: =IF(AB17,COUNTIF(AB$3:AB17,1)," ") | AE17: =IF(AD17,COUNTIF(AD$3:AD17,1)," ") | AG17: =IF(AF17,COUNTIF(AF$3:AF17,1)," ") | AI17: =IF(AH17,COUNTIF(AH$3:AH17,1)," ") | AK17: =IF(AJ17,COUNTIF(AJ$3:AJ17,1)," ") | AL17: 1 | AM17: =IF(AL17,COUNTIF(AL$3:AL17,1)," ") -> 8
A18: =SUM(A17+1) -> 16 | B18: p | C18: =SUM(C17+1) -> 16 | D18: =SUM(D17+1) -> 10016 | E18: =SUM(E17+1) -> 220351016 | F18: 2503073 | G18: 42513 | K18: 0.33333333 | L18: 0.5 | M18: 0.54166667 | N18: 0.70833333 | O18: Samedi | Q18: =IFERROR(VLOOKUP(A:A,#REF!,5,0),"") | X18: 43105 | Y18: 15:00-15:30 | AC18: =IF(AB18,COUNTIF(AB$3:AB18,1)," ") | AE18: =IF(AD18,COUNTIF(AD$3:AD18,1)," ") | AG18: =IF(AF18,COUNTIF(AF$3:AF18,1)," ") | AH18: 1 | AI18: =IF(AH18,COUNTIF(AH$3:AH18,1)," ") -> 2 | AK18: =IF(AJ18,COUNTIF(AJ$3:AJ18,1)," ") | AM18: =IF(AL18,COUNTIF(AL$3:AL18,1)," ")
A19: =SUM(A18+1) -> 17 | B19: q | C19: =SUM(C18+1) -> 17 | D19: =SUM(D18+1) -> 10017 | E19: =SUM(E18+1) -> 220351017 | F19: 2503048 | G19: 43080 | K19: 10H30 | L19: 0.60416667 | M19: 0.64583333 | N19: 19H30 | O19: Vendredi | Q19: =IFERROR(VLOOKUP(A:A,#REF!,5,0),"") | X19: 43103 | Y19: 12:00-12:30 | AC19: =IF(AB19,COUNTIF(AB$3:AB19,1)," ") | AE19: =IF(AD19,COUNTIF(AD$3:AD19,1)," ") | AG19: =IF(AF19,COUNTIF(AF$3:AF19,1)," ") | AI19: =IF(AH19,COUNTIF(AH$3:AH19,1)," ") | AK19: =IF(AJ19,COUNTIF(AJ$3:AJ19,1)," ") | AL19: 1 | AM19: =IF(AL19,COUNTIF(AL$3:AL19,1)," ") -> 9
A20: =SUM(A19+1) -> 18 | B20: r | C20: =SUM(C19+1) -> 18 | D20: =SUM(D19+1) -> 10018 | E20: =SUM(E19+1) -> 220351018 | F20: 2503085 | G20: 42366 | K20: 0.45833333 | L20: 0.625 | M20: 0.66666667 | N20: 0.83333333 | O20: Jeudi | Q20: =IFERROR(VLOOKUP(A:A,#REF!,5,0),"") | X20: 43103 | Y20: 14:00-14:30 | AC20: =IF(AB20,COUNTIF(AB$3:AB20,1)," ") | AE20: =IF(AD20,COUNTIF(AD$3:AD20,1)," ") | AG20: =IF(AF20,COUNTIF(AF$3:AF20,1)," ") | AI20: =IF(AH20,COUNTIF(AH$3:AH20,1)," ") | AK20: =IF(AJ20,COUNTIF(AJ$3:AJ20,1)," ") | AL20: 1 | AM20: =IF(AL20,COUNTIF(AL$3:AL20,1)," ") -> 10
A21: =SUM(A20+1) -> 19 | B21: s | C21: =SUM(C20+1) -> 19 | D21: =SUM(D20+1) -> 10019 | E21: =SUM(E20+1) -> 220351019 | F21: 2503142 | G21: 42296 | K21: 0.375 | L21: 0.54166667 | M21: 0.58333333 | N21: 0.5625 | O21: Mardi | Q21: =IFERROR(VLOOKUP(A:A,#REF!,5,0),"") | X21: 43103 | Y21: 15:00-15:30 | AC21: =IF(AB21,COUNTIF(AB$3:AB21,1)," ") | AE21: =IF(AD21,COUNTIF(AD$3:AD21,1)," ") | AG21: =IF(AF21,COUNTIF(AF$3:AF21,1)," ") | AI21: =IF(AH21,COUNTIF(AH$3:AH21,1)," ") | AK21: =IF(AJ21,COUNTIF(AJ$3:AJ21,1)," ") | AL21: 1 | AM21: =IF(AL21,COUNTIF(AL$3:AL21,1)," ") -> 11
A22: =SUM(A21+1) -> 20 | B22: t | C22: =SUM(C21+1) -> 20 | D22: =SUM(D21+1) -> 10020 | E22: =SUM(E21+1) -> 220351020 | F22: 2503087 | G22: 42296 | K22: 0.375 | L22: 0.58333333 | N22: 0.58333333 | O22: Jeudi | Q22: =IFERROR(VLOOKUP(A:A,#REF!,5,0),"") | X22: 43103 | Y22: 11:00-11:30 | AC22: =IF(AB22,COUNTIF(AB$3:AB22,1)," ") | AE22: =IF(AD22,COUNTIF(AD$3:AD22,1)," ") | AG22: =IF(AF22,COUNTIF(AF$3:AF22,1)," ") | AI22: =IF(AH22,COUNTIF(AH$3:AH22,1)," ") | AK22: =IF(AJ22,COUNTIF(AJ$3:AJ22,1)," ") | AL22: 1 | AM22: =IF(AL22,COUNTIF(AL$3:AL22,1)," ") -> 12
A23: =SUM(A22+1) -> 21 | B23: u | C23: =SUM(C22+1) -> 21 | D23: =SUM(D22+1) -> 10021 | E23: =SUM(E22+1) -> 220351021 | F23: 2503163 | G23: 43058 | K23: 0.41666667 | L23: 0.58333333 | M23: 0.625 | N23: 0.79166667 | O23: Mardi | Q23: =IFERROR(VLOOKUP(A:A,#REF!,5,0),"") | X23: 43105 | Y23: 11:00-11:30 | AC23: =IF(AB23,COUNTIF(AB$3:AB23,1)," ") | AE23: =IF(AD23,COUNTIF(AD$3:AD23,1)," ") | AG23: =IF(AF23,COUNTIF(AF$3:AF23,1)," ") | AI23: =IF(AH23,COUNTIF(AH$3:AH23,1)," ") | AK23: =IF(AJ23,COUNTIF(AJ$3:AJ23,1)," ") | AL23: 1 | AM23: =IF(AL23,COUNTIF(AL$3:AL23,1)," ") -> 13
A24: =SUM(A23+1) -> 22 | B24: v | C24: =SUM(C23+1) -> 22 | D24: =SUM(D23+1) -> 10022 | E24: =SUM(E23+1) -> 220351022 | F24: 2503103 | G24: 42513 | K24: 0.29166667 | L24: 0.54166667 | N24: 0.54166667 | O24: Jeudi | Q24: =IFERROR(VLOOKUP(A:A,#REF!,5,0),"") | X24: 0 | Y24: 0 | AC24: =IF(AB24,COUNTIF(AB$3:AB24,1)," ") | AE24: =IF(AD24,COUNTIF(AD$3:AD24,1)," ") | AG24: =IF(AF24,COUNTIF(AF$3:AF24,1)," ") | AI24: =IF(AH24,COUNTIF(AH$3:AH24,1)," ") | AK24: =IF(AJ24,COUNTIF(AJ$3:AJ24,1)," ") | AL24: 1 | AM24: =IF(AL24,COUNTIF(AL$3:AL24,1)," ") -> 14
A25: =SUM(A24+1) -> 23 | B25: w | C25: =SUM(C24+1) -> 23 | D25: =SUM(D24+1) -> 10023 | E25: =SUM(E24+1) -> 220351023 | F25: 2503161 | G25: 42422 | K25: 0.29166667 | L25: 0.45833333 | M25: 0.5 | N25: 0.66666667 | O25: Mardi | Q25: =IFERROR(VLOOKUP(A:A,#REF!,5,0),"") | X25: 43103 | Y25: 14:00-14:30 | AC25: =IF(AB25,COUNTIF(AB$3:AB25,1)," ") | AE25: =IF(AD25,COUNTIF(AD$3:AD25,1)," ") | AG25: =IF(AF25,COUNTIF(AF$3:AF25,1)," ") | AI25: =IF(AH25,COUNTIF(AH$3:AH25,1)," ") | AJ25: 1 | AK25: =IF(AJ25,COUNTIF(AJ$3:AJ25,1)," ") -> 3 | AM25: =IF(AL25,COUNTIF(AL$3:AL25,1)," ")
A26: =SUM(A25+1) -> 24 | B26: x | C26: =SUM(C25+1) -> 24 | D26: =SUM(D25+1) -> 10024 | E26: =SUM(E25+1) -> 220351024 | F26: 2503075 | G26: 42296 | K26: 0.375 | L26: 0.54166667 | M26: 0.58333333 | N26: 0.66666667 | O26: Mercredi | Q26: =IFERROR(VLOOKUP(A:A,#REF!,5,0),"") | X26: 0 | Y26: 0 | AC26: =IF(AB26,COUNTIF(AB$3:AB26,1)," ") | AE26: =IF(AD26,COUNTIF(AD$3:AD26,1)," ") | AG26: =IF(AF26,COUNTIF(AF$3:AF26,1)," ") | AI26: =IF(AH26,COUNTIF(AH$3:AH26,1)," ") | AK26: =IF(AJ26,COUNTIF(AJ$3:AJ26,1)," ") | AL26: 1 | AM26: =IF(AL26,COUNTIF(AL$3:AL26,1)," ") -> 15
A27: =SUM(A26+1) -> 25 | B27: y | C27: =SUM(C26+1) -> 25 | D27: =SUM(D26+1) -> 10025 | E27: =SUM(E26+1) -> 220351025 | F27: 2503106 | G27: 42513 | K27: 0.33333333 | L27: 0.5 | M27: 0.54166667 | N27: 0.70833333 | O27: Mardi | Q27: =IFERROR(VLOOKUP(A:A,#REF!,5,0),"") | X27: 43103 | Y27: 11:00-11:30 | AC27: =IF(AB27,COUNTIF(AB$3:AB27,1)," ") | AE27: =IF(AD27,COUNTIF(AD$3:AD27,1)," ") | AG27: =IF(AF27,COUNTIF(AF$3:AF27,1)," ") | AI27: =IF(AH27,COUNTIF(AH$3:AH27,1)," ") | AJ27: 1 | AK27: =IF(AJ27,COUNTIF(AJ$3:AJ27,1)," ") -> 4 | AM27: =IF(AL27,COUNTIF(AL$3:AL27,1)," ")
A28: =SUM(A27+1) -> 26 | B28: z | C28: =SUM(C27+1) -> 26 | D28: =SUM(D27+1) -> 10026 | E28: =SUM(E27+1) -> 220351026 | F28: 2503003 | G28: 42422 | K28: 0.41666667 | L28: 0.66666667 | N28: 0.66666667 | O28: Samedi | Q28: =IFERROR(VLOOKUP(A:A,#REF!,5,0),"") | X28: 0 | Y28: 0 | AC28: =IF(AB28,COUNTIF(AB$3:AB28,1)," ") | AE28: =IF(AD28,COUNTIF(AD$3:AD28,1)," ") | AG28: =IF(AF28,COUNTIF(AF$3:AF28,1)," ") | AI28: =IF(AH28,COUNTIF(AH$3:AH28,1)," ") | AK28: =IF(AJ28,COUNTIF(AJ$3:AJ28,1)," ") | AL28: 1 | AM28: =IF(AL28,COUNTIF(AL$3:AL28,1)," ") -> 16
A29: =SUM(A28+1) -> 27 | B29: a | C29: =SUM(C28+1) -> 27 | D29: =SUM(D28+1) -> 10027 | E29: =SUM(E28+1) -> 220351027 | F29: 2503124 | G29: 42366 | K29: 0.33333333 | L29: 0.58333333 | N29: 0.58333333 | O29: Mardi | Q29: =IFERROR(VLOOKUP(A:A,#REF!,5,0),"") | X29: 43103 | Y29: 11:00-11:30 | AC29: =IF(AB29,COUNTIF(AB$3:AB29,1)," ") | AE29: =IF(AD29,COUNTIF(AD$3:AD29,1)," ") | AG29: =IF(AF29,COUNTIF(AF$3:AF29,1)," ") | AI29: =IF(AH29,COUNTIF(AH$3:AH29,1)," ") | AJ29: 1 | AK29: =IF(AJ29,COUNTIF(AJ$3:AJ29,1)," ") -> 5 | AM29: =IF(AL29,COUNTIF(AL$3:AL29,1)," ")
A30: =SUM(A29+1) -> 28 | B30: b | C30: =SUM(C29+1) -> 28 | D30: =SUM(D29+1) -> 10028 | E30: =SUM(E29+1) -> 220351028 | F30: 2503110 | G30: 42513 | K30: 0.375 | L30: 0.54166667 | M30: 0.58333333 | N30: 0.75 | O30: Lundi | Q30: =IFERROR(VLOOKUP(A:A,#REF!,5,0),"") | X30: 43103 | Y30: 15:00-15:30 | AC30: =IF(AB30,COUNTIF(AB$3:AB30,1)," ") | AE30: =IF(AD30,COUNTIF(AD$3:AD30,1)," ") | AG30: =IF(AF30,COUNTIF(AF$3:AF30,1)," ") | AI30: =IF(AH30,COUNTIF(AH$3:AH30,1)," ") | AK30: =IF(AJ30,COUNTIF(AJ$3:AJ30,1)," ") | AL30: 1 | AM30: =IF(AL30,COUNTIF(AL$3:AL30,1)," ") -> 17
A31: =SUM(A30+1) -> 29 | B31: c | C31: =SUM(C30+1) -> 29 | D31: =SUM(D30+1) -> 10029 | E31: =SUM(E30+1) -> 220351029 | F31: 2503028 | G31: 42296 | K31: 0.33333333 | L31: 0.5 | M31: 0.79166667 | N31: 0.875 | O31: Samedi | Q31: =IFERROR(VLOOKUP(A:A,#REF!,5,0),"") | X31: 43104 | Y31: 11:00-11:30 | AC31: =IF(AB31,COUNTIF(AB$3:AB31,1)," ") | AD31: 1 | AE31: =IF(AD31,COUNTIF(AD$3:AD31,1)," ") -> 1 | AG31: =IF(AF31,COUNTIF(AF$3:AF31,1)," ") | AI31: =IF(AH31,COUNTIF(AH$3:AH31,1)," ") | AK31: =IF(AJ31,COUNTIF(AJ$3:AJ31,1)," ") | AM31: =IF(AL31,COUNTIF(AL$3:AL31,1)," ")
A32: =SUM(A31+1) -> 30 | B32: d | C32: =SUM(C31+1) -> 30 | D32: =SUM(D31+1) -> 10030 | E32: =SUM(E31+1) -> 220351030 | F32: 2503167 | G32: 42366 | K32: 0.33333333 | L32: 0.5 | M32: 0.54166667 | N32: 0.70833333 | O32: Samedi | Q32: =IFERROR(VLOOKUP(A:A,#REF!,5,0),"") | X32: 0 | Y32: 0 | AC32: =IF(AB32,COUNTIF(AB$3:AB32,1)," ") | AD32: 1 | AE32: =IF(AD32,COUNTIF(AD$3:AD32,1)," ") -> 2 | AG32: =IF(AF32,COUNTIF(AF$3:AF32,1)," ") | AI32: =IF(AH32,COUNTIF(AH$3:AH32,1)," ") | AK32: =IF(AJ32,COUNTIF(AJ$3:AJ32,1)," ") | AM32: =IF(AL32,COUNTIF(AL$3:AL32,1)," ")
A33: =SUM(A32+1) -> 31 | B33: e | C33: =SUM(C32+1) -> 31 | D33: =SUM(D32+1) -> 10031 | E33: =SUM(E32+1) -> 220351031 | F33: 2503164 | G33: 42296 | K33: 0.29166667 | L33: 0.45833333 | M33: 0.70833333 | N33: 0.875 | O33: Vendredi | Q33: =IFERROR(VLOOKUP(A:A,#REF!,5,0),"") | R33: 43109.375 | S33: 43109.75 | X33: 43104 | Y33: 10:30-11:00 | AC33: =IF(AB33,COUNTIF(AB$3:AB33,1)," ") | AE33: =IF(AD33,COUNTIF(AD$3:AD33,1)," ") | AF33: 1 | AG33: =IF(AF33,COUNTIF(AF$3:AF33,1)," ") -> 6 | AI33: =IF(AH33,COUNTIF(AH$3:AH33,1)," ") | AK33: =IF(AJ33,COUNTIF(AJ$3:AJ33,1)," ") | AM33: =IF(AL33,COUNTIF(AL$3:AL33,1)," ")
A34: =SUM(A33+1) -> 32 | B34: f | C34: =SUM(C33+1) -> 32 | D34: =SUM(D33+1) -> 10032 | E34: =SUM(E33+1) -> 220351032 | F34: 2503171 | G34: 42366 | K34: 0.41666667 | L34: 0.58333333 | M34: 0.625 | N34: 0.875 | O34: Samedi | Q34: =IFERROR(VLOOKUP(A:A,#REF!,5,0),"") | X34: 43104 | Y34: 12:00-12:30 | AC34: =IF(AB34,COUNTIF(AB$3:AB34,1)," ") | AE34: =IF(AD34,COUNTIF(AD$3:AD34,1)," ") | AG34: =IF(AF34,COUNTIF(AF$3:AF34,1)," ") | AI34: =IF(AH34,COUNTIF(AH$3:AH34,1)," ") | AK34: =IF(AJ34,COUNTIF(AJ$3:AJ34,1)," ") | AL34: 1 | AM34: =IF(AL34,COUNTIF(AL$3:AL34,1)," ") -> 18
A35: =SUM(A34+1) -> 33 | B35: g | C35: =SUM(C34+1) -> 33 | D35: =SUM(D34+1) -> 10033 | E35: =SUM(E34+1) -> 220351033 | F35: 2503177 | G35: 42422 | K35: 0.375 | L35: 0.54166667 | M35: 0.58333333 | N35: 0.75 | O35: Samedi | Q35: =IFERROR(VLOOKUP(A:A,#REF!,5,0),"") | X35: 18/01 | Y35: 0 | AC35: =IF(AB35,COUNTIF(AB$3:AB35,1)," ") | AE35: =IF(AD35,COUNTIF(AD$3:AD35,1)," ") | AG35: =IF(AF35,COUNTIF(AF$3:AF35,1)," ") | AI35: =IF(AH35,COUNTIF(AH$3:AH35,1)," ") | AK35: =IF(AJ35,COUNTIF(AJ$3:AJ35,1)," ") | AL35: 1 | AM35: =IF(AL35,COUNTIF(AL$3:AL35,1)," ") -> 19
A36: =SUM(A35+1) -> 34 | B36: h | C36: =SUM(C35+1) -> 34 | D36: =SUM(D35+1) -> 10034 | E36: =SUM(E35+1) -> 220351034 | F36: 2503063 | G36: 43058 | K36: 0.41666667 | L36: 0.58333333 | M36: 0.625 | N36: 0.79166667 | O36: Mercredi | Q36: =IFERROR(VLOOKUP(A:A,#REF!,5,0),"") | X36: 0 | Y36: 0 | AC36: =IF(AB36,COUNTIF(AB$3:AB36,1)," ") | AE36: =IF(AD36,COUNTIF(AD$3:AD36,1)," ") | AG36: =IF(AF36,COUNTIF(AF$3:AF36,1)," ") | AI36: =IF(AH36,COUNTIF(AH$3:AH36,1)," ") | AK36: =IF(AJ36,COUNTIF(AJ$3:AJ36,1)," ") | AL36: 1 | AM36: =IF(AL36,COUNTIF(AL$3:AL36,1)," ") -> 20
A37: =SUM(A36+1) -> 35 | B37: i | C37: =SUM(C36+1) -> 35 | D37: =SUM(D36+1) -> 10035 | E37: =SUM(E36+1) -> 220351035 | F37: 2503148 | G37: 43058 | K37: 0.41666667 | L37: 0.58333333 | M37: 0.625 | N37: 0.79166667 | O37: Mardi | Q37: =IFERROR(VLOOKUP(A:A,#REF!,5,0),"") | X37: 43103 | Y37: 11:00-11:30 | AC37: =IF(AB37,COUNTIF(AB$3:AB37,1)," ") | AE37: =IF(AD37,COUNTIF(AD$3:AD37,1)," ") | AG37: =IF(AF37,COUNTIF(AF$3:AF37,1)," ") | AI37: =IF(AH37,COUNTIF(AH$3:AH37,1)," ") | AJ37: 1 | AK37: =IF(AJ37,COUNTIF(AJ$3:AJ37,1)," ") -> 6 | AM37: =IF(AL37,COUNTIF(AL$3:AL37,1)," ")
A38: =SUM(A37+1) -> 36 | B38: j | C38: =SUM(C37+1) -> 36 | D38: =SUM(D37+1) -> 10036 | E38: =SUM(E37+1) -> 220351036 | F38: 2503189 | G38: 42688 | K38: 0.29166667 | L38: 0.45833333 | M38: 0.5 | N38: 0.66666667 | O38: Samedi | Q38: =IFERROR(VLOOKUP(A:A,#REF!,5,0),"") | X38: 0 | Y38: 0 | AC38: =IF(AB38,COUNTIF(AB$3:AB38,1)," ") | AE38: =IF(AD38,COUNTIF(AD$3:AD38,1)," ") | AG38: =IF(AF38,COUNTIF(AF$3:AF38,1)," ") | AI38: =IF(AH38,COUNTIF(AH$3:AH38,1)," ") | AK38: =IF(AJ38,COUNTIF(AJ$3:AJ38,1)," ") | AL38: 1 | AM38: =IF(AL38,COUNTIF(AL$3:AL38,1)," ") -> 21
A39: =SUM(A38+1) -> 37 | B39: k | C39: =SUM(C38+1) -> 37 | D39: =SUM(D38+1) -> 10037 | E39: =SUM(E38+1) -> 220351037 | F39: 2503047 | G39: 42422 | K39: 0.45833333 | L39: 0.625 | M39: 0.66666667 | N39: 0.83333333 | O39: Samedi | Q39: =IFERROR(VLOOKUP(A:A,#REF!,5,0),"") | X39: 43105 | Y39: 16:00-16:30 | AC39: =IF(AB39,COUNTIF(AB$3:AB39,1)," ") | AE39: =IF(AD39,COUNTIF(AD$3:AD39,1)," ") | AG39: =IF(AF39,COUNTIF(AF$3:AF39,1)," ") | AI39: =IF(AH39,COUNTIF(AH$3:AH39,1)," ") | AK39: =IF(AJ39,COUNTIF(AJ$3:AJ39,1)," ") | AL39: 1 | AM39: =IF(AL39,COUNTIF(AL$3:AL39,1)," ") -> 22
A40: =SUM(A39+1) -> 38 | B40: l | C40: =SUM(C39+1) -> 38 | D40: =SUM(D39+1) -> 10038 | E40: =SUM(E39+1) -> 220351038 | F40: 2503122 | G40: 42513 | K40: 0.29166667 | L40: 0.45833333 | M40: 0.5 | N40: 0.66666667 | O40: Samedi | Q40: =IFERROR(VLOOKUP(A:A,#REF!,5,0),"") | X40: 43104 | Y40: 15:00-15:30 | AC40: =IF(AB40,COUNTIF(AB$3:AB40,1)," ") | AE40: =IF(AD40,COUNTIF(AD$3:AD40,1)," ") | AG40: =IF(AF40,COUNTIF(AF$3:AF40,1)," ") | AH40: 1 | AI40: =IF(AH40,COUNTIF(AH$3:AH40,1)," ") -> 3 | AK40: =IF(AJ40,COUNTIF(AJ$3:AJ40,1)," ") | AM40: =IF(AL40,COUNTIF(AL$3:AL40,1)," ")
A41: =SUM(A40+1) -> 39 | B41: m | C41: =SUM(C40+1) -> 39 | D41: =SUM(D40+1) -> 10039 | E41: =SUM(E40+1) -> 220351039 | F41: 2503089 | G41: 42338 | K41: 0.5 | L41: 0.66666667 | M41: 0.70833333 | N41: 0.875 | O41: Lundi | Q41: =IFERROR(VLOOKUP(A:A,#REF!,5,0),"") | X41: 0 | Y41: 0 | AC41: =IF(AB41,COUNTIF(AB$3:AB41,1)," ") | AE41: =IF(AD41,COUNTIF(AD$3:AD41,1)," ") | AG41: =IF(AF41,COUNTIF(AF$3:AF41,1)," ") | AI41: =IF(AH41,COUNTIF(AH$3:AH41,1)," ") | AK41: =IF(AJ41,COUNTIF(AJ$3:AJ41,1)," ") | AL41: 1 | AM41: =IF(AL41,COUNTIF(AL$3:AL41,1)," ") -> 23
A42: =SUM(A41+1) -> 40 | B42: n | C42: =SUM(C41+1) -> 40 | D42: =SUM(D41+1) -> 10040 | E42: =SUM(E41+1) -> 220351040 | F42: 2503146 | G42: 42688 | K42: 0.33333333 | L42: 0.5 | M42: 0.70833333 | N42: 0.875 | O42: Samedi | Q42: =IFERROR(VLOOKUP(A:A,#REF!,5,0),"") | X42: 43104 | Y42: 11:00-11:30 | AC42: =IF(AB42,COUNTIF(AB$3:AB42,1)," ") | AE42: =IF(AD42,COUNTIF(AD$3:AD42,1)," ") | AG42: =IF(AF42,COUNTIF(AF$3:AF42,1)," ") | AI42: =IF(AH42,COUNTIF(AH$3:AH42,1)," ") | AK42: =IF(AJ42,COUNTIF(AJ$3:AJ42,1)," ") | AL42: 1 | AM42: =IF(AL42,COUNTIF(AL$3:AL42,1)," ") -> 24
A43: =SUM(A42+1) -> 41 | B43: o | C43: =SUM(C42+1) -> 41 | D43: =SUM(D42+1) -> 10041 | E43: =SUM(E42+1) -> 220351041 | F43: 2503191 | G43: 42338 | K43: 0.45833333 | L43: 0.625 | M43: 0.66666667 | N43: 0.83333333 | O43: Samedi | Q43: =IFERROR(VLOOKUP(A:A,#REF!,5,0),"") | X43: 43105 | Y43: 11:00-11:30 | AC43: =IF(AB43,COUNTIF(AB$3:AB43,1)," ") | AE43: =IF(AD43,COUNTIF(AD$3:AD43,1)," ") | AG43: =IF(AF43,COUNTIF(AF$3:AF43,1)," ") | AI43: =IF(AH43,COUNTIF(AH$3:AH43,1)," ") | AK43: =IF(AJ43,COUNTIF(AJ$3:AJ43,1)," ") | AL43: 1 | AM43: =IF(AL43,COUNTIF(AL$3:AL43,1)," ") -> 25
A44: =SUM(A43+1) -> 42 | B44: p | C44: =SUM(C43+1) -> 42 | D44: =SUM(D43+1) -> 10042 | E44: =SUM(E43+1) -> 220351042 | F44: 2503068 | G44: 42338 | K44: 0.41666667 | L44: 0.58333333 | M44: 0.625 | N44: 0.79166667 | O44: Samedi | Q44: =IFERROR(VLOOKUP(A:A,#REF!,5,0),"") | X44: 43104 | Y44: 12:00-12:30 | AC44: =IF(AB44,COUNTIF(AB$3:AB44,1)," ") | AE44: =IF(AD44,COUNTIF(AD$3:AD44,1)," ") | AF44: 1 | AG44: =IF(AF44,COUNTIF(AF$3:AF44,1)," ") -> 7 | AI44: =IF(AH44,COUNTIF(AH$3:AH44,1)," ") | AK44: =IF(AJ44,COUNTIF(AJ$3:AJ44,1)," ") | AM44: =IF(AL44,COUNTIF(AL$3:AL44,1)," ")
A45: =SUM(A44+1) -> 43 | B45: q | C45: =SUM(C44+1) -> 43 | D45: =SUM(D44+1) -> 10043 | E45: =SUM(E44+1) -> 220351043 | F45: 2503108 | G45: 43058 | K45: 0.41666667 | L45: 0.58333333 | M45: 0.625 | N45: 0.79166667 | O45: Mardi | Q45: =IFERROR(VLOOKUP(A:A,#REF!,5,0),"") | X45: 43104 | Y45: 12:00-12:30 | AC45: =IF(AB45,COUNTIF(AB$3:AB45,1)," ") | AD45: 1 | AE45: =IF(AD45,COUNTIF(AD$3:AD45,1)," ") -> 3 | AG45: =IF(AF45,COUNTIF(AF$3:AF45,1)," ") | AI45: =IF(AH45,COUNTIF(AH$3:AH45,1)," ") | AK45: =IF(AJ45,COUNTIF(AJ$3:AJ45,1)," ") | AM45: =IF(AL45,COUNTIF(AL$3:AL45,1)," ")
A46: =SUM(A45+1) -> 44 | B46: r | C46: =SUM(C45+1) -> 44 | D46: =SUM(D45+1) -> 10044 | E46: =SUM(E45+1) -> 220351044 | F46: 2503004 | G46: 42534 | K46: 0.41666667 | L46: 0.58333333 | M46: 0.625 | N46: 0.79166667 | O46: Mercredi | Q46: =IFERROR(VLOOKUP(A:A,#REF!,5,0),"") | X46: 43103 | Y46: 12:00-12:30 | AC46: =IF(AB46,COUNTIF(AB$3:AB46,1)," ") | AE46: =IF(AD46,COUNTIF(AD$3:AD46,1)," ") | AG46: =IF(AF46,COUNTIF(AF$3:AF46,1)," ") | AI46: =IF(AH46,COUNTIF(AH$3:AH46,1)," ") | AJ46: 1 | AK46: =IF(AJ46,COUNTIF(AJ$3:AJ46,1)," ") -> 7 | AM46: =IF(AL46,COUNTIF(AL$3:AL46,1)," ")
A47: =SUM(A46+1) -> 45 | B47: s | C47: =SUM(C46+1) -> 45 | D47: =SUM(D46+1) -> 10045 | E47: =SUM(E46+1) -> 220351045 | F47: 2503078 | G47: 42338 | K47: 0.41666667 | L47: 0.58333333 | M47: 0.625 | N47: 0.79166667 | O47: Samedi | Q47: =IFERROR(VLOOKUP(A:A,#REF!,5,0),"") | X47: 0 | Y47: 0 | AC47: =IF(AB47,COUNTIF(AB$3:AB47,1)," ") | AE47: =IF(AD47,COUNTIF(AD$3:AD47,1)," ") | AG47: =IF(AF47,COUNTIF(AF$3:AF47,1)," ") | AH47: 1 | AI47: =IF(AH47,COUNTIF(AH$3:AH47,1)," ") -> 4 | AK47: =IF(AJ47,COUNTIF(AJ$3:AJ47,1)," ") | AM47: =IF(AL47,COUNTIF(AL$3:AL47,1)," ")
A48: =SUM(A47+1) -> 46 | B48: t | C48: =SUM(C47+1) -> 46 | D48: =SUM(D47+1) -> 10046 | E48: =SUM(E47+1) -> 220351046 | F48: 2503064 | G48: 42296 | K48: 0.33333333 | L48: 0.5 | M48: 0.54166667 | N48: 0.70833333 | O48: Samedi | Q48: =IFERROR(VLOOKUP(A:A,#REF!,5,0),"") | X48: 43105 | Y48: 15:00-15:30 | AC48: =IF(AB48,COUNTIF(AB$3:AB48,1)," ") | AE48: =IF(AD48,COUNTIF(AD$3:AD48,1)," ") | AF48: 1 | AG48: =IF(AF48,COUNTIF(AF$3:AF48,1)," ") -> 8 | AI48: =IF(AH48,COUNTIF(AH$3:AH48,1)," ") | AK48: =IF(AJ48,COUNTIF(AJ$3:AJ48,1)," ") | AM48: =IF(AL48,COUNTIF(AL$3:AL48,1)," ")
A49: =SUM(A48+1) -> 47 | B49: u | C49: =SUM(C48+1) -> 47 | D49: =SUM(D48+1) -> 10047 | E49: =SUM(E48+1) -> 220351047 | F49: 2503041 | G49: 42338 | K49: 0.45833333 | L49: 0.625 | M49: 0.66666667 | N49: 0.83333333 | O49: Samedi | Q49: =IFERROR(VLOOKUP(A:A,#REF!,5,0),"") | X49: 43105 | Y49: 11:00-11:30 | AC49: =IF(AB49,COUNTIF(AB$3:AB49,1)," ") | AE49: =IF(AD49,COUNTIF(AD$3:AD49,1)," ") | AG49: =IF(AF49,COUNTIF(AF$3:AF49,1)," ") | AH49: 1 | AI49: =IF(AH49,COUNTIF(AH$3:AH49,1)," ") -> 5 | AK49: =IF(AJ49,COUNTIF(AJ$3:AJ49,1)," ") | AM49: =IF(AL49,COUNTIF(AL$3:AL49,1)," ")
A50: =SUM(A49+1) -> 48 | B50: v | C50: =SUM(C49+1) -> 48 | D50: =SUM(D49+1) -> 10048 | E50: =SUM(E49+1) -> 220351048 | F50: 2503006 | G50: 42338 | K50: 0.375 | L50: 0.54166667 | M50: 0.58333333 | N50: 0.75 | O50: Samedi | Q50: =IFERROR(VLOOKUP(A:A,#REF!,5,0),"") | X50: 43104 | Y50: 14:30-15:00 | AC50: =IF(AB50,COUNTIF(AB$3:AB50,1)," ") | AD50: 1 | AE50: =IF(AD50,COUNTIF(AD$3:AD50,1)," ") -> 4 | AG50: =IF(AF50,COUNTIF(AF$3:AF50,1)," ") | AI50: =IF(AH50,COUNTIF(AH$3:AH50,1)," ") | AK50: =IF(AJ50,COUNTIF(AJ$3:AJ50,1)," ") | AM50: =IF(AL50,COUNTIF(AL$3:AL50,1)," ")
A51: =SUM(A50+1) -> 49 | B51: w | C51: =SUM(C50+1) -> 49 | D51: =SUM(D50+1) -> 10049 | E51: =SUM(E50+1) -> 220351049 | F51: 2503120 | G51: 42338 | K51: 0.35416667 | L51: 0.52083333 | M51: 0.5625 | N51: 0.72916667 | O51: Samedi | Q51: =IFERROR(VLOOKUP(A:A,#REF!,5,0),"") | X51: 0 | Y51: 0 | AB51: 1 | AC51: =IF(AB51,COUNTIF(AB$3:AB51,1)," ") -> 1 | AE51: =IF(AD51,COUNTIF(AD$3:AD51,1)," ") | AG51: =IF(AF51,COUNTIF(AF$3:AF51,1)," ") | AI51: =IF(AH51,COUNTIF(AH$3:AH51,1)," ") | AK51: =IF(AJ51,COUNTIF(AJ$3:AJ51,1)," ") | AM51: =IF(AL51,COUNTIF(AL$3:AL51,1)," ")
A52: =SUM(A51+1) -> 50 | B52: x | C52: =SUM(C51+1) -> 50 | D52: =SUM(D51+1) -> 10050 | E52: =SUM(E51+1) -> 220351050 | F52: 2503157 | G52: 42590 | K52: 0.33333333 | L52: 0.5 | M52: 0.54166667 | N52: 0.70833333 | O52: Samedi | Q52: =IFERROR(VLOOKUP(A:A,#REF!,5,0),"") | X52: 43104 | Y52: 11:00-11:30 | AC52: =IF(AB52,COUNTIF(AB$3:AB52,1)," ") | AE52: =IF(AD52,COUNTIF(AD$3:AD52,1)," ") | AG52: =IF(AF52,COUNTIF(AF$3:AF52,1)," ") | AI52: =IF(AH52,COUNTIF(AH$3:AH52,1)," ") | AK52: =IF(AJ52,COUNTIF(AJ$3:AJ52,1)," ") | AL52: 1 | AM52: =IF(AL52,COUNTIF(AL$3:AL52,1)," ") -> 26
A53: =SUM(A52+1) -> 51 | B53: y | C53: =SUM(C52+1) -> 51 | D53: =SUM(D52+1) -> 10051 | E53: =SUM(E52+1) -> 220351051 | F53: 2503182 | G53: 42338 | K53: 0.45833333 | L53: 0.625 | M53: 0.66666667 | N53: 0.83333333 | O53: Samedi | Q53: =IFERROR(VLOOKUP(A:A,#REF!,5,0),"") | X53: 43105 | Y53: 11:00-11:30 | AC53: =IF(AB53,COUNTIF(AB$3:AB53,1)," ") | AE53: =IF(AD53,COUNTIF(AD$3:AD53,1)," ") | AG53: =IF(AF53,COUNTIF(AF$3:AF53,1)," ") | AI53: =IF(AH53,COUNTIF(AH$3:AH53,1)," ") | AK53: =IF(AJ53,COUNTIF(AJ$3:AJ53,1)," ") | AL53: 1 | AM53: =IF(AL53,COUNTIF(AL$3:AL53,1)," ") -> 27
A54: =SUM(A53+1) -> 52 | B54: z | C54: =SUM(C53+1) -> 52 | D54: =SUM(D53+1) -> 10052 | E54: =SUM(E53+1) -> 220351052 | F54: 2503067 | G54: 42296 | K54: 0.33333333 | L54: 0.5 | M54: 0.54166667 | N54: 0.70833333 | O54: Vendredi | Q54: =IFERROR(VLOOKUP(A:A,#REF!,5,0),"") | X54: 0 | Y54: 0 | AC54: =IF(AB54,COUNTIF(AB$3:AB54,1)," ") | AE54: =IF(AD54,COUNTIF(AD$3:AD54,1)," ") | AF54: 1 | AG54: =IF(AF54,COUNTIF(AF$3:AF54,1)," ") -> 9 | AI54: =IF(AH54,COUNTIF(AH$3:AH54,1)," ") | AK54: =IF(AJ54,COUNTIF(AJ$3:AJ54,1)," ") | AM54: =IF(AL54,COUNTIF(AL$3:AL54,1)," ")
A55: =SUM(A54+1) -> 53 | B55: a | C55: =SUM(C54+1) -> 53 | D55: =SUM(D54+1) -> 10053 | E55: =SUM(E54+1) -> 220351053 | F55: 2503029 | G55: 42422 | K55: 0.41666667 | L55: 0.58333333 | M55: 0.625 | N55: 0.79166667 | O55: Samedi | Q55: =IFERROR(VLOOKUP(A:A,#REF!,5,0),"") | X55: 43104 | Y55: 12:00-12:30 | AC55: =IF(AB55,COUNTIF(AB$3:AB55,1)," ") | AE55: =IF(AD55,COUNTIF(AD$3:AD55,1)," ") | AG55: =IF(AF55,COUNTIF(AF$3:AF55,1)," ") | AI55: =IF(AH55,COUNTIF(AH$3:AH55,1)," ") | AJ55: 1 | AK55: =IF(AJ55,COUNTIF(AJ$3:AJ55,1)," ") -> 8 | AM55: =IF(AL55,COUNTIF(AL$3:AL55,1)," ")
A56: =SUM(A55+1) -> 54 | B56: b | C56: =SUM(C55+1) -> 54 | D56: =SUM(D55+1) -> 10054 | E56: =SUM(E55+1) -> 220351054 | F56: 2503186 | G56: 42366 | K56: 0.41666667 | L56: 0.54166667 | M56: 0.58333333 | N56: 0.875 | O56: Samedi | Q56: =IFERROR(VLOOKUP(A:A,#REF!,5,0),"") | X56: 43104 | Y56: 12:00-12:30 | AC56: =IF(AB56,COUNTIF(AB$3:AB56,1)," ") | AE56: =IF(AD56,COUNTIF(AD$3:AD56,1)," ") | AG56: =IF(AF56,COUNTIF(AF$3:AF56,1)," ") | AI56: =IF(AH56,COUNTIF(AH$3:AH56,1)," ") | AK56: =IF(AJ56,COUNTIF(AJ$3:AJ56,1)," ") | AL56: 1 | AM56: =IF(AL56,COUNTIF(AL$3:AL56,1)," ") -> 28
A57: =SUM(A56+1) -> 55 | B57: c | C57: =SUM(C56+1) -> 55 | D57: =SUM(D56+1) -> 10055 | E57: =SUM(E56+1) -> 220351055 | F57: 2503096 | G57: 42338 | K57: 0.29166667 | L57: 0.45833333 | M57: 0.5 | N57: 0.66666667 | O57: Mercredi | Q57: =IFERROR(VLOOKUP(A:A,#REF!,5,0),"") | X57: 43104 | Y57: 15:00-15:30 | AC57: =IF(AB57,COUNTIF(AB$3:AB57,1)," ") | AE57: =IF(AD57,COUNTIF(AD$3:AD57,1)," ") | AG57: =IF(AF57,COUNTIF(AF$3:AF57,1)," ") | AI57: =IF(AH57,COUNTIF(AH$3:AH57,1)," ") | AK57: =IF(AJ57,COUNTIF(AJ$3:AJ57,1)," ") | AL57: 1 | AM57: =IF(AL57,COUNTIF(AL$3:AL57,1)," ") -> 29
A58: =SUM(A57+1) -> 56 | B58: d | C58: =SUM(C57+1) -> 56 | D58: =SUM(D57+1) -> 10056 | E58: =SUM(E57+1) -> 220351056 | F58: #N/A | G58: 43080 | K58: 0.45833333 | L58: 0.625 | M58: 0.66666667 | N58: 0.83333333 | O58: Jeudi | Q58: =IFERROR(VLOOKUP(A:A,#REF!,5,0),"") | X58: 43103 | Y58: 14:00-14:30 | AC58: =IF(AB58,COUNTIF(AB$3:AB58,1)," ") | AE58: =IF(AD58,COUNTIF(AD$3:AD58,1)," ") | AG58: =IF(AF58,COUNTIF(AF$3:AF58,1)," ") | AI58: =IF(AH58,COUNTIF(AH$3:AH58,1)," ") | AK58: =IF(AJ58,COUNTIF(AJ$3:AJ58,1)," ") | AL58: 1 | AM58: =IF(AL58,COUNTIF(AL$3:AL58,1)," ") -> 30
A59: =SUM(A58+1) -> 57 | B59: e | C59: =SUM(C58+1) -> 57 | D59: =SUM(D58+1) -> 10057 | E59: =SUM(E58+1) -> 220351057 | F59: 2503091 | G59: 42688 | K59: 0.45833333 | L59: 0.625 | M59: 0.66666667 | N59: 0.83333333 | O59: Samedi | Q59: =IFERROR(VLOOKUP(A:A,#REF!,5,0),"") | X59: 43105 | Y59: 11:00-11:30 | AC59: =IF(AB59,COUNTIF(AB$3:AB59,1)," ") | AE59: =IF(AD59,COUNTIF(AD$3:AD59,1)," ") | AG59: =IF(AF59,COUNTIF(AF$3:AF59,1)," ") | AI59: =IF(AH59,COUNTIF(AH$3:AH59,1)," ") | AK59: =IF(AJ59,COUNTIF(AJ$3:AJ59,1)," ") | AL59: 1 | AM59: =IF(AL59,COUNTIF(AL$3:AL59,1)," ") -> 31
A60: =SUM(A59+1) -> 58 | B60: f | C60: =SUM(C59+1) -> 58 | D60: =SUM(D59+1) -> 10058 | E60: =SUM(E59+1) -> 220351058 | F60: 2503134 | G60: 42688 | K60: 0.29166667 | L60: 0.45833333 | M60: 0.5 | N60: 0.66666667 | O60: Samedi | Q60: =IFERROR(VLOOKUP(A:A,#REF!,5,0),"") | X60: 43104 | Y60: 15:00-15:30 | AC60: =IF(AB60,COUNTIF(AB$3:AB60,1)," ") | AE60: =IF(AD60,COUNTIF(AD$3:AD60,1)," ") | AG60: =IF(AF60,COUNTIF(AF$3:AF60,1)," ") | AH60: 1 | AI60: =IF(AH60,COUNTIF(AH$3:AH60,1)," ") -> 6 | AK60: =IF(AJ60,COUNTIF(AJ$3:AJ60,1)," ") | AM60: =IF(AL60,COUNTIF(AL$3:AL60,1)," ")
A61: =SUM(A60+1) -> 59 | B61: g | C61: =SUM(C60+1) -> 59 | D61: =SUM(D60+1) -> 10059 | E61: =SUM(E60+1) -> 220351059 | F61: 2503077 | G61: 42590 | K61: 0.375 | L61: 0.54166667 | M61: 0.58333333 | N61: 0.75 | O61: Samedi | Q61: =IFERROR(VLOOKUP(A:A,#REF!,5,0),"") | X61: 43103 | Y61: 15:00-15:30 | AC61: =IF(AB61,COUNTIF(AB$3:AB61,1)," ") | AE61: =IF(AD61,COUNTIF(AD$3:AD61,1)," ") | AG61: =IF(AF61,COUNTIF(AF$3:AF61,1)," ") | AI61: =IF(AH61,COUNTIF(AH$3:AH61,1)," ") | AK61: =IF(AJ61,COUNTIF(AJ$3:AJ61,1)," ") | AL61: 1 | AM61: =IF(AL61,COUNTIF(AL$3:AL61,1)," ") -> 32
A62: =SUM(A61+1) -> 60 | B62: h | C62: =SUM(C61+1) -> 60 | D62: =SUM(D61+1) -> 10060 | E62: =SUM(E61+1) -> 220351060 | F62: 2503153 | G62: 42422 | K62: 0.375 | L62: 0.54166667 | M62: 0.58333333 | N62: 0.75 | O62: Samedi | Q62: =IFERROR(VLOOKUP(A:A,#REF!,5,0),"") | R62: 43105.458 | S62: 43105.583 | T62: 43109.417 | X62: 43105 | Y62: 16:00-16:30 | AC62: =IF(AB62,COUNTIF(AB$3:AB62,1)," ") | AE62: =IF(AD62,COUNTIF(AD$3:AD62,1)," ") | AG62: =IF(AF62,COUNTIF(AF$3:AF62,1)," ") | AI62: =IF(AH62,COUNTIF(AH$3:AH62,1)," ") | AJ62: 1 | AK62: =IF(AJ62,COUNTIF(AJ$3:AJ62,1)," ") -> 9 | AM62: =IF(AL62,COUNTIF(AL$3:AL62,1)," ")
A63: =SUM(A62+1) -> 61 | B63: i | C63: =SUM(C62+1) -> 61 | D63: =SUM(D62+1) -> 10061 | E63: =SUM(E62+1) -> 220351061 | F63: 2503079 | G63: 42534 | K63: 0.375 | L63: 0.54166667 | M63: 0.58333333 | N63: 0.75 | O63: Samedi | Q63: =IFERROR(VLOOKUP(A:A,#REF!,5,0),"") | R63: 43104.5 | S63: 43104.625 | X63: 43105 | Y63: 11:00-11:30 | AC63: =IF(AB63,COUNTIF(AB$3:AB63,1)," ") | AD63: 1 | AE63: =IF(AD63,COUNTIF(AD$3:AD63,1)," ") -> 5 | AG63: =IF(AF63,COUNTIF(AF$3:AF63,1)," ") | AI63: =IF(AH63,COUNTIF(AH$3:AH63,1)," ") | AK63: =IF(AJ63,COUNTIF(AJ$3:AJ63,1)," ") | AM63: =IF(AL63,COUNTIF(AL$3:AL63,1)," ")
A64: =SUM(A63+1) -> 62 | B64: j | C64: =SUM(C63+1) -> 62 | D64: =SUM(D63+1) -> 10062 | E64: =SUM(E63+1) -> 220351062 | F64: 2503192 | G64: 42422 | K64: 0.29166667 | L64: 0.45833333 | M64: 0.5 | N64: 0.66666667 | O64: Jeudi | Q64: =IFERROR(VLOOKUP(A:A,#REF!,5,0),"") | X64: 43103 | Y64: 15:00-15:30 | AC64: =IF(AB64,COUNTIF(AB$3:AB64,1)," ") | AE64: =IF(AD64,COUNTIF(AD$3:AD64,1)," ") | AG64: =IF(AF64,COUNTIF(AF$3:AF64,1)," ") | AH64: 1 | AI64: =IF(AH64,COUNTIF(AH$3:AH64,1)," ") -> 7 | AK64: =IF(AJ64,COUNTIF(AJ$3:AJ64,1)," ") | AM64: =IF(AL64,COUNTIF(AL$3:AL64,1)," ")
A65: =SUM(A64+1) -> 63 | B65: k | C65: =SUM(C64+1) -> 63 | D65: =SUM(D64+1) -> 10063 | E65: =SUM(E64+1) -> 220351063 | F65: 2503082 | G65: 43024 | K65: 0.5 | L65: 0.66666667 | M65: 0.70833333 | N65: 0.875 | O65: Vendredi | Q65: =IFERROR(VLOOKUP(A:A,#REF!,5,0),"") | R65: 43104.542 | S65: 43104.708 | T65: 43108.646 | U65: 43108.75 | X65: 43103 | Y65: 12:00-12:30 | AB65: 1 | AC65: =IF(AB65,COUNTIF(AB$3:AB65,1)," ") -> 2 | AE65: =IF(AD65,COUNTIF(AD$3:AD65,1)," ") | AG65: =IF(AF65,COUNTIF(AF$3:AF65,1)," ") | AI65: =IF(AH65,COUNTIF(AH$3:AH65,1)," ") | AK65: =IF(AJ65,COUNTIF(AJ$3:AJ65,1)," ") | AM65: =IF(AL65,COUNTIF(AL$3:AL65,1)," ")
A66: =SUM(A65+1) -> 64 | B66: l | C66: =SUM(C65+1) -> 64 | D66: =SUM(D65+1) -> 10064 | E66: =SUM(E65+1) -> 220351064 | F66: 2503007 | G66: 42296 | K66: 0.33333333 | L66: 0.58333333 | N66: 0.58333333 | O66: Samedi | Q66: =IFERROR(VLOOKUP(A:A,#REF!,5,0),"") | X66: 43104 | Y66: 11:00-11:30 | AC66: =IF(AB66,COUNTIF(AB$3:AB66,1)," ") | AE66: =IF(AD66,COUNTIF(AD$3:AD66,1)," ") | AF66: 1 | AG66: =IF(AF66,COUNTIF(AF$3:AF66,1)," ") -> 10 | AI66: =IF(AH66,COUNTIF(AH$3:AH66,1)," ") | AK66: =IF(AJ66,COUNTIF(AJ$3:AJ66,1)," ") | AM66: =IF(AL66,COUNTIF(AL$3:AL66,1)," ")
A67: =SUM(A66+1) -> 65 | B67: m | C67: =SUM(C66+1) -> 65 | D67: =SUM(D66+1) -> 10065 | E67: =SUM(E66+1) -> 220351065 | F67: 2503010 | G67: 42296 | K67: 0.35416667 | L67: 0.5625 | N67: 0.5625 | O67: Samedi | Q67: =IFERROR(VLOOKUP(A:A,#REF!,5,0),"") | X67: 43104 | Y67: 11:00-11:30 | AC67: =IF(AB67,COUNTIF(AB$3:AB67,1)," ") | AE67: =IF(AD67,COUNTIF(AD$3:AD67,1)," ") | AG67: =IF(AF67,COUNTIF(AF$3:AF67,1)," ") | AI67: =IF(AH67,COUNTIF(AH$3:AH67,1)," ") | AK67: =IF(AJ67,COUNTIF(AJ$3:AJ67,1)," ") | AL67: 1 | AM67: =IF(AL67,COUNTIF(AL$3:AL67,1)," ") -> 33
A68: =SUM(A67+1) -> 66 | B68: n | C68: =SUM(C67+1) -> 66 | D68: =SUM(D67+1) -> 10066 | E68: =SUM(E67+1) -> 220351066 | F68: 2503038 | G68: 43024 | K68: 0.5 | L68: 0.66666667 | M68: 0.70833333 | N68: 0.875 | O68: Jeudi | Q68: =IFERROR(VLOOKUP(A:A,#REF!,5,0),"") | R68: 43103.542 | S68: 43103.625 | T68: 43110.5 | U68: 43110.625 | X68: 43103 | Y68: 15:00-15:30 | AC68: =IF(AB68,COUNTIF(AB$3:AB68,1)," ") | AE68: =IF(AD68,COUNTIF(AD$3:AD68,1)," ") | AG68: =IF(AF68,COUNTIF(AF$3:AF68,1)," ") | AH68: 1 | AI68: =IF(AH68,COUNTIF(AH$3:AH68,1)," ") -> 8 | AK68: =IF(AJ68,COUNTIF(AJ$3:AJ68,1)," ") | AM68: =IF(AL68,COUNTIF(AL$3:AL68,1)," ")
A69: =SUM(A68+1) -> 67 | B69: o | C69: =SUM(C68+1) -> 67 | D69: =SUM(D68+1) -> 10067 | E69: =SUM(E68+1) -> 220351067 | F69: 2503017 | G69: 42422 | K69: 0.29166667 | L69: 0.45833333 | M69: 0.79166667 | N69: 0.875 | O69: Mercredi | Q69: =IFERROR(VLOOKUP(A:A,#REF!,5,0),"") | X69: 43104 | Y69: 10:30-11:00 | AC69: =IF(AB69,COUNTIF(AB$3:AB69,1)," ") | AE69: =IF(AD69,COUNTIF(AD$3:AD69,1)," ") | AG69: =IF(AF69,COUNTIF(AF$3:AF69,1)," ") | AI69: =IF(AH69,COUNTIF(AH$3:AH69,1)," ") | AK69: =IF(AJ69,COUNTIF(AJ$3:AJ69,1)," ") | AL69: 1 | AM69: =IF(AL69,COUNTIF(AL$3:AL69,1)," ") -> 34
A70: =SUM(A69+1) -> 68 | B70: p | C70: =SUM(C69+1) -> 68 | D70: =SUM(D69+1) -> 10068 | E70: =SUM(E69+1) -> 220351068 | F70: 2503015 | G70: 43024 | K70: 0.45833333 | L70: 0.625 | M70: 0.66666667 | N70: 0.83333333 | O70: Jeudi | Q70: =IFERROR(VLOOKUP(A:A,#REF!,5,0),"") | X70: 43103 | Y70: 14:00-14:30 | AC70: =IF(AB70,COUNTIF(AB$3:AB70,1)," ") | AE70: =IF(AD70,COUNTIF(AD$3:AD70,1)," ") | AG70: =IF(AF70,COUNTIF(AF$3:AF70,1)," ") | AH70: 1 | AI70: =IF(AH70,COUNTIF(AH$3:AH70,1)," ") -> 9 | AK70: =IF(AJ70,COUNTIF(AJ$3:AJ70,1)," ") | AM70: =IF(AL70,COUNTIF(AL$3:AL70,1)," ")
A71: =SUM(A70+1) -> 69 | B71: q | C71: =SUM(C70+1) -> 69 | D71: =SUM(D70+1) -> 10069 | E71: =SUM(E70+1) -> 220351069 | F71: 2503033 | G71: 42422 | K71: 0.29166667 | L71: 0.45833333 | M71: 0.5 | N71: 0.66666667 | O71: Jeudi | Q71: =IFERROR(VLOOKUP(A:A,#REF!,5,0),"") | X71: 43103 | Y71: 14:00-14:30 | AC71: =IF(AB71,COUNTIF(AB$3:AB71,1)," ") | AE71: =IF(AD71,COUNTIF(AD$3:AD71,1)," ") | AG71: =IF(AF71,COUNTIF(AF$3:AF71,1)," ") | AI71: =IF(AH71,COUNTIF(AH$3:AH71,1)," ") | AK71: =IF(AJ71,COUNTIF(AJ$3:AJ71,1)," ") | AL71: 1 | AM71: =IF(AL71,COUNTIF(AL$3:AL71,1)," ") -> 35
A72: =SUM(A71+1) -> 70 | B72: r | C72: =SUM(C71+1) -> 70 | D72: =SUM(D71+1) -> 10070 | E72: =SUM(E71+1) -> 220351070 | F72: 2503172 | G72: 43024 | K72: 0.5 | L72: 0.66666667 | M72: 0.70833333 | N72: 0.875 | O72: Vendredi | Q72: =IFERROR(VLOOKUP(A:A,#REF!,5,0),"") | X72: 43103 | Y72: 15:00-15:30 | AC72: =IF(AB72,COUNTIF(AB$3:AB72,1)," ") | AD72: 1 | AE72: =IF(AD72,COUNTIF(AD$3:AD72,1)," ") -> 6 | AG72: =IF(AF72,COUNTIF(AF$3:AF72,1)," ") | AI72: =IF(AH72,COUNTIF(AH$3:AH72,1)," ") | AK72: =IF(AJ72,COUNTIF(AJ$3:AJ72,1)," ") | AM72: =IF(AL72,COUNTIF(AL$3:AL72,1)," ")
A73: =SUM(A72+1) -> 71 | B73: s | C73: =SUM(C72+1) -> 71 | D73: =SUM(D72+1) -> 10071 | E73: =SUM(E72+1) -> 220351071 | F73: 2503054 | G73: 42296 | K73: 0.33333333 | L73: 0.5 | M73: 0.54166667 | N73: 0.625 | O73: Vendredi | Q73: =IFERROR(VLOOKUP(A:A,#REF!,5,0),"") | X73: 43103 | Y73: 11:00-11:30 | AC73: =IF(AB73,COUNTIF(AB$3:AB73,1)," ") | AD73: 1 | AE73: =IF(AD73,COUNTIF(AD$3:AD73,1)," ") -> 7 | AG73: =IF(AF73,COUNTIF(AF$3:AF73,1)," ") | AI73: =IF(AH73,COUNTIF(AH$3:AH73,1)," ") | AK73: =IF(AJ73,COUNTIF(AJ$3:AJ73,1)," ") | AM73: =IF(AL73,COUNTIF(AL$3:AL73,1)," ")
A74: =SUM(A73+1) -> 72 | B74: t | C74: =SUM(C73+1) -> 72 | D74: =SUM(D73+1) -> 10072 | E74: =SUM(E73+1) -> 220351072 | F74: 2503057 | G74: 42366 | K74: 0.375 | L74: 0.54166667 | M74: 0.58333333 | N74: 0.75 | O74: Samedi | Q74: =IFERROR(VLOOKUP(A:A,#REF!,5,0),"") | X74: 43104 | Y74: 14:30-15:00 | AC74: =IF(AB74,COUNTIF(AB$3:AB74,1)," ") | AE74: =IF(AD74,COUNTIF(AD$3:AD74,1)," ") | AG74: =IF(AF74,COUNTIF(AF$3:AF74,1)," ") | AI74: =IF(AH74,COUNTIF(AH$3:AH74,1)," ") | AJ74: 1 | AK74: =IF(AJ74,COUNTIF(AJ$3:AJ74,1)," ") -> 10 | AM74: =IF(AL74,COUNTIF(AL$3:AL74,1)," ")
A75: =SUM(A74+1) -> 73 | B75: u | C75: =SUM(C74+1) -> 73 | D75: =SUM(D74+1) -> 10073 | E75: =SUM(E74+1) -> 220351073 | F75: 2503058 | G75: 42422 | K75: 0.375 | L75: 0.54166667 | M75: 0.58333333 | N75: 0.75 | O75: Mardi | Q75: =IFERROR(VLOOKUP(A:A,#REF!,5,0),"") | X75: 43103 | Y75: 15:00-15:30 | AC75: =IF(AB75,COUNTIF(AB$3:AB75,1)," ") | AE75: =IF(AD75,COUNTIF(AD$3:AD75,1)," ") | AF75: 1 | AG75: =IF(AF75,COUNTIF(AF$3:AF75,1)," ") -> 11 | AI75: =IF(AH75,COUNTIF(AH$3:AH75,1)," ") | AK75: =IF(AJ75,COUNTIF(AJ$3:AJ75,1)," ") | AM75: =IF(AL75,COUNTIF(AL$3:AL75,1)," ")
A76: =SUM(A75+1) -> 74 | B76: v | C76: =SUM(C75+1) -> 74 | D76: =SUM(D75+1) -> 10074 | E76: =SUM(E75+1) -> 220351074 | F76: 2503060 | G76: 42366 | K76: 0.45833333 | L76: 0.625 | M76: 0.66666667 | N76: 0.83333333 | O76: Mercredi | Q76: =IFERROR(VLOOKUP(A:A,#REF!,5,0),"") | X76: 43105 | Y76: 16:00-16:30 | AC76: =IF(AB76,COUNTIF(AB$3:AB76,1)," ") | AE76: =IF(AD76,COUNTIF(AD$3:AD76,1)," ") | AG76: =IF(AF76,COUNTIF(AF$3:AF76,1)," ") | AI76: =IF(AH76,COUNTIF(AH$3:AH76,1)," ") | AK76: =IF(AJ76,COUNTIF(AJ$3:AJ76,1)," ") | AL76: 1 | AM76: =IF(AL76,COUNTIF(AL$3:AL76,1)," ") -> 36
A77: =SUM(A76+1) -> 75 | B77: w | C77: =SUM(C76+1) -> 75 | D77: =SUM(D76+1) -> 10075 | E77: =SUM(E76+1) -> 220351075 | F77: 2503069 | G77: 42254 | K77: 0.375 | L77: 0.54166667 | M77: 0.58333333 | N77: 0.75 | O77: Samedi | Q77: =IFERROR(VLOOKUP(A:A,#REF!,5,0),"") | X77: 43104 | Y77: 12:00-12:30 | AC77: =IF(AB77,COUNTIF(AB$3:AB77,1)," ") | AE77: =IF(AD77,COUNTIF(AD$3:AD77,1)," ") | AF77: 1 | AG77: =IF(AF77,COUNTIF(AF$3:AF77,1)," ") -> 12 | AI77: =IF(AH77,COUNTIF(AH$3:AH77,1)," ") | AK77: =IF(AJ77,COUNTIF(AJ$3:AJ77,1)," ") | AM77: =IF(AL77,COUNTIF(AL$3:AL77,1)," ")
A78: =SUM(A77+1) -> 76 | B78: x | C78: =SUM(C77+1) -> 76 | D78: =SUM(D77+1) -> 10076 | E78: =SUM(E77+1) -> 220351076 | F78: 2503093 | G78: 42296 | K78: 0.29166667 | L78: 0.45833333 | M78: 0.5 | N78: 0.66666667 | O78: Samedi | Q78: =IFERROR(VLOOKUP(A:A,#REF!,5,0),"") | X78: 0 | Y78: 0 | AC78: =IF(AB78,COUNTIF(AB$3:AB78,1)," ") | AE78: =IF(AD78,COUNTIF(AD$3:AD78,1)," ") | AG78: =IF(AF78,COUNTIF(AF$3:AF78,1)," ") | AI78: =IF(AH78,COUNTIF(AH$3:AH78,1)," ") | AK78: =IF(AJ78,COUNTIF(AJ$3:AJ78,1)," ") | AL78: 1 | AM78: =IF(AL78,COUNTIF(AL$3:AL78,1)," ") -> 37
A79: =SUM(A78+1) -> 77 | B79: y | C79: =SUM(C78+1) -> 77 | D79: =SUM(D78+1) -> 10077 | E79: =SUM(E78+1) -> 220351077 | F79: 2503100 | G79: 42296 | K79: 0.375 | L79: 0.54166667 | M79: 0.58333333 | N79: 0.75 | O79: Samedi | Q79: =IFERROR(VLOOKUP(A:A,#REF!,5,0),"") | X79: 0 | Y79: 0 | AC79: =IF(AB79,COUNTIF(AB$3:AB79,1)," ") | AE79: =IF(AD79,COUNTIF(AD$3:AD79,1)," ") | AG79: =IF(AF79,COUNTIF(AF$3:AF79,1)," ") | AI79: =IF(AH79,COUNTIF(AH$3:AH79,1)," ") | AK79: =IF(AJ79,COUNTIF(AJ$3:AJ79,1)," ") | AL79: 1 | AM79: =IF(AL79,COUNTIF(AL$3:AL79,1)," ") -> 38
A80: =SUM(A79+1) -> 78 | B80: z | C80: =SUM(C79+1) -> 78 | D80: =SUM(D79+1) -> 10078 | E80: =SUM(E79+1) -> 220351078 | F80: 2503053 | G80: 42296 | K80: 0.33333333 | L80: 0.58333333 | N80: 0.58333333 | O80: Samedi | Q80: =IFERROR(VLOOKUP(A:A,#REF!,5,0),"") | X80: 0 | Y80: 0 | AC80: =IF(AB80,COUNTIF(AB$3:AB80,1)," ") | AE80: =IF(AD80,COUNTIF(AD$3:AD80,1)," ") | AF80: 1 | AG80: =IF(AF80,COUNTIF(AF$3:AF80,1)," ") -> 13 | AI80: =IF(AH80,COUNTIF(AH$3:AH80,1)," ") | AK80: =IF(AJ80,COUNTIF(AJ$3:AJ80,1)," ") | AM80: =IF(AL80,COUNTIF(AL$3:AL80,1)," ")
A81: =SUM(A80+1) -> 79 | B81: a | C81: =SUM(C80+1) -> 79 | D81: =SUM(D80+1) -> 10079 | E81: =SUM(E80+1) -> 220351079 | F81: 2503118 | G81: 42296 | K81: 0.5 | L81: 0.66666667 | M81: 0.70833333 | N81: 0.875 | O81: Samedi | Q81: =IFERROR(VLOOKUP(A:A,#REF!,5,0),"") | X81: 43105 | Y81: 15:00-15:30 | AC81: =IF(AB81,COUNTIF(AB$3:AB81,1)," ") | AE81: =IF(AD81,COUNTIF(AD$3:AD81,1)," ") | AG81: =IF(AF81,COUNTIF(AF$3:AF81,1)," ") | AI81: =IF(AH81,COUNTIF(AH$3:AH81,1)," ") | AK81: =IF(AJ81,COUNTIF(AJ$3:AJ81,1)," ") | AL81: 1 | AM81: =IF(AL81,COUNTIF(AL$3:AL81,1)," ") -> 39
A82: =SUM(A81+1) -> 80 | B82: b | C82: =SUM(C81+1) -> 80 | D82: =SUM(D81+1) -> 10080 | E82: =SUM(E81+1) -> 220351080 | F82: 2503102 | G82: 42366 | K82: 0.29166667 | L82: 0.45833333 | M82: 0.5 | N82: 0.66666667 | O82: Samedi | Q82: =IFERROR(VLOOKUP(A:A,#REF!,5,0),"") | X82: 43104 | Y82: 14:30-15:00 | AC82: =IF(AB82,COUNTIF(AB$3:AB82,1)," ") | AE82: =IF(AD82,COUNTIF(AD$3:AD82,1)," ") | AG82: =IF(AF82,COUNTIF(AF$3:AF82,1)," ") | AI82: =IF(AH82,COUNTIF(AH$3:AH82,1)," ") | AK82: =IF(AJ82,COUNTIF(AJ$3:AJ82,1)," ") | AL82: 1 | AM82: =IF(AL82,COUNTIF(AL$3:AL82,1)," ") -> 40
A83: =SUM(A82+1) -> 81 | B83: c | C83: =SUM(C82+1) -> 81 | D83: =SUM(D82+1) -> 10081 | E83: =SUM(E82+1) -> 220351081 | F83: 2503127 | G83: 42296 | K83: 0.33333333 | L83: 0.58333333 | N83: 0.58333333 | O83: Samedi | Q83: =IFERROR(VLOOKUP(A:A,#REF!,5,0),"") | X83: 43104 | Y83: 11:00-11:30 | AC83: =IF(AB83,COUNTIF(AB$3:AB83,1)," ") | AE83: =IF(AD83,COUNTIF(AD$3:AD83,1)," ") | AG83: =IF(AF83,COUNTIF(AF$3:AF83,1)," ") | AI83: =IF(AH83,COUNTIF(AH$3:AH83,1)," ") | AK83: =IF(AJ83,COUNTIF(AJ$3:AJ83,1)," ") | AL83: 1 | AM83: =IF(AL83,COUNTIF(AL$3:AL83,1)," ") -> 41
A84: =SUM(A83+1) -> 82 | B84: d | C84: =SUM(C83+1) -> 82 | D84: =SUM(D83+1) -> 10082 | E84: =SUM(E83+1) -> 220351082 | F84: 2503130 | G84: 42296 | K84: 0.33333333 | L84: 0.5 | M84: 0.54166667 | N84: 0.70833333 | O84: Samedi | Q84: =IFERROR(VLOOKUP(A:A,#REF!,5,0),"") | X84: 43104 | Y84: 15:00-15:30 | AC84: =IF(AB84,COUNTIF(AB$3:AB84,1)," ") | AE84: =IF(AD84,COUNTIF(AD$3:AD84,1)," ") | AF84: 1 | AG84: =IF(AF84,COUNTIF(AF$3:AF84,1)," ") -> 14 | AH84: 1 | AI84: =IF(AH84,COUNTIF(AH$3:AH84,1)," ") -> 10 | AJ84: 1 | AK84: =IF(AJ84,COUNTIF(AJ$3:AJ84,1)," ") -> 11 | AL84: 1 | AM84: =IF(AL84,COUNTIF(AL$3:AL84,1)," ") -> 42
A85: =SUM(A84+1) -> 83 | B85: e | C85: =SUM(C84+1) -> 83 | D85: =SUM(D84+1) -> 10083 | E85: =SUM(E84+1) -> 220351083 | F85: 2503138 | G85: 42296 | K85: 0.29166667 | L85: 0.45833333 | M85: 0.5 | N85: 0.66666667 | O85: Samedi | Q85: =IFERROR(VLOOKUP(A:A,#REF!,5,0),"") | X85: 43104 | Y85: 14:30-15:00 | AC85: =IF(AB85,COUNTIF(AB$3:AB85,1)," ") | AE85: =IF(AD85,COUNTIF(AD$3:AD85,1)," ") | AG85: =IF(AF85,COUNTIF(AF$3:AF85,1)," ") | AI85: =IF(AH85,COUNTIF(AH$3:AH85,1)," ") | AK85: =IF(AJ85,COUNTIF(AJ$3:AJ85,1)," ") | AL85: 1 | AM85: =IF(AL85,COUNTIF(AL$3:AL85,1)," ") -> 43
A86: =SUM(A85+1) -> 84 | B86: f | C86: =SUM(C85+1) -> 84 | D86: =SUM(D85+1) -> 10084 | E86: =SUM(E85+1) -> 220351084 | F86: 2503165 | G86: 42296 | K86: 0.33333333 | L86: 0.5 | M86: 0.54166667 | N86: 0.70833333 | O86: Samedi | Q86: =IFERROR(VLOOKUP(A:A,#REF!,5,0),"") | X86: 43104 | Y86: 14:30-15:00 | AC86: =IF(AB86,COUNTIF(AB$3:AB86,1)," ") | AE86: =IF(AD86,COUNTIF(AD$3:AD86,1)," ") | AG86: =IF(AF86,COUNTIF(AF$3:AF86,1)," ") | AI86: =IF(AH86,COUNTIF(AH$3:AH86,1)," ") | AK86: =IF(AJ86,COUNTIF(AJ$3:AJ86,1)," ") | AL86: 1 | AM86: =IF(AL86,COUNTIF(AL$3:AL86,1)," ") -> 44
A87: =SUM(A86+1) -> 85 | B87: g | C87: =SUM(C86+1) -> 85 | D87: =SUM(D86+1) -> 10085 | E87: =SUM(E86+1) -> 220351085 | F87: 2503169 | G87: 42338 | K87: 0.41666667 | L87: 0.58333333 | M87: 0.625 | N87: 0.58333333 | O87: Vendredi | Q87: =IFERROR(VLOOKUP(A:A,#REF!,5,0),"") | X87: 43103 | Y87: 11:00-11:30 | AC87: =IF(AB87,COUNTIF(AB$3:AB87,1)," ") | AE87: =IF(AD87,COUNTIF(AD$3:AD87,1)," ") | AG87: =IF(AF87,COUNTIF(AF$3:AF87,1)," ") | AI87: =IF(AH87,COUNTIF(AH$3:AH87,1)," ") | AK87: =IF(AJ87,COUNTIF(AJ$3:AJ87,1)," ") | AL87: 1 | AM87: =IF(AL87,COUNTIF(AL$3:AL87,1)," ") -> 45
A88: =SUM(A87+1) -> 86 | B88: h | C88: =SUM(C87+1) -> 86 | D88: =SUM(D87+1) -> 10086 | E88: =SUM(E87+1) -> 220351086 | F88: 2503170 | G88: 42296 | K88: 0.41666667 | L88: 0.54166667 | M88: 0.58333333 | N88: 0.70833333 | O88: Samedi | Q88: =IFERROR(VLOOKUP(A:A,#REF!,5,0),"") | X88: 43105 | Y88: 16:00-16:30 | AC88: =IF(AB88,COUNTIF(AB$3:AB88,1)," ") | AE88: =IF(AD88,COUNTIF(AD$3:AD88,1)," ") | AG88: =IF(AF88,COUNTIF(AF$3:AF88,1)," ") | AI88: =IF(AH88,COUNTIF(AH$3:AH88,1)," ") | AK88: =IF(AJ88,COUNTIF(AJ$3:AJ88,1)," ") | AL88: 1 | AM88: =IF(AL88,COUNTIF(AL$3:AL88,1)," ") -> 46
A89: =SUM(A88+1) -> 87 | B89: i | C89: =SUM(C88+1) -> 87 | D89: =SUM(D88+1) -> 10087 | E89: =SUM(E88+1) -> 220351087 | F89: 2503173 | G89: 42338 | K89: 0.5 | L89: 0.66666667 | M89: 0.70833333 | N89: 0.875 | O89: Samedi | Q89: =IFERROR(VLOOKUP(A:A,#REF!,5,0),"") | X89: 43105 | Y89: 15:00-15:30 | AC89: =IF(AB89,COUNTIF(AB$3:AB89,1)," ") | AE89: =IF(AD89,COUNTIF(AD$3:AD89,1)," ") | AG89: =IF(AF89,COUNTIF(AF$3:AF89,1)," ") | AH89: 1 | AI89: =IF(AH89,COUNTIF(AH$3:AH89,1)," ") -> 11 | AK89: =IF(AJ89,COUNTIF(AJ$3:AJ89,1)," ") | AM89: =IF(AL89,COUNTIF(AL$3:AL89,1)," ")
A90: =SUM(A89+1) -> 88 | B90: j | C90: =SUM(C89+1) -> 88 | D90: =SUM(D89+1) -> 10088 | E90: =SUM(E89+1) -> 220351088 | F90: 2503176 | G90: 42366 | K90: 0.41666667 | L90: 0.58333333 | M90: 0.625 | N90: 0.79166667 | O90: Samedi | Q90: =IFERROR(VLOOKUP(A:A,#REF!,5,0),"") | X90: 0 | Y90: 0 | AC90: =IF(AB90,COUNTIF(AB$3:AB90,1)," ") | AE90: =IF(AD90,COUNTIF(AD$3:AD90,1)," ") | AG90: =IF(AF90,COUNTIF(AF$3:AF90,1)," ") | AI90: =IF(AH90,COUNTIF(AH$3:AH90,1)," ") | AK90: =IF(AJ90,COUNTIF(AJ$3:AJ90,1)," ") | AL90: 1 | AM90: =IF(AL90,COUNTIF(AL$3:AL90,1)," ") -> 47
A91: =SUM(A90+1) -> 89 | B91: k | C91: =SUM(C90+1) -> 89 | D91: =SUM(D90+1) -> 10089 | E91: =SUM(E90+1) -> 220351089 | F91: 2503178 | G91: 42338 | K91: 0.29166667 | L91: 0.45833333 | M91: 0.5 | N91: 0.66666667 | O91: Samedi | Q91: =IFERROR(VLOOKUP(A:A,#REF!,5,0),"") | X91: 43104 | Y91: 14:30-15:00 | AC91: =IF(AB91,COUNTIF(AB$3:AB91,1)," ") | AE91: =IF(AD91,COUNTIF(AD$3:AD91,1)," ") | AG91: =IF(AF91,COUNTIF(AF$3:AF91,1)," ") | AI91: =IF(AH91,COUNTIF(AH$3:AH91,1)," ") | AJ91: 1 | AK91: =IF(AJ91,COUNTIF(AJ$3:AJ91,1)," ") -> 12 | AM91: =IF(AL91,COUNTIF(AL$3:AL91,1)," ")
A92: =SUM(A91+1) -> 90 | B92: l | C92: =SUM(C91+1) -> 90 | D92: =SUM(D91+1) -> 10090 | E92: =SUM(E91+1) -> 220351090 | F92: 2503179 | G92: 42296 | K92: 0.29166667 | L92: 0.45833333 | M92: 0.5 | N92: 0.66666667 | O92: Jeudi | Q92: =IFERROR(VLOOKUP(A:A,#REF!,5,0),"") | X92: 43103 | Y92: 14:00-14:30 | AC92: =IF(AB92,COUNTIF(AB$3:AB92,1)," ") | AE92: =IF(AD92,COUNTIF(AD$3:AD92,1)," ") | AG92: =IF(AF92,COUNTIF(AF$3:AF92,1)," ") | AH92: 1 | AI92: =IF(AH92,COUNTIF(AH$3:AH92,1)," ") -> 12 | AK92: =IF(AJ92,COUNTIF(AJ$3:AJ92,1)," ") | AM92: =IF(AL92,COUNTIF(AL$3:AL92,1)," ")
A93: =SUM(A92+1) -> 91 | B93: m | C93: =SUM(C92+1) -> 91 | D93: =SUM(D92+1) -> 10091 | E93: =SUM(E92+1) -> 220351091 | F93: 2503183 | G93: 42296 | K93: 0.375 | L93: 0.54166667 | M93: 0.58333333 | N93: 0.75 | O93: Samedi | Q93: =IFERROR(VLOOKUP(A:A,#REF!,5,0),"") | X93: 0 | Y93: 0 | AC93: =IF(AB93,COUNTIF(AB$3:AB93,1)," ") | AE93: =IF(AD93,COUNTIF(AD$3:AD93,1)," ") | AG93: =IF(AF93,COUNTIF(AF$3:AF93,1)," ") | AI93: =IF(AH93,COUNTIF(AH$3:AH93,1)," ") | AK93: =IF(AJ93,COUNTIF(AJ$3:AJ93,1)," ") | AL93: 1 | AM93: =IF(AL93,COUNTIF(AL$3:AL93,1)," ") -> 48
A94: =SUM(A93+1) -> 92 | B94: n | C94: =SUM(C93+1) -> 92 | D94: =SUM(D93+1) -> 10092 | E94: =SUM(E93+1) -> 220351092 | F94: 2503185 | G94: 42296 | K94: 0.41666667 | L94: 0.58333333 | M94: 0.625 | N94: 0.79166667 | O94: Vendredi | Q94: =IFERROR(VLOOKUP(A:A,#REF!,5,0),"") | X94: 0 | Y94: 0 | AC94: =IF(AB94,COUNTIF(AB$3:AB94,1)," ") | AE94: =IF(AD94,COUNTIF(AD$3:AD94,1)," ") | AG94: =IF(AF94,COUNTIF(AF$3:AF94,1)," ") | AH94: 1 | AI94: =IF(AH94,COUNTIF(AH$3:AH94,1)," ") -> 13 | AK94: =IF(AJ94,COUNTIF(AJ$3:AJ94,1)," ") | AM94: =IF(AL94,COUNTIF(AL$3:AL94,1)," ")
A95: =SUM(A94+1) -> 93 | B95: o | C95: =SUM(C94+1) -> 93 | D95: =SUM(D94+1) -> 10093 | E95: =SUM(E94+1) -> 220351093 | F95: 2503104 | G95: 42296 | K95: 0.375 | L95: 0.54166667 | M95: 0.58333333 | N95: 0.75 | O95: Samedi | Q95: =IFERROR(VLOOKUP(A:A,#REF!,5,0),"") | X95: 43105 | Y95: 11:00-11:30 | AC95: =IF(AB95,COUNTIF(AB$3:AB95,1)," ") | AE95: =IF(AD95,COUNTIF(AD$3:AD95,1)," ") | AG95: =IF(AF95,COUNTIF(AF$3:AF95,1)," ") | AI95: =IF(AH95,COUNTIF(AH$3:AH95,1)," ") | AK95: =IF(AJ95,COUNTIF(AJ$3:AJ95,1)," ") | AL95: 1 | AM95: =IF(AL95,COUNTIF(AL$3:AL95,1)," ") -> 49
A96: =SUM(A95+1) -> 94 | B96: p | C96: =SUM(C95+1) -> 94 | D96: =SUM(D95+1) -> 10094 | E96: =SUM(E95+1) -> 220351094 | F96: 2503105 | G96: 42422 | K96: 0.41666667 | L96: 0.66666667 | N96: 0.66666667 | O96: Vendredi | Q96: =IFERROR(VLOOKUP(A:A,#REF!,5,0),"") | X96: 43103 | Y96: 11:00-11:30 | AC96: =IF(AB96,COUNTIF(AB$3:AB96,1)," ") | AE96: =IF(AD96,COUNTIF(AD$3:AD96,1)," ") | AG96: =IF(AF96,COUNTIF(AF$3:AF96,1)," ") | AI96: =IF(AH96,COUNTIF(AH$3:AH96,1)," ") | AK96: =IF(AJ96,COUNTIF(AJ$3:AJ96,1)," ") | AL96: 1 | AM96: =IF(AL96,COUNTIF(AL$3:AL96,1)," ") -> 50
A97: =SUM(A96+1) -> 95 | B97: q | C97: =SUM(C96+1) -> 95 | D97: =SUM(D96+1) -> 10095 | E97: =SUM(E96+1) -> 220351095 | F97: 2503107 | G97: 42366 | K97: 0.33333333 | L97: 0.58333333 | N97: 0.58333333 | O97: Jeudi | Q97: =IFERROR(VLOOKUP(A:A,#REF!,5,0),"") | X97: 43103 | Y97: 11:00-11:30 | AC97: =IF(AB97,COUNTIF(AB$3:AB97,1)," ") | AE97: =IF(AD97,COUNTIF(AD$3:AD97,1)," ") | AG97: =IF(AF97,COUNTIF(AF$3:AF97,1)," ") | AI97: =IF(AH97,COUNTIF(AH$3:AH97,1)," ") | AK97: =IF(AJ97,COUNTIF(AJ$3:AJ97,1)," ") | AL97: 1 | AM97: =IF(AL97,COUNTIF(AL$3:AL97,1)," ") -> 51
A98: =SUM(A97+1) -> 96 | B98: r | C98: =SUM(C97+1) -> 96 | D98: =SUM(D97+1) -> 10096 | E98: =SUM(E97+1) -> 220351096 | F98: 2503131 | G98: 42296 | K98: 0.33333333 | L98: 0.45833333 | M98: 0.5 | N98: 0.625 | O98: Samedi | Q98: =IFERROR(VLOOKUP(A:A,#REF!,5,0),"") | X98: 43104 | Y98: 10:30-11:00 | AC98: =IF(AB98,COUNTIF(AB$3:AB98,1)," ") | AE98: =IF(AD98,COUNTIF(AD$3:AD98,1)," ") | AG98: =IF(AF98,COUNTIF(AF$3:AF98,1)," ") | AI98: =IF(AH98,COUNTIF(AH$3:AH98,1)," ") | AK98: =IF(AJ98,COUNTIF(AJ$3:AJ98,1)," ") | AL98: 1 | AM98: =IF(AL98,COUNTIF(AL$3:AL98,1)," ") -> 52
A99: =SUM(A98+1) -> 97 | B99: s | C99: =SUM(C98+1) -> 97 | D99: =SUM(D98+1) -> 10097 | E99: =SUM(E98+1) -> 220351097 | F99: 2503135 | G99: 42513 | K99: 0.375 | L99: 0.54166667 | M99: 0.58333333 | N99: 0.75 | O99: Samedi | Q99: =IFERROR(VLOOKUP(A:A,#REF!,5,0),"") | X99: 43104 | Y99: 11:00-11:30 | AC99: =IF(AB99,COUNTIF(AB$3:AB99,1)," ") | AE99: =IF(AD99,COUNTIF(AD$3:AD99,1)," ") | AG99: =IF(AF99,COUNTIF(AF$3:AF99,1)," ") | AI99: =IF(AH99,COUNTIF(AH$3:AH99,1)," ") | AK99: =IF(AJ99,COUNTIF(AJ$3:AJ99,1)," ") | AL99: 1 | AM99: =IF(AL99,COUNTIF(AL$3:AL99,1)," ") -> 53
A100: =SUM(A99+1) -> 98 | B100: t | C100: =SUM(C99+1) -> 98 | D100: =SUM(D99+1) -> 10098 | E100: =SUM(E99+1) -> 220351098 | F100: 2503137 | G100: 42338 | K100: 0.5 | L100: 0.66666667 | M100: 0.70833333 | N100: 0.875 | O100: Samedi | Q100: =IFERROR(VLOOKUP(A:A,#REF!,5,0),"") | R100: 43109.5 | S100: 43109.792 | X100: 43105 | Y100: 15:00-15:30 | AC100: =IF(AB100,COUNTIF(AB$3:AB100,1)," ") | AE100: =IF(AD100,COUNTIF(AD$3:AD100,1)," ") | AF100: 1 | AG100: =IF(AF100,COUNTIF(AF$3:AF100,1)," ") -> 15 | AI100: =IF(AH100,COUNTIF(AH$3:AH100,1)," ") | AK100: =IF(AJ100,COUNTIF(AJ$3:AJ100,1)," ") | AM100: =IF(AL100,COUNTIF(AL$3:AL100,1)," ")
...

Sheet Postes
P3: Lundi
P4: Mardi
F5: Dispo | G5: Lundi | H5: =MATCH(G5,Wallboard!2:2,) -> 28 | P5: Mercredi
E6: 1 | F6: =IFERROR(MATCH(E6,OFFSET(Wallboard!$A$1,1,$H$5,COUNTA(Wallboard!A:A)),0),"") -> 50 | G6: =IF(F6<>"",INDEX(Wallboard!F:F,F6+1),"") -> 2503120 | P6: Jeudi
E7: 2 | F7: =IFERROR(MATCH(E7,OFFSET(Wallboard!$A$1,1,$H$5,COUNTA(Wallboard!A:A)),0),"") -> 64 | G7: =IF(F7<>"",INDEX(Wallboard!F:F,F7+1),"") -> 2503082 | P7: Vendredi
E8: 3 | F8: =IFERROR(MATCH(E8,OFFSET(Wallboard!$A$1,1,$H$5,COUNTA(Wallboard!A:A)),0),"") | G8: =IF(F8<>"",INDEX(Wallboard!F:F,F8+1),"") | P8: Samedi
E9: 4 | F9: =IFERROR(MATCH(E9,OFFSET(Wallboard!$A$1,1,$H$5,COUNTA(Wallboard!A:A)),0),"") | G9: =IF(F9<>"",INDEX(Wallboard!F:F,F9+1),"") | P9: Dimanche
E10: 5 | F10: =IFERROR(MATCH(E10,OFFSET(Wallboard!$A$1,1,$H$5,COUNTA(Wallboard!A:A)),0),"") | G10: =IF(F10<>"",INDEX(Wallboard!F:F,F10+1),"")
E11: 6 | F11: =IFERROR(MATCH(E11,OFFSET(Wallboard!$A$1,1,$H$5,COUNTA(Wallboard!A:A)),0),"") | G11: =IF(F11<>"",INDEX(Wallboard!F:F,F11+1),"")
E12: 7 | F12: =IFERROR(MATCH(E12,OFFSET(Wallboard!$A$1,1,$H$5,COUNTA(Wallboard!A:A)),0),"") | G12: =IF(F12<>"",INDEX(Wallboard!F:F,F12+1),"")
E13: 8 | F13: =IFERROR(MATCH(E13,OFFSET(Wallboard!$A$1,1,$H$5,COUNTA(Wallboard!A:A)),0),"") | G13: =IF(F13<>"",INDEX(Wallboard!F:F,F13+1),"")
E14: 9 | F14: =IFERROR(MATCH(E14,OFFSET(Wallboard!$A$1,1,$H$5,COUNTA(Wallboard!A:A)),0),"") | G14: =IF(F14<>"",INDEX(Wallboard!F:F,F14+1),"")
E15: 10 | F15: =IFERROR(MATCH(E15,OFFSET(Wallboard!$A$1,1,$H$5,COUNTA(Wallboard!A:A)),0),"") | G15: =IF(F15<>"",INDEX(Wallboard!F:F,F15+1),"")
E16: 11 | F16: =IFERROR(MATCH(E16,OFFSET(Wallboard!$A$1,1,$H$5,COUNTA(Wallboard!A:A)),0),"") | G16: =IF(F16<>"",INDEX(Wallboard!F:F,F16+1),"")
E17: 12 | F17: =IFERROR(MATCH(E17,OFFSET(Wallboard!$A$1,1,$H$5,COUNTA(Wallboard!A:A)),0),"") | G17: =IF(F17<>"",INDEX(Wallboard!F:F,F17+1),"")
E18: 13 | F18: =IFERROR(MATCH(E18,OFFSET(Wallboard!$A$1,1,$H$5,COUNTA(Wallboard!A:A)),0),"") | G18: =IF(F18<>"",INDEX(Wallboard!F:F,F18+1),"")
E19: 14 | F19: =IFERROR(MATCH(E19,OFFSET(Wallboard!$A$1,1,$H$5,COUNTA(Wallboard!A:A)),0),"") | G19: =IF(F19<>"",INDEX(Wallboard!F:F,F19+1),"")
E20: 15 | F20: =IFERROR(MATCH(E20,OFFSET(Wallboard!$A$1,1,$H$5,COUNTA(Wallboard!A:A)),0),"") | G20: =IF(F20<>"",INDEX(Wallboard!F:F,F20+1),"")
E21: 16 | F21: =IFERROR(MATCH(E21,OFFSET(Wallboard!$A$1,1,$H$5,COUNTA(Wallboard!A:A)),0),"") | G21: =IF(F21<>"",INDEX(Wallboard!F:F,F21+1),"")
... E25: 20 | F25: =IFERROR(MATCH(E25,OFFSET(Wallboard!$A$1,1,$H$5,COUNTA(Wallboard!A:A)),0),"") | G25: =IF(F25<>"",INDEX(Wallboard!F:F,F25+1),"")
