Workbook

Sheet Feuil1
A1: 1
T4: =MAX(T6:T25) -> 18
N5: Cible | T5: =VLOOKUP(T4,Feuil2!$A$1:$B$7,2) -> 8
N6: 94.27 | T6: =IF(N6="","",RANK(N6,N6:N25)) -> 3
N7: 192.7 | T7: =IF(N7="","",RANK(N7,N6:N25)) -> 1
N8: 36.54 | T8: =IF(N8="","",RANK(N8,N6:N25)) -> 14
N9: 62.73 | T9: =IF(N9="","",RANK(N9,N6:N25)) -> 5
N10: 42.32 | T10: =IF(N10="","",RANK(N10,N6:N25)) -> 10
N11: 34.38 | T11: =IF(N11="","",RANK(N11,N6:N25)) -> 16
N12: 39.19 | T12: =IF(N12="","",RANK(N12,N6:N25)) -> 11
N13: 28.9 | T13: =IF(N13="","",RANK(N13,N6:N25)) -> 18
N14: 116.4 | T14: =IF(N14="","",RANK(N14,N6:N25)) -> 2
N15: 42.79 | T15: =IF(N15="","",RANK(N15,N6:N25)) -> 9
N16: 34.71 | T16: =IF(N16="","",RANK(N16,N6:N25)) -> 15
N17: 37.15 | T17: =IF(N17="","",RANK(N17,N6:N25)) -> 12
N18: 57.49 | T18: =IF(N18="","",RANK(N18,N6:N25)) -> 6
N19: 31.03 | T19: =IF(N19="","",RANK(N19,N6:N25)) -> 17
N20: 64.75 | T20: =IF(N20="","",RANK(N20,N6:N25)) -> 4
N21: 36.71 | T21: =IF(N21="","",RANK(N21,N6:N25)) -> 13
N22: 43.77 | T22: =IF(N22="","",RANK(N22,N6:N25)) -> 8
N23: 44.42 | T23: =IF(N23="","",RANK(N23,N6:N25)) -> 7
T24: =IF(N24="","",RANK(N24,N6:N25))
T25: =IF(N25="","",RANK(N25,N6:N25))
A26: 2
T29: =MAX(T31:T50) -> 18
T30: =VLOOKUP(T29,Feuil2!$A$1:$B$7,2) -> 8
N31: 94.27 | T31: =IF(N31="","",RANK(N31,N31:N50)) -> 3
N32: 192.7 | T32: =IF(N32="","",RANK(N32,N31:N50)) -> 1
N33: 36.54 | T33: =IF(N33="","",RANK(N33,N31:N50)) -> 14
N34: 62.73 | T34: =IF(N34="","",RANK(N34,N31:N50)) -> 5
N35: 42.32 | T35: =IF(N35="","",RANK(N35,N31:N50)) -> 10
N36: 34.38 | T36: =IF(N36="","",RANK(N36,N31:N50)) -> 16
N37: 39.19 | T37: =IF(N37="","",RANK(N37,N31:N50)) -> 11
N38: 28.9 | T38: =IF(N38="","",RANK(N38,N31:N50)) -> 18
N39: 116.4 | T39: =IF(N39="","",RANK(N39,N31:N50)) -> 2
N40: 42.79 | T40: =IF(N40="","",RANK(N40,N31:N50)) -> 9
N41: 34.71 | T41: =IF(N41="","",RANK(N41,N31:N50)) -> 15
N42: 37.15 | T42: =IF(N42="","",RANK(N42,N31:N50)) -> 12
N43: 57.49 | T43: =IF(N43="","",RANK(N43,N31:N50)) -> 6
N44: 31.03 | T44: =IF(N44="","",RANK(N44,N31:N50)) -> 17
...

Sheet Feuil2
A1: 0 | B1: 3 | C1: 9
A2: 10 | B2: 4
A3: 12 | B3: 5
A4: 14 | B4: 6
A5: 16 | B5: 7
A6: 18 | B6: 8
A7: 20
