Workbook

Sheet Feuil1
A1: 1
T4: =MAX(T6:T25) -> 18
N5: Cible | T5: =VLOOKUP(T4,Feuil2!$A$1:$B$7,2) -> 8
N6: 94.27 | T6: =IF(N6="","",RANK(N6,N6:N25)) -> 3
N7: 192.7 | T7: =IF(N7="","",RANK(N7,N6:N25)) -> 1
N8: 36.54 | T8: =IF(N8="","",RANK(N8,N6:N25)) -> 14
N9: 62.73 | T9: =IF(N9="","",RANK(N9,N6:N25)) -> 5
N10: 42.32 | T10: =IF(N10="","",RANK(N10,N6:N25)) -> 10
N11: 34.38 | T11: =IF(N11="","",RANK(N11,N6:N25)) -> 16
N12: 39.19 | T12: =IF(N12="","",RANK(N12,N6:N25)) -> 11
N13: 28.9 | T13: =IF(N13="","",RANK(N13,N6:N25)) -> 18
N14: 116.4 | T14: =IF(N14="","",RANK(N14,N6:N25)) -> 2
N15: 42.79 | T15: =IF(N15="","",RANK(N15,N6:N25)) -> 9
N16: 34.71 | T16: =IF(N16="","",RANK(N16,N6:N25)) -> 15
N17: 37.15 | T17: =IF(N17="","",RANK(N17,N6:N25)) -> 12
N18: 57.49 | T18: =IF(N18="","",RANK(N18,N6:N25)) -> 6
N19: 31.03 | T19: =IF(N19="","",RANK(N19,N6:N25)) -> 17
N20: 64.75 | T20: =IF(N20="","",RANK(N20,N6:N25)) -> 4
N21: 36.71 | T21: =IF(N21="","",RANK(N21,N6:N25)) -> 13
N22: 43.77 | T22: =IF(N22="","",RANK(N22,N6:N25)) -> 8
N23: 44.42 | T23: =IF(N23="","",RANK(N23,N6:N25)) -> 7
T24: =IF(N24="","",RANK(N24,N6:N25))
T25: =IF(N25="","",RANK(N25,N6:N25))
A26: 2
T29: =MAX(T31:T50) -> 18
T30: =VLOOKUP(T29,Feuil2!$A$1:$B$7,2) -> 8
N31: 94.27 | T31: =IF(N31="","",RANK(N31,N31:N50)) -> 3
N32: 192.7 | T32: =IF(N32="","",RANK(N32,N31:N50)) -> 1
N33: 36.54 | T33: =IF(N33="","",RANK(N33,N31:N50)) -> 14
N34: 62.73 | T34: =IF(N34="","",RANK(N34,N31:N50)) -> 5
N35: 42.32 | T35: =IF(N35="","",RANK(N35,N31:N50)) -> 10
N36: 34.38 | T36: =IF(N36="","",RANK(N36,N31:N50)) -> 16
N37: 39.19 | T37: =IF(N37="","",RANK(N37,N31:N50)) -> 11
N38: 28.9 | T38: =IF(N38="","",RANK(N38,N31:N50)) -> 18
N39: 116.4 | T39: =IF(N39="","",RANK(N39,N31:N50)) -> 2
N40: 42.79 | T40: =IF(N40="","",RANK(N40,N31:N50)) -> 9
N41: 34.71 | T41: =IF(N41="","",RANK(N41,N31:N50)) -> 15
N42: 37.15 | T42: =IF(N42="","",RANK(N42,N31:N50)) -> 12
N43: 57.49 | T43: =IF(N43="","",RANK(N43,N31:N50)) -> 6
N44: 31.03 | T44: =IF(N44="","",RANK(N44,N31:N50)) -> 17
N45: 64.75 | T45: =IF(N45="","",RANK(N45,N31:N50)) -> 4
N46: 36.71 | T46: =IF(N46="","",RANK(N46,N31:N50)) -> 13
N47: 43.77 | T47: =IF(N47="","",RANK(N47,N31:N50)) -> 8
N48: 44.42 | T48: =IF(N48="","",RANK(N48,N31:N50)) -> 7
T49: =IF(N49="","",RANK(N49,N31:N50))
T50: =IF(N50="","",RANK(N50,N31:N50))
A51: 3
T54: =MAX(T56:T75) -> 15
N55: Cible | T55: =VLOOKUP(T54,Feuil2!$A$1:$B$7,2) -> 6
N56: 27.23 | T56: =IF(N56="","",RANK(N56,N56:N75)) -> 7
N57: 32.72 | T57: =IF(N57="","",RANK(N57,N56:N75)) -> 4
N58: 28.93 | T58: =IF(N58="","",RANK(N58,N56:N75)) -> 5
N59: 19.08 | T59: =IF(N59="","",RANK(N59,N56:N75)) -> 12
N60: 34.2 | T60: =IF(N60="","",RANK(N60,N56:N75)) -> 3
N61: 17.76 | T61: =IF(N61="","",RANK(N61,N56:N75)) -> 13
N62: 20.41 | T62: =IF(N62="","",RANK(N62,N56:N75)) -> 10
N63: 16.5 | T63: =IF(N63="","",RANK(N63,N56:N75)) -> 15
N64: 24.99 | T64: =IF(N64="","",RANK(N64,N56:N75)) -> 8
N65: 21.33 | T65: =IF(N65="","",RANK(N65,N56:N75)) -> 9
N66: 41.56 | T66: =IF(N66="","",RANK(N66,N56:N75)) -> 2
N67: 28.15 | T67: =IF(N67="","",RANK(N67,N56:N75)) -> 6
N68: 16.53 | T68: =IF(N68="","",RANK(N68,N56:N75)) -> 14
N69: 44.84 | T69: =IF(N69="","",RANK(N69,N56:N75)) -> 1
N70: 19.23 | T70: =IF(N70="","",RANK(N70,N56:N75)) -> 11
T71: =IF(N71="","",RANK(N71,N56:N75))
T72: =IF(N72="","",RANK(N72,N56:N75))
T73: =IF(N73="","",RANK(N73,N56:N75))
T74: =IF(N74="","",RANK(N74,N56:N75))
T75: =IF(N75="","",RANK(N75,N56:N75))
A76: 4
T79: =MAX(T81:T100) -> 15
N80: Cible | T80: =VLOOKUP(T79,Feuil2!$A$1:$B$7,2) -> 6
N81: 40.1 | T81: =IF(N81="","",RANK(N81,N81:N100)) -> 7
N82: 58.53 | T82: =IF(N82="","",RANK(N82,N81:N100)) -> 4
N83: 20.07 | T83: =IF(N83="","",RANK(N83,N81:N100)) -> 13
N84: 14.49 | T84: =IF(N84="","",RANK(N84,N81:N100)) -> 15
N85: 70.53 | T85: =IF(N85="","",RANK(N85,N81:N100)) -> 3
N86: 15.02 | T86: =IF(N86="","",RANK(N86,N81:N100)) -> 14
N87: 183.41 | T87: =IF(N87="","",RANK(N87,N81:N100)) -> 1
N88: 76.91 | T88: =IF(N88="","",RANK(N88,N81:N100)) -> 2
N89: 57.81 | T89: =IF(N89="","",RANK(N89,N81:N100)) -> 5
N90: 22.3 | T90: =IF(N90="","",RANK(N90,N81:N100)) -> 12
N91: 25.82 | T91: =IF(N91="","",RANK(N91,N81:N100)) -> 10
N92: 49.55 | T92: =IF(N92="","",RANK(N92,N81:N100)) -> 6
N93: 28.78 | T93: =IF(N93="","",RANK(N93,N81:N100)) -> 9
N94: 34.78 | T94: =IF(N94="","",RANK(N94,N81:N100)) -> 8
N95: 23.52 | T95: =IF(N95="","",RANK(N95,N81:N100)) -> 11
T96: =IF(N96="","",RANK(N96,N81:N100))
T97: =IF(N97="","",RANK(N97,N81:N100))
T98: =IF(N98="","",RANK(N98,N81:N100))
T99: =IF(N99="","",RANK(N99,N81:N100))
T100: =IF(N100="","",RANK(N100,N81:N100))
A101: 5
T104: =MAX(T106:T125) -> 18
T105: =VLOOKUP(T104,Feuil2!$A$1:$B$7,2) -> 8
N106: 94.27 | T106: =IF(N106="","",RANK(N106,N106:N125)) -> 3
N107: 192.7 | T107: =IF(N107="","",RANK(N107,N106:N125)) -> 1
N108: 36.54 | T108: =IF(N108="","",RANK(N108,N106:N125)) -> 14
N109: 62.73 | T109: =IF(N109="","",RANK(N109,N106:N125)) -> 5
N110: 42.32 | T110: =IF(N110="","",RANK(N110,N106:N125)) -> 10
...

Sheet Feuil2
A1: 0 | B1: 3 | C1: 9
A2: 10 | B2: 4
A3: 12 | B3: 5
A4: 14 | B4: 6
A5: 16 | B5: 7
A6: 18 | B6: 8
A7: 20
