Workbook

Sheet calcul heures voyage
A1: matricule | B1: nom | C1: prénom | D1: statut | E1: date et heure départ | F1: durée du voyage | G1: date et heure arrivée | H1: départ WE ou JF | I1: arrivée WE ou JF | J1: début journée | K1: heure départ prise en compte | L1: fin journée | M1: heure arrivée prise en compte | N1: neutra-lisation journée | O1: durée voyage hors horaire de travail (cadres)
A2: 123456 | B2: Truc | C2: Muche | D2: cadre | E2: 41758.958 | F2: 0.54166667 | G2: =E2+F2 -> 41759.5 | H2: =OR(WEEKDAY(INT(E2),2)>5,COUNTIF('jours fériés'!$E:$E,INT(E2))) -> FALSE | I2: =OR(WEEKDAY(INT(G2),2)>5,COUNTIF('jours fériés'!$E:$E,INT(G2))) -> FALSE | J2: =VLOOKUP(D2,'plage horaire de travail'!A:C,2,0) -> 0.33333333 | K2: =IF(AND(H2*1=0,MOD(E2,1)>J2,MOD(E2,1)<L2),L2,MOD(E2,1))+INT(E2) -> 41758.958 | L2: =VLOOKUP(D2,'plage horaire de travail'!A:C,3,0) -> 0.75 | M2: =IF(AND(I2*1=0,MOD(G2,1)>J2,MOD(G2,1)<L2),J2,MOD(G2,1))+INT(G2) -> 41759.333 | N2: =IF(OR(AND(H2*1=0,E2<INT(E2)+J2,G2>INT(E2)+L2),AND(I2*1=0,E2<INT(G2)+J2,G2>INT(G2)+L2)),L2-J2,) -> 0 | O2: =MAX(0,M2-K2-N2) -> 0.375
A3: 123456 | B3: Truc | C3: Muche | D3: cadre | E3: 41759.625 | F3: 0.54166667 | G3: =E3+F3 -> 41760.167 | H3: =OR(WEEKDAY(INT(E3),2)>5,COUNTIF('jours fériés'!$E:$E,INT(E3))) -> FALSE | I3: =OR(WEEKDAY(INT(G3),2)>5,COUNTIF('jours fériés'!$E:$E,INT(G3))) -> TRUE | J3: =VLOOKUP(D3,'plage horaire de travail'!A:C,2,0) -> 0.33333333 | K3: =IF(AND(H3*1=0,MOD(E3,1)>J3,MOD(E3,1)<L3),L3,MOD(E3,1))+INT(E3) -> 41759.75 | L3: =VLOOKUP(D3,'plage horaire de travail'!A:C,3,0) -> 0.75 | M3: =IF(AND(I3*1=0,MOD(G3,1)>J3,MOD(G3,1)<L3),J3,MOD(G3,1))+INT(G3) -> 41760.167 | N3: =IF(OR(AND(H3*1=0,E3<INT(E3)+J3,G3>INT(E3)+L3),AND(I3*1=0,E3<INT(G3)+J3,G3>INT(G3)+L3)),L3-J3,) -> 0 | O3: =MAX(0,M3-K3-N3) -> 0.41666667
A4: 123456 | B4: Truc | C4: Muche | D4: cadre | E4: 41759.292 | F4: 0.54166667 | G4: =E4+F4 -> 41759.833 | H4: =OR(WEEKDAY(INT(E4),2)>5,COUNTIF('jours fériés'!$E:$E,INT(E4))) -> FALSE | I4: =OR(WEEKDAY(INT(G4),2)>5,COUNTIF('jours fériés'!$E:$E,INT(G4))) -> FALSE | J4: =VLOOKUP(D4,'plage horaire de travail'!A:C,2,0) -> 0.33333333 | K4: =IF(AND(H4*1=0,MOD(E4,1)>J4,MOD(E4,1)<L4),L4,MOD(E4,1))+INT(E4) -> 41759.292 | L4: =VLOOKUP(D4,'plage horaire de travail'!A:C,3,0) -> 0.75 | M4: =IF(AND(I4*1=0,MOD(G4,1)>J4,MOD(G4,1)<L4),J4,MOD(G4,1))+INT(G4) -> 41759.833 | N4: =IF(OR(AND(H4*1=0,E4<INT(E4)+J4,G4>INT(E4)+L4),AND(I4*1=0,E4<INT(G4)+J4,G4>INT(G4)+L4)),L4-J4,) -> 0.41666667 | O4: =MAX(0,M4-K4-N4) -> 0.125
A5: 123456 | B5: Truc | C5: Muche | D5: cadre | E5: 41760.375 | F5: 0.54166667 | G5: =E5+F5 -> 41760.917 | H5: =OR(WEEKDAY(INT(E5),2)>5,COUNTIF('jours fériés'!$E:$E,INT(E5))) -> TRUE | I5: =OR(WEEKDAY(INT(G5),2)>5,COUNTIF('jours fériés'!$E:$E,INT(G5))) -> TRUE | J5: =VLOOKUP(D5,'plage horaire de travail'!A:C,2,0) -> 0.33333333 | K5: =IF(AND(H5*1=0,MOD(E5,1)>J5,MOD(E5,1)<L5),L5,MOD(E5,1))+INT(E5) -> 41760.375 | L5: =VLOOKUP(D5,'plage horaire de travail'!A:C,3,0) -> 0.75 | M5: =IF(AND(I5*1=0,MOD(G5,1)>J5,MOD(G5,1)<L5),J5,MOD(G5,1))+INT(G5) -> 41760.917 | N5: =IF(OR(AND(H5*1=0,E5<INT(E5)+J5,G5>INT(E5)+L5),AND(I5*1=0,E5<INT(G5)+J5,G5>INT(G5)+L5)),L5-J5,) -> 0 | O5: =MAX(0,M5-K5-N5) -> 0.54166667
A6: 123456 | B6: Truc | C6: Muche | D6: cadre | E6: 41760.625 | F6: 0.54166667 | G6: =E6+F6 -> 41761.167 | H6: =OR(WEEKDAY(INT(E6),2)>5,COUNTIF('jours fériés'!$E:$E,INT(E6))) -> TRUE | I6: =OR(WEEKDAY(INT(G6),2)>5,COUNTIF('jours fériés'!$E:$E,INT(G6))) -> FALSE | J6: =VLOOKUP(D6,'plage horaire de travail'!A:C,2,0) -> 0.33333333 | K6: =IF(AND(H6*1=0,MOD(E6,1)>J6,MOD(E6,1)<L6),L6,MOD(E6,1))+INT(E6) -> 41760.625 | L6: =VLOOKUP(D6,'plage horaire de travail'!A:C,3,0) -> 0.75 | M6: =IF(AND(I6*1=0,MOD(G6,1)>J6,MOD(G6,1)<L6),J6,MOD(G6,1))+INT(G6) -> 41761.167 | N6: =IF(OR(AND(H6*1=0,E6<INT(E6)+J6,G6>INT(E6)+L6),AND(I6*1=0,E6<INT(G6)+J6,G6>INT(G6)+L6)),L6-J6,) -> 0 | O6: =MAX(0,M6-K6-N6) -> 0.54166667
A7: 123456 | B7: Truc | C7: Muche | D7: cadre | E7: 41759.042 | F7: 0.54166667 | G7: =E7+F7 -> 41759.583 | H7: =OR(WEEKDAY(INT(E7),2)>5,COUNTIF('jours fériés'!$E:$E,INT(E7))) -> FALSE | I7: =OR(WEEKDAY(INT(G7),2)>5,COUNTIF('jours fériés'!$E:$E,INT(G7))) -> FALSE | J7: =VLOOKUP(D7,'plage horaire de travail'!A:C,2,0) -> 0.33333333 | K7: =IF(AND(H7*1=0,MOD(E7,1)>J7,MOD(E7,1)<L7),L7,MOD(E7,1))+INT(E7) -> 41759.042 | L7: =VLOOKUP(D7,'plage horaire de travail'!A:C,3,0) -> 0.75 | M7: =IF(AND(I7*1=0,MOD(G7,1)>J7,MOD(G7,1)<L7),J7,MOD(G7,1))+INT(G7) -> 41759.333 | N7: =IF(OR(AND(H7*1=0,E7<INT(E7)+J7,G7>INT(E7)+L7),AND(I7*1=0,E7<INT(G7)+J7,G7>INT(G7)+L7)),L7-J7,) -> 0 | O7: =MAX(0,M7-K7-N7) -> 0.29166667
A8: 123456 | B8: Truc | C8: Muche | D8: non cadre | E8: 41759.375 | F8: 0.20833333 | G8: =E8+F8 -> 41759.583 | H8: =OR(WEEKDAY(INT(E8),2)>5,COUNTIF('jours fériés'!$E:$E,INT(E8))) -> FALSE | I8: =OR(WEEKDAY(INT(G8),2)>5,COUNTIF('jours fériés'!$E:$E,INT(G8))) -> FALSE | J8: =VLOOKUP(D8,'plage horaire de travail'!A:C,2,0) -> 0.33333333 | K8: =IF(AND(H8*1=0,MOD(E8,1)>J8,MOD(E8,1)<L8),L8,MOD(E8,1))+INT(E8) -> 41759.688 | L8: =VLOOKUP(D8,'plage horaire de travail'!A:C,3,0) -> 0.6875 | M8: =IF(AND(I8*1=0,MOD(G8,1)>J8,MOD(G8,1)<L8),J8,MOD(G8,1))+INT(G8) -> 41759.333 | N8: =IF(OR(AND(H8*1=0,E8<INT(E8)+J8,G8>INT(E8)+L8),AND(I8*1=0,E8<INT(G8)+J8,G8>INT(G8)+L8)),L8-J8,) -> 0 | O8: =MAX(0,M8-K8-N8) -> 0
A9: 123456 | B9: Truc | C9: Muche | D9: non cadre | E9: 41758.729 | F9: 0.54166667 | G9: =E9+F9 -> 41759.271 | H9: =OR(WEEKDAY(INT(E9),2)>5,COUNTIF('jours fériés'!$E:$E,INT(E9))) -> FALSE | I9: =OR(WEEKDAY(INT(G9),2)>5,COUNTIF('jours fériés'!$E:$E,INT(G9))) -> FALSE | J9: =VLOOKUP(D9,'plage horaire de travail'!A:C,2,0) -> 0.33333333 | K9: =IF(AND(H9*1=0,MOD(E9,1)>J9,MOD(E9,1)<L9),L9,MOD(E9,1))+INT(E9) -> 41758.729 | L9: =VLOOKUP(D9,'plage horaire de travail'!A:C,3,0) -> 0.6875 | M9: =IF(AND(I9*1=0,MOD(G9,1)>J9,MOD(G9,1)<L9),J9,MOD(G9,1))+INT(G9) -> 41759.271 | N9: =IF(OR(AND(H9*1=0,E9<INT(E9)+J9,G9>INT(E9)+L9),AND(I9*1=0,E9<INT(G9)+J9,G9>INT(G9)+L9)),L9-J9,) -> 0 | O9: =MAX(0,M9-K9-N9) -> 0.54166667

Sheet plage horaire de travail
A1: cadre | B1: 0.33333333 | C1: 0.75
A2: non cadre | B2: 0.33333333 | C2: 0.6875

Sheet jours fériés
A1: 2014 | B1: Pâques = | C1: =ROUND(DATE(A1,4,MOD(234-11*MOD(A1,19),30))/7,0)*7-6 -> 41749 | D1: JF | E1: DATE_JF
D2: Premier de l'AN | E2: =DATE(A1,1,1) -> 41640
D3: Lundi de Pâques | E3: =C1+1 -> 41750
D4: Fête du travail | E4: =DATE(A1,5,1) -> 41760
D5: Victoire de 1945 | E5: =DATE(A1,5,8) -> 41767
D6: Ascension | E6: =C1+39 -> 41788
D7: Pentecôte | E7: =C1+50 -> 41799
D8: Fête nationale | E8: =DATE(A1,7,14) -> 41834
D9: Assomption | E9: =DATE(A1,8,15) -> 41866
D10: Toussaint | E10: =DATE(A1,11,1) -> 41944
D11: Armistice | E11: =DATE(A1,11,11) -> 41954
D12: Noël | E12: =DATE(A1,12,25) -> 41998
