Workbook
Name aa: Scheduled_Payment+Extra_Payment
Name Agence: OFFSET([1]Saisie!$B$3,,,COUNTA([1]Saisie!$B$1:$B$65536)-1)
Name An: #REF!
Name Base: [2]Répertoire!$A$2:$M$1000
Name Beg_Bal: #REF!
Name ColonneInterimaire: [1]Saisie!$C$1:$C$65536
Name Data: #REF!
Name Date: OFFSET([1]Saisie!$E$3,,,COUNTA([1]Saisie!$B$1:$B$65536)-1)
Name dd: DATE(YEAR([0]!Loan_Start),MONTH([0]!Loan_Start)+Payment_Number,DAY([0]!Loan_Start))
Name DECEMBRE: #REF!
Name DECEMBRE2: #REF!
Name End_Bal: #REF!
Name Extra_Pay: #REF!
Name Full_Print: #REF!
Name Header_Row: ROW(#REF!)
Name hgjgj: #REF!
Name HHGT: #REF!
Name Int: #REF!
Name Interest_Rate: #REF!
Name Interimaire: OFFSET([1]Saisie!$C$3,,,COUNTA([1]Saisie!$B$1:$B$65536)-1)
Name JF: JF!$B$2:$K$13
Name jguh: OFFSET(#REF!,,,COUNTIF(#REF!,"><0"),20)
Name Last_Row: IF(Values_Entered,Header_Row+Number_of_Payments,Header_Row)
Name ListePostes: [1]Donnees!$H$2:$H$5
Name LK: IF(Values_Entered,Header_Row+Number_of_Payments,Header_Row)
Name Loan_Amount: #REF!
Name Loan_Start: #REF!
Name Loan_Years: #REF!
Name N: #REF!
Name Num_Pmt_Per_Year: #REF!
Name Number_of_Payments: MATCH(0.01,End_Bal,-1)+1
Name Pause: OFFSET([1]Saisie!$K$3,,,COUNTA([1]Saisie!$B$1:$B$65536)-1)
Name Pay_Date: #REF!
Name Pay_Num: #REF!
Name Payment_Date: DATE(YEAR(Loan_Start),MONTH(Loan_Start)+Payment_Number,DAY(Loan_Start))
Name Plage_TCD: OFFSET(#REF!,,,COUNTIF(#REF!,"><0"),20)
Name Poste: OFFSET([1]Saisie!$D$3,,,COUNTA([1]Saisie!$B$1:$B$65536)-1)
Name Princ: #REF!
Name Print_Area_Reset: OFFSET(Full_Print,0,0,Last_Row)
Name Pseudo: '[3]base de données'!$E$2:$E$50
Name rr: DATE(YEAR([0]!Loan_Start),MONTH([0]!Loan_Start)+Payment_Number,DAY([0]!Loan_Start))
Name Sched_Pay: #REF!
Name Scheduled_Extra_Payments: #REF!
Name Scheduled_Interest_Rate: #REF!
Name Scheduled_Monthly_Payment: #REF!
Name Semaine: OFFSET([1]Saisie!$G$3,,,COUNTA([1]Saisie!$B$1:$B$65536)-1)
Name septembre: DATE(YEAR([0]!Loan_Start),MONTH([0]!Loan_Start)+Payment_Number,DAY([0]!Loan_Start))
Name ss: MATCH(0.01,[0]!End_Bal,-1)+1
Name TempsEffectif: OFFSET([1]Saisie!$L$3,,,COUNTA([1]Saisie!$B$1:$B$65536)-1)
Name Total_Interest: #REF!
Name Total_Pay: #REF!
Name Total_Payment: Scheduled_Payment+Extra_Payment
Name Values_Entered: IF(Loan_Amount*Interest_Rate*Loan_Years*Loan_Start>0,1,0)

Sheet Heures
A1: Mois | B1: SEMAINE | C1: JOUR | D1: karim | E1: marc | F1: ursula | G1: carl | H1: sandie | I1: wissem | J1: julien | K1: jérémy | L1: gregory | M1: sébastien | N1: aymeric | O1: jean | P1: laetitia | Q1: virginie | R1: david | S1: TOTAL
A2: =IF(ISNUMBER(C2),DATE(YEAR(C2),MONTH(C2)+1,0),A1) -> 42674 | B2: =IF(ISNUMBER(C2),INT(MOD(INT((C2-2)/7)+3/5,52+5/28))+1,B1) -> 44 | C2: 42674 | D2: MAL | E2: 7 | F2: 7 | G2: 7 | H2: 7 | I2: 6.18 | J2: 7 | K2: 5.5 | L2: MAL | M2: 8 | N2: 8 | O2: 8 | P2: CON | Q2: 7
A3: =IF(ISNUMBER(C3),DATE(YEAR(C3),MONTH(C3)+1,0),A2) -> 42704 | B3: =IF(ISNUMBER(C3),INT(MOD(INT((C3-2)/7)+3/5,52+5/28))+1,B2) -> 44 | C3: 42675
A4: =IF(ISNUMBER(C4),DATE(YEAR(C4),MONTH(C4)+1,0),A3) -> 42704 | B4: =IF(ISNUMBER(C4),INT(MOD(INT((C4-2)/7)+3/5,52+5/28))+1,B3) -> 44 | C4: 42676 | D4: MAL | E4: 7 | F4: 7 | G4: 7 | H4: CON | I4: 7 | J4: 7 | K4: 7 | L4: MAL | M4: 8 | N4: ABS | O4: 8 | P4: 9.25 | Q4: 6.25
A5: =IF(ISNUMBER(C5),DATE(YEAR(C5),MONTH(C5)+1,0),A4) -> 42704 | B5: =IF(ISNUMBER(C5),INT(MOD(INT((C5-2)/7)+3/5,52+5/28))+1,B4) -> 44 | C5: 42677 | D5: MAL | E5: 7.25 | F5: 7.25 | G5: 7.25 | H5: CON | I5: 7.25 | J5: 7.25 | K5: 6.32 | L5: MAL | M5: 8 | N5: 8 | O5: 8 | P5: 7.5 | Q5: 7
A6: =IF(ISNUMBER(C6),DATE(YEAR(C6),MONTH(C6)+1,0),A5) -> 42704 | B6: =IF(ISNUMBER(C6),INT(MOD(INT((C6-2)/7)+3/5,52+5/28))+1,B5) -> 44 | C6: 42678 | D6: MAL | E6: 7.07 | F6: 7.07 | G6: 7.07 | H6: 7.07 | I6: 7.07 | J6: 7.07 | K6: 7.07 | L6: MAL | M6: 7 | N6: 7 | O6: 7 | P6: 7.5 | Q6: 7
A7: =IF(ISNUMBER(C7),DATE(YEAR(C7),MONTH(C7)+1,0),A6) -> 42704 | B7: =IF(ISNUMBER(C7),INT(MOD(INT((C7-2)/7)+3/5,52+5/28))+1,B6) -> 44 | C7: TOTAL | D7: =SUM(D2:D6) -> 0 | E7: =SUM(E2:E6) -> 28.32 | F7: =SUM(F2:F6) -> 28.32 | G7: =SUM(G2:G6) -> 28.32 | H7: =SUM(H2:H6) -> 14.07 | I7: =SUM(I2:I6) -> 27.5 | J7: =SUM(J2:J6) -> 28.32 | K7: =SUM(K2:K6) -> 25.89 | ... R7: =SUM(R2:R6) -> 0 | S7: =SUM(D7:R7) -> 317.24
A8: =IF(ISNUMBER(C8),DATE(YEAR(C8),MONTH(C8)+1,0),A7) -> 42704 | B8: =IF(ISNUMBER(C8),INT(MOD(INT((C8-2)/7)+3/5,52+5/28))+1,B7) -> 44 | C8: NORMAL | D8: =MIN(D7,35) -> 0 | E8: =MIN(E7,35) -> 28.32 | F8: =MIN(F7,35) -> 28.32 | G8: =MIN(G7,35) -> 28.32 | H8: =MIN(H7,35) -> 14.07 | I8: =MIN(I7,35) -> 27.5 | J8: =MIN(J7,35) -> 28.32 | K8: =MIN(K7,35) -> 25.89 | ... R8: =MIN(R7,35) -> 0 | S8: =SUM(D8:R8) -> 317.24
A9: =IF(ISNUMBER(C9),DATE(YEAR(C9),MONTH(C9)+1,0),A8) -> 42704 | B9: =IF(ISNUMBER(C9),INT(MOD(INT((C9-2)/7)+3/5,52+5/28))+1,B8) -> 44 | C9: HEURES SUP | D9: =D7-D8 -> 0 | E9: =E7-E8 -> 0 | F9: =F7-F8 -> 0 | G9: =G7-G8 -> 0 | H9: =H7-H8 -> 0 | I9: =I7-I8 -> 0 | J9: =J7-J8 -> 0 | K9: =K7-K8 -> 0 | ... R9: =R7-R8 -> 0 | S9: =SUM(D9:R9) -> 0
A10: =IF(ISNUMBER(C10),DATE(YEAR(C10),MONTH(C10)+1,0),A9) -> 42704 | B10: =IF(ISNUMBER(C10),INT(MOD(INT((C10-2)/7)+3/5,52+5/28))+1,B9) -> 45 | C10: =C2+7 -> 42681 | D10: MAL | E10: 7 | F10: 7.25 | G10: 7.25 | H10: 7.25 | I10: CON | J10: 7.25 | K10: 7.25 | L10: MAL | M10: 8 | N10: 8 | O10: 8 | P10: 7 | Q10: 8.5 | R10: 8
A11: =IF(ISNUMBER(C11),DATE(YEAR(C11),MONTH(C11)+1,0),A10) -> 42704 | B11: =IF(ISNUMBER(C11),INT(MOD(INT((C11-2)/7)+3/5,52+5/28))+1,B10) -> 45 | C11: =C3+7 -> 42682 | D11: MAL | E11: 7 | F11: 7.07 | G11: 7.07 | H11: 7.07 | I11: CON | J11: 7.07 | K11: 7.07 | L11: MAL | M11: 8 | N11: 8 | O11: 8 | P11: 7 | Q11: MAL | R11: 7
A12: =IF(ISNUMBER(C12),DATE(YEAR(C12),MONTH(C12)+1,0),A11) -> 42704 | B12: =IF(ISNUMBER(C12),INT(MOD(INT((C12-2)/7)+3/5,52+5/28))+1,B11) -> 45 | C12: =C4+7 -> 42683 | D12: MAL | E12: 7 | F12: 7 | G12: 7 | H12: 7 | I12: CON | J12: 7 | K12: 7 | L12: MAL | M12: 8 | N12: 8 | O12: 8 | P12: 7.25 | Q12: MAL | R12: 7
A13: =IF(ISNUMBER(C13),DATE(YEAR(C13),MONTH(C13)+1,0),A12) -> 42704 | B13: =IF(ISNUMBER(C13),INT(MOD(INT((C13-2)/7)+3/5,52+5/28))+1,B12) -> 45 | C13: =C5+7 -> 42684 | D13: MAL | E13: 6.75 | F13: 6.75 | G13: 6.75 | H13: 6.75 | I13: 6.75 | J13: 6.75 | K13: 6.75 | L13: MAL | M13: 7 | N13: 7 | O13: 7 | P13: CON | Q13: MAL | R13: 7
A14: =IF(ISNUMBER(C14),DATE(YEAR(C14),MONTH(C14)+1,0),A13) -> 42704 | B14: =IF(ISNUMBER(C14),INT(MOD(INT((C14-2)/7)+3/5,52+5/28))+1,B13) -> 45 | C14: =C6+7 -> 42685 | S14: =SUM(D14:R14) -> 0
A15: =IF(ISNUMBER(C15),DATE(YEAR(C15),MONTH(C15)+1,0),A14) -> 42704 | B15: =IF(ISNUMBER(C15),INT(MOD(INT((C15-2)/7)+3/5,52+5/28))+1,B14) -> 45 | C15: TOTAL | D15: =SUM(D10:D14) -> 0 | E15: =SUM(E10:E14) -> 27.75 | F15: =SUM(F10:F14) -> 28.07 | G15: =SUM(G10:G14) -> 28.07 | H15: =SUM(H10:H14) -> 28.07 | I15: =SUM(I10:I14) -> 6.75 | J15: =SUM(J10:J14) -> 28.07 | K15: =SUM(K10:K14) -> 28.07 | ... R15: =SUM(R10:R14) -> 29 | S15: =SUM(D15:R15) -> 326.6
A16: =IF(ISNUMBER(C16),DATE(YEAR(C16),MONTH(C16)+1,0),A15) -> 42704 | B16: =IF(ISNUMBER(C16),INT(MOD(INT((C16-2)/7)+3/5,52+5/28))+1,B15) -> 45 | C16: NORMAL | D16: =MIN(D15,35) -> 0 | E16: =MIN(E15,35) -> 27.75 | F16: =MIN(F15,35) -> 28.07 | G16: =MIN(G15,35) -> 28.07 | H16: =MIN(H15,35) -> 28.07 | I16: =MIN(I15,35) -> 6.75 | J16: =MIN(J15,35) -> 28.07 | K16: =MIN(K15,35) -> 28.07 | ... R16: =MIN(R15,35) -> 29 | S16: =SUM(D16:R16) -> 326.6
A17: =IF(ISNUMBER(C17),DATE(YEAR(C17),MONTH(C17)+1,0),A16) -> 42704 | B17: =IF(ISNUMBER(C17),INT(MOD(INT((C17-2)/7)+3/5,52+5/28))+1,B16) -> 45 | C17: HEURES SUP | D17: =D15-D16 -> 0 | E17: =E15-E16 -> 0 | F17: =F15-F16 -> 0 | G17: =G15-G16 -> 0 | H17: =H15-H16 -> 0 | I17: =I15-I16 -> 0 | J17: =J15-J16 -> 0 | K17: =K15-K16 -> 0 | ... R17: =R15-R16 -> 0
A18: =IF(ISNUMBER(C18),DATE(YEAR(C18),MONTH(C18)+1,0),A17) -> 42704 | B18: =IF(ISNUMBER(C18),INT(MOD(INT((C18-2)/7)+3/5,52+5/28))+1,B17) -> 46 | C18: =C10+7 -> 42688 | D18: MAL | E18: 7 | F18: 7 | G18: CON | H18: 7 | I18: 7 | J18: 7 | K18: 7 | L18: MAL | M18: 8 | N18: 8 | O18: 8 | P18: 7 | Q18: 7 | R18: 7
A19: =IF(ISNUMBER(C19),DATE(YEAR(C19),MONTH(C19)+1,0),A18) -> 42704 | B19: =IF(ISNUMBER(C19),INT(MOD(INT((C19-2)/7)+3/5,52+5/28))+1,B18) -> 46 | C19: =C11+7 -> 42689 | D19: MAL | E19: 7 | F19: 7 | G19: CON | H19: 7 | I19: 7 | J19: 7 | K19: 7 | L19: 7 | M19: 8 | N19: 8 | O19: 8 | P19: 7.5 | Q19: 7 | R19: 7
A20: =IF(ISNUMBER(C20),DATE(YEAR(C20),MONTH(C20)+1,0),A19) -> 42704 | B20: =IF(ISNUMBER(C20),INT(MOD(INT((C20-2)/7)+3/5,52+5/28))+1,B19) -> 46 | C20: =C12+7 -> 42690 | D20: MAL | E20: 7 | F20: 7 | G20: 7 | H20: 7 | I20: ABS | J20: 7 | K20: 7 | L20: 7 | M20: 8 | N20: 8 | O20: 8 | P20: 7.5 | Q20: 7 | R20: 7
A21: =IF(ISNUMBER(C21),DATE(YEAR(C21),MONTH(C21)+1,0),A20) -> 42704 | B21: =IF(ISNUMBER(C21),INT(MOD(INT((C21-2)/7)+3/5,52+5/28))+1,B20) -> 46 | C21: =C13+7 -> 42691 | D21: MAL | E21: 7 | F21: 7 | G21: 7 | H21: 7 | I21: 7.25 | J21: 7 | K21: 7 | L21: 7 | M21: 8 | N21: 8 | O21: 8 | P21: 9.5 | Q21: 8.5 | R21: 8
A22: =IF(ISNUMBER(C22),DATE(YEAR(C22),MONTH(C22)+1,0),A21) -> 42704 | B22: =IF(ISNUMBER(C22),INT(MOD(INT((C22-2)/7)+3/5,52+5/28))+1,B21) -> 46 | C22: =C14+7 -> 42692 | D22: MAL | E22: 7 | F22: 7 | G22: 7 | H22: 7 | I22: 7 | J22: 7 | K22: 7 | L22: 7 | M22: 7 | N22: 7 | O22: 7 | P22: 8.75 | Q22: 6 | R22: 6
A23: =IF(ISNUMBER(C23),DATE(YEAR(C23),MONTH(C23)+1,0),A22) -> 42704 | B23: =IF(ISNUMBER(C23),INT(MOD(INT((C23-2)/7)+3/5,52+5/28))+1,B22) -> 46 | C23: TOTAL | D23: =SUM(D18:D22) -> 0 | E23: =SUM(E18:E22) -> 35 | F23: =SUM(F18:F22) -> 35 | G23: =SUM(G18:G22) -> 21 | H23: =SUM(H18:H22) -> 35 | I23: =SUM(I18:I22) -> 28.25 | J23: =SUM(J18:J22) -> 35 | K23: =SUM(K18:K22) -> 35 | ... R23: =SUM(R18:R22) -> 35 | S23: =SUM(D23:R23) -> 480
A24: =IF(ISNUMBER(C24),DATE(YEAR(C24),MONTH(C24)+1,0),A23) -> 42704 | B24: =IF(ISNUMBER(C24),INT(MOD(INT((C24-2)/7)+3/5,52+5/28))+1,B23) -> 46 | C24: NORMAL | D24: =MIN(D23,35) -> 0 | E24: =MIN(E23,35) -> 35 | F24: =MIN(F23,35) -> 35 | G24: =MIN(G23,35) -> 21 | H24: =MIN(H23,35) -> 35 | I24: =MIN(I23,35) -> 28.25 | J24: =MIN(J23,35) -> 35 | K24: =MIN(K23,35) -> 35 | ... R24: =MIN(R23,35) -> 35 | S24: =SUM(D24:R24) -> 462.25
A25: =IF(ISNUMBER(C25),DATE(YEAR(C25),MONTH(C25)+1,0),A24) -> 42704 | B25: =IF(ISNUMBER(C25),INT(MOD(INT((C25-2)/7)+3/5,52+5/28))+1,B24) -> 46 | C25: HEURES SUP | D25: =D23-D24 -> 0 | E25: =E23-E24 -> 0 | F25: =F23-F24 -> 0 | G25: =G23-G24 -> 0 | H25: =H23-H24 -> 0 | I25: =I23-I24 -> 0 | J25: =J23-J24 -> 0 | K25: =K23-K24 -> 0 | ... R25: =R23-R24 -> 0 | S25: =SUM(D25:R25) -> 17.75
A26: =IF(ISNUMBER(C26),DATE(YEAR(C26),MONTH(C26)+1,0),A25) -> 42704 | B26: =IF(ISNUMBER(C26),INT(MOD(INT((C26-2)/7)+3/5,52+5/28))+1,B25) -> 47 | C26: =C18+7 -> 42695 | D26: MAL | E26: 7.28 | F26: 7 | G26: 7 | H26: 7 | I26: 7 | J26: 7 | K26: 7 | L26: 7 | M26: 8 | N26: 8 | O26: 8 | P26: 7.25 | Q26: 8 | R26: 7
A27: =IF(ISNUMBER(C27),DATE(YEAR(C27),MONTH(C27)+1,0),A26) -> 42704 | B27: =IF(ISNUMBER(C27),INT(MOD(INT((C27-2)/7)+3/5,52+5/28))+1,B26) -> 47 | C27: =C19+7 -> 42696 | D27: MAL | E27: 7 | F27: 7 | G27: 7 | H27: 7 | I27: 7 | J27: 7 | K27: 7 | L27: 7 | M27: 8 | N27: 8 | O27: 8 | P27: 8.25 | Q27: 7.14 | R27: 7
A28: =IF(ISNUMBER(C28),DATE(YEAR(C28),MONTH(C28)+1,0),A27) -> 42704 | B28: =IF(ISNUMBER(C28),INT(MOD(INT((C28-2)/7)+3/5,52+5/28))+1,B27) -> 47 | C28: =C20+7 -> 42697 | D28: MAL | E28: 7 | F28: 7 | G28: 7 | H28: 7 | I28: 7 | J28: 7 | K28: 7 | L28: 7 | M28: 8 | N28: 8 | O28: 8 | P28: 8 | Q28: 8 | R28: 7
A29: =IF(ISNUMBER(C29),DATE(YEAR(C29),MONTH(C29)+1,0),A28) -> 42704 | B29: =IF(ISNUMBER(C29),INT(MOD(INT((C29-2)/7)+3/5,52+5/28))+1,B28) -> 47 | C29: =C21+7 -> 42698 | D29: MAL | E29: 7 | F29: 7 | G29: 7 | H29: 7 | I29: 7 | J29: 7 | K29: 7 | L29: 7 | M29: 8 | N29: 8 | O29: 8 | P29: 7 | Q29: 6.75 | R29: 7
A30: =IF(ISNUMBER(C30),DATE(YEAR(C30),MONTH(C30)+1,0),A29) -> 42704 | B30: =IF(ISNUMBER(C30),INT(MOD(INT((C30-2)/7)+3/5,52+5/28))+1,B29) -> 47 | C30: =C22+7 -> 42699 | D30: MAL | E30: CON | F30: 7 | G30: 7 | H30: 6.25 | I30: 7 | J30: CON | K30: 7 | L30: 7 | M30: 7 | N30: 7 | O30: 7 | P30: 8.75 | Q30: 8.5 | R30: 8.5
A31: =IF(ISNUMBER(C31),DATE(YEAR(C31),MONTH(C31)+1,0),A30) -> 42704 | B31: =IF(ISNUMBER(C31),INT(MOD(INT((C31-2)/7)+3/5,52+5/28))+1,B30) -> 47 | C31: TOTAL | D31: =SUM(D26:D30) -> 0 | E31: =SUM(E26:E30) -> 28.28 | F31: =SUM(F26:F30) -> 35 | G31: =SUM(G26:G30) -> 35 | H31: =SUM(H26:H30) -> 34.25 | I31: =SUM(I26:I30) -> 35 | J31: =SUM(J26:J30) -> 28 | K31: =SUM(K26:K30) -> 35 | ... R31: =SUM(R26:R30) -> 36.5 | S31: =SUM(D31:R31) -> 496.67
A32: =IF(ISNUMBER(C32),DATE(YEAR(C32),MONTH(C32)+1,0),A31) -> 42704 | B32: =IF(ISNUMBER(C32),INT(MOD(INT((C32-2)/7)+3/5,52+5/28))+1,B31) -> 47 | C32: NORMAL | D32: =MIN(D31,35) -> 0 | E32: =MIN(E31,35) -> 28.28 | F32: =MIN(F31,35) -> 35 | G32: =MIN(G31,35) -> 35 | H32: =MIN(H31,35) -> 34.25 | I32: =MIN(I31,35) -> 35 | J32: =MIN(J31,35) -> 28 | K32: =MIN(K31,35) -> 35 | ... R32: =MIN(R31,35) -> 35 | S32: =SUM(D32:R32) -> 475.53
A33: =IF(ISNUMBER(C33),DATE(YEAR(C33),MONTH(C33)+1,0),A32) -> 42704 | B33: =IF(ISNUMBER(C33),INT(MOD(INT((C33-2)/7)+3/5,52+5/28))+1,B32) -> 47 | C33: HEURES SUP | D33: =D31-D32 -> 0 | E33: =E31-E32 -> 0 | F33: =F31-F32 -> 0 | G33: =G31-G32 -> 0 | H33: =H31-H32 -> 0 | I33: =I31-I32 -> 0 | J33: =J31-J32 -> 0 | K33: =K31-K32 -> 0 | ... R33: =R31-R32 -> 1.5 | S33: =SUM(D33:R33) -> 21.14
A34: =IF(ISNUMBER(C34),DATE(YEAR(C34),MONTH(C34)+1,0),A33) -> 42704 | B34: =IF(ISNUMBER(C34),INT(MOD(INT((C34-2)/7)+3/5,52+5/28))+1,B33) -> 48 | C34: =C26+7 -> 42702 | D34: MAL | E34: 7.5 | F34: CON | G34: 7.5 | H34: 7.5 | I34: 7.5 | J34: CON | K34: 7.5 | L34: 7.5 | M34: 8 | N34: 8 | O34: 8 | P34: 8 | Q34: 8 | R34: 7
A35: =IF(ISNUMBER(C35),DATE(YEAR(C35),MONTH(C35)+1,0),A34) -> 42704 | B35: =IF(ISNUMBER(C35),INT(MOD(INT((C35-2)/7)+3/5,52+5/28))+1,B34) -> 48 | C35: =C27+7 -> 42703 | D35: MAL | E35: 7 | F35: CON | G35: 7 | H35: 7 | I35: 7 | J35: CON | K35: 7 | L35: 7 | M35: 8 | N35: 8 | O35: 8 | P35: 7.25 | Q35: 7.25 | R35: 7
A36: =IF(ISNUMBER(C36),DATE(YEAR(C36),MONTH(C36)+1,0),A35) -> 42704 | B36: =IF(ISNUMBER(C36),INT(MOD(INT((C36-2)/7)+3/5,52+5/28))+1,B35) -> 48 | C36: =C28+7 -> 42704 | D36: MAL | E36: 7 | F36: 7 | G36: 7 | H36: 7 | I36: 7 | J36: CON | K36: 6.5 | L36: 7 | M36: 8 | N36: 8 | O36: 8 | P36: 8.75 | Q36: 6.75 | R36: 7
A37: =IF(ISNUMBER(C37),DATE(YEAR(C37),MONTH(C37)+1,0),A36) -> 42735 | B37: =IF(ISNUMBER(C37),INT(MOD(INT((C37-2)/7)+3/5,52+5/28))+1,B36) -> 48 | C37: =C29+7 -> 42705 | D37: MAL | E37: 7 | F37: 7 | G37: 7 | H37: 7 | I37: 7 | J37: 7 | K37: 6.75 | L37: 7 | M37: 8 | N37: 8 | O37: 8 | P37: 9.17 | Q37: 7.75 | R37: 7.25
A38: =IF(ISNUMBER(C38),DATE(YEAR(C38),MONTH(C38)+1,0),A37) -> 42735 | B38: =IF(ISNUMBER(C38),INT(MOD(INT((C38-2)/7)+3/5,52+5/28))+1,B37) -> 48 | C38: =C30+7 -> 42706 | D38: MAL | E38: 7 | F38: 7 | G38: 7 | H38: 6.25 | I38: 7 | J38: 6.5 | K38: 6 | L38: 7 | M38: 7 | N38: 7 | O38: 7 | P38: 7.25 | Q38: 7 | R38: 6.75
A39: =IF(ISNUMBER(C39),DATE(YEAR(C39),MONTH(C39)+1,0),A38) -> 42735 | B39: =IF(ISNUMBER(C39),INT(MOD(INT((C39-2)/7)+3/5,52+5/28))+1,B38) -> 48 | C39: TOTAL | D39: =SUM(D34:D38) -> 0 | E39: =SUM(E34:E38) -> 35.5 | F39: =SUM(F34:F38) -> 21 | G39: =SUM(G34:G38) -> 35.5 | H39: =SUM(H34:H38) -> 34.75 | I39: =SUM(I34:I38) -> 35.5 | J39: =SUM(J34:J38) -> 13.5 | K39: =SUM(K34:K38) -> 33.75 | ... R39: =SUM(R34:R38) -> 35 | S39: =SUM(D39:R39) -> 474.17
A40: =IF(ISNUMBER(C40),DATE(YEAR(C40),MONTH(C40)+1,0),A39) -> 42735 | B40: =IF(ISNUMBER(C40),INT(MOD(INT((C40-2)/7)+3/5,52+5/28))+1,B39) -> 48 | C40: NORMAL | D40: =MIN(D39,35) -> 0 | E40: =MIN(E39,35) -> 35 | F40: =MIN(F39,35) -> 21 | G40: =MIN(G39,35) -> 35 | H40: =MIN(H39,35) -> 34.75 | I40: =MIN(I39,35) -> 35 | J40: =MIN(J39,35) -> 13.5 | K40: =MIN(K39,35) -> 33.75 | ... R40: =MIN(R39,35) -> 35 | S40: =SUM(D40:R40) -> 453
...

Sheet Récap par mois
A1: Fin de Mois | B1: TOTAL | D1: karim | E1: marc | F1: ursula | G1: carl | H1: sandie | I1: wissem | J1: julien | K1: jérémy | L1: gregory | M1: sébastien | N1: aymeric | O1: jean | P1: laetitia | Q1: virginie | R1: david
A2: 42704 | B2: NORMAL | C2: heures | D2: =SUMPRODUCT((Heures!$A$2:$A$154=$A2)*(ISNUMBER(Heures!$C$2:$C$154)),(Heures!D$2:D$154)) -> 0 | E2: =SUMPRODUCT((Heures!$A$2:$A$154=$A2)*(ISNUMBER(Heures!$C$2:$C$154)),(Heures!E$2:E$154)) -> 133.85 | F2: =SUMPRODUCT((Heures!$A$2:$A$154=$A2)*(ISNUMBER(Heures!$C$2:$C$154)),(Heures!F$2:F$154)) -> 126.39 | G2: =SUMPRODUCT((Heures!$A$2:$A$154=$A2)*(ISNUMBER(Heures!$C$2:$C$154)),(Heures!G$2:G$154)) -> 126.89 | H2: =SUMPRODUCT((Heures!$A$2:$A$154=$A2)*(ISNUMBER(Heures!$C$2:$C$154)),(Heures!H$2:H$154)) -> 125.89 | I2: =SUMPRODUCT((Heures!$A$2:$A$154=$A2)*(ISNUMBER(Heures!$C$2:$C$154)),(Heures!I$2:I$154)) -> 112.82 | J2: =SUMPRODUCT((Heures!$A$2:$A$154=$A2)*(ISNUMBER(Heures!$C$2:$C$154)),(Heures!J$2:J$154)) -> 112.39 | K2: =SUMPRODUCT((Heures!$A$2:$A$154=$A2)*(ISNUMBER(Heures!$C$2:$C$154)),(Heures!K$2:K$154)) -> 139.46 | ... Q2: =SUMPRODUCT((Heures!$A$2:$A$154=$A2)*(ISNUMBER(Heures!$C$2:$C$154)),(Heures!Q$2:Q$154)) -> 124.64 | R2: =SUMPRODUCT((Heures!$A$2:$A$154=$A2)*(ISNUMBER(Heures!$C$2:$C$154))*(Heures!R$2:R$154)) -> 121.5
B3: HEURES SUP | C3: heures | D3: =SUMPRODUCT((Heures!$A$2:$A$154=$A2)*(Heures!$C$2:$C$154="HEURES SUP"),(Heures!D$2:D$154)) -> 0 | E3: =SUMPRODUCT((Heures!$A$2:$A$154=$A2)*(Heures!$C$2:$C$154="HEURES SUP"),(Heures!E$2:E$154)) -> 0 | F3: =SUMPRODUCT((Heures!$A$2:$A$154=$A2)*(Heures!$C$2:$C$154="HEURES SUP"),(Heures!F$2:F$154)) -> 0 | G3: =SUMPRODUCT((Heures!$A$2:$A$154=$A2)*(Heures!$C$2:$C$154="HEURES SUP"),(Heures!G$2:G$154)) -> 0 | H3: =SUMPRODUCT((Heures!$A$2:$A$154=$A2)*(Heures!$C$2:$C$154="HEURES SUP"),(Heures!H$2:H$154)) -> 0 | I3: =SUMPRODUCT((Heures!$A$2:$A$154=$A2)*(Heures!$C$2:$C$154="HEURES SUP"),(Heures!I$2:I$154)) -> 0 | J3: =SUMPRODUCT((Heures!$A$2:$A$154=$A2)*(Heures!$C$2:$C$154="HEURES SUP"),(Heures!J$2:J$154)) -> 0 | K3: =SUMPRODUCT((Heures!$A$2:$A$154=$A2)*(Heures!$C$2:$C$154="HEURES SUP"),(Heures!K$2:K$154)) -> 0 | ... Q3: =SUMPRODUCT((Heures!$A$2:$A$154=$A2)*(Heures!$C$2:$C$154="HEURES SUP"),(Heures!Q$2:Q$154)) -> 3.89 | R3: =SUMPRODUCT((Heures!$A$2:$A$154=$A2)*(Heures!$C$2:$C$154="HEURES SUP")*(Heures!R$2:R$154)) -> 1.5
B4: JF | C4: jours | D4: =SUMPRODUCT((Heures!$A$2:$A$154=$A2)*(COUNTIF(JF,Heures!$C$2:$C$154))) -> 2 | E4: =SUMPRODUCT((Heures!$A$2:$A$154=$A2)*(COUNTIF(JF,Heures!$C$2:$C$154))) -> 2 | F4: =SUMPRODUCT((Heures!$A$2:$A$154=$A2)*(COUNTIF(JF,Heures!$C$2:$C$154))) -> 2 | G4: =SUMPRODUCT((Heures!$A$2:$A$154=$A2)*(COUNTIF(JF,Heures!$C$2:$C$154))) -> 2 | H4: =SUMPRODUCT((Heures!$A$2:$A$154=$A2)*(COUNTIF(JF,Heures!$C$2:$C$154))) -> 2 | I4: =SUMPRODUCT((Heures!$A$2:$A$154=$A2)*(COUNTIF(JF,Heures!$C$2:$C$154))) -> 2 | J4: =SUMPRODUCT((Heures!$A$2:$A$154=$A2)*(COUNTIF(JF,Heures!$C$2:$C$154))) -> 2 | K4: =SUMPRODUCT((Heures!$A$2:$A$154=$A2)*(COUNTIF(JF,Heures!$C$2:$C$154))) -> 2 | ... R4: =SUMPRODUCT((Heures!$A$2:$A$154=$A2)*(COUNTIF(JF,Heures!$C$2:$C$154))) -> 2
B5: CON | C5: jours | D5: =SUMPRODUCT((Heures!$A$2:$A$154=$A2)*(Heures!D$2:D$154=$B5)) -> 0 | E5: =SUMPRODUCT((Heures!$A$2:$A$154=$A2)*(Heures!E$2:E$154=$B5)) -> 1 | F5: =SUMPRODUCT((Heures!$A$2:$A$154=$A2)*(Heures!F$2:F$154=$B5)) -> 2 | G5: =SUMPRODUCT((Heures!$A$2:$A$154=$A2)*(Heures!G$2:G$154=$B5)) -> 2 | H5: =SUMPRODUCT((Heures!$A$2:$A$154=$A2)*(Heures!H$2:H$154=$B5)) -> 2 | I5: =SUMPRODUCT((Heures!$A$2:$A$154=$A2)*(Heures!I$2:I$154=$B5)) -> 3 | J5: =SUMPRODUCT((Heures!$A$2:$A$154=$A2)*(Heures!J$2:J$154=$B5)) -> 4 | K5: =SUMPRODUCT((Heures!$A$2:$A$154=$A2)*(Heures!K$2:K$154=$B5)) -> 0 | ... R5: =SUMPRODUCT((Heures!$A$2:$A$154=$A2)*(Heures!R$2:R$154=$B5)) -> 0
B6: MAL | C6: jours | D6: =SUMPRODUCT((Heures!$A$2:$A$154=$A2)*(Heures!D$2:D$154=$B6)) -> 20 | E6: =SUMPRODUCT((Heures!$A$2:$A$154=$A2)*(Heures!E$2:E$154=$B6)) -> 0 | F6: =SUMPRODUCT((Heures!$A$2:$A$154=$A2)*(Heures!F$2:F$154=$B6)) -> 0 | G6: =SUMPRODUCT((Heures!$A$2:$A$154=$A2)*(Heures!G$2:G$154=$B6)) -> 0 | H6: =SUMPRODUCT((Heures!$A$2:$A$154=$A2)*(Heures!H$2:H$154=$B6)) -> 0 | I6: =SUMPRODUCT((Heures!$A$2:$A$154=$A2)*(Heures!I$2:I$154=$B6)) -> 0 | J6: =SUMPRODUCT((Heures!$A$2:$A$154=$A2)*(Heures!J$2:J$154=$B6)) -> 0 | K6: =SUMPRODUCT((Heures!$A$2:$A$154=$A2)*(Heures!K$2:K$154=$B6)) -> 0 | ... R6: =SUMPRODUCT((Heures!$A$2:$A$154=$A2)*(Heures!R$2:R$154=$B6)) -> 0
B7: ABS | C7: jours | D7: =SUMPRODUCT((Heures!$A$2:$A$154=$A2)*(Heures!D$2:D$154=$B7)) -> 0 | E7: =SUMPRODUCT((Heures!$A$2:$A$154=$A2)*(Heures!E$2:E$154=$B7)) -> 0 | F7: =SUMPRODUCT((Heures!$A$2:$A$154=$A2)*(Heures!F$2:F$154=$B7)) -> 0 | G7: =SUMPRODUCT((Heures!$A$2:$A$154=$A2)*(Heures!G$2:G$154=$B7)) -> 0 | H7: =SUMPRODUCT((Heures!$A$2:$A$154=$A2)*(Heures!H$2:H$154=$B7)) -> 0 | I7: =SUMPRODUCT((Heures!$A$2:$A$154=$A2)*(Heures!I$2:I$154=$B7)) -> 1 | J7: =SUMPRODUCT((Heures!$A$2:$A$154=$A2)*(Heures!J$2:J$154=$B7)) -> 0 | K7: =SUMPRODUCT((Heures!$A$2:$A$154=$A2)*(Heures!K$2:K$154=$B7)) -> 0 | ... R7: =SUMPRODUCT((Heures!$A$2:$A$154=$A2)*(Heures!R$2:R$154=$B7)) -> 0
A8: 42735 | B8: NORMAL | C8: heures | D8: =SUMPRODUCT((Heures!$A$2:$A$154=$A8)*(ISNUMBER(Heures!$C$2:$C$154)),(Heures!D$2:D$154)) -> 0 | E8: =SUMPRODUCT((Heures!$A$2:$A$154=$A8)*(ISNUMBER(Heures!$C$2:$C$154)),(Heures!E$2:E$154)) -> 42.25 | F8: =SUMPRODUCT((Heures!$A$2:$A$154=$A8)*(ISNUMBER(Heures!$C$2:$C$154)),(Heures!F$2:F$154)) -> 39 | G8: =SUMPRODUCT((Heures!$A$2:$A$154=$A8)*(ISNUMBER(Heures!$C$2:$C$154)),(Heures!G$2:G$154)) -> 35 | H8: =SUMPRODUCT((Heures!$A$2:$A$154=$A8)*(ISNUMBER(Heures!$C$2:$C$154)),(Heures!H$2:H$154)) -> 34.25 | I8: =SUMPRODUCT((Heures!$A$2:$A$154=$A8)*(ISNUMBER(Heures!$C$2:$C$154)),(Heures!I$2:I$154)) -> 42 | J8: =SUMPRODUCT((Heures!$A$2:$A$154=$A8)*(ISNUMBER(Heures!$C$2:$C$154)),(Heures!J$2:J$154)) -> 41.5 | K8: =SUMPRODUCT((Heures!$A$2:$A$154=$A8)*(ISNUMBER(Heures!$C$2:$C$154)),(Heures!K$2:K$154)) -> 26.75 | ... Q8: =SUMPRODUCT((Heures!$A$2:$A$154=$A8)*(ISNUMBER(Heures!$C$2:$C$154)),(Heures!Q$2:Q$154)) -> 40 | R8: =SUMPRODUCT((Heures!$A$2:$A$154=$A8)*(ISNUMBER(Heures!$C$2:$C$154))*(Heures!R$2:R$154)) -> 49
B9: HEURES SUP | C9: heures | D9: =SUMPRODUCT((Heures!$A$2:$A$154=$A8)*(Heures!$C$2:$C$154="HEURES SUP"),(Heures!D$2:D$154)) -> 0 | E9: =SUMPRODUCT((Heures!$A$2:$A$154=$A8)*(Heures!$C$2:$C$154="HEURES SUP"),(Heures!E$2:E$154)) -> 0.5 | F9: =SUMPRODUCT((Heures!$A$2:$A$154=$A8)*(Heures!$C$2:$C$154="HEURES SUP"),(Heures!F$2:F$154)) -> 0 | G9: =SUMPRODUCT((Heures!$A$2:$A$154=$A8)*(Heures!$C$2:$C$154="HEURES SUP"),(Heures!G$2:G$154)) -> 0.5 | H9: =SUMPRODUCT((Heures!$A$2:$A$154=$A8)*(Heures!$C$2:$C$154="HEURES SUP"),(Heures!H$2:H$154)) -> 0 | I9: =SUMPRODUCT((Heures!$A$2:$A$154=$A8)*(Heures!$C$2:$C$154="HEURES SUP"),(Heures!I$2:I$154)) -> 0.5 | J9: =SUMPRODUCT((Heures!$A$2:$A$154=$A8)*(Heures!$C$2:$C$154="HEURES SUP"),(Heures!J$2:J$154)) -> 0 | K9: =SUMPRODUCT((Heures!$A$2:$A$154=$A8)*(Heures!$C$2:$C$154="HEURES SUP"),(Heures!K$2:K$154)) -> 0 | ... Q9: =SUMPRODUCT((Heures!$A$2:$A$154=$A8)*(Heures!$C$2:$C$154="HEURES SUP"),(Heures!Q$2:Q$154)) -> 1.75 | R9: =SUMPRODUCT((Heures!$A$2:$A$154=$A8)*(Heures!$C$2:$C$154="HEURES SUP")*(Heures!R$2:R$154)) -> 0
B10: JF | C10: jours | D10: =SUMPRODUCT((Heures!$A$2:$A$154=$A8)*(COUNTIF(JF,Heures!$C$2:$C$154))) -> 0 | E10: =SUMPRODUCT((Heures!$A$2:$A$154=$A8)*(COUNTIF(JF,Heures!$C$2:$C$154))) -> 0 | F10: =SUMPRODUCT((Heures!$A$2:$A$154=$A8)*(COUNTIF(JF,Heures!$C$2:$C$154))) -> 0 | G10: =SUMPRODUCT((Heures!$A$2:$A$154=$A8)*(COUNTIF(JF,Heures!$C$2:$C$154))) -> 0 | H10: =SUMPRODUCT((Heures!$A$2:$A$154=$A8)*(COUNTIF(JF,Heures!$C$2:$C$154))) -> 0 | I10: =SUMPRODUCT((Heures!$A$2:$A$154=$A8)*(COUNTIF(JF,Heures!$C$2:$C$154))) -> 0 | J10: =SUMPRODUCT((Heures!$A$2:$A$154=$A8)*(COUNTIF(JF,Heures!$C$2:$C$154))) -> 0 | K10: =SUMPRODUCT((Heures!$A$2:$A$154=$A8)*(COUNTIF(JF,Heures!$C$2:$C$154))) -> 0 | ... R10: =SUMPRODUCT((Heures!$A$2:$A$154=$A8)*(COUNTIF(JF,Heures!$C$2:$C$154))) -> 0
B11: CON | C11: jours | D11: =SUMPRODUCT((Heures!$A$2:$A$154=$A8)*(Heures!D$2:D$154=$B11)) -> 0 | E11: =SUMPRODUCT((Heures!$A$2:$A$154=$A8)*(Heures!E$2:E$154=$B11)) -> 1 | F11: =SUMPRODUCT((Heures!$A$2:$A$154=$A8)*(Heures!F$2:F$154=$B11)) -> 0 | G11: =SUMPRODUCT((Heures!$A$2:$A$154=$A8)*(Heures!G$2:G$154=$B11)) -> 1 | H11: =SUMPRODUCT((Heures!$A$2:$A$154=$A8)*(Heures!H$2:H$154=$B11)) -> 1 | I11: =SUMPRODUCT((Heures!$A$2:$A$154=$A8)*(Heures!I$2:I$154=$B11)) -> 0 | J11: =SUMPRODUCT((Heures!$A$2:$A$154=$A8)*(Heures!J$2:J$154=$B11)) -> 0 | K11: =SUMPRODUCT((Heures!$A$2:$A$154=$A8)*(Heures!K$2:K$154=$B11)) -> 0 | ... R11: =SUMPRODUCT((Heures!$A$2:$A$154=$A8)*(Heures!R$2:R$154=$B11)) -> 0
B12: MAL | C12: jours | D12: =SUMPRODUCT((Heures!$A$2:$A$154=$A8)*(Heures!D$2:D$154=$B12)) -> 7 | E12: =SUMPRODUCT((Heures!$A$2:$A$154=$A8)*(Heures!E$2:E$154=$B12)) -> 0 | F12: =SUMPRODUCT((Heures!$A$2:$A$154=$A8)*(Heures!F$2:F$154=$B12)) -> 0 | G12: =SUMPRODUCT((Heures!$A$2:$A$154=$A8)*(Heures!G$2:G$154=$B12)) -> 0 | H12: =SUMPRODUCT((Heures!$A$2:$A$154=$A8)*(Heures!H$2:H$154=$B12)) -> 0 | I12: =SUMPRODUCT((Heures!$A$2:$A$154=$A8)*(Heures!I$2:I$154=$B12)) -> 0 | J12: =SUMPRODUCT((Heures!$A$2:$A$154=$A8)*(Heures!J$2:J$154=$B12)) -> 0 | K12: =SUMPRODUCT((Heures!$A$2:$A$154=$A8)*(Heures!K$2:K$154=$B12)) -> 0 | ... R12: =SUMPRODUCT((Heures!$A$2:$A$154=$A8)*(Heures!R$2:R$154=$B12)) -> 0
B13: ABS | C13: jours | D13: =SUMPRODUCT((Heures!$A$2:$A$154=$A8)*(Heures!D$2:D$154=$B13)) -> 0 | E13: =SUMPRODUCT((Heures!$A$2:$A$154=$A8)*(Heures!E$2:E$154=$B13)) -> 0 | F13: =SUMPRODUCT((Heures!$A$2:$A$154=$A8)*(Heures!F$2:F$154=$B13)) -> 1 | G13: =SUMPRODUCT((Heures!$A$2:$A$154=$A8)*(Heures!G$2:G$154=$B13)) -> 0 | H13: =SUMPRODUCT((Heures!$A$2:$A$154=$A8)*(Heures!H$2:H$154=$B13)) -> 0 | I13: =SUMPRODUCT((Heures!$A$2:$A$154=$A8)*(Heures!I$2:I$154=$B13)) -> 0 | J13: =SUMPRODUCT((Heures!$A$2:$A$154=$A8)*(Heures!J$2:J$154=$B13)) -> 0 | K13: =SUMPRODUCT((Heures!$A$2:$A$154=$A8)*(Heures!K$2:K$154=$B13)) -> 2 | ... R13: =SUMPRODUCT((Heures!$A$2:$A$154=$A8)*(Heures!R$2:R$154=$B13)) -> 0
A14: 42766 | B14: NORMAL | C14: heures | D14: =SUMPRODUCT((Heures!$A$2:$A$154=$A14)*(ISNUMBER(Heures!$C$2:$C$154)),(Heures!D$2:D$154)) -> 0 | E14: =SUMPRODUCT((Heures!$A$2:$A$154=$A14)*(ISNUMBER(Heures!$C$2:$C$154)),(Heures!E$2:E$154)) -> 0 | F14: =SUMPRODUCT((Heures!$A$2:$A$154=$A14)*(ISNUMBER(Heures!$C$2:$C$154)),(Heures!F$2:F$154)) -> 0 | G14: =SUMPRODUCT((Heures!$A$2:$A$154=$A14)*(ISNUMBER(Heures!$C$2:$C$154)),(Heures!G$2:G$154)) -> 0 | H14: =SUMPRODUCT((Heures!$A$2:$A$154=$A14)*(ISNUMBER(Heures!$C$2:$C$154)),(Heures!H$2:H$154)) -> 0 | I14: =SUMPRODUCT((Heures!$A$2:$A$154=$A14)*(ISNUMBER(Heures!$C$2:$C$154)),(Heures!I$2:I$154)) -> 0 | J14: =SUMPRODUCT((Heures!$A$2:$A$154=$A14)*(ISNUMBER(Heures!$C$2:$C$154)),(Heures!J$2:J$154)) -> 0 | K14: =SUMPRODUCT((Heures!$A$2:$A$154=$A14)*(ISNUMBER(Heures!$C$2:$C$154)),(Heures!K$2:K$154)) -> 0 | ... Q14: =SUMPRODUCT((Heures!$A$2:$A$154=$A14)*(ISNUMBER(Heures!$C$2:$C$154)),(Heures!Q$2:Q$154)) -> 0 | R14: =SUMPRODUCT((Heures!$A$2:$A$154=$A14)*(ISNUMBER(Heures!$C$2:$C$154))*(Heures!R$2:R$154)) -> 0
B15: HEURES SUP | C15: heures | D15: =SUMPRODUCT((Heures!$A$2:$A$154=$A14)*(Heures!$C$2:$C$154="HEURES SUP"),(Heures!D$2:D$154)) -> 0 | E15: =SUMPRODUCT((Heures!$A$2:$A$154=$A14)*(Heures!$C$2:$C$154="HEURES SUP"),(Heures!E$2:E$154)) -> 0 | F15: =SUMPRODUCT((Heures!$A$2:$A$154=$A14)*(Heures!$C$2:$C$154="HEURES SUP"),(Heures!F$2:F$154)) -> 0 | G15: =SUMPRODUCT((Heures!$A$2:$A$154=$A14)*(Heures!$C$2:$C$154="HEURES SUP"),(Heures!G$2:G$154)) -> 0 | H15: =SUMPRODUCT((Heures!$A$2:$A$154=$A14)*(Heures!$C$2:$C$154="HEURES SUP"),(Heures!H$2:H$154)) -> 0 | I15: =SUMPRODUCT((Heures!$A$2:$A$154=$A14)*(Heures!$C$2:$C$154="HEURES SUP"),(Heures!I$2:I$154)) -> 0 | J15: =SUMPRODUCT((Heures!$A$2:$A$154=$A14)*(Heures!$C$2:$C$154="HEURES SUP"),(Heures!J$2:J$154)) -> 0 | K15: =SUMPRODUCT((Heures!$A$2:$A$154=$A14)*(Heures!$C$2:$C$154="HEURES SUP"),(Heures!K$2:K$154)) -> 0 | ... Q15: =SUMPRODUCT((Heures!$A$2:$A$154=$A14)*(Heures!$C$2:$C$154="HEURES SUP"),(Heures!Q$2:Q$154)) -> 0 | R15: =SUMPRODUCT((Heures!$A$2:$A$154=$A14)*(Heures!$C$2:$C$154="HEURES SUP")*(Heures!R$2:R$154)) -> 0
B16: JF | C16: jours | D16: =SUMPRODUCT((Heures!$A$2:$A$154=$A14)*(COUNTIF(JF,Heures!$C$2:$C$154))) -> 0 | E16: =SUMPRODUCT((Heures!$A$2:$A$154=$A14)*(COUNTIF(JF,Heures!$C$2:$C$154))) -> 0 | F16: =SUMPRODUCT((Heures!$A$2:$A$154=$A14)*(COUNTIF(JF,Heures!$C$2:$C$154))) -> 0 | G16: =SUMPRODUCT((Heures!$A$2:$A$154=$A14)*(COUNTIF(JF,Heures!$C$2:$C$154))) -> 0 | H16: =SUMPRODUCT((Heures!$A$2:$A$154=$A14)*(COUNTIF(JF,Heures!$C$2:$C$154))) -> 0 | I16: =SUMPRODUCT((Heures!$A$2:$A$154=$A14)*(COUNTIF(JF,Heures!$C$2:$C$154))) -> 0 | J16: =SUMPRODUCT((Heures!$A$2:$A$154=$A14)*(COUNTIF(JF,Heures!$C$2:$C$154))) -> 0 | K16: =SUMPRODUCT((Heures!$A$2:$A$154=$A14)*(COUNTIF(JF,Heures!$C$2:$C$154))) -> 0 | ... R16: =SUMPRODUCT((Heures!$A$2:$A$154=$A14)*(COUNTIF(JF,Heures!$C$2:$C$154))) -> 0
B17: CON | C17: jours | D17: =SUMPRODUCT((Heures!$A$2:$A$154=$A14)*(Heures!D$2:D$154=$B17)) -> 0 | E17: =SUMPRODUCT((Heures!$A$2:$A$154=$A14)*(Heures!E$2:E$154=$B17)) -> 0 | F17: =SUMPRODUCT((Heures!$A$2:$A$154=$A14)*(Heures!F$2:F$154=$B17)) -> 0 | G17: =SUMPRODUCT((Heures!$A$2:$A$154=$A14)*(Heures!G$2:G$154=$B17)) -> 0 | H17: =SUMPRODUCT((Heures!$A$2:$A$154=$A14)*(Heures!H$2:H$154=$B17)) -> 0 | I17: =SUMPRODUCT((Heures!$A$2:$A$154=$A14)*(Heures!I$2:I$154=$B17)) -> 0 | J17: =SUMPRODUCT((Heures!$A$2:$A$154=$A14)*(Heures!J$2:J$154=$B17)) -> 0 | K17: =SUMPRODUCT((Heures!$A$2:$A$154=$A14)*(Heures!K$2:K$154=$B17)) -> 0 | ... R17: =SUMPRODUCT((Heures!$A$2:$A$154=$A14)*(Heures!R$2:R$154=$B17)) -> 0
B18: MAL | C18: jours | D18: =SUMPRODUCT((Heures!$A$2:$A$154=$A14)*(Heures!D$2:D$154=$B18)) -> 0 | E18: =SUMPRODUCT((Heures!$A$2:$A$154=$A14)*(Heures!E$2:E$154=$B18)) -> 0 | F18: =SUMPRODUCT((Heures!$A$2:$A$154=$A14)*(Heures!F$2:F$154=$B18)) -> 0 | G18: =SUMPRODUCT((Heures!$A$2:$A$154=$A14)*(Heures!G$2:G$154=$B18)) -> 0 | H18: =SUMPRODUCT((Heures!$A$2:$A$154=$A14)*(Heures!H$2:H$154=$B18)) -> 0 | I18: =SUMPRODUCT((Heures!$A$2:$A$154=$A14)*(Heures!I$2:I$154=$B18)) -> 0 | J18: =SUMPRODUCT((Heures!$A$2:$A$154=$A14)*(Heures!J$2:J$154=$B18)) -> 0 | K18: =SUMPRODUCT((Heures!$A$2:$A$154=$A14)*(Heures!K$2:K$154=$B18)) -> 0 | ... R18: =SUMPRODUCT((Heures!$A$2:$A$154=$A14)*(Heures!R$2:R$154=$B18)) -> 0
B19: ABS | C19: jours | D19: =SUMPRODUCT((Heures!$A$2:$A$154=$A14)*(Heures!D$2:D$154=$B19)) -> 0 | E19: =SUMPRODUCT((Heures!$A$2:$A$154=$A14)*(Heures!E$2:E$154=$B19)) -> 0 | F19: =SUMPRODUCT((Heures!$A$2:$A$154=$A14)*(Heures!F$2:F$154=$B19)) -> 0 | G19: =SUMPRODUCT((Heures!$A$2:$A$154=$A14)*(Heures!G$2:G$154=$B19)) -> 0 | H19: =SUMPRODUCT((Heures!$A$2:$A$154=$A14)*(Heures!H$2:H$154=$B19)) -> 0 | I19: =SUMPRODUCT((Heures!$A$2:$A$154=$A14)*(Heures!I$2:I$154=$B19)) -> 0 | J19: =SUMPRODUCT((Heures!$A$2:$A$154=$A14)*(Heures!J$2:J$154=$B19)) -> 0 | K19: =SUMPRODUCT((Heures!$A$2:$A$154=$A14)*(Heures!K$2:K$154=$B19)) -> 0 | ... R19: =SUMPRODUCT((Heures!$A$2:$A$154=$A14)*(Heures!R$2:R$154=$B19)) -> 0

Sheet JF
A1: JF | B1: 2016 | C1: =B1+1 -> 2017 | D1: =C1+1 -> 2018 | E1: =D1+1 -> 2019 | F1: =E1+1 -> 2020 | G1: =F1+1 -> 2021 | H1: =G1+1 -> 2022 | I1: =H1+1 -> 2023 | J1: =I1+1 -> 2024 | K1: =J1+1 -> 2025
A2: Pâques | B2: =ROUND(DATE(B1,4,MOD(234-11*MOD(B1,19),30))/7,0)*7-6 -> 42456 | C2: =ROUND(DATE(C1,4,MOD(234-11*MOD(C1,19),30))/7,0)*7-6 -> 42841 | D2: =ROUND(DATE(D1,4,MOD(234-11*MOD(D1,19),30))/7,0)*7-6 -> 43191 | E2: =ROUND(DATE(E1,4,MOD(234-11*MOD(E1,19),30))/7,0)*7-6 -> 43576 | F2: =ROUND(DATE(F1,4,MOD(234-11*MOD(F1,19),30))/7,0)*7-6 -> 43933 | G2: =ROUND(DATE(G1,4,MOD(234-11*MOD(G1,19),30))/7,0)*7-6 -> 44290 | H2: =ROUND(DATE(H1,4,MOD(234-11*MOD(H1,19),30))/7,0)*7-6 -> 44668 | I2: =ROUND(DATE(I1,4,MOD(234-11*MOD(I1,19),30))/7,0)*7-6 -> 45025 | ... K2: =ROUND(DATE(K1,4,MOD(234-11*MOD(K1,19),30))/7,0)*7-6 -> 45767
A3: Lundi de Pâques | B3: =B2+1 -> 42457 | C3: =C2+1 -> 42842 | D3: =D2+1 -> 43192 | E3: =E2+1 -> 43577 | F3: =F2+1 -> 43934 | G3: =G2+1 -> 44291 | H3: =H2+1 -> 44669 | I3: =I2+1 -> 45026 | ... K3: =K2+1 -> 45768
A4: Ascension | B4: =B2+39 -> 42495 | C4: =C2+39 -> 42880 | D4: =D2+39 -> 43230 | E4: =E2+39 -> 43615 | F4: =F2+39 -> 43972 | G4: =G2+39 -> 44329 | H4: =H2+39 -> 44707 | I4: =I2+39 -> 45064 | ... K4: =K2+39 -> 45806
A5: Pentecôte | B5: =B2+50 -> 42506 | C5: =C2+50 -> 42891 | D5: =D2+50 -> 43241 | E5: =E2+50 -> 43626 | F5: =F2+50 -> 43983 | G5: =G2+50 -> 44340 | H5: =H2+50 -> 44718 | I5: =I2+50 -> 45075 | ... K5: =K2+50 -> 45817
A6: Premier de l'AN | B6: =DATE(B1,1,1) -> 42370 | C6: =DATE(C1,1,1) -> 42736 | D6: =DATE(D1,1,1) -> 43101 | E6: =DATE(E1,1,1) -> 43466 | F6: =DATE(F1,1,1) -> 43831 | G6: =DATE(G1,1,1) -> 44197 | H6: =DATE(H1,1,1) -> 44562 | I6: =DATE(I1,1,1) -> 44927 | ... K6: =DATE(K1,1,1) -> 45658
A7: Fête du travail | B7: =DATE(B1,5,1) -> 42491 | C7: =DATE(C1,5,1) -> 42856 | D7: =DATE(D1,5,1) -> 43221 | E7: =DATE(E1,5,1) -> 43586 | F7: =DATE(F1,5,1) -> 43952 | G7: =DATE(G1,5,1) -> 44317 | H7: =DATE(H1,5,1) -> 44682 | I7: =DATE(I1,5,1) -> 45047 | ... K7: =DATE(K1,5,1) -> 45778
A8: Victoire de 1945 | B8: =DATE(B1,5,8) -> 42498 | C8: =DATE(C1,5,8) -> 42863 | D8: =DATE(D1,5,8) -> 43228 | E8: =DATE(E1,5,8) -> 43593 | F8: =DATE(F1,5,8) -> 43959 | G8: =DATE(G1,5,8) -> 44324 | H8: =DATE(H1,5,8) -> 44689 | I8: =DATE(I1,5,8) -> 45054 | ... K8: =DATE(K1,5,8) -> 45785
A9: Fête nationale | B9: =DATE(B1,7,14) -> 42565 | C9: =DATE(C1,7,14) -> 42930 | D9: =DATE(D1,7,14) -> 43295 | E9: =DATE(E1,7,14) -> 43660 | F9: =DATE(F1,7,14) -> 44026 | G9: =DATE(G1,7,14) -> 44391 | H9: =DATE(H1,7,14) -> 44756 | I9: =DATE(I1,7,14) -> 45121 | ... K9: =DATE(K1,7,14) -> 45852
A10: Assomption | B10: =DATE(B1,8,15) -> 42597 | C10: =DATE(C1,8,15) -> 42962 | D10: =DATE(D1,8,15) -> 43327 | E10: =DATE(E1,8,15) -> 43692 | F10: =DATE(F1,8,15) -> 44058 | G10: =DATE(G1,8,15) -> 44423 | H10: =DATE(H1,8,15) -> 44788 | I10: =DATE(I1,8,15) -> 45153 | ... K10: =DATE(K1,8,15) -> 45884
A11: Toussaint | B11: =DATE(B1,11,1) -> 42675 | C11: =DATE(C1,11,1) -> 43040 | D11: =DATE(D1,11,1) -> 43405 | E11: =DATE(E1,11,1) -> 43770 | F11: =DATE(F1,11,1) -> 44136 | G11: =DATE(G1,11,1) -> 44501 | H11: =DATE(H1,11,1) -> 44866 | I11: =DATE(I1,11,1) -> 45231 | ... K11: =DATE(K1,11,1) -> 45962
A12: Armistice | B12: =DATE(B1,11,11) -> 42685 | C12: =DATE(C1,11,11) -> 43050 | D12: =DATE(D1,11,11) -> 43415 | E12: =DATE(E1,11,11) -> 43780 | F12: =DATE(F1,11,11) -> 44146 | G12: =DATE(G1,11,11) -> 44511 | H12: =DATE(H1,11,11) -> 44876 | I12: =DATE(I1,11,11) -> 45241 | ... K12: =DATE(K1,11,11) -> 45972
A13: Noël | B13: =DATE(B1,12,25) -> 42729 | C13: =DATE(C1,12,25) -> 43094 | D13: =DATE(D1,12,25) -> 43459 | E13: =DATE(E1,12,25) -> 43824 | F13: =DATE(F1,12,25) -> 44190 | G13: =DATE(G1,12,25) -> 44555 | H13: =DATE(H1,12,25) -> 44920 | I13: =DATE(I1,12,25) -> 45285 | ... K13: =DATE(K1,12,25) -> 46016
A15: jours confondus
A16: jours consécutifs
A17: jours séparés d'un seul jour
A18: week end
