Workbook
Name aa: Scheduled_Payment+Extra_Payment
Name Agence: OFFSET([1]Saisie!$B$3,,,COUNTA([1]Saisie!$B$1:$B$65536)-1)
Name An: #REF!
Name Base: [2]Répertoire!$A$2:$M$1000
Name Beg_Bal: #REF!
Name ColonneInterimaire: [1]Saisie!$C$1:$C$65536
Name Data: #REF!
Name Date: OFFSET([1]Saisie!$E$3,,,COUNTA([1]Saisie!$B$1:$B$65536)-1)
Name dd: DATE(YEAR([0]!Loan_Start),MONTH([0]!Loan_Start)+Payment_Number,DAY([0]!Loan_Start))
Name DECEMBRE: #REF!
Name DECEMBRE2: #REF!
Name End_Bal: #REF!
Name Extra_Pay: #REF!
Name Full_Print: #REF!
Name Header_Row: ROW(#REF!)
Name hgjgj: #REF!
Name HHGT: #REF!
Name Int: #REF!
Name Interest_Rate: #REF!
Name Interimaire: OFFSET([1]Saisie!$C$3,,,COUNTA([1]Saisie!$B$1:$B$65536)-1)
Name JF: JF!$B$2:$K$13
Name jguh: OFFSET(#REF!,,,COUNTIF(#REF!,"><0"),20)
Name Last_Row: IF(Values_Entered,Header_Row+Number_of_Payments,Header_Row)
Name ListePostes: [1]Donnees!$H$2:$H$5
Name LK: IF(Values_Entered,Header_Row+Number_of_Payments,Header_Row)
Name Loan_Amount: #REF!
Name Loan_Start: #REF!
Name Loan_Years: #REF!
Name N: #REF!
Name Num_Pmt_Per_Year: #REF!
Name Number_of_Payments: MATCH(0.01,End_Bal,-1)+1
Name Pause: OFFSET([1]Saisie!$K$3,,,COUNTA([1]Saisie!$B$1:$B$65536)-1)
Name Pay_Date: #REF!
Name Pay_Num: #REF!
Name Payment_Date: DATE(YEAR(Loan_Start),MONTH(Loan_Start)+Payment_Number,DAY(Loan_Start))
Name Plage_TCD: OFFSET(#REF!,,,COUNTIF(#REF!,"><0"),20)
Name Poste: OFFSET([1]Saisie!$D$3,,,COUNTA([1]Saisie!$B$1:$B$65536)-1)
Name Princ: #REF!
Name Print_Area_Reset: OFFSET(Full_Print,0,0,Last_Row)
Name Pseudo: '[3]base de données'!$E$2:$E$50
Name rr: DATE(YEAR([0]!Loan_Start),MONTH([0]!Loan_Start)+Payment_Number,DAY([0]!Loan_Start))
Name Sched_Pay: #REF!
Name Scheduled_Extra_Payments: #REF!
Name Scheduled_Interest_Rate: #REF!
Name Scheduled_Monthly_Payment: #REF!
Name Semaine: OFFSET([1]Saisie!$G$3,,,COUNTA([1]Saisie!$B$1:$B$65536)-1)
Name septembre: DATE(YEAR([0]!Loan_Start),MONTH([0]!Loan_Start)+Payment_Number,DAY([0]!Loan_Start))
Name ss: MATCH(0.01,[0]!End_Bal,-1)+1
Name TempsEffectif: OFFSET([1]Saisie!$L$3,,,COUNTA([1]Saisie!$B$1:$B$65536)-1)
Name Total_Interest: #REF!
Name Total_Pay: #REF!
Name Total_Payment: Scheduled_Payment+Extra_Payment
Name Values_Entered: IF(Loan_Amount*Interest_Rate*Loan_Years*Loan_Start>0,1,0)

Sheet Heures
A1: Mois | B1: SEMAINE | C1: JOUR | D1: karim | E1: marc | F1: ursula | G1: carl | H1: sandie | I1: wissem | J1: julien | K1: jérémy | L1: gregory | M1: sébastien | N1: aymeric | O1: jean | P1: laetitia | Q1: virginie | R1: david | S1: TOTAL
A2: =IF(ISNUMBER(C2),DATE(YEAR(C2),MONTH(C2)+1,0),A1) -> 42674 | B2: =IF(ISNUMBER(C2),INT(MOD(INT((C2-2)/7)+3/5,52+5/28))+1,B1) -> 44 | C2: 42674 | D2: MAL | E2: 7 | F2: 7 | G2: 7 | H2: 7 | I2: 6.18 | J2: 7 | K2: 5.5 | L2: MAL | M2: 8 | N2: 8 | O2: 8 | P2: CON | Q2: 7
A3: =IF(ISNUMBER(C3),DATE(YEAR(C3),MONTH(C3)+1,0),A2) -> 42704 | B3: =IF(ISNUMBER(C3),INT(MOD(INT((C3-2)/7)+3/5,52+5/28))+1,B2) -> 44 | C3: 42675
A4: =IF(ISNUMBER(C4),DATE(YEAR(C4),MONTH(C4)+1,0),A3) -> 42704 | B4: =IF(ISNUMBER(C4),INT(MOD(INT((C4-2)/7)+3/5,52+5/28))+1,B3) -> 44 | C4: 42676 | D4: MAL | E4: 7 | F4: 7 | G4: 7 | H4: CON | I4: 7 | J4: 7 | K4: 7 | L4: MAL | M4: 8 | N4: ABS | O4: 8 | P4: 9.25 | Q4: 6.25
A5: =IF(ISNUMBER(C5),DATE(YEAR(C5),MONTH(C5)+1,0),A4) -> 42704 | B5: =IF(ISNUMBER(C5),INT(MOD(INT((C5-2)/7)+3/5,52+5/28))+1,B4) -> 44 | C5: 42677 | D5: MAL | E5: 7.25 | F5: 7.25 | G5: 7.25 | H5: CON | I5: 7.25 | J5: 7.25 | K5: 6.32 | L5: MAL | M5: 8 | N5: 8 | O5: 8 | P5: 7.5 | Q5: 7
A6: =IF(ISNUMBER(C6),DATE(YEAR(C6),MONTH(C6)+1,0),A5) -> 42704 | B6: =IF(ISNUMBER(C6),INT(MOD(INT((C6-2)/7)+3/5,52+5/28))+1,B5) -> 44 | C6: 42678 | D6: MAL | E6: 7.07 | F6: 7.07 | G6: 7.07 | H6: 7.07 | I6: 7.07 | J6: 7.07 | K6: 7.07 | L6: MAL | M6: 7 | N6: 7 | O6: 7 | P6: 7.5 | Q6: 7
A7: =IF(ISNUMBER(C7),DATE(YEAR(C7),MONTH(C7)+1,0),A6) -> 42704 | B7: =IF(ISNUMBER(C7),INT(MOD(INT((C7-2)/7)+3/5,52+5/28))+1,B6) -> 44 | C7: TOTAL | D7: =SUM(D2:D6) -> 0 | E7: =SUM(E2:E6) -> 28.32 | F7: =SUM(F2:F6) -> 28.32 | G7: =SUM(G2:G6) -> 28.32 | H7: =SUM(H2:H6) -> 14.07 | I7: =SUM(I2:I6) -> 27.5 | J7: =SUM(J2:J6) -> 28.32 | K7: =SUM(K2:K6) -> 25.89 | ... R7: =SUM(R2:R6) -> 0 | S7: =SUM(D7:R7) -> 317.24
A8: =IF(ISNUMBER(C8),DATE(YEAR(C8),MONTH(C8)+1,0),A7) -> 42704 | B8: =IF(ISNUMBER(C8),INT(MOD(INT((C8-2)/7)+3/5,52+5/28))+1,B7) -> 44 | C8: NORMAL | D8: =MIN(D7,35) -> 0 | E8: =MIN(E7,35) -> 28.32 | F8: =MIN(F7,35) -> 28.32 | G8: =MIN(G7,35) -> 28.32 | H8: =MIN(H7,35) -> 14.07 | I8: =MIN(I7,35) -> 27.5 | J8: =MIN(J7,35) -> 28.32 | K8: =MIN(K7,35) -> 25.89 | ... R8: =MIN(R7,35) -> 0 | S8: =SUM(D8:R8) -> 317.24
A9: =IF(ISNUMBER(C9),DATE(YEAR(C9),MONTH(C9)+1,0),A8) -> 42704 | B9: =IF(ISNUMBER(C9),INT(MOD(INT((C9-2)/7)+3/5,52+5/28))+1,B8) -> 44 | C9: HEURES SUP | D9: =D7-D8 -> 0 | E9: =E7-E8 -> 0 | F9: =F7-F8 -> 0 | G9: =G7-G8 -> 0 | H9: =H7-H8 -> 0 | I9: =I7-I8 -> 0 | J9: =J7-J8 -> 0 | K9: =K7-K8 -> 0 | ... R9: =R7-R8 -> 0 | S9: =SUM(D9:R9) -> 0
A10: =IF(ISNUMBER(C10),DATE(YEAR(C10),MONTH(C10)+1,0),A9) -> 42704 | B10: =IF(ISNUMBER(C10),INT(MOD(INT((C10-2)/7)+3/5,52+5/28))+1,B9) -> 45 | C10: =C2+7 -> 42681 | D10: MAL | E10: 7 | F10: 7.25 | G10: 7.25 | H10: 7.25 | I10: CON | J10: 7.25 | K10: 7.25 | L10: MAL | M10: 8 | N10: 8 | O10: 8 | P10: 7 | Q10: 8.5 | R10: 8
A11: =IF(ISNUMBER(C11),DATE(YEAR(C11),MONTH(C11)+1,0),A10) -> 42704 | B11: =IF(ISNUMBER(C11),INT(MOD(INT((C11-2)/7)+3/5,52+5/28))+1,B10) -> 45 | C11: =C3+7 -> 42682 | D11: MAL | E11: 7 | F11: 7.07 | G11: 7.07 | H11: 7.07 | I11: CON | J11: 7.07 | K11: 7.07 | L11: MAL | M11: 8 | N11: 8 | O11: 8 | P11: 7 | Q11: MAL | R11: 7
A12: =IF(ISNUMBER(C12),DATE(YEAR(C12),MONTH(C12)+1,0),A11) -> 42704 | B12: =IF(ISNUMBER(C12),INT(MOD(INT((C12-2)/7)+3/5,52+5/28))+1,B11) -> 45 | C12: =C4+7 -> 42683 | D12: MAL | E12: 7 | F12: 7 | G12: 7 | H12: 7 | I12: CON | J12: 7 | K12: 7 | L12: MAL | M12: 8 | N12: 8 | O12: 8 | P12: 7.25 | Q12: MAL | R12: 7
A13: =IF(ISNUMBER(C13),DATE(YEAR(C13),MONTH(C13)+1,0),A12) -> 42704 | B13: =IF(ISNUMBER(C13),INT(MOD(INT((C13-2)/7)+3/5,52+5/28))+1,B12) -> 45 | C13: =C5+7 -> 42684 | D13: MAL | E13: 6.75 | F13: 6.75 | G13: 6.75 | H13: 6.75 | I13: 6.75 | J13: 6.75 | K13: 6.75 | L13: MAL | M13: 7 | N13: 7 | O13: 7 | P13: CON | Q13: MAL | R13: 7
A14: =IF(ISNUMBER(C14),DATE(YEAR(C14),MONTH(C14)+1,0),A13) -> 42704 | B14: =IF(ISNUMBER(C14),INT(MOD(INT((C14-2)/7)+3/5,52+5/28))+1,B13) -> 45 | C14: =C6+7 -> 42685 | S14: =SUM(D14:R14) -> 0
A15: =IF(ISNUMBER(C15),DATE(YEAR(C15),MONTH(C15)+1,0),A14) -> 42704 | B15: =IF(ISNUMBER(C15),INT(MOD(INT((C15-2)/7)+3/5,52+5/28))+1,B14) -> 45 | C15: TOTAL | D15: =SUM(D10:D14) -> 0 | E15: =SUM(E10:E14) -> 27.75 | F15: =SUM(F10:F14) -> 28.07 | G15: =SUM(G10:G14) -> 28.07 | H15: =SUM(H10:H14) -> 28.07 | I15: =SUM(I10:I14) -> 6.75 | J15: =SUM(J10:J14) -> 28.07 | K15: =SUM(K10:K14) -> 28.07 | ... R15: =SUM(R10:R14) -> 29 | S15: =SUM(D15:R15) -> 326.6
A16: =IF(ISNUMBER(C16),DATE(YEAR(C16),MONTH(C16)+1,0),A15) -> 42704 | B16: =IF(ISNUMBER(C16),INT(MOD(INT((C16-2)/7)+3/5,52+5/28))+1,B15) -> 45 | C16: NORMAL | D16: =MIN(D15,35) -> 0 | E16: =MIN(E15,35) -> 27.75 | F16: =MIN(F15,35) -> 28.07 | G16: =MIN(G15,35) -> 28.07 | H16: =MIN(H15,35) -> 28.07 | I16: =MIN(I15,35) -> 6.75 | J16: =MIN(J15,35) -> 28.07 | K16: =MIN(K15,35) -> 28.07 | ... R16: =MIN(R15,35) -> 29 | S16: =SUM(D16:R16) -> 326.6
A17: =IF(ISNUMBER(C17),DATE(YEAR(C17),MONTH(C17)+1,0),A16) -> 42704 | B17: =IF(ISNUMBER(C17),INT(MOD(INT((C17-2)/7)+3/5,52+5/28))+1,B16) -> 45 | C17: HEURES SUP | D17: =D15-D16 -> 0 | E17: =E15-E16 -> 0 | F17: =F15-F16 -> 0 | G17: =G15-G16 -> 0 | H17: =H15-H16 -> 0 | I17: =I15-I16 -> 0 | J17: =J15-J16 -> 0 | K17: =K15-K16 -> 0 | ... R17: =R15-R16 -> 0
A18: =IF(ISNUMBER(C18),DATE(YEAR(C18),MONTH(C18)+1,0),A17) -> 42704 | B18: =IF(ISNUMBER(C18),INT(MOD(INT((C18-2)/7)+3/5,52+5/28))+1,B17) -> 46 | C18: =C10+7 -> 42688 | D18: MAL | E18: 7 | F18: 7 | G18: CON | H18: 7 | I18: 7 | J18: 7 | K18: 7 | L18: MAL | M18: 8 | N18: 8 | O18: 8 | P18: 7 | Q18: 7 | R18: 7
A19: =IF(ISNUMBER(C19),DATE(YEAR(C19),MONTH(C19)+1,0),A18) -> 42704 | B19: =IF(ISNUMBER(C19),INT(MOD(INT((C19-2)/7)+3/5,52+5/28))+1,B18) -> 46 | C19: =C11+7 -> 42689 | D19: MAL | E19: 7 | F19: 7 | G19: CON | H19: 7 | I19: 7 | J19: 7 | K19: 7 | L19: 7 | M19: 8 | N19: 8 | O19: 8 | P19: 7.5 | Q19: 7 | R19: 7
A20: =IF(ISNUMBER(C20),DATE(YEAR(C20),MONTH(C20)+1,0),A19) -> 42704 | B20: =IF(ISNUMBER(C20),INT(MOD(INT((C20-2)/7)+3/5,52+5/28))+1,B19) -> 46 | C20: =C12+7 -> 42690 | D20: MAL | E20: 7 | F20: 7 | G20: 7 | H20: 7 | I20: ABS | J20: 7 | K20: 7 | L20: 7 | M20: 8 | N20: 8 | O20: 8 | P20: 7.5 | Q20: 7 | R20: 7
A21: =IF(ISNUMBER(C21),DATE(YEAR(C21),MONTH(C21)+1,0),A20) -> 42704 | B21: =IF(ISNUMBER(C21),INT(MOD(INT((C21-2)/7)+3/5,52+5/28))+1,B20) -> 46 | C21: =C13+7 -> 42691 | D21: MAL | E21: 7 | F21: 7 | G21: 7 | H21: 7 | I21: 7.25 | J21: 7 | K21: 7 | L21: 7 | M21: 8 | N21: 8 | O21: 8 | P21: 9.5 | Q21: 8.5 | R21: 8
A22: =IF(ISNUMBER(C22),DATE(YEAR(C22),MONTH(C22)+1,0),A21) -> 42704 | B22: =IF(ISNUMBER(C22),INT(MOD(INT((C22-2)/7)+3/5,52+5/28))+1,B21) -> 46 | C22: =C14+7 -> 42692 | D22: MAL | E22: 7 | F22: 7 | G22: 7 | H22: 7 | I22: 7 | J22: 7 | K22: 7 | L22: 7 | M22: 7 | N22: 7 | O22: 7 | P22: 8.75 | Q22: 6 | R22: 6
A23: =IF(ISNUMBER(C23),DATE(YEAR(C23),MONTH(C23)+1,0),A22) -> 42704 | B23: =IF(ISNUMBER(C23),INT(MOD(INT((C23-2)/7)+3/5,52+5/28))+1,B22) -> 46 | C23: TOTAL | D23: =SUM(D18:D22) -> 0 | E23: =SUM(E18:E22) -> 35 | F23: =SUM(F18:F22) -> 35 | G23: =SUM(G18:G22) -> 21 | H23: =SUM(H18:H22) -> 35 | I23: =SUM(I18:I22) -> 28.25 | J23: =SUM(J18:J22) -> 35 | K23: =SUM(K18:K22) -> 35 | ... R23: =SUM(R18:R22) -> 35 | S23: =SUM(D23:R23) -> 480
A24: =IF(ISNUMBER(C24),DATE(YEAR(C24),MONTH(C24)+1,0),A23) -> 42704 | B24: =IF(ISNUMBER(C24),INT(MOD(INT((C24-2)/7)+3/5,52+5/28))+1,B23) -> 46 | C24: NORMAL | D24: =MIN(D23,35) -> 0 | E24: =MIN(E23,35) -> 35 | F24: =MIN(F23,35) -> 35 | G24: =MIN(G23,35) -> 21 | H24: =MIN(H23,35) -> 35 | I24: =MIN(I23,35) -> 28.25 | J24: =MIN(J23,35) -> 35 | K24: =MIN(K23,35) -> 35 | ... R24: =MIN(R23,35) -> 35 | S24: =SUM(D24:R24) -> 462.25
A25: =IF(ISNUMBER(C25),DATE(YEAR(C25),MONTH(C25)+1,0),A24) -> 42704 | B25: =IF(ISNUMBER(C25),INT(MOD(INT((C25-2)/7)+3/5,52+5/28))+1,B24) -> 46 | C25: HEURES SUP | D25: =D23-D24 -> 0 | E25: =E23-E24 -> 0 | F25: =F23-F24 -> 0 | G25: =G23-G24 -> 0 | H25: =H23-H24 -> 0 | I25: =I23-I24 -> 0 | J25: =J23-J24 -> 0 | K25: =K23-K24 -> 0 | ... R25: =R23-R24 -> 0 | S25: =SUM(D25:R25) -> 17.75
A26: =IF(ISNUMBER(C26),DATE(YEAR(C26),MONTH(C26)+1,0),A25) -> 42704 | B26: =IF(ISNUMBER(C26),INT(MOD(INT((C26-2)/7)+3/5,52+5/28))+1,B25) -> 47 | C26: =C18+7 -> 42695 | D26: MAL | E26: 7.28 | F26: 7 | G26: 7 | H26: 7 | I26: 7 | J26: 7 | K26: 7 | L26: 7 | M26: 8 | N26: 8 | O26: 8 | P26: 7.25 | Q26: 8 | R26: 7
A27: =IF(ISNUMBER(C27),DATE(YEAR(C27),MONTH(C27)+1,0),A26) -> 42704 | B27: =IF(ISNUMBER(C27),INT(MOD(INT((C27-2)/7)+3/5,52+5/28))+1,B26) -> 47 | C27: =C19+7 -> 42696 | D27: MAL | E27: 7 | F27: 7 | G27: 7 | H27: 7 | I27: 7 | J27: 7 | K27: 7 | L27: 7 | M27: 8 | N27: 8 | O27: 8 | P27: 8.25 | Q27: 7.14 | R27: 7
A28: =IF(ISNUMBER(C28),DATE(YEAR(C28),MONTH(C28)+1,0),A27) -> 42704 | B28: =IF(ISNUMBER(C28),INT(MOD(INT((C28-2)/7)+3/5,52+5/28))+1,B27) -> 47 | C28: =C20+7 -> 42697 | D28: MAL | E28: 7 | F28: 7 | G28: 7 | H28: 7 | I28: 7 | J28: 7 | K28: 7 | L28: 7 | M28: 8 | N28: 8 | O28: 8 | P28: 8 | Q28: 8 | R28: 7
A29: =IF(ISNUMBER(C29),DATE(YEAR(C29),MONTH(C29)+1,0),A28) -> 42704 | B29: =IF(ISNUMBER(C29),INT(MOD(INT((C29-2)/7)+3/5,52+5/28))+1,B28) -> 47 | C29: =C21+7 -> 42698 | D29: MAL | E29: 7 | F29: 7 | G29: 7 | H29: 7 | I29: 7 | J29: 7 | K29: 7 | L29: 7 | M29: 8 | N29: 8 | O29: 8 | P29: 7 | Q29: 6.75 | R29: 7
A30: =IF(ISNUMBER(C30),DATE(YEAR(C30),MONTH(C30)+1,0),A29) -> 42704 | B30: =IF(ISNUMBER(C30),INT(MOD(INT((C30-2)/7)+3/5,52+5/28))+1,B29) -> 47 | C30: =C22+7 -> 42699 | D30: MAL | E30: CON | F30: 7 | G30: 7 | H30: 6.25 | I30: 7 | J30: CON | K30: 7 | L30: 7 | M30: 7 | N30: 7 | O30: 7 | P30: 8.75 | Q30: 8.5 | R30: 8.5
A31: =IF(ISNUMBER(C31),DATE(YEAR(C31),MONTH(C31)+1,0),A30) -> 42704 | B31: =IF(ISNUMBER(C31),INT(MOD(INT((C31-2)/7)+3/5,52+5/28))+1,B30) -> 47 | C31: TOTAL | D31: =SUM(D26:D30) -> 0 | E31: =SUM(E26:E30) -> 28.28 | F31: =SUM(F26:F30) -> 35 | G31: =SUM(G26:G30) -> 35 | H31: =SUM(H26:H30) -> 34.25 | I31: =SUM(I26:I30) -> 35 | J31: =SUM(J26:J30) -> 28 | K31: =SUM(K26:K30) -> 35 | ... R31: =SUM(R26:R30) -> 36.5 | S31: =SUM(D31:R31) -> 496.67
A32: =IF(ISNUMBER(C32),DATE(YEAR(C32),MONTH(C32)+1,0),A31) -> 42704 | B32: =IF(ISNUMBER(C32),INT(MOD(INT((C32-2)/7)+3/5,52+5/28))+1,B31) -> 47 | C32: NORMAL | D32: =MIN(D31,35) -> 0 | E32: =MIN(E31,35) -> 28.28 | F32: =MIN(F31,35) -> 35 | G32: =MIN(G31,35) -> 35 | H32: =MIN(H31,35) -> 34.25 | I32: =MIN(I31,35) -> 35 | J32: =MIN(J31,35) -> 28 | K32: =MIN(K31,35) -> 35 | ... R32: =MIN(R31,35) -> 35 | S32: =SUM(D32:R32) -> 475.53
A33: =IF(ISNUMBER(C33),DATE(YEAR(C33),MONTH(C33)+1,0),A32) -> 42704 | B33: =IF(ISNUMBER(C33),INT(MOD(INT((C33-2)/7)+3/5,52+5/28))+1,B32) -> 47 | C33: HEURES SUP | D33: =D31-D32 -> 0 | E33: =E31-E32 -> 0 | F33: =F31-F32 -> 0 | G33: =G31-G32 -> 0 | H33: =H31-H32 -> 0 | I33: =I31-I32 -> 0 | J33: =J31-J32 -> 0 | K33: =K31-K32 -> 0 | ... R33: =R31-R32 -> 1.5 | S33: =SUM(D33:R33) -> 21.14
A34: =IF(ISNUMBER(C34),DATE(YEAR(C34),MONTH(C34)+1,0),A33) -> 42704 | B34: =IF(ISNUMBER(C34),INT(MOD(INT((C34-2)/7)+3/5,52+5/28))+1,B33) -> 48 | C34: =C26+7 -> 42702 | D34: MAL | E34: 7.5 | F34: CON | G34: 7.5 | H34: 7.5 | I34: 7.5 | J34: CON | K34: 7.5 | L34: 7.5 | M34: 8 | N34: 8 | O34: 8 | P34: 8 | Q34: 8 | R34: 7
A35: =IF(ISNUMBER(C35),DATE(YEAR(C35),MONTH(C35)+1,0),A34) -> 42704 | B35: =IF(ISNUMBER(C35),INT(MOD(INT((C35-2)/7)+3/5,52+5/28))+1,B34) -> 48 | C35: =C27+7 -> 42703 | D35: MAL | E35: 7 | F35: CON | G35: 7 | H35: 7 | I35: 7 | J35: CON | K35: 7 | L35: 7 | M35: 8 | N35: 8 | O35: 8 | P35: 7.25 | Q35: 7.25 | R35: 7
A36: =IF(ISNUMBER(C36),DATE(YEAR(C36),MONTH(C36)+1,0),A35) -> 42704 | B36: =IF(ISNUMBER(C36),INT(MOD(INT((C36-2)/7)+3/5,52+5/28))+1,B35) -> 48 | C36: =C28+7 -> 42704 | D36: MAL | E36: 7 | F36: 7 | G36: 7 | H36: 7 | I36: 7 | J36: CON | K36: 6.5 | L36: 7 | M36: 8 | N36: 8 | O36: 8 | P36: 8.75 | Q36: 6.75 | R36: 7
A37: =IF(ISNUMBER(C37),DATE(YEAR(C37),MONTH(C37)+1,0),A36) -> 42735 | B37: =IF(ISNUMBER(C37),INT(MOD(INT((C37-2)/7)+3/5,52+5/28))+1,B36) -> 48 | C37: =C29+7 -> 42705 | D37: MAL | E37: 7 | F37: 7 | G37: 7 | H37: 7 | I37: 7 | J37: 7 | K37: 6.75 | L37: 7 | M37: 8 | N37: 8 | O37: 8 | P37: 9.17 | Q37: 7.75 | R37: 7.25
A38: =IF(ISNUMBER(C38),DATE(YEAR(C38),MONTH(C38)+1,0),A37) -> 42735 | B38: =IF(ISNUMBER(C38),INT(MOD(INT((C38-2)/7)+3/5,52+5/28))+1,B37) -> 48 | C38: =C30+7 -> 42706 | D38: MAL | E38: 7 | F38: 7 | G38: 7 | H38: 6.25 | I38: 7 | J38: 6.5 | K38: 6 | L38: 7 | M38: 7 | N38: 7 | O38: 7 | P38: 7.25 | Q38: 7 | R38: 6.75
A39: =IF(ISNUMBER(C39),DATE(YEAR(C39),MONTH(C39)+1,0),A38) -> 42735 | B39: =IF(ISNUMBER(C39),INT(MOD(INT((C39-2)/7)+3/5,52+5/28))+1,B38) -> 48 | C39: TOTAL | D39: =SUM(D34:D38) -> 0 | E39: =SUM(E34:E38) -> 35.5 | F39: =SUM(F34:F38) -> 21 | G39: =SUM(G34:G38) -> 35.5 | H39: =SUM(H34:H38) -> 34.75 | I39: =SUM(I34:I38) -> 35.5 | J39: =SUM(J34:J38) -> 13.5 | K39: =SUM(K34:K38) -> 33.75 | ... R39: =SUM(R34:R38) -> 35 | S39: =SUM(D39:R39) -> 474.17
A40: =IF(ISNUMBER(C40),DATE(YEAR(C40),MONTH(C40)+1,0),A39) -> 42735 | B40: =IF(ISNUMBER(C40),INT(MOD(INT((C40-2)/7)+3/5,52+5/28))+1,B39) -> 48 | C40: NORMAL | D40: =MIN(D39,35) -> 0 | E40: =MIN(E39,35) -> 35 | F40: =MIN(F39,35) -> 21 | G40: =MIN(G39,35) -> 35 | H40: =MIN(H39,35) -> 34.75 | I40: =MIN(I39,35) -> 35 | J40: =MIN(J39,35) -> 13.5 | K40: =MIN(K39,35) -> 33.75 | ... R40: =MIN(R39,35) -> 35 | S40: =SUM(D40:R40) -> 453
A41: =IF(ISNUMBER(C41),DATE(YEAR(C41),MONTH(C41)+1,0),A40) -> 42735 | B41: =IF(ISNUMBER(C41),INT(MOD(INT((C41-2)/7)+3/5,52+5/28))+1,B40) -> 48 | C41: HEURES SUP | D41: =D39-D40 -> 0 | E41: =E39-E40 -> 0.5 | F41: =F39-F40 -> 0 | G41: =G39-G40 -> 0.5 | H41: =H39-H40 -> 0 | I41: =I39-I40 -> 0.5 | J41: =J39-J40 -> 0 | K41: =K39-K40 -> 0 | ... R41: =R39-R40 -> 0 | S41: =SUM(D41:R41) -> 21.17
A42: =IF(ISNUMBER(C42),DATE(YEAR(C42),MONTH(C42)+1,0),A41) -> 42735 | B42: =IF(ISNUMBER(C42),INT(MOD(INT((C42-2)/7)+3/5,52+5/28))+1,B41) -> 49 | C42: =C34+7 -> 42709 | D42: MAL | E42: 7 | F42: 7 | G42: 7 | H42: CON | I42: 7 | J42: 7 | K42: 7 | L42: 7 | M42: 8 | N42: 8 | O42: 8 | P42: 7.25 | Q42: ABS | R42: 7
A43: =IF(ISNUMBER(C43),DATE(YEAR(C43),MONTH(C43)+1,0),A42) -> 42735 | B43: =IF(ISNUMBER(C43),INT(MOD(INT((C43-2)/7)+3/5,52+5/28))+1,B42) -> 49 | C43: =C35+7 -> 42710 | D43: MAL | E43: 7 | F43: 7 | G43: 7 | H43: 7 | I43: 7 | J43: 7 | K43: 7 | L43: 7 | M43: 8 | N43: 8 | O43: 8 | P43: 7.5 | Q43: 7 | R43: 7
A44: =IF(ISNUMBER(C44),DATE(YEAR(C44),MONTH(C44)+1,0),A43) -> 42735 | B44: =IF(ISNUMBER(C44),INT(MOD(INT((C44-2)/7)+3/5,52+5/28))+1,B43) -> 49 | C44: =C36+7 -> 42711 | D44: MAL | E44: 7.25 | F44: 7 | G44: CON | H44: 7 | I44: 7 | J44: 7 | K44: ABS | L44: 7 | M44: 8 | N44: 8 | O44: 8 | P44: 7.67 | Q44: 7.25 | R44: 7
A45: =IF(ISNUMBER(C45),DATE(YEAR(C45),MONTH(C45)+1,0),A44) -> 42735 | B45: =IF(ISNUMBER(C45),INT(MOD(INT((C45-2)/7)+3/5,52+5/28))+1,B44) -> 49 | C45: =C37+7 -> 42712 | D45: MAL | E45: 7 | F45: 4 | G45: 7 | H45: 7 | I45: 7 | J45: 7 | K45: ABS | L45: 7 | M45: 8 | N45: 8 | O45: 8 | P45: 7 | Q45: 7 | R45: 7
A46: =IF(ISNUMBER(C46),DATE(YEAR(C46),MONTH(C46)+1,0),A45) -> 42735 | B46: =IF(ISNUMBER(C46),INT(MOD(INT((C46-2)/7)+3/5,52+5/28))+1,B45) -> 49 | C46: =C38+7 -> 42713 | D46: MAL | E46: CON | F46: ABS | M46: 7 | N46: 7 | O46: 7 | P46: 7 | Q46: 4 | R46: 7
A47: =IF(ISNUMBER(C47),DATE(YEAR(C47),MONTH(C47)+1,0),A46) -> 42735 | B47: =IF(ISNUMBER(C47),INT(MOD(INT((C47-2)/7)+3/5,52+5/28))+1,B46) -> 49 | C47: TOTAL | D47: =SUM(D42:D46) -> 0 | E47: =SUM(E42:E46) -> 28.25 | F47: =SUM(F42:F46) -> 25 | G47: =SUM(G42:G46) -> 21 | H47: =SUM(H42:H46) -> 21 | I47: =SUM(I42:I46) -> 28 | J47: =SUM(J42:J46) -> 28 | K47: =SUM(K42:K46) -> 14 | ... R47: =SUM(R42:R46) -> 35 | S47: =SUM(D47:R47) -> 406.92
A48: =IF(ISNUMBER(C48),DATE(YEAR(C48),MONTH(C48)+1,0),A47) -> 42735 | B48: =IF(ISNUMBER(C48),INT(MOD(INT((C48-2)/7)+3/5,52+5/28))+1,B47) -> 49 | C48: NORMAL | D48: =MIN(D47,35) -> 0 | E48: =MIN(E47,35) -> 28.25 | F48: =MIN(F47,35) -> 25 | G48: =MIN(G47,35) -> 21 | H48: =MIN(H47,35) -> 21 | I48: =MIN(I47,35) -> 28 | J48: =MIN(J47,35) -> 28 | K48: =MIN(K47,35) -> 14 | ... R48: =MIN(R47,35) -> 35 | S48: =SUM(D48:R48) -> 393.5
A49: =IF(ISNUMBER(C49),DATE(YEAR(C49),MONTH(C49)+1,0),A48) -> 42735 | B49: =IF(ISNUMBER(C49),INT(MOD(INT((C49-2)/7)+3/5,52+5/28))+1,B48) -> 49 | C49: HEURES SUP | D49: =D47-D48 -> 0 | E49: =E47-E48 -> 0 | F49: =F47-F48 -> 0 | G49: =G47-G48 -> 0 | H49: =H47-H48 -> 0 | I49: =I47-I48 -> 0 | J49: =J47-J48 -> 0 | K49: =K47-K48 -> 0 | ... R49: =R47-R48 -> 0 | S49: =SUM(D49:R49) -> 13.42
A50: =IF(ISNUMBER(C50),DATE(YEAR(C50),MONTH(C50)+1,0),A49) -> 42735 | B50: =IF(ISNUMBER(C50),INT(MOD(INT((C50-2)/7)+3/5,52+5/28))+1,B49) -> 50 | C50: =C42+7 -> 42716
A51: =IF(ISNUMBER(C51),DATE(YEAR(C51),MONTH(C51)+1,0),A50) -> 42735 | B51: =IF(ISNUMBER(C51),INT(MOD(INT((C51-2)/7)+3/5,52+5/28))+1,B50) -> 50 | C51: =C43+7 -> 42717
A52: =IF(ISNUMBER(C52),DATE(YEAR(C52),MONTH(C52)+1,0),A51) -> 42735 | B52: =IF(ISNUMBER(C52),INT(MOD(INT((C52-2)/7)+3/5,52+5/28))+1,B51) -> 50 | C52: =C44+7 -> 42718
A53: =IF(ISNUMBER(C53),DATE(YEAR(C53),MONTH(C53)+1,0),A52) -> 42735 | B53: =IF(ISNUMBER(C53),INT(MOD(INT((C53-2)/7)+3/5,52+5/28))+1,B52) -> 50 | C53: =C45+7 -> 42719
A54: =IF(ISNUMBER(C54),DATE(YEAR(C54),MONTH(C54)+1,0),A53) -> 42735 | B54: =IF(ISNUMBER(C54),INT(MOD(INT((C54-2)/7)+3/5,52+5/28))+1,B53) -> 50 | C54: =C46+7 -> 42720
A55: =IF(ISNUMBER(C55),DATE(YEAR(C55),MONTH(C55)+1,0),A54) -> 42735 | B55: =IF(ISNUMBER(C55),INT(MOD(INT((C55-2)/7)+3/5,52+5/28))+1,B54) -> 50 | C55: TOTAL | D55: =SUM(D50:D54) -> 0 | E55: =SUM(E50:E54) -> 0 | F55: =SUM(F50:F54) -> 0 | G55: =SUM(G50:G54) -> 0 | H55: =SUM(H50:H54) -> 0 | I55: =SUM(I50:I54) -> 0 | J55: =SUM(J50:J54) -> 0 | K55: =SUM(K50:K54) -> 0 | ... R55: =SUM(R50:R54) -> 0
A56: =IF(ISNUMBER(C56),DATE(YEAR(C56),MONTH(C56)+1,0),A55) -> 42735 | B56: =IF(ISNUMBER(C56),INT(MOD(INT((C56-2)/7)+3/5,52+5/28))+1,B55) -> 50 | C56: NORMAL | D56: =MIN(D55,35) -> 0 | E56: =MIN(E55,35) -> 0 | F56: =MIN(F55,35) -> 0 | G56: =MIN(G55,35) -> 0 | H56: =MIN(H55,35) -> 0 | I56: =MIN(I55,35) -> 0 | J56: =MIN(J55,35) -> 0 | K56: =MIN(K55,35) -> 0 | ... R56: =MIN(R55,35) -> 0
A57: =IF(ISNUMBER(C57),DATE(YEAR(C57),MONTH(C57)+1,0),A56) -> 42735 | B57: =IF(ISNUMBER(C57),INT(MOD(INT((C57-2)/7)+3/5,52+5/28))+1,B56) -> 50 | C57: HEURES SUP | D57: =D55-D56 -> 0 | E57: =E55-E56 -> 0 | F57: =F55-F56 -> 0 | G57: =G55-G56 -> 0 | H57: =H55-H56 -> 0 | I57: =I55-I56 -> 0 | J57: =J55-J56 -> 0 | K57: =K55-K56 -> 0 | ... R57: =R55-R56 -> 0
A58: =IF(ISNUMBER(C58),DATE(YEAR(C58),MONTH(C58)+1,0),A57) -> 42735 | B58: =IF(ISNUMBER(C58),INT(MOD(INT((C58-2)/7)+3/5,52+5/28))+1,B57) -> 51 | C58: =C50+7 -> 42723
A59: =IF(ISNUMBER(C59),DATE(YEAR(C59),MONTH(C59)+1,0),A58) -> 42735 | B59: =IF(ISNUMBER(C59),INT(MOD(INT((C59-2)/7)+3/5,52+5/28))+1,B58) -> 51 | C59: =C51+7 -> 42724
A60: =IF(ISNUMBER(C60),DATE(YEAR(C60),MONTH(C60)+1,0),A59) -> 42735 | B60: =IF(ISNUMBER(C60),INT(MOD(INT((C60-2)/7)+3/5,52+5/28))+1,B59) -> 51 | C60: =C52+7 -> 42725
A61: =IF(ISNUMBER(C61),DATE(YEAR(C61),MONTH(C61)+1,0),A60) -> 42735 | B61: =IF(ISNUMBER(C61),INT(MOD(INT((C61-2)/7)+3/5,52+5/28))+1,B60) -> 51 | C61: =C53+7 -> 42726
A62: =IF(ISNUMBER(C62),DATE(YEAR(C62),MONTH(C62)+1,0),A61) -> 42735 | B62: =IF(ISNUMBER(C62),INT(MOD(INT((C62-2)/7)+3/5,52+5/28))+1,B61) -> 51 | C62: =C54+7 -> 42727
A63: =IF(ISNUMBER(C63),DATE(YEAR(C63),MONTH(C63)+1,0),A62) -> 42735 | B63: =IF(ISNUMBER(C63),INT(MOD(INT((C63-2)/7)+3/5,52+5/28))+1,B62) -> 51 | C63: TOTAL | D63: =SUM(D58:D62) -> 0 | E63: =SUM(E58:E62) -> 0 | F63: =SUM(F58:F62) -> 0 | G63: =SUM(G58:G62) -> 0 | H63: =SUM(H58:H62) -> 0 | I63: =SUM(I58:I62) -> 0 | J63: =SUM(J58:J62) -> 0 | K63: =SUM(K58:K62) -> 0 | ... R63: =SUM(R58:R62) -> 0
A64: =IF(ISNUMBER(C64),DATE(YEAR(C64),MONTH(C64)+1,0),A63) -> 42735 | B64: =IF(ISNUMBER(C64),INT(MOD(INT((C64-2)/7)+3/5,52+5/28))+1,B63) -> 51 | C64: NORMAL | D64: =MIN(D63,35) -> 0 | E64: =MIN(E63,35) -> 0 | F64: =MIN(F63,35) -> 0 | G64: =MIN(G63,35) -> 0 | H64: =MIN(H63,35) -> 0 | I64: =MIN(I63,35) -> 0 | J64: =MIN(J63,35) -> 0 | K64: =MIN(K63,35) -> 0 | ... R64: =MIN(R63,35) -> 0
A65: =IF(ISNUMBER(C65),DATE(YEAR(C65),MONTH(C65)+1,0),A64) -> 42735 | B65: =IF(ISNUMBER(C65),INT(MOD(INT((C65-2)/7)+3/5,52+5/28))+1,B64) -> 51 | C65: HEURES SUP | D65: =D63-D64 -> 0 | E65: =E63-E64 -> 0 | F65: =F63-F64 -> 0 | G65: =G63-G64 -> 0 | H65: =H63-H64 -> 0 | I65: =I63-I64 -> 0 | J65: =J63-J64 -> 0 | K65: =K63-K64 -> 0 | ... R65: =R63-R64 -> 0
A66: =IF(ISNUMBER(C66),DATE(YEAR(C66),MONTH(C66)+1,0),A65) -> 42735 | B66: =IF(ISNUMBER(C66),INT(MOD(INT((C66-2)/7)+3/5,52+5/28))+1,B65) -> 52 | C66: =C58+7 -> 42730
A67: =IF(ISNUMBER(C67),DATE(YEAR(C67),MONTH(C67)+1,0),A66) -> 42735 | B67: =IF(ISNUMBER(C67),INT(MOD(INT((C67-2)/7)+3/5,52+5/28))+1,B66) -> 52 | C67: =C59+7 -> 42731
A68: =IF(ISNUMBER(C68),DATE(YEAR(C68),MONTH(C68)+1,0),A67) -> 42735 | B68: =IF(ISNUMBER(C68),INT(MOD(INT((C68-2)/7)+3/5,52+5/28))+1,B67) -> 52 | C68: =C60+7 -> 42732
A69: =IF(ISNUMBER(C69),DATE(YEAR(C69),MONTH(C69)+1,0),A68) -> 42735 | B69: =IF(ISNUMBER(C69),INT(MOD(INT((C69-2)/7)+3/5,52+5/28))+1,B68) -> 52 | C69: =C61+7 -> 42733
A70: =IF(ISNUMBER(C70),DATE(YEAR(C70),MONTH(C70)+1,0),A69) -> 42735 | B70: =IF(ISNUMBER(C70),INT(MOD(INT((C70-2)/7)+3/5,52+5/28))+1,B69) -> 52 | C70: =C62+7 -> 42734
A71: =IF(ISNUMBER(C71),DATE(YEAR(C71),MONTH(C71)+1,0),A70) -> 42735 | B71: =IF(ISNUMBER(C71),INT(MOD(INT((C71-2)/7)+3/5,52+5/28))+1,B70) -> 52 | C71: TOTAL | D71: =SUM(D66:D70) -> 0 | E71: =SUM(E66:E70) -> 0 | F71: =SUM(F66:F70) -> 0 | G71: =SUM(G66:G70) -> 0 | H71: =SUM(H66:H70) -> 0 | I71: =SUM(I66:I70) -> 0 | J71: =SUM(J66:J70) -> 0 | K71: =SUM(K66:K70) -> 0 | ... R71: =SUM(R66:R70) -> 0
A72: =IF(ISNUMBER(C72),DATE(YEAR(C72),MONTH(C72)+1,0),A71) -> 42735 | B72: =IF(ISNUMBER(C72),INT(MOD(INT((C72-2)/7)+3/5,52+5/28))+1,B71) -> 52 | C72: NORMAL | D72: =MIN(D71,35) -> 0 | E72: =MIN(E71,35) -> 0 | F72: =MIN(F71,35) -> 0 | G72: =MIN(G71,35) -> 0 | H72: =MIN(H71,35) -> 0 | I72: =MIN(I71,35) -> 0 | J72: =MIN(J71,35) -> 0 | K72: =MIN(K71,35) -> 0 | ... R72: =MIN(R71,35) -> 0
A73: =IF(ISNUMBER(C73),DATE(YEAR(C73),MONTH(C73)+1,0),A72) -> 42735 | B73: =IF(ISNUMBER(C73),INT(MOD(INT((C73-2)/7)+3/5,52+5/28))+1,B72) -> 52 | C73: HEURES SUP | D73: =D71-D72 -> 0 | E73: =E71-E72 -> 0 | F73: =F71-F72 -> 0 | G73: =G71-G72 -> 0 | H73: =H71-H72 -> 0 | I73: =I71-I72 -> 0 | J73: =J71-J72 -> 0 | K73: =K71-K72 -> 0 | ... R73: =R71-R72 -> 0
A74: =IF(ISNUMBER(C74),DATE(YEAR(C74),MONTH(C74)+1,0),A73) -> 42766 | B74: =IF(ISNUMBER(C74),INT(MOD(INT((C74-2)/7)+3/5,52+5/28))+1,B73) -> 1 | C74: =C66+7 -> 42737
A75: =IF(ISNUMBER(C75),DATE(YEAR(C75),MONTH(C75)+1,0),A74) -> 42766 | B75: =IF(ISNUMBER(C75),INT(MOD(INT((C75-2)/7)+3/5,52+5/28))+1,B74) -> 1 | C75: =C67+7 -> 42738
A76: =IF(ISNUMBER(C76),DATE(YEAR(C76),MONTH(C76)+1,0),A75) -> 42766 | B76: =IF(ISNUMBER(C76),INT(MOD(INT((C76-2)/7)+3/5,52+5/28))+1,B75) -> 1 | C76: =C68+7 -> 42739
A77: =IF(ISNUMBER(C77),DATE(YEAR(C77),MONTH(C77)+1,0),A76) -> 42766 | B77: =IF(ISNUMBER(C77),INT(MOD(INT((C77-2)/7)+3/5,52+5/28))+1,B76) -> 1 | C77: =C69+7 -> 42740
A78: =IF(ISNUMBER(C78),DATE(YEAR(C78),MONTH(C78)+1,0),A77) -> 42766 | B78: =IF(ISNUMBER(C78),INT(MOD(INT((C78-2)/7)+3/5,52+5/28))+1,B77) -> 1 | C78: =C70+7 -> 42741
A79: =IF(ISNUMBER(C79),DATE(YEAR(C79),MONTH(C79)+1,0),A78) -> 42766 | B79: =IF(ISNUMBER(C79),INT(MOD(INT((C79-2)/7)+3/5,52+5/28))+1,B78) -> 1 | C79: TOTAL | D79: =SUM(D74:D78) -> 0 | E79: =SUM(E74:E78) -> 0 | F79: =SUM(F74:F78) -> 0 | G79: =SUM(G74:G78) -> 0 | H79: =SUM(H74:H78) -> 0 | I79: =SUM(I74:I78) -> 0 | J79: =SUM(J74:J78) -> 0 | K79: =SUM(K74:K78) -> 0 | ... R79: =SUM(R74:R78) -> 0
A80: =IF(ISNUMBER(C80),DATE(YEAR(C80),MONTH(C80)+1,0),A79) -> 42766 | B80: =IF(ISNUMBER(C80),INT(MOD(INT((C80-2)/7)+3/5,52+5/28))+1,B79) -> 1 | C80: NORMAL | D80: =MIN(D79,35) -> 0 | E80: =MIN(E79,35) -> 0 | F80: =MIN(F79,35) -> 0 | G80: =MIN(G79,35) -> 0 | H80: =MIN(H79,35) -> 0 | I80: =MIN(I79,35) -> 0 | J80: =MIN(J79,35) -> 0 | K80: =MIN(K79,35) -> 0 | ... R80: =MIN(R79,35) -> 0
A81: =IF(ISNUMBER(C81),DATE(YEAR(C81),MONTH(C81)+1,0),A80) -> 42766 | B81: =IF(ISNUMBER(C81),INT(MOD(INT((C81-2)/7)+3/5,52+5/28))+1,B80) -> 1 | C81: HEURES SUP | D81: =D79-D80 -> 0 | E81: =E79-E80 -> 0 | F81: =F79-F80 -> 0 | G81: =G79-G80 -> 0 | H81: =H79-H80 -> 0 | I81: =I79-I80 -> 0 | J81: =J79-J80 -> 0 | K81: =K79-K80 -> 0 | ... R81: =R79-R80 -> 0
A82: =IF(ISNUMBER(C82),DATE(YEAR(C82),MONTH(C82)+1,0),A81) -> 42766 | B82: =IF(ISNUMBER(C82),INT(MOD(INT((C82-2)/7)+3/5,52+5/28))+1,B81) -> 2 | C82: =C74+7 -> 42744
A83: =IF(ISNUMBER(C83),DATE(YEAR(C83),MONTH(C83)+1,0),A82) -> 42766 | B83: =IF(ISNUMBER(C83),INT(MOD(INT((C83-2)/7)+3/5,52+5/28))+1,B82) -> 2 | C83: =C75+7 -> 42745
A84: =IF(ISNUMBER(C84),DATE(YEAR(C84),MONTH(C84)+1,0),A83) -> 42766 | B84: =IF(ISNUMBER(C84),INT(MOD(INT((C84-2)/7)+3/5,52+5/28))+1,B83) -> 2 | C84: =C76+7 -> 42746
A85: =IF(ISNUMBER(C85),DATE(YEAR(C85),MONTH(C85)+1,0),A84) -> 42766 | B85: =IF(ISNUMBER(C85),INT(MOD(INT((C85-2)/7)+3/5,52+5/28))+1,B84) -> 2 | C85: =C77+7 -> 42747
A86: =IF(ISNUMBER(C86),DATE(YEAR(C86),MONTH(C86)+1,0),A85) -> 42766 | B86: =IF(ISNUMBER(C86),INT(MOD(INT((C86-2)/7)+3/5,52+5/28))+1,B85) -> 2 | C86: =C78+7 -> 42748
A87: =IF(ISNUMBER(C87),DATE(YEAR(C87),MONTH(C87)+1,0),A86) -> 42766 | B87: =IF(ISNUMBER(C87),INT(MOD(INT((C87-2)/7)+3/5,52+5/28))+1,B86) -> 2 | C87: TOTAL | D87: =SUM(D82:D86) -> 0 | E87: =SUM(E82:E86) -> 0 | F87: =SUM(F82:F86) -> 0 | G87: =SUM(G82:G86) -> 0 | H87: =SUM(H82:H86) -> 0 | I87: =SUM(I82:I86) -> 0 | J87: =SUM(J82:J86) -> 0 | K87: =SUM(K82:K86) -> 0 | ... R87: =SUM(R82:R86) -> 0
A88: =IF(ISNUMBER(C88),DATE(YEAR(C88),MONTH(C88)+1,0),A87) -> 42766 | B88: =IF(ISNUMBER(C88),INT(MOD(INT((C88-2)/7)+3/5,52+5/28))+1,B87) -> 2 | C88: NORMAL | D88: =MIN(D87,35) -> 0 | E88: =MIN(E87,35) -> 0 | F88: =MIN(F87,35) -> 0 | G88: =MIN(G87,35) -> 0 | H88: =MIN(H87,35) -> 0 | I88: =MIN(I87,35) -> 0 | J88: =MIN(J87,35) -> 0 | K88: =MIN(K87,35) -> 0 | ... R88: =MIN(R87,35) -> 0
A89: =IF(ISNUMBER(C89),DATE(YEAR(C89),MONTH(C89)+1,0),A88) -> 42766 | B89: =IF(ISNUMBER(C89),INT(MOD(INT((C89-2)/7)+3/5,52+5/28))+1,B88) -> 2 | C89: HEURES SUP | D89: =D87-D88 -> 0 | E89: =E87-E88 -> 0 | F89: =F87-F88 -> 0 | G89: =G87-G88 -> 0 | H89: =H87-H88 -> 0 | I89: =I87-I88 -> 0 | J89: =J87-J88 -> 0 | K89: =K87-K88 -> 0 | ... R89: =R87-R88 -> 0
A90: =IF(ISNUMBER(C90),DATE(YEAR(C90),MONTH(C90)+1,0),A89) -> 42766 | B90: =IF(ISNUMBER(C90),INT(MOD(INT((C90-2)/7)+3/5,52+5/28))+1,B89) -> 3 | C90: =C82+7 -> 42751
A91: =IF(ISNUMBER(C91),DATE(YEAR(C91),MONTH(C91)+1,0),A90) -> 42766 | B91: =IF(ISNUMBER(C91),INT(MOD(INT((C91-2)/7)+3/5,52+5/28))+1,B90) -> 3 | C91: =C83+7 -> 42752
A92: =IF(ISNUMBER(C92),DATE(YEAR(C92),MONTH(C92)+1,0),A91) -> 42766 | B92: =IF(ISNUMBER(C92),INT(MOD(INT((C92-2)/7)+3/5,52+5/28))+1,B91) -> 3 | C92: =C84+7 -> 42753
A93: =IF(ISNUMBER(C93),DATE(YEAR(C93),MONTH(C93)+1,0),A92) -> 42766 | B93: =IF(ISNUMBER(C93),INT(MOD(INT((C93-2)/7)+3/5,52+5/28))+1,B92) -> 3 | C93: =C85+7 -> 42754
A94: =IF(ISNUMBER(C94),DATE(YEAR(C94),MONTH(C94)+1,0),A93) -> 42766 | B94: =IF(ISNUMBER(C94),INT(MOD(INT((C94-2)/7)+3/5,52+5/28))+1,B93) -> 3 | C94: =C86+7 -> 42755
A95: =IF(ISNUMBER(C95),DATE(YEAR(C95),MONTH(C95)+1,0),A94) -> 42766 | B95: =IF(ISNUMBER(C95),INT(MOD(INT((C95-2)/7)+3/5,52+5/28))+1,B94) -> 3 | C95: TOTAL | D95: =SUM(D90:D94) -> 0 | E95: =SUM(E90:E94) -> 0 | F95: =SUM(F90:F94) -> 0 | G95: =SUM(G90:G94) -> 0 | H95: =SUM(H90:H94) -> 0 | I95: =SUM(I90:I94) -> 0 | J95: =SUM(J90:J94) -> 0 | K95: =SUM(K90:K94) -> 0 | ... R95: =SUM(R90:R94) -> 0
A96: =IF(ISNUMBER(C96),DATE(YEAR(C96),MONTH(C96)+1,0),A95) -> 42766 | B96: =IF(ISNUMBER(C96),INT(MOD(INT((C96-2)/7)+3/5,52+5/28))+1,B95) -> 3 | C96: NORMAL | D96: =MIN(D95,35) -> 0 | E96: =MIN(E95,35) -> 0 | F96: =MIN(F95,35) -> 0 | G96: =MIN(G95,35) -> 0 | H96: =MIN(H95,35) -> 0 | I96: =MIN(I95,35) -> 0 | J96: =MIN(J95,35) -> 0 | K96: =MIN(K95,35) -> 0 | ... R96: =MIN(R95,35) -> 0
A97: =IF(ISNUMBER(C97),DATE(YEAR(C97),MONTH(C97)+1,0),A96) -> 42766 | B97: =IF(ISNUMBER(C97),INT(MOD(INT((C97-2)/7)+3/5,52+5/28))+1,B96) -> 3 | C97: HEURES SUP | D97: =D95-D96 -> 0 | E97: =E95-E96 -> 0 | F97: =F95-F96 -> 0 | G97: =G95-G96 -> 0 | H97: =H95-H96 -> 0 | I97: =I95-I96 -> 0 | J97: =J95-J96 -> 0 | K97: =K95-K96 -> 0 | ... R97: =R95-R96 -> 0
A98: =IF(ISNUMBER(C98),DATE(YEAR(C98),MONTH(C98)+1,0),A97) -> 42766 | B98: =IF(ISNUMBER(C98),INT(MOD(INT((C98-2)/7)+3/5,52+5/28))+1,B97) -> 4 | C98: =C90+7 -> 42758
A99: =IF(ISNUMBER(C99),DATE(YEAR(C99),MONTH(C99)+1,0),A98) -> 42766 | B99: =IF(ISNUMBER(C99),INT(MOD(INT((C99-2)/7)+3/5,52+5/28))+1,B98) -> 4 | C99: =C91+7 -> 42759
A100: =IF(ISNUMBER(C100),DATE(YEAR(C100),MONTH(C100)+1,0),A99) -> 42766 | B100: =IF(ISNUMBER(C100),INT(MOD(INT((C100-2)/7)+3/5,52+5/28))+1,B99) -> 4 | C100: =C92+7 -> 42760
...

Sheet Récap par mois
A1: Fin de Mois | B1: TOTAL | D1: karim | E1: marc | F1: ursula | G1: carl | H1: sandie | I1: wissem | J1: julien | K1: jérémy | L1: gregory | M1: sébastien | N1: aymeric | O1: jean | P1: laetitia | Q1: virginie | R1: david
A2: 42704 | B2: NORMAL | C2: heures | D2: =SUMPRODUCT((Heures!$A$2:$A$154=$A2)*(ISNUMBER(Heures!$C$2:$C$154)),(Heures!D$2:D$154)) -> 0 | E2: =SUMPRODUCT((Heures!$A$2:$A$154=$A2)*(ISNUMBER(Heures!$C$2:$C$154)),(Heures!E$2:E$154)) -> 133.85 | F2: =SUMPRODUCT((Heures!$A$2:$A$154=$A2)*(ISNUMBER(Heures!$C$2:$C$154)),(Heures!F$2:F$154)) -> 126.39 | G2: =SUMPRODUCT((Heures!$A$2:$A$154=$A2)*(ISNUMBER(Heures!$C$2:$C$154)),(Heures!G$2:G$154)) -> 126.89 | H2: =SUMPRODUCT((Heures!$A$2:$A$154=$A2)*(ISNUMBER(Heures!$C$2:$C$154)),(Heures!H$2:H$154)) -> 125.89 | I2: =SUMPRODUCT((Heures!$A$2:$A$154=$A2)*(ISNUMBER(Heures!$C$2:$C$154)),(Heures!I$2:I$154)) -> 112.82 | J2: =SUMPRODUCT((Heures!$A$2:$A$154=$A2)*(ISNUMBER(Heures!$C$2:$C$154)),(Heures!J$2:J$154)) -> 112.39 | K2: =SUMPRODUCT((Heures!$A$2:$A$154=$A2)*(ISNUMBER(Heures!$C$2:$C$154)),(Heures!K$2:K$154)) -> 139.46 | ... Q2: =SUMPRODUCT((Heures!$A$2:$A$154=$A2)*(ISNUMBER(Heures!$C$2:$C$154)),(Heures!Q$2:Q$154)) -> 124.64 | R2: =SUMPRODUCT((Heures!$A$2:$A$154=$A2)*(ISNUMBER(Heures!$C$2:$C$154))*(Heures!R$2:R$154)) -> 121.5
B3: HEURES SUP | C3: heures | D3: =SUMPRODUCT((Heures!$A$2:$A$154=$A2)*(Heures!$C$2:$C$154="HEURES SUP"),(Heures!D$2:D$154)) -> 0 | E3: =SUMPRODUCT((Heures!$A$2:$A$154=$A2)*(Heures!$C$2:$C$154="HEURES SUP"),(Heures!E$2:E$154)) -> 0 | F3: =SUMPRODUCT((Heures!$A$2:$A$154=$A2)*(Heures!$C$2:$C$154="HEURES SUP"),(Heures!F$2:F$154)) -> 0 | G3: =SUMPRODUCT((Heures!$A$2:$A$154=$A2)*(Heures!$C$2:$C$154="HEURES SUP"),(Heures!G$2:G$154)) -> 0 | H3: =SUMPRODUCT((Heures!$A$2:$A$154=$A2)*(Heures!$C$2:$C$154="HEURES SUP"),(Heures!H$2:H$154)) -> 0 | I3: =SUMPRODUCT((Heures!$A$2:$A$154=$A2)*(Heures!$C$2:$C$154="HEURES SUP"),(Heures!I$2:I$154)) -> 0 | J3: =SUMPRODUCT((Heures!$A$2:$A$154=$A2)*(Heures!$C$2:$C$154="HEURES SUP"),(Heures!J$2:J$154)) -> 0 | K3: =SUMPRODUCT((Heures!$A$2:$A$154=$A2)*(Heures!$C$2:$C$154="HEURES SUP"),(Heures!K$2:K$154)) -> 0 | ... Q3: =SUMPRODUCT((Heures!$A$2:$A$154=$A2)*(Heures!$C$2:$C$154="HEURES SUP"),(Heures!Q$2:Q$154)) -> 3.89 | R3: =SUMPRODUCT((Heures!$A$2:$A$154=$A2)*(Heures!$C$2:$C$154="HEURES SUP")*(Heures!R$2:R$154)) -> 1.5
B4: JF | C4: jours | D4: =SUMPRODUCT((Heures!$A$2:$A$154=$A2)*(COUNTIF(JF,Heures!$C$2:$C$154))) -> 2 | E4: =SUMPRODUCT((Heures!$A$2:$A$154=$A2)*(COUNTIF(JF,Heures!$C$2:$C$154))) -> 2 | F4: =SUMPRODUCT((Heures!$A$2:$A$154=$A2)*(COUNTIF(JF,Heures!$C$2:$C$154))) -> 2 | G4: =SUMPRODUCT((Heures!$A$2:$A$154=$A2)*(COUNTIF(JF,Heures!$C$2:$C$154))) -> 2 | H4: =SUMPRODUCT((Heures!$A$2:$A$154=$A2)*(COUNTIF(JF,Heures!$C$2:$C$154))) -> 2 | I4: =SUMPRODUCT((Heures!$A$2:$A$154=$A2)*(COUNTIF(JF,Heures!$C$2:$C$154))) -> 2 | J4: =SUMPRODUCT((Heures!$A$2:$A$154=$A2)*(COUNTIF(JF,Heures!$C$2:$C$154))) -> 2 | K4: =SUMPRODUCT((Heures!$A$2:$A$154=$A2)*(COUNTIF(JF,Heures!$C$2:$C$154))) -> 2 | ... R4: =SUMPRODUCT((Heures!$A$2:$A$154=$A2)*(COUNTIF(JF,Heures!$C$2:$C$154))) -> 2
B5: CON | C5: jours | D5: =SUMPRODUCT((Heures!$A$2:$A$154=$A2)*(Heures!D$2:D$154=$B5)) -> 0 | E5: =SUMPRODUCT((Heures!$A$2:$A$154=$A2)*(Heures!E$2:E$154=$B5)) -> 1 | F5: =SUMPRODUCT((Heures!$A$2:$A$154=$A2)*(Heures!F$2:F$154=$B5)) -> 2 | G5: =SUMPRODUCT((Heures!$A$2:$A$154=$A2)*(Heures!G$2:G$154=$B5)) -> 2 | H5: =SUMPRODUCT((Heures!$A$2:$A$154=$A2)*(Heures!H$2:H$154=$B5)) -> 2 | I5: =SUMPRODUCT((Heures!$A$2:$A$154=$A2)*(Heures!I$2:I$154=$B5)) -> 3 | J5: =SUMPRODUCT((Heures!$A$2:$A$154=$A2)*(Heures!J$2:J$154=$B5)) -> 4 | K5: =SUMPRODUCT((Heures!$A$2:$A$154=$A2)*(Heures!K$2:K$154=$B5)) -> 0 | ... R5: =SUMPRODUCT((Heures!$A$2:$A$154=$A2)*(Heures!R$2:R$154=$B5)) -> 0
B6: MAL | C6: jours | D6: =SUMPRODUCT((Heures!$A$2:$A$154=$A2)*(Heures!D$2:D$154=$B6)) -> 20 | E6: =SUMPRODUCT((Heures!$A$2:$A$154=$A2)*(Heures!E$2:E$154=$B6)) -> 0 | F6: =SUMPRODUCT((Heures!$A$2:$A$154=$A2)*(Heures!F$2:F$154=$B6)) -> 0 | G6: =SUMPRODUCT((Heures!$A$2:$A$154=$A2)*(Heures!G$2:G$154=$B6)) -> 0 | H6: =SUMPRODUCT((Heures!$A$2:$A$154=$A2)*(Heures!H$2:H$154=$B6)) -> 0 | I6: =SUMPRODUCT((Heures!$A$2:$A$154=$A2)*(Heures!I$2:I$154=$B6)) -> 0 | J6: =SUMPRODUCT((Heures!$A$2:$A$154=$A2)*(Heures!J$2:J$154=$B6)) -> 0 | K6: =SUMPRODUCT((Heures!$A$2:$A$154=$A2)*(Heures!K$2:K$154=$B6)) -> 0 | ... R6: =SUMPRODUCT((Heures!$A$2:$A$154=$A2)*(Heures!R$2:R$154=$B6)) -> 0
B7: ABS | C7: jours | D7: =SUMPRODUCT((Heures!$A$2:$A$154=$A2)*(Heures!D$2:D$154=$B7)) -> 0 | E7: =SUMPRODUCT((Heures!$A$2:$A$154=$A2)*(Heures!E$2:E$154=$B7)) -> 0 | F7: =SUMPRODUCT((Heures!$A$2:$A$154=$A2)*(Heures!F$2:F$154=$B7)) -> 0 | G7: =SUMPRODUCT((Heures!$A$2:$A$154=$A2)*(Heures!G$2:G$154=$B7)) -> 0 | H7: =SUMPRODUCT((Heures!$A$2:$A$154=$A2)*(Heures!H$2:H$154=$B7)) -> 0 | I7: =SUMPRODUCT((Heures!$A$2:$A$154=$A2)*(Heures!I$2:I$154=$B7)) -> 1 | J7: =SUMPRODUCT((Heures!$A$2:$A$154=$A2)*(Heures!J$2:J$154=$B7)) -> 0 | K7: =SUMPRODUCT((Heures!$A$2:$A$154=$A2)*(Heures!K$2:K$154=$B7)) -> 0 | ... R7: =SUMPRODUCT((Heures!$A$2:$A$154=$A2)*(Heures!R$2:R$154=$B7)) -> 0
A8: 42735 | B8: NORMAL | C8: heures | D8: =SUMPRODUCT((Heures!$A$2:$A$154=$A8)*(ISNUMBER(Heures!$C$2:$C$154)),(Heures!D$2:D$154)) -> 0 | E8: =SUMPRODUCT((Heures!$A$2:$A$154=$A8)*(ISNUMBER(Heures!$C$2:$C$154)),(Heures!E$2:E$154)) -> 42.25 | F8: =SUMPRODUCT((Heures!$A$2:$A$154=$A8)*(ISNUMBER(Heures!$C$2:$C$154)),(Heures!F$2:F$154)) -> 39 | G8: =SUMPRODUCT((Heures!$A$2:$A$154=$A8)*(ISNUMBER(Heures!$C$2:$C$154)),(Heures!G$2:G$154)) -> 35 | H8: =SUMPRODUCT((Heures!$A$2:$A$154=$A8)*(ISNUMBER(Heures!$C$2:$C$154)),(Heures!H$2:H$154)) -> 34.25 | I8: =SUMPRODUCT((Heures!$A$2:$A$154=$A8)*(ISNUMBER(Heures!$C$2:$C$154)),(Heures!I$2:I$154)) -> 42 | J8: =SUMPRODUCT((Heures!$A$2:$A$154=$A8)*(ISNUMBER(Heures!$C$2:$C$154)),(Heures!J$2:J$154)) -> 41.5 | K8: =SUMPRODUCT((Heures!$A$2:$A$154=$A8)*(ISNUMBER(Heures!$C$2:$C$154)),(Heures!K$2:K$154)) -> 26.75 | ... Q8: =SUMPRODUCT((Heures!$A$2:$A$154=$A8)*(ISNUMBER(Heures!$C$2:$C$154)),(Heures!Q$2:Q$154)) -> 40 | R8: =SUMPRODUCT((Heures!$A$2:$A$154=$A8)*(ISNUMBER(Heures!$C$2:$C$154))*(Heures!R$2:R$154)) -> 49
B9: HEURES SUP | C9: heures | D9: =SUMPRODUCT((Heures!$A$2:$A$154=$A8)*(Heures!$C$2:$C$154="HEURES SUP"),(Heures!D$2:D$154)) -> 0 | E9: =SUMPRODUCT((Heures!$A$2:$A$154=$A8)*(Heures!$C$2:$C$154="HEURES SUP"),(Heures!E$2:E$154)) -> 0.5 | F9: =SUMPRODUCT((Heures!$A$2:$A$154=$A8)*(Heures!$C$2:$C$154="HEURES SUP"),(Heures!F$2:F$154)) -> 0 | G9: =SUMPRODUCT((Heures!$A$2:$A$154=$A8)*(Heures!$C$2:$C$154="HEURES SUP"),(Heures!G$2:G$154)) -> 0.5 | H9: =SUMPRODUCT((Heures!$A$2:$A$154=$A8)*(Heures!$C$2:$C$154="HEURES SUP"),(Heures!H$2:H$154)) -> 0 | I9: =SUMPRODUCT((Heures!$A$2:$A$154=$A8)*(Heures!$C$2:$C$154="HEURES SUP"),(Heures!I$2:I$154)) -> 0.5 | J9: =SUMPRODUCT((Heures!$A$2:$A$154=$A8)*(Heures!$C$2:$C$154="HEURES SUP"),(Heures!J$2:J$154)) -> 0 | K9: =SUMPRODUCT((Heures!$A$2:$A$154=$A8)*(Heures!$C$2:$C$154="HEURES SUP"),(Heures!K$2:K$154)) -> 0 | ... Q9: =SUMPRODUCT((Heures!$A$2:$A$154=$A8)*(Heures!$C$2:$C$154="HEURES SUP"),(Heures!Q$2:Q$154)) -> 1.75 | R9: =SUMPRODUCT((Heures!$A$2:$A$154=$A8)*(Heures!$C$2:$C$154="HEURES SUP")*(Heures!R$2:R$154)) -> 0
B10: JF | C10: jours | D10: =SUMPRODUCT((Heures!$A$2:$A$154=$A8)*(COUNTIF(JF,Heures!$C$2:$C$154))) -> 0 | E10: =SUMPRODUCT((Heures!$A$2:$A$154=$A8)*(COUNTIF(JF,Heures!$C$2:$C$154))) -> 0 | F10: =SUMPRODUCT((Heures!$A$2:$A$154=$A8)*(COUNTIF(JF,Heures!$C$2:$C$154))) -> 0 | G10: =SUMPRODUCT((Heures!$A$2:$A$154=$A8)*(COUNTIF(JF,Heures!$C$2:$C$154))) -> 0 | H10: =SUMPRODUCT((Heures!$A$2:$A$154=$A8)*(COUNTIF(JF,Heures!$C$2:$C$154))) -> 0 | I10: =SUMPRODUCT((Heures!$A$2:$A$154=$A8)*(COUNTIF(JF,Heures!$C$2:$C$154))) -> 0 | J10: =SUMPRODUCT((Heures!$A$2:$A$154=$A8)*(COUNTIF(JF,Heures!$C$2:$C$154))) -> 0 | K10: =SUMPRODUCT((Heures!$A$2:$A$154=$A8)*(COUNTIF(JF,Heures!$C$2:$C$154))) -> 0 | ... R10: =SUMPRODUCT((Heures!$A$2:$A$154=$A8)*(COUNTIF(JF,Heures!$C$2:$C$154))) -> 0
B11: CON | C11: jours | D11: =SUMPRODUCT((Heures!$A$2:$A$154=$A8)*(Heures!D$2:D$154=$B11)) -> 0 | E11: =SUMPRODUCT((Heures!$A$2:$A$154=$A8)*(Heures!E$2:E$154=$B11)) -> 1 | F11: =SUMPRODUCT((Heures!$A$2:$A$154=$A8)*(Heures!F$2:F$154=$B11)) -> 0 | G11: =SUMPRODUCT((Heures!$A$2:$A$154=$A8)*(Heures!G$2:G$154=$B11)) -> 1 | H11: =SUMPRODUCT((Heures!$A$2:$A$154=$A8)*(Heures!H$2:H$154=$B11)) -> 1 | I11: =SUMPRODUCT((Heures!$A$2:$A$154=$A8)*(Heures!I$2:I$154=$B11)) -> 0 | J11: =SUMPRODUCT((Heures!$A$2:$A$154=$A8)*(Heures!J$2:J$154=$B11)) -> 0 | K11: =SUMPRODUCT((Heures!$A$2:$A$154=$A8)*(Heures!K$2:K$154=$B11)) -> 0 | ... R11: =SUMPRODUCT((Heures!$A$2:$A$154=$A8)*(Heures!R$2:R$154=$B11)) -> 0
B12: MAL | C12: jours | D12: =SUMPRODUCT((Heures!$A$2:$A$154=$A8)*(Heures!D$2:D$154=$B12)) -> 7 | E12: =SUMPRODUCT((Heures!$A$2:$A$154=$A8)*(Heures!E$2:E$154=$B12)) -> 0 | F12: =SUMPRODUCT((Heures!$A$2:$A$154=$A8)*(Heures!F$2:F$154=$B12)) -> 0 | G12: =SUMPRODUCT((Heures!$A$2:$A$154=$A8)*(Heures!G$2:G$154=$B12)) -> 0 | H12: =SUMPRODUCT((Heures!$A$2:$A$154=$A8)*(Heures!H$2:H$154=$B12)) -> 0 | I12: =SUMPRODUCT((Heures!$A$2:$A$154=$A8)*(Heures!I$2:I$154=$B12)) -> 0 | J12: =SUMPRODUCT((Heures!$A$2:$A$154=$A8)*(Heures!J$2:J$154=$B12)) -> 0 | K12: =SUMPRODUCT((Heures!$A$2:$A$154=$A8)*(Heures!K$2:K$154=$B12)) -> 0 | ... R12: =SUMPRODUCT((Heures!$A$2:$A$154=$A8)*(Heures!R$2:R$154=$B12)) -> 0
B13: ABS | C13: jours | D13: =SUMPRODUCT((Heures!$A$2:$A$154=$A8)*(Heures!D$2:D$154=$B13)) -> 0 | E13: =SUMPRODUCT((Heures!$A$2:$A$154=$A8)*(Heures!E$2:E$154=$B13)) -> 0 | F13: =SUMPRODUCT((Heures!$A$2:$A$154=$A8)*(Heures!F$2:F$154=$B13)) -> 1 | G13: =SUMPRODUCT((Heures!$A$2:$A$154=$A8)*(Heures!G$2:G$154=$B13)) -> 0 | H13: =SUMPRODUCT((Heures!$A$2:$A$154=$A8)*(Heures!H$2:H$154=$B13)) -> 0 | I13: =SUMPRODUCT((Heures!$A$2:$A$154=$A8)*(Heures!I$2:I$154=$B13)) -> 0 | J13: =SUMPRODUCT((Heures!$A$2:$A$154=$A8)*(Heures!J$2:J$154=$B13)) -> 0 | K13: =SUMPRODUCT((Heures!$A$2:$A$154=$A8)*(Heures!K$2:K$154=$B13)) -> 2 | ... R13: =SUMPRODUCT((Heures!$A$2:$A$154=$A8)*(Heures!R$2:R$154=$B13)) -> 0
A14: 42766 | B14: NORMAL | C14: heures | D14: =SUMPRODUCT((Heures!$A$2:$A$154=$A14)*(ISNUMBER(Heures!$C$2:$C$154)),(Heures!D$2:D$154)) -> 0 | E14: =SUMPRODUCT((Heures!$A$2:$A$154=$A14)*(ISNUMBER(Heures!$C$2:$C$154)),(Heures!E$2:E$154)) -> 0 | F14: =SUMPRODUCT((Heures!$A$2:$A$154=$A14)*(ISNUMBER(Heures!$C$2:$C$154)),(Heures!F$2:F$154)) -> 0 | G14: =SUMPRODUCT((Heures!$A$2:$A$154=$A14)*(ISNUMBER(Heures!$C$2:$C$154)),(Heures!G$2:G$154)) -> 0 | H14: =SUMPRODUCT((Heures!$A$2:$A$154=$A14)*(ISNUMBER(Heures!$C$2:$C$154)),(Heures!H$2:H$154)) -> 0 | I14: =SUMPRODUCT((Heures!$A$2:$A$154=$A14)*(ISNUMBER(Heures!$C$2:$C$154)),(Heures!I$2:I$154)) -> 0 | J14: =SUMPRODUCT((Heures!$A$2:$A$154=$A14)*(ISNUMBER(Heures!$C$2:$C$154)),(Heures!J$2:J$154)) -> 0 | K14: =SUMPRODUCT((Heures!$A$2:$A$154=$A14)*(ISNUMBER(Heures!$C$2:$C$154)),(Heures!K$2:K$154)) -> 0 | ... Q14: =SUMPRODUCT((Heures!$A$2:$A$154=$A14)*(ISNUMBER(Heures!$C$2:$C$154)),(Heures!Q$2:Q$154)) -> 0 | R14: =SUMPRODUCT((Heures!$A$2:$A$154=$A14)*(ISNUMBER(Heures!$C$2:$C$154))*(Heures!R$2:R$154)) -> 0
B15: HEURES SUP | C15: heures | D15: =SUMPRODUCT((Heures!$A$2:$A$154=$A14)*(Heures!$C$2:$C$154="HEURES SUP"),(Heures!D$2:D$154)) -> 0 | E15: =SUMPRODUCT((Heures!$A$2:$A$154=$A14)*(Heures!$C$2:$C$154="HEURES SUP"),(Heures!E$2:E$154)) -> 0 | F15: =SUMPRODUCT((Heures!$A$2:$A$154=$A14)*(Heures!$C$2:$C$154="HEURES SUP"),(Heures!F$2:F$154)) -> 0 | G15: =SUMPRODUCT((Heures!$A$2:$A$154=$A14)*(Heures!$C$2:$C$154="HEURES SUP"),(Heures!G$2:G$154)) -> 0 | H15: =SUMPRODUCT((Heures!$A$2:$A$154=$A14)*(Heures!$C$2:$C$154="HEURES SUP"),(Heures!H$2:H$154)) -> 0 | I15: =SUMPRODUCT((Heures!$A$2:$A$154=$A14)*(Heures!$C$2:$C$154="HEURES SUP"),(Heures!I$2:I$154)) -> 0 | J15: =SUMPRODUCT((Heures!$A$2:$A$154=$A14)*(Heures!$C$2:$C$154="HEURES SUP"),(Heures!J$2:J$154)) -> 0 | K15: =SUMPRODUCT((Heures!$A$2:$A$154=$A14)*(Heures!$C$2:$C$154="HEURES SUP"),(Heures!K$2:K$154)) -> 0 | ... Q15: =SUMPRODUCT((Heures!$A$2:$A$154=$A14)*(Heures!$C$2:$C$154="HEURES SUP"),(Heures!Q$2:Q$154)) -> 0 | R15: =SUMPRODUCT((Heures!$A$2:$A$154=$A14)*(Heures!$C$2:$C$154="HEURES SUP")*(Heures!R$2:R$154)) -> 0
B16: JF | C16: jours | D16: =SUMPRODUCT((Heures!$A$2:$A$154=$A14)*(COUNTIF(JF,Heures!$C$2:$C$154))) -> 0 | E16: =SUMPRODUCT((Heures!$A$2:$A$154=$A14)*(COUNTIF(JF,Heures!$C$2:$C$154))) -> 0 | F16: =SUMPRODUCT((Heures!$A$2:$A$154=$A14)*(COUNTIF(JF,Heures!$C$2:$C$154))) -> 0 | G16: =SUMPRODUCT((Heures!$A$2:$A$154=$A14)*(COUNTIF(JF,Heures!$C$2:$C$154))) -> 0 | H16: =SUMPRODUCT((Heures!$A$2:$A$154=$A14)*(COUNTIF(JF,Heures!$C$2:$C$154))) -> 0 | I16: =SUMPRODUCT((Heures!$A$2:$A$154=$A14)*(COUNTIF(JF,Heures!$C$2:$C$154))) -> 0 | J16: =SUMPRODUCT((Heures!$A$2:$A$154=$A14)*(COUNTIF(JF,Heures!$C$2:$C$154))) -> 0 | K16: =SUMPRODUCT((Heures!$A$2:$A$154=$A14)*(COUNTIF(JF,Heures!$C$2:$C$154))) -> 0 | ... R16: =SUMPRODUCT((Heures!$A$2:$A$154=$A14)*(COUNTIF(JF,Heures!$C$2:$C$154))) -> 0
B17: CON | C17: jours | D17: =SUMPRODUCT((Heures!$A$2:$A$154=$A14)*(Heures!D$2:D$154=$B17)) -> 0 | E17: =SUMPRODUCT((Heures!$A$2:$A$154=$A14)*(Heures!E$2:E$154=$B17)) -> 0 | F17: =SUMPRODUCT((Heures!$A$2:$A$154=$A14)*(Heures!F$2:F$154=$B17)) -> 0 | G17: =SUMPRODUCT((Heures!$A$2:$A$154=$A14)*(Heures!G$2:G$154=$B17)) -> 0 | H17: =SUMPRODUCT((Heures!$A$2:$A$154=$A14)*(Heures!H$2:H$154=$B17)) -> 0 | I17: =SUMPRODUCT((Heures!$A$2:$A$154=$A14)*(Heures!I$2:I$154=$B17)) -> 0 | J17: =SUMPRODUCT((Heures!$A$2:$A$154=$A14)*(Heures!J$2:J$154=$B17)) -> 0 | K17: =SUMPRODUCT((Heures!$A$2:$A$154=$A14)*(Heures!K$2:K$154=$B17)) -> 0 | ... R17: =SUMPRODUCT((Heures!$A$2:$A$154=$A14)*(Heures!R$2:R$154=$B17)) -> 0
B18: MAL | C18: jours | D18: =SUMPRODUCT((Heures!$A$2:$A$154=$A14)*(Heures!D$2:D$154=$B18)) -> 0 | E18: =SUMPRODUCT((Heures!$A$2:$A$154=$A14)*(Heures!E$2:E$154=$B18)) -> 0 | F18: =SUMPRODUCT((Heures!$A$2:$A$154=$A14)*(Heures!F$2:F$154=$B18)) -> 0 | G18: =SUMPRODUCT((Heures!$A$2:$A$154=$A14)*(Heures!G$2:G$154=$B18)) -> 0 | H18: =SUMPRODUCT((Heures!$A$2:$A$154=$A14)*(Heures!H$2:H$154=$B18)) -> 0 | I18: =SUMPRODUCT((Heures!$A$2:$A$154=$A14)*(Heures!I$2:I$154=$B18)) -> 0 | J18: =SUMPRODUCT((Heures!$A$2:$A$154=$A14)*(Heures!J$2:J$154=$B18)) -> 0 | K18: =SUMPRODUCT((Heures!$A$2:$A$154=$A14)*(Heures!K$2:K$154=$B18)) -> 0 | ... R18: =SUMPRODUCT((Heures!$A$2:$A$154=$A14)*(Heures!R$2:R$154=$B18)) -> 0
B19: ABS | C19: jours | D19: =SUMPRODUCT((Heures!$A$2:$A$154=$A14)*(Heures!D$2:D$154=$B19)) -> 0 | E19: =SUMPRODUCT((Heures!$A$2:$A$154=$A14)*(Heures!E$2:E$154=$B19)) -> 0 | F19: =SUMPRODUCT((Heures!$A$2:$A$154=$A14)*(Heures!F$2:F$154=$B19)) -> 0 | G19: =SUMPRODUCT((Heures!$A$2:$A$154=$A14)*(Heures!G$2:G$154=$B19)) -> 0 | H19: =SUMPRODUCT((Heures!$A$2:$A$154=$A14)*(Heures!H$2:H$154=$B19)) -> 0 | I19: =SUMPRODUCT((Heures!$A$2:$A$154=$A14)*(Heures!I$2:I$154=$B19)) -> 0 | J19: =SUMPRODUCT((Heures!$A$2:$A$154=$A14)*(Heures!J$2:J$154=$B19)) -> 0 | K19: =SUMPRODUCT((Heures!$A$2:$A$154=$A14)*(Heures!K$2:K$154=$B19)) -> 0 | ... R19: =SUMPRODUCT((Heures!$A$2:$A$154=$A14)*(Heures!R$2:R$154=$B19)) -> 0

Sheet JF
A1: JF | B1: 2016 | C1: =B1+1 -> 2017 | D1: =C1+1 -> 2018 | E1: =D1+1 -> 2019 | F1: =E1+1 -> 2020 | G1: =F1+1 -> 2021 | H1: =G1+1 -> 2022 | I1: =H1+1 -> 2023 | J1: =I1+1 -> 2024 | K1: =J1+1 -> 2025
A2: Pâques | B2: =ROUND(DATE(B1,4,MOD(234-11*MOD(B1,19),30))/7,0)*7-6 -> 42456 | C2: =ROUND(DATE(C1,4,MOD(234-11*MOD(C1,19),30))/7,0)*7-6 -> 42841 | D2: =ROUND(DATE(D1,4,MOD(234-11*MOD(D1,19),30))/7,0)*7-6 -> 43191 | E2: =ROUND(DATE(E1,4,MOD(234-11*MOD(E1,19),30))/7,0)*7-6 -> 43576 | F2: =ROUND(DATE(F1,4,MOD(234-11*MOD(F1,19),30))/7,0)*7-6 -> 43933 | G2: =ROUND(DATE(G1,4,MOD(234-11*MOD(G1,19),30))/7,0)*7-6 -> 44290 | H2: =ROUND(DATE(H1,4,MOD(234-11*MOD(H1,19),30))/7,0)*7-6 -> 44668 | I2: =ROUND(DATE(I1,4,MOD(234-11*MOD(I1,19),30))/7,0)*7-6 -> 45025 | ... K2: =ROUND(DATE(K1,4,MOD(234-11*MOD(K1,19),30))/7,0)*7-6 -> 45767
A3: Lundi de Pâques | B3: =B2+1 -> 42457 | C3: =C2+1 -> 42842 | D3: =D2+1 -> 43192 | E3: =E2+1 -> 43577 | F3: =F2+1 -> 43934 | G3: =G2+1 -> 44291 | H3: =H2+1 -> 44669 | I3: =I2+1 -> 45026 | ... K3: =K2+1 -> 45768
A4: Ascension | B4: =B2+39 -> 42495 | C4: =C2+39 -> 42880 | D4: =D2+39 -> 43230 | E4: =E2+39 -> 43615 | F4: =F2+39 -> 43972 | G4: =G2+39 -> 44329 | H4: =H2+39 -> 44707 | I4: =I2+39 -> 45064 | ... K4: =K2+39 -> 45806
A5: Pentecôte | B5: =B2+50 -> 42506 | C5: =C2+50 -> 42891 | D5: =D2+50 -> 43241 | E5: =E2+50 -> 43626 | F5: =F2+50 -> 43983 | G5: =G2+50 -> 44340 | H5: =H2+50 -> 44718 | I5: =I2+50 -> 45075 | ... K5: =K2+50 -> 45817
A6: Premier de l'AN | B6: =DATE(B1,1,1) -> 42370 | C6: =DATE(C1,1,1) -> 42736 | D6: =DATE(D1,1,1) -> 43101 | E6: =DATE(E1,1,1) -> 43466 | F6: =DATE(F1,1,1) -> 43831 | G6: =DATE(G1,1,1) -> 44197 | H6: =DATE(H1,1,1) -> 44562 | I6: =DATE(I1,1,1) -> 44927 | ... K6: =DATE(K1,1,1) -> 45658
A7: Fête du travail | B7: =DATE(B1,5,1) -> 42491 | C7: =DATE(C1,5,1) -> 42856 | D7: =DATE(D1,5,1) -> 43221 | E7: =DATE(E1,5,1) -> 43586 | F7: =DATE(F1,5,1) -> 43952 | G7: =DATE(G1,5,1) -> 44317 | H7: =DATE(H1,5,1) -> 44682 | I7: =DATE(I1,5,1) -> 45047 | ... K7: =DATE(K1,5,1) -> 45778
A8: Victoire de 1945 | B8: =DATE(B1,5,8) -> 42498 | C8: =DATE(C1,5,8) -> 42863 | D8: =DATE(D1,5,8) -> 43228 | E8: =DATE(E1,5,8) -> 43593 | F8: =DATE(F1,5,8) -> 43959 | G8: =DATE(G1,5,8) -> 44324 | H8: =DATE(H1,5,8) -> 44689 | I8: =DATE(I1,5,8) -> 45054 | ... K8: =DATE(K1,5,8) -> 45785
A9: Fête nationale | B9: =DATE(B1,7,14) -> 42565 | C9: =DATE(C1,7,14) -> 42930 | D9: =DATE(D1,7,14) -> 43295 | E9: =DATE(E1,7,14) -> 43660 | F9: =DATE(F1,7,14) -> 44026 | G9: =DATE(G1,7,14) -> 44391 | H9: =DATE(H1,7,14) -> 44756 | I9: =DATE(I1,7,14) -> 45121 | ... K9: =DATE(K1,7,14) -> 45852
A10: Assomption | B10: =DATE(B1,8,15) -> 42597 | C10: =DATE(C1,8,15) -> 42962 | D10: =DATE(D1,8,15) -> 43327 | E10: =DATE(E1,8,15) -> 43692 | F10: =DATE(F1,8,15) -> 44058 | G10: =DATE(G1,8,15) -> 44423 | H10: =DATE(H1,8,15) -> 44788 | I10: =DATE(I1,8,15) -> 45153 | ... K10: =DATE(K1,8,15) -> 45884
A11: Toussaint | B11: =DATE(B1,11,1) -> 42675 | C11: =DATE(C1,11,1) -> 43040 | D11: =DATE(D1,11,1) -> 43405 | E11: =DATE(E1,11,1) -> 43770 | F11: =DATE(F1,11,1) -> 44136 | G11: =DATE(G1,11,1) -> 44501 | H11: =DATE(H1,11,1) -> 44866 | I11: =DATE(I1,11,1) -> 45231 | ... K11: =DATE(K1,11,1) -> 45962
A12: Armistice | B12: =DATE(B1,11,11) -> 42685 | C12: =DATE(C1,11,11) -> 43050 | D12: =DATE(D1,11,11) -> 43415 | E12: =DATE(E1,11,11) -> 43780 | F12: =DATE(F1,11,11) -> 44146 | G12: =DATE(G1,11,11) -> 44511 | H12: =DATE(H1,11,11) -> 44876 | I12: =DATE(I1,11,11) -> 45241 | ... K12: =DATE(K1,11,11) -> 45972
A13: Noël | B13: =DATE(B1,12,25) -> 42729 | C13: =DATE(C1,12,25) -> 43094 | D13: =DATE(D1,12,25) -> 43459 | E13: =DATE(E1,12,25) -> 43824 | F13: =DATE(F1,12,25) -> 44190 | G13: =DATE(G1,12,25) -> 44555 | H13: =DATE(H1,12,25) -> 44920 | I13: =DATE(I1,12,25) -> 45285 | ... K13: =DATE(K1,12,25) -> 46016
A15: jours confondus
A16: jours consécutifs
A17: jours séparés d'un seul jour
A18: week end
