Workbook

Sheet Feuil1
A1: SITE CODE | B1: SITE NOM | C1: VILLE | D1: COMPUTERNAME | E1: INFOS PC
A2: =INDEX(Feuil2!A:A,MATCH($D2,Feuil2!$D:$D,0)) -> CODE 1 | B2: =INDEX(Feuil2!B:B,MATCH($D2,Feuil2!$D:$D,0)) -> NOM 1 | C2: =INDEX(Feuil2!C:C,MATCH($D2,Feuil2!$D:$D,0)) -> VILLE 1 | D2: PC1 | E2: INFO1
A3: =INDEX(Feuil2!A:A,MATCH($D3,Feuil2!$D:$D,0)) -> CODE 1 | B3: =INDEX(Feuil2!B:B,MATCH($D3,Feuil2!$D:$D,0)) -> NOM 1 | C3: =INDEX(Feuil2!C:C,MATCH($D3,Feuil2!$D:$D,0)) -> VILLE 1 | D3: PC1 | E3: INFO2
A4: =INDEX(Feuil2!A:A,MATCH($D4,Feuil2!$D:$D,0)) -> CODE 1 | B4: =INDEX(Feuil2!B:B,MATCH($D4,Feuil2!$D:$D,0)) -> NOM 1 | C4: =INDEX(Feuil2!C:C,MATCH($D4,Feuil2!$D:$D,0)) -> VILLE 1 | D4: PC1 | E4: INFO3
A5: =INDEX(Feuil2!A:A,MATCH($D5,Feuil2!$D:$D,0)) -> CODE 1 | B5: =INDEX(Feuil2!B:B,MATCH($D5,Feuil2!$D:$D,0)) -> NOM 1 | C5: =INDEX(Feuil2!C:C,MATCH($D5,Feuil2!$D:$D,0)) -> VILLE 1 | D5: PC1 | E5: INFO4
A6: =INDEX(Feuil2!A:A,MATCH($D6,Feuil2!$D:$D,0)) -> CODE 1 | B6: =INDEX(Feuil2!B:B,MATCH($D6,Feuil2!$D:$D,0)) -> NOM 1 | C6: =INDEX(Feuil2!C:C,MATCH($D6,Feuil2!$D:$D,0)) -> VILLE 1 | D6: PC1 | E6: INFO5
A7: =INDEX(Feuil2!A:A,MATCH($D7,Feuil2!$D:$D,0)) -> CODE 1 | B7: =INDEX(Feuil2!B:B,MATCH($D7,Feuil2!$D:$D,0)) -> NOM 1 | C7: =INDEX(Feuil2!C:C,MATCH($D7,Feuil2!$D:$D,0)) -> VILLE 1 | D7: PC1 | E7: INFO6
A8: =INDEX(Feuil2!A:A,MATCH($D8,Feuil2!$D:$D,0)) -> CODE 1 | B8: =INDEX(Feuil2!B:B,MATCH($D8,Feuil2!$D:$D,0)) -> NOM 1 | C8: =INDEX(Feuil2!C:C,MATCH($D8,Feuil2!$D:$D,0)) -> VILLE 1 | D8: PC1 | E8: INFO7
A9: =INDEX(Feuil2!A:A,MATCH($D9,Feuil2!$D:$D,0)) -> CODE 1 | B9: =INDEX(Feuil2!B:B,MATCH($D9,Feuil2!$D:$D,0)) -> NOM 1 | C9: =INDEX(Feuil2!C:C,MATCH($D9,Feuil2!$D:$D,0)) -> VILLE 1 | D9: PC1 | E9: INFO8
A10: =INDEX(Feuil2!A:A,MATCH($D10,Feuil2!$D:$D,0)) -> CODE 2 | B10: =INDEX(Feuil2!B:B,MATCH($D10,Feuil2!$D:$D,0)) -> NOM 2 | C10: =INDEX(Feuil2!C:C,MATCH($D10,Feuil2!$D:$D,0)) -> VILLE 2 | D10: PC2 | E10: INFO1
A11: =INDEX(Feuil2!A:A,MATCH($D11,Feuil2!$D:$D,0)) -> CODE 2 | B11: =INDEX(Feuil2!B:B,MATCH($D11,Feuil2!$D:$D,0)) -> NOM 2 | C11: =INDEX(Feuil2!C:C,MATCH($D11,Feuil2!$D:$D,0)) -> VILLE 2 | D11: PC2 | E11: INFO2
A12: =INDEX(Feuil2!A:A,MATCH($D12,Feuil2!$D:$D,0)) -> CODE 2 | B12: =INDEX(Feuil2!B:B,MATCH($D12,Feuil2!$D:$D,0)) -> NOM 2 | C12: =INDEX(Feuil2!C:C,MATCH($D12,Feuil2!$D:$D,0)) -> VILLE 2 | D12: PC2 | E12: INFO3
A13: =INDEX(Feuil2!A:A,MATCH($D13,Feuil2!$D:$D,0)) -> CODE 2 | B13: =INDEX(Feuil2!B:B,MATCH($D13,Feuil2!$D:$D,0)) -> NOM 2 | C13: =INDEX(Feuil2!C:C,MATCH($D13,Feuil2!$D:$D,0)) -> VILLE 2 | D13: PC2 | E13: INFO4
... A21: =INDEX(Feuil2!A:A,MATCH($D21,Feuil2!$D:$D,0)) -> CODE 3 | B21: =INDEX(Feuil2!B:B,MATCH($D21,Feuil2!$D:$D,0)) -> NOM 3 | C21: =INDEX(Feuil2!C:C,MATCH($D21,Feuil2!$D:$D,0)) -> VILLE 3 | D21: PC3 | E21: INFO7

Sheet Feuil2
A1: SITE CODE | B1: SITE NOM | C1: VILLE | D1: COMPUTERNAME
A2: CODE 1 | B2: NOM 1 | C2: VILLE 1 | D2: PC1
A3: CODE 2 | B3: NOM 2 | C3: VILLE 2 | D3: PC2
A4: CODE 3 | B4: NOM 3 | C4: VILLE 3 | D4: PC3
A5: CODE 4 | B5: NOM 4 | C5: VILLE 4 | D5: PC4
A6: CODE 5 | B6: NOM 5 | C6: VILLE 5 | D6: PC5
A7: CODE 6 | B7: NOM 6 | C7: VILLE 6 | D7: PC6
A8: CODE 7 | B8: NOM 7 | C8: VILLE 7 | D8: PC7
A9: CODE 8 | B9: NOM 8 | C9: VILLE 8 | D9: PC8
A10: CODE 9 | B10: NOM 9 | C10: VILLE 9 | D10: PC9
A11: CODE 10 | B11: NOM 10 | C11: VILLE 2 | D11: PC10
A12: CODE 11 | B12: NOM 11 | C12: VILLE 6 | D12: PC11
... A21: CODE 20 | B21: NOM 20 | C21: VILLE 1 | D21: PC20
