Workbook

Sheet Metrics Hebdo 2018_2019
F1: 2018 | N1: 2019
E7: JEUDI | F7: =DATE($F$1,1,1)-WEEKDAY(DATE($F$1,1,1),2)+1+IF(WEEKDAY(DATE($F$1,1,1),2)>4,7,0)+(F8-1)*7+4 -> 43413 | G7: =DATE($F$1,1,1)-WEEKDAY(DATE($F$1,1,1),2)+1+IF(WEEKDAY(DATE($F$1,1,1),2)>4,7,0)+(G8-1)*7+4 -> 43420 | H7: =DATE($F$1,1,1)-WEEKDAY(DATE($F$1,1,1),2)+1+IF(WEEKDAY(DATE($F$1,1,1),2)>4,7,0)+(H8-1)*7+4 -> 43427 | I7: =DATE($F$1,1,1)-WEEKDAY(DATE($F$1,1,1),2)+1+IF(WEEKDAY(DATE($F$1,1,1),2)>4,7,0)+(I8-1)*7+4 -> 43434 | J7: =DATE($F$1,1,1)-WEEKDAY(DATE($F$1,1,1),2)+1+IF(WEEKDAY(DATE($F$1,1,1),2)>4,7,0)+(J8-1)*7+4 -> 43441 | K7: =DATE($F$1,1,1)-WEEKDAY(DATE($F$1,1,1),2)+1+IF(WEEKDAY(DATE($F$1,1,1),2)>4,7,0)+(K8-1)*7+4 -> 43448 | L7: =DATE($F$1,1,1)-WEEKDAY(DATE($F$1,1,1),2)+1+IF(WEEKDAY(DATE($F$1,1,1),2)>4,7,0)+(L8-1)*7+4 -> 43455 | M7: =DATE($F$1,1,1)-WEEKDAY(DATE($F$1,1,1),2)+1+IF(WEEKDAY(DATE($F$1,1,1),2)>4,7,0)+(M8-1)*7+4 -> 43462 | N7: =DATE($N$1,1,1)-WEEKDAY(DATE($N$1,1,1),2)+1+IF(WEEKDAY(DATE($N$1,1,1),2)>4,7,0)+(N8-1)*7+4 -> 43469 | O7: =DATE($N$1,1,1)-WEEKDAY(DATE($N$1,1,1),2)+1+IF(WEEKDAY(DATE($N$1,1,1),2)>4,7,0)+(O8-1)*7+4 -> 43476 | P7: =DATE($N$1,1,1)-WEEKDAY(DATE($N$1,1,1),2)+1+IF(WEEKDAY(DATE($N$1,1,1),2)>4,7,0)+(P8-1)*7+4 -> 43483 | Q7: =DATE($N$1,1,1)-WEEKDAY(DATE($N$1,1,1),2)+1+IF(WEEKDAY(DATE($N$1,1,1),2)>4,7,0)+(Q8-1)*7+4 -> 43490 | R7: =DATE($N$1,1,1)-WEEKDAY(DATE($N$1,1,1),2)+1+IF(WEEKDAY(DATE($N$1,1,1),2)>4,7,0)+(R8-1)*7+4 -> 43497 | S7: =DATE($N$1,1,1)-WEEKDAY(DATE($N$1,1,1),2)+1+IF(WEEKDAY(DATE($N$1,1,1),2)>4,7,0)+(S8-1)*7+4 -> 43504 | T7: =DATE($N$1,1,1)-WEEKDAY(DATE($N$1,1,1),2)+1+IF(WEEKDAY(DATE($N$1,1,1),2)>4,7,0)+(T8-1)*7+4 -> 43511 | U7: =DATE($N$1,1,1)-WEEKDAY(DATE($N$1,1,1),2)+1+IF(WEEKDAY(DATE($N$1,1,1),2)>4,7,0)+(U8-1)*7+4 -> 43518 | ... Y7: =DATE($N$1,1,1)-WEEKDAY(DATE($N$1,1,1),2)+1+IF(WEEKDAY(DATE($N$1,1,1),2)>4,7,0)+(Y8-1)*7+4 -> 43546
A8: ID | B8: Indicator Name | F8: 45 | G8: 46 | H8: 47 | I8: 48 | J8: 49 | K8: 50 | L8: 51 | M8: 52 | N8: 1 | O8: 2 | P8: 3 | Q8: 4 | R8: 5 | S8: 6 | T8: 7 | U8: 8 | V8: 9 | W8: 10 | X8: 11 | Y8: 12
A9: 1 | B9: Visitors | F9: 108 | G9: 76 | H9: 72 | I9: 113

Sheet SaaS Metrrics
C5: ID | D5: Indicator Name | H5: 43405 | I5: 43435 | J5: 43466 | K5: 43497 | L5: 43525 | M5: 43556 | N5: 43586 | O5: 43617 | P5: 43647 | Q5: 43678 | R5: 43709 | S5: 43739 | T5: Total
C6: 1 | D6: Visitors | H6: =SUMPRODUCT((YEAR('Metrics Hebdo 2018_2019'!$F$7:$Y$7)=YEAR(H5))*(MONTH('Metrics Hebdo 2018_2019'!$F$7:$Y$7)=MONTH(H5))*('Metrics Hebdo 2018_2019'!$F$9:$Y$9)) -> 369 | I6: =SUMPRODUCT((YEAR('Metrics Hebdo 2018_2019'!$F$7:$Y$7)=YEAR(I5))*(MONTH('Metrics Hebdo 2018_2019'!$F$7:$Y$7)=MONTH(I5))*('Metrics Hebdo 2018_2019'!$F$9:$Y$9)) -> 0 | J6: =SUMPRODUCT((YEAR('Metrics Hebdo 2018_2019'!$F$7:$Y$7)=YEAR(J5))*(MONTH('Metrics Hebdo 2018_2019'!$F$7:$Y$7)=MONTH(J5))*('Metrics Hebdo 2018_2019'!$F$9:$Y$9)) -> 0 | K6: =SUMPRODUCT((YEAR('Metrics Hebdo 2018_2019'!$F$7:$Y$7)=YEAR(K5))*(MONTH('Metrics Hebdo 2018_2019'!$F$7:$Y$7)=MONTH(K5))*('Metrics Hebdo 2018_2019'!$F$9:$Y$9)) -> 0 | L6: =SUMPRODUCT((YEAR('Metrics Hebdo 2018_2019'!$F$7:$Y$7)=YEAR(L5))*(MONTH('Metrics Hebdo 2018_2019'!$F$7:$Y$7)=MONTH(L5))*('Metrics Hebdo 2018_2019'!$F$9:$Y$9)) -> 0 | M6: =SUMPRODUCT((YEAR('Metrics Hebdo 2018_2019'!$F$7:$Y$7)=YEAR(M5))*(MONTH('Metrics Hebdo 2018_2019'!$F$7:$Y$7)=MONTH(M5))*('Metrics Hebdo 2018_2019'!$F$9:$Y$9)) -> 0 | N6: =SUMPRODUCT((YEAR('Metrics Hebdo 2018_2019'!$F$7:$Y$7)=YEAR(N5))*(MONTH('Metrics Hebdo 2018_2019'!$F$7:$Y$7)=MONTH(N5))*('Metrics Hebdo 2018_2019'!$F$9:$Y$9)) -> 0 | O6: =SUMPRODUCT((YEAR('Metrics Hebdo 2018_2019'!$F$7:$Y$7)=YEAR(O5))*(MONTH('Metrics Hebdo 2018_2019'!$F$7:$Y$7)=MONTH(O5))*('Metrics Hebdo 2018_2019'!$F$9:$Y$9)) -> 0 | ... S6: =SUMPRODUCT((YEAR('Metrics Hebdo 2018_2019'!$F$7:$Y$7)=YEAR(S5))*(MONTH('Metrics Hebdo 2018_2019'!$F$7:$Y$7)=MONTH(S5))*('Metrics Hebdo 2018_2019'!$F$9:$Y$9)) -> 0
