Workbook

Sheet TCD
A3: Étiquettes de lignes | B3: Nombre de ML
A4: 12837 | B4: 2 | C4: =IF(OR(A4="",$B4<COLUMN()-2),"",INDEX(Feuil1!$C$6:$C$17,MATCH($A4,Feuil1!$B$6:$B$17,0)+COLUMN()-2-1)) -> 16100 | D4: =IF(OR(B4="",$B4<COLUMN()-2),"",INDEX(Feuil1!$C$6:$C$17,MATCH($A4,Feuil1!$B$6:$B$17,0)+COLUMN()-2-1)) -> 16300 | E4: =IF(OR(C4="",$B4<COLUMN()-2),"",INDEX(Feuil1!$C$6:$C$17,MATCH($A4,Feuil1!$B$6:$B$17,0)+COLUMN()-2-1)) | F4: =IF(OR(D4="",$B4<COLUMN()-2),"",INDEX(Feuil1!$C$6:$C$17,MATCH($A4,Feuil1!$B$6:$B$17,0)+COLUMN()-2-1)) | G4: =IF(OR(E4="",$B4<COLUMN()-2),"",INDEX(Feuil1!$C$6:$C$17,MATCH($A4,Feuil1!$B$6:$B$17,0)+COLUMN()-2-1)) | H4: =IF(OR(F4="",$B4<COLUMN()-2),"",INDEX(Feuil1!$C$6:$C$17,MATCH($A4,Feuil1!$B$6:$B$17,0)+COLUMN()-2-1)) | I4: =IF(OR(G4="",$B4<COLUMN()-2),"",INDEX(Feuil1!$C$6:$C$17,MATCH($A4,Feuil1!$B$6:$B$17,0)+COLUMN()-2-1)) | J4: =IF(OR(H4="",$B4<COLUMN()-2),"",INDEX(Feuil1!$C$6:$C$17,MATCH($A4,Feuil1!$B$6:$B$17,0)+COLUMN()-2-1)) | ... L4: =IF(OR(J4="",$B4<COLUMN()-2),"",INDEX(Feuil1!$C$6:$C$17,MATCH($A4,Feuil1!$B$6:$B$17,0)+COLUMN()-2-1))
C5: =IF(OR(A5="",$B5<COLUMN()-2),"",INDEX(Feuil1!$C$6:$C$17,MATCH($A5,Feuil1!$B$6:$B$17,0)+COLUMN()-2-1)) | D5: =IF(OR(B5="",$B5<COLUMN()-2),"",INDEX(Feuil1!$C$6:$C$17,MATCH($A5,Feuil1!$B$6:$B$17,0)+COLUMN()-2-1)) | E5: =IF(OR(C5="",$B5<COLUMN()-2),"",INDEX(Feuil1!$C$6:$C$17,MATCH($A5,Feuil1!$B$6:$B$17,0)+COLUMN()-2-1)) | F5: =IF(OR(D5="",$B5<COLUMN()-2),"",INDEX(Feuil1!$C$6:$C$17,MATCH($A5,Feuil1!$B$6:$B$17,0)+COLUMN()-2-1)) | G5: =IF(OR(E5="",$B5<COLUMN()-2),"",INDEX(Feuil1!$C$6:$C$17,MATCH($A5,Feuil1!$B$6:$B$17,0)+COLUMN()-2-1)) | H5: =IF(OR(F5="",$B5<COLUMN()-2),"",INDEX(Feuil1!$C$6:$C$17,MATCH($A5,Feuil1!$B$6:$B$17,0)+COLUMN()-2-1)) | I5: =IF(OR(G5="",$B5<COLUMN()-2),"",INDEX(Feuil1!$C$6:$C$17,MATCH($A5,Feuil1!$B$6:$B$17,0)+COLUMN()-2-1)) | J5: =IF(OR(H5="",$B5<COLUMN()-2),"",INDEX(Feuil1!$C$6:$C$17,MATCH($A5,Feuil1!$B$6:$B$17,0)+COLUMN()-2-1)) | ... L5: =IF(OR(J5="",$B5<COLUMN()-2),"",INDEX(Feuil1!$C$6:$C$17,MATCH($A5,Feuil1!$B$6:$B$17,0)+COLUMN()-2-1))
C6: =IF(OR(A6="",$B6<COLUMN()-2),"",INDEX(Feuil1!$C$6:$C$17,MATCH($A6,Feuil1!$B$6:$B$17,0)+COLUMN()-2-1)) | D6: =IF(OR(B6="",$B6<COLUMN()-2),"",INDEX(Feuil1!$C$6:$C$17,MATCH($A6,Feuil1!$B$6:$B$17,0)+COLUMN()-2-1)) | E6: =IF(OR(C6="",$B6<COLUMN()-2),"",INDEX(Feuil1!$C$6:$C$17,MATCH($A6,Feuil1!$B$6:$B$17,0)+COLUMN()-2-1)) | F6: =IF(OR(D6="",$B6<COLUMN()-2),"",INDEX(Feuil1!$C$6:$C$17,MATCH($A6,Feuil1!$B$6:$B$17,0)+COLUMN()-2-1)) | G6: =IF(OR(E6="",$B6<COLUMN()-2),"",INDEX(Feuil1!$C$6:$C$17,MATCH($A6,Feuil1!$B$6:$B$17,0)+COLUMN()-2-1)) | H6: =IF(OR(F6="",$B6<COLUMN()-2),"",INDEX(Feuil1!$C$6:$C$17,MATCH($A6,Feuil1!$B$6:$B$17,0)+COLUMN()-2-1)) | I6: =IF(OR(G6="",$B6<COLUMN()-2),"",INDEX(Feuil1!$C$6:$C$17,MATCH($A6,Feuil1!$B$6:$B$17,0)+COLUMN()-2-1)) | J6: =IF(OR(H6="",$B6<COLUMN()-2),"",INDEX(Feuil1!$C$6:$C$17,MATCH($A6,Feuil1!$B$6:$B$17,0)+COLUMN()-2-1)) | ... L6: =IF(OR(J6="",$B6<COLUMN()-2),"",INDEX(Feuil1!$C$6:$C$17,MATCH($A6,Feuil1!$B$6:$B$17,0)+COLUMN()-2-1))
C7: =IF(OR(A7="",$B7<COLUMN()-2),"",INDEX(Feuil1!$C$6:$C$17,MATCH($A7,Feuil1!$B$6:$B$17,0)+COLUMN()-2-1)) | D7: =IF(OR(B7="",$B7<COLUMN()-2),"",INDEX(Feuil1!$C$6:$C$17,MATCH($A7,Feuil1!$B$6:$B$17,0)+COLUMN()-2-1)) | E7: =IF(OR(C7="",$B7<COLUMN()-2),"",INDEX(Feuil1!$C$6:$C$17,MATCH($A7,Feuil1!$B$6:$B$17,0)+COLUMN()-2-1)) | F7: =IF(OR(D7="",$B7<COLUMN()-2),"",INDEX(Feuil1!$C$6:$C$17,MATCH($A7,Feuil1!$B$6:$B$17,0)+COLUMN()-2-1)) | G7: =IF(OR(E7="",$B7<COLUMN()-2),"",INDEX(Feuil1!$C$6:$C$17,MATCH($A7,Feuil1!$B$6:$B$17,0)+COLUMN()-2-1)) | H7: =IF(OR(F7="",$B7<COLUMN()-2),"",INDEX(Feuil1!$C$6:$C$17,MATCH($A7,Feuil1!$B$6:$B$17,0)+COLUMN()-2-1)) | I7: =IF(OR(G7="",$B7<COLUMN()-2),"",INDEX(Feuil1!$C$6:$C$17,MATCH($A7,Feuil1!$B$6:$B$17,0)+COLUMN()-2-1)) | J7: =IF(OR(H7="",$B7<COLUMN()-2),"",INDEX(Feuil1!$C$6:$C$17,MATCH($A7,Feuil1!$B$6:$B$17,0)+COLUMN()-2-1)) | ... L7: =IF(OR(J7="",$B7<COLUMN()-2),"",INDEX(Feuil1!$C$6:$C$17,MATCH($A7,Feuil1!$B$6:$B$17,0)+COLUMN()-2-1))
C8: =IF(OR(A8="",$B8<COLUMN()-2),"",INDEX(Feuil1!$C$6:$C$17,MATCH($A8,Feuil1!$B$6:$B$17,0)+COLUMN()-2-1)) | D8: =IF(OR(B8="",$B8<COLUMN()-2),"",INDEX(Feuil1!$C$6:$C$17,MATCH($A8,Feuil1!$B$6:$B$17,0)+COLUMN()-2-1)) | E8: =IF(OR(C8="",$B8<COLUMN()-2),"",INDEX(Feuil1!$C$6:$C$17,MATCH($A8,Feuil1!$B$6:$B$17,0)+COLUMN()-2-1)) | F8: =IF(OR(D8="",$B8<COLUMN()-2),"",INDEX(Feuil1!$C$6:$C$17,MATCH($A8,Feuil1!$B$6:$B$17,0)+COLUMN()-2-1)) | G8: =IF(OR(E8="",$B8<COLUMN()-2),"",INDEX(Feuil1!$C$6:$C$17,MATCH($A8,Feuil1!$B$6:$B$17,0)+COLUMN()-2-1)) | H8: =IF(OR(F8="",$B8<COLUMN()-2),"",INDEX(Feuil1!$C$6:$C$17,MATCH($A8,Feuil1!$B$6:$B$17,0)+COLUMN()-2-1)) | I8: =IF(OR(G8="",$B8<COLUMN()-2),"",INDEX(Feuil1!$C$6:$C$17,MATCH($A8,Feuil1!$B$6:$B$17,0)+COLUMN()-2-1)) | J8: =IF(OR(H8="",$B8<COLUMN()-2),"",INDEX(Feuil1!$C$6:$C$17,MATCH($A8,Feuil1!$B$6:$B$17,0)+COLUMN()-2-1)) | ... L8: =IF(OR(J8="",$B8<COLUMN()-2),"",INDEX(Feuil1!$C$6:$C$17,MATCH($A8,Feuil1!$B$6:$B$17,0)+COLUMN()-2-1))
C9: =IF(OR(A9="",$B9<COLUMN()-2),"",INDEX(Feuil1!$C$6:$C$17,MATCH($A9,Feuil1!$B$6:$B$17,0)+COLUMN()-2-1)) | D9: =IF(OR(B9="",$B9<COLUMN()-2),"",INDEX(Feuil1!$C$6:$C$17,MATCH($A9,Feuil1!$B$6:$B$17,0)+COLUMN()-2-1)) | E9: =IF(OR(C9="",$B9<COLUMN()-2),"",INDEX(Feuil1!$C$6:$C$17,MATCH($A9,Feuil1!$B$6:$B$17,0)+COLUMN()-2-1)) | F9: =IF(OR(D9="",$B9<COLUMN()-2),"",INDEX(Feuil1!$C$6:$C$17,MATCH($A9,Feuil1!$B$6:$B$17,0)+COLUMN()-2-1)) | G9: =IF(OR(E9="",$B9<COLUMN()-2),"",INDEX(Feuil1!$C$6:$C$17,MATCH($A9,Feuil1!$B$6:$B$17,0)+COLUMN()-2-1)) | H9: =IF(OR(F9="",$B9<COLUMN()-2),"",INDEX(Feuil1!$C$6:$C$17,MATCH($A9,Feuil1!$B$6:$B$17,0)+COLUMN()-2-1)) | I9: =IF(OR(G9="",$B9<COLUMN()-2),"",INDEX(Feuil1!$C$6:$C$17,MATCH($A9,Feuil1!$B$6:$B$17,0)+COLUMN()-2-1)) | J9: =IF(OR(H9="",$B9<COLUMN()-2),"",INDEX(Feuil1!$C$6:$C$17,MATCH($A9,Feuil1!$B$6:$B$17,0)+COLUMN()-2-1)) | ... L9: =IF(OR(J9="",$B9<COLUMN()-2),"",INDEX(Feuil1!$C$6:$C$17,MATCH($A9,Feuil1!$B$6:$B$17,0)+COLUMN()-2-1))
C10: =IF(OR(A10="",$B10<COLUMN()-2),"",INDEX(Feuil1!$C$6:$C$17,MATCH($A10,Feuil1!$B$6:$B$17,0)+COLUMN()-2-1)) | D10: =IF(OR(B10="",$B10<COLUMN()-2),"",INDEX(Feuil1!$C$6:$C$17,MATCH($A10,Feuil1!$B$6:$B$17,0)+COLUMN()-2-1)) | E10: =IF(OR(C10="",$B10<COLUMN()-2),"",INDEX(Feuil1!$C$6:$C$17,MATCH($A10,Feuil1!$B$6:$B$17,0)+COLUMN()-2-1)) | F10: =IF(OR(D10="",$B10<COLUMN()-2),"",INDEX(Feuil1!$C$6:$C$17,MATCH($A10,Feuil1!$B$6:$B$17,0)+COLUMN()-2-1)) | G10: =IF(OR(E10="",$B10<COLUMN()-2),"",INDEX(Feuil1!$C$6:$C$17,MATCH($A10,Feuil1!$B$6:$B$17,0)+COLUMN()-2-1)) | H10: =IF(OR(F10="",$B10<COLUMN()-2),"",INDEX(Feuil1!$C$6:$C$17,MATCH($A10,Feuil1!$B$6:$B$17,0)+COLUMN()-2-1)) | I10: =IF(OR(G10="",$B10<COLUMN()-2),"",INDEX(Feuil1!$C$6:$C$17,MATCH($A10,Feuil1!$B$6:$B$17,0)+COLUMN()-2-1)) | J10: =IF(OR(H10="",$B10<COLUMN()-2),"",INDEX(Feuil1!$C$6:$C$17,MATCH($A10,Feuil1!$B$6:$B$17,0)+COLUMN()-2-1)) | ... L10: =IF(OR(J10="",$B10<COLUMN()-2),"",INDEX(Feuil1!$C$6:$C$17,MATCH($A10,Feuil1!$B$6:$B$17,0)+COLUMN()-2-1))
C11: =IF(OR(A11="",$B11<COLUMN()-2),"",INDEX(Feuil1!$C$6:$C$17,MATCH($A11,Feuil1!$B$6:$B$17,0)+COLUMN()-2-1)) | D11: =IF(OR(B11="",$B11<COLUMN()-2),"",INDEX(Feuil1!$C$6:$C$17,MATCH($A11,Feuil1!$B$6:$B$17,0)+COLUMN()-2-1)) | E11: =IF(OR(C11="",$B11<COLUMN()-2),"",INDEX(Feuil1!$C$6:$C$17,MATCH($A11,Feuil1!$B$6:$B$17,0)+COLUMN()-2-1)) | F11: =IF(OR(D11="",$B11<COLUMN()-2),"",INDEX(Feuil1!$C$6:$C$17,MATCH($A11,Feuil1!$B$6:$B$17,0)+COLUMN()-2-1)) | G11: =IF(OR(E11="",$B11<COLUMN()-2),"",INDEX(Feuil1!$C$6:$C$17,MATCH($A11,Feuil1!$B$6:$B$17,0)+COLUMN()-2-1)) | H11: =IF(OR(F11="",$B11<COLUMN()-2),"",INDEX(Feuil1!$C$6:$C$17,MATCH($A11,Feuil1!$B$6:$B$17,0)+COLUMN()-2-1)) | I11: =IF(OR(G11="",$B11<COLUMN()-2),"",INDEX(Feuil1!$C$6:$C$17,MATCH($A11,Feuil1!$B$6:$B$17,0)+COLUMN()-2-1)) | J11: =IF(OR(H11="",$B11<COLUMN()-2),"",INDEX(Feuil1!$C$6:$C$17,MATCH($A11,Feuil1!$B$6:$B$17,0)+COLUMN()-2-1)) | ... L11: =IF(OR(J11="",$B11<COLUMN()-2),"",INDEX(Feuil1!$C$6:$C$17,MATCH($A11,Feuil1!$B$6:$B$17,0)+COLUMN()-2-1))
C12: =IF(OR(A12="",$B12<COLUMN()-2),"",INDEX(Feuil1!$C$6:$C$17,MATCH($A12,Feuil1!$B$6:$B$17,0)+COLUMN()-2-1)) | D12: =IF(OR(B12="",$B12<COLUMN()-2),"",INDEX(Feuil1!$C$6:$C$17,MATCH($A12,Feuil1!$B$6:$B$17,0)+COLUMN()-2-1)) | E12: =IF(OR(C12="",$B12<COLUMN()-2),"",INDEX(Feuil1!$C$6:$C$17,MATCH($A12,Feuil1!$B$6:$B$17,0)+COLUMN()-2-1)) | F12: =IF(OR(D12="",$B12<COLUMN()-2),"",INDEX(Feuil1!$C$6:$C$17,MATCH($A12,Feuil1!$B$6:$B$17,0)+COLUMN()-2-1)) | G12: =IF(OR(E12="",$B12<COLUMN()-2),"",INDEX(Feuil1!$C$6:$C$17,MATCH($A12,Feuil1!$B$6:$B$17,0)+COLUMN()-2-1)) | H12: =IF(OR(F12="",$B12<COLUMN()-2),"",INDEX(Feuil1!$C$6:$C$17,MATCH($A12,Feuil1!$B$6:$B$17,0)+COLUMN()-2-1)) | I12: =IF(OR(G12="",$B12<COLUMN()-2),"",INDEX(Feuil1!$C$6:$C$17,MATCH($A12,Feuil1!$B$6:$B$17,0)+COLUMN()-2-1)) | J12: =IF(OR(H12="",$B12<COLUMN()-2),"",INDEX(Feuil1!$C$6:$C$17,MATCH($A12,Feuil1!$B$6:$B$17,0)+COLUMN()-2-1)) | ... L12: =IF(OR(J12="",$B12<COLUMN()-2),"",INDEX(Feuil1!$C$6:$C$17,MATCH($A12,Feuil1!$B$6:$B$17,0)+COLUMN()-2-1))
C13: =IF(OR(A13="",$B13<COLUMN()-2),"",INDEX(Feuil1!$C$6:$C$17,MATCH($A13,Feuil1!$B$6:$B$17,0)+COLUMN()-2-1)) | D13: =IF(OR(B13="",$B13<COLUMN()-2),"",INDEX(Feuil1!$C$6:$C$17,MATCH($A13,Feuil1!$B$6:$B$17,0)+COLUMN()-2-1)) | E13: =IF(OR(C13="",$B13<COLUMN()-2),"",INDEX(Feuil1!$C$6:$C$17,MATCH($A13,Feuil1!$B$6:$B$17,0)+COLUMN()-2-1)) | F13: =IF(OR(D13="",$B13<COLUMN()-2),"",INDEX(Feuil1!$C$6:$C$17,MATCH($A13,Feuil1!$B$6:$B$17,0)+COLUMN()-2-1)) | G13: =IF(OR(E13="",$B13<COLUMN()-2),"",INDEX(Feuil1!$C$6:$C$17,MATCH($A13,Feuil1!$B$6:$B$17,0)+COLUMN()-2-1)) | H13: =IF(OR(F13="",$B13<COLUMN()-2),"",INDEX(Feuil1!$C$6:$C$17,MATCH($A13,Feuil1!$B$6:$B$17,0)+COLUMN()-2-1)) | I13: =IF(OR(G13="",$B13<COLUMN()-2),"",INDEX(Feuil1!$C$6:$C$17,MATCH($A13,Feuil1!$B$6:$B$17,0)+COLUMN()-2-1)) | J13: =IF(OR(H13="",$B13<COLUMN()-2),"",INDEX(Feuil1!$C$6:$C$17,MATCH($A13,Feuil1!$B$6:$B$17,0)+COLUMN()-2-1)) | ... L13: =IF(OR(J13="",$B13<COLUMN()-2),"",INDEX(Feuil1!$C$6:$C$17,MATCH($A13,Feuil1!$B$6:$B$17,0)+COLUMN()-2-1))
C14: =IF(OR(A14="",$B14<COLUMN()-2),"",INDEX(Feuil1!$C$6:$C$17,MATCH($A14,Feuil1!$B$6:$B$17,0)+COLUMN()-2-1)) | D14: =IF(OR(B14="",$B14<COLUMN()-2),"",INDEX(Feuil1!$C$6:$C$17,MATCH($A14,Feuil1!$B$6:$B$17,0)+COLUMN()-2-1)) | E14: =IF(OR(C14="",$B14<COLUMN()-2),"",INDEX(Feuil1!$C$6:$C$17,MATCH($A14,Feuil1!$B$6:$B$17,0)+COLUMN()-2-1)) | F14: =IF(OR(D14="",$B14<COLUMN()-2),"",INDEX(Feuil1!$C$6:$C$17,MATCH($A14,Feuil1!$B$6:$B$17,0)+COLUMN()-2-1)) | G14: =IF(OR(E14="",$B14<COLUMN()-2),"",INDEX(Feuil1!$C$6:$C$17,MATCH($A14,Feuil1!$B$6:$B$17,0)+COLUMN()-2-1)) | H14: =IF(OR(F14="",$B14<COLUMN()-2),"",INDEX(Feuil1!$C$6:$C$17,MATCH($A14,Feuil1!$B$6:$B$17,0)+COLUMN()-2-1)) | I14: =IF(OR(G14="",$B14<COLUMN()-2),"",INDEX(Feuil1!$C$6:$C$17,MATCH($A14,Feuil1!$B$6:$B$17,0)+COLUMN()-2-1)) | J14: =IF(OR(H14="",$B14<COLUMN()-2),"",INDEX(Feuil1!$C$6:$C$17,MATCH($A14,Feuil1!$B$6:$B$17,0)+COLUMN()-2-1)) | ... L14: =IF(OR(J14="",$B14<COLUMN()-2),"",INDEX(Feuil1!$C$6:$C$17,MATCH($A14,Feuil1!$B$6:$B$17,0)+COLUMN()-2-1))
C15: =IF(OR(A15="",$B15<COLUMN()-2),"",INDEX(Feuil1!$C$6:$C$17,MATCH($A15,Feuil1!$B$6:$B$17,0)+COLUMN()-2-1)) | D15: =IF(OR(B15="",$B15<COLUMN()-2),"",INDEX(Feuil1!$C$6:$C$17,MATCH($A15,Feuil1!$B$6:$B$17,0)+COLUMN()-2-1)) | E15: =IF(OR(C15="",$B15<COLUMN()-2),"",INDEX(Feuil1!$C$6:$C$17,MATCH($A15,Feuil1!$B$6:$B$17,0)+COLUMN()-2-1)) | F15: =IF(OR(D15="",$B15<COLUMN()-2),"",INDEX(Feuil1!$C$6:$C$17,MATCH($A15,Feuil1!$B$6:$B$17,0)+COLUMN()-2-1)) | G15: =IF(OR(E15="",$B15<COLUMN()-2),"",INDEX(Feuil1!$C$6:$C$17,MATCH($A15,Feuil1!$B$6:$B$17,0)+COLUMN()-2-1)) | H15: =IF(OR(F15="",$B15<COLUMN()-2),"",INDEX(Feuil1!$C$6:$C$17,MATCH($A15,Feuil1!$B$6:$B$17,0)+COLUMN()-2-1)) | I15: =IF(OR(G15="",$B15<COLUMN()-2),"",INDEX(Feuil1!$C$6:$C$17,MATCH($A15,Feuil1!$B$6:$B$17,0)+COLUMN()-2-1)) | J15: =IF(OR(H15="",$B15<COLUMN()-2),"",INDEX(Feuil1!$C$6:$C$17,MATCH($A15,Feuil1!$B$6:$B$17,0)+COLUMN()-2-1)) | ... L15: =IF(OR(J15="",$B15<COLUMN()-2),"",INDEX(Feuil1!$C$6:$C$17,MATCH($A15,Feuil1!$B$6:$B$17,0)+COLUMN()-2-1))
C16: =IF(OR(A16="",$B16<COLUMN()-2),"",INDEX(Feuil1!$C$6:$C$17,MATCH($A16,Feuil1!$B$6:$B$17,0)+COLUMN()-2-1)) | D16: =IF(OR(B16="",$B16<COLUMN()-2),"",INDEX(Feuil1!$C$6:$C$17,MATCH($A16,Feuil1!$B$6:$B$17,0)+COLUMN()-2-1)) | E16: =IF(OR(C16="",$B16<COLUMN()-2),"",INDEX(Feuil1!$C$6:$C$17,MATCH($A16,Feuil1!$B$6:$B$17,0)+COLUMN()-2-1)) | F16: =IF(OR(D16="",$B16<COLUMN()-2),"",INDEX(Feuil1!$C$6:$C$17,MATCH($A16,Feuil1!$B$6:$B$17,0)+COLUMN()-2-1)) | G16: =IF(OR(E16="",$B16<COLUMN()-2),"",INDEX(Feuil1!$C$6:$C$17,MATCH($A16,Feuil1!$B$6:$B$17,0)+COLUMN()-2-1)) | H16: =IF(OR(F16="",$B16<COLUMN()-2),"",INDEX(Feuil1!$C$6:$C$17,MATCH($A16,Feuil1!$B$6:$B$17,0)+COLUMN()-2-1)) | I16: =IF(OR(G16="",$B16<COLUMN()-2),"",INDEX(Feuil1!$C$6:$C$17,MATCH($A16,Feuil1!$B$6:$B$17,0)+COLUMN()-2-1)) | J16: =IF(OR(H16="",$B16<COLUMN()-2),"",INDEX(Feuil1!$C$6:$C$17,MATCH($A16,Feuil1!$B$6:$B$17,0)+COLUMN()-2-1)) | ... L16: =IF(OR(J16="",$B16<COLUMN()-2),"",INDEX(Feuil1!$C$6:$C$17,MATCH($A16,Feuil1!$B$6:$B$17,0)+COLUMN()-2-1))
... C24: =IF(OR(A24="",$B24<COLUMN()-2),"",INDEX(Feuil1!$C$6:$C$17,MATCH($A24,Feuil1!$B$6:$B$17,0)+COLUMN()-2-1)) | D24: =IF(OR(B24="",$B24<COLUMN()-2),"",INDEX(Feuil1!$C$6:$C$17,MATCH($A24,Feuil1!$B$6:$B$17,0)+COLUMN()-2-1)) | E24: =IF(OR(C24="",$B24<COLUMN()-2),"",INDEX(Feuil1!$C$6:$C$17,MATCH($A24,Feuil1!$B$6:$B$17,0)+COLUMN()-2-1)) | F24: =IF(OR(D24="",$B24<COLUMN()-2),"",INDEX(Feuil1!$C$6:$C$17,MATCH($A24,Feuil1!$B$6:$B$17,0)+COLUMN()-2-1)) | G24: =IF(OR(E24="",$B24<COLUMN()-2),"",INDEX(Feuil1!$C$6:$C$17,MATCH($A24,Feuil1!$B$6:$B$17,0)+COLUMN()-2-1)) | H24: =IF(OR(F24="",$B24<COLUMN()-2),"",INDEX(Feuil1!$C$6:$C$17,MATCH($A24,Feuil1!$B$6:$B$17,0)+COLUMN()-2-1)) | I24: =IF(OR(G24="",$B24<COLUMN()-2),"",INDEX(Feuil1!$C$6:$C$17,MATCH($A24,Feuil1!$B$6:$B$17,0)+COLUMN()-2-1)) | J24: =IF(OR(H24="",$B24<COLUMN()-2),"",INDEX(Feuil1!$C$6:$C$17,MATCH($A24,Feuil1!$B$6:$B$17,0)+COLUMN()-2-1)) | ... L24: =IF(OR(J24="",$B24<COLUMN()-2),"",INDEX(Feuil1!$C$6:$C$17,MATCH($A24,Feuil1!$B$6:$B$17,0)+COLUMN()-2-1))

Sheet Feuil1
B5: ML | C5: CC
B6: 12837 | C6: 16100
B7: 12837 | C7: 16300
B8: 16949 | C8: 10060
B9: 20155 | C9: 19300
B10: 22223 | C10: 29200
B11: 19423 | C11: 10000
B12: 19197 | C12: 10000
B13: 18823 | C13: 10000
B14: 16380 | C14: 10000
B15: 13565 | C15: 10000
B16: 18788 | C16: 10000
B17: 20208 | C17: 10000
