Workbook

Sheet Recap 日本
A1: =RIGHT(CELL("nomfichier",A1),LEN(CELL("nomfichier",A1))-FIND("]",CELL("nomfichier",A1))) -> Recap 日本 | B1: =MID(CELL("filename",A1),FIND("[",CELL("filename",A1)),SUM(FIND({"[";"]"},CELL("filename",A1))*{-1;1})+1) -> [Test tableau steelson.xlsx]
A2: Liste Prix
C5: C2 | D5: C4 | E5: C3 | F5: E3 | G5: K2 | H5: E25 | I5: G45 | J5: G60 | K5: G63 | L5: G61 | N5: G66
A6: Feuille | B6: Photo | C6: Référence | D6: Désignation Japon | E6: Désignation | F6: Matière | G6: Poids Moyen | H6: Prix Achat DM | I6: PRI | J6: Prix d'Achat Boutique | K6: PVC | L6: Taux Marge DM | M6: Marge Brute DM | N6: Taux Marge Boutique Japon | O6: Marge Brute Boutique | P6: Raccourci Fiche
A7: =test1!A1 -> test1 | C7: =INDIRECT("'"&Tableau1[[#This Row],[Feuille]]&"'!"&C$5) -> キノコ１ | D7: =INDIRECT("'"&Tableau1[[#This Row],[Feuille]]&"'!"&D$5) -> キノコ | E7: =INDIRECT("'"&Tableau1[[#This Row],[Feuille]]&"'!"&E$5) -> Kinoko 1 | F7: =INDIRECT("'"&Tableau1[[#This Row],[Feuille]]&"'!"&F$5) -> Inoki | G7: =INDIRECT("'"&Tableau1[[#This Row],[Feuille]]&"'!"&G$5) -> 45 gr | H7: =INDIRECT("'"&Tableau1[[#This Row],[Feuille]]&"'!"&H$5) -> 4.95 | I7: =INDIRECT("'"&Tableau1[[#This Row],[Feuille]]&"'!"&I$5) -> 5.0985 | J7: =INDIRECT("'"&Tableau1[[#This Row],[Feuille]]&"'!"&J$5) -> 6.62805 | K7: =-Tableau1[[#This Row],[Prix d''Achat Boutique]] -> -6.62805 | L7: =INDIRECT("'"&Tableau1[[#This Row],[Feuille]]&"'!"&L$5) -> 0.3 | M7: =J7-I7 -> 1.52955 | N7: =INDIRECT("'"&Tableau1[[#This Row],[Feuille]]&"'!"&N$5) -> 1.0564118 | O7: =Tableau1[[#This Row],[PVC]]-Tableau1[[#This Row],[Prix d''Achat Boutique]] -> -13.2561 | P7: =HYPERLINK($B$1&"'"&Tableau1[[#This Row],[Feuille]]&"'!A1","aller à … "&Tableau1[[#This Row],[Feuille]]) -> aller à … test1
A8: =test2!A1 -> test2 | C8: =INDIRECT("'"&Tableau1[[#This Row],[Feuille]]&"'!"&C$5) -> 無花果 | D8: =INDIRECT("'"&Tableau1[[#This Row],[Feuille]]&"'!"&D$5) -> 無花果 | E8: =INDIRECT("'"&Tableau1[[#This Row],[Feuille]]&"'!"&E$5) -> Figue | F8: =INDIRECT("'"&Tableau1[[#This Row],[Feuille]]&"'!"&F$5) -> Inoki | G8: =INDIRECT("'"&Tableau1[[#This Row],[Feuille]]&"'!"&G$5) -> 45 gr | H8: =INDIRECT("'"&Tableau1[[#This Row],[Feuille]]&"'!"&H$5) -> 5.0134 | I8: =INDIRECT("'"&Tableau1[[#This Row],[Feuille]]&"'!"&I$5) -> 5.213936 | J8: =INDIRECT("'"&Tableau1[[#This Row],[Feuille]]&"'!"&J$5) -> 6.7781168 | K8: =-Tableau1[[#This Row],[Prix d''Achat Boutique]] -> -6.7781168 | L8: =INDIRECT("'"&Tableau1[[#This Row],[Feuille]]&"'!"&L$5) -> 0.3 | N8: =INDIRECT("'"&Tableau1[[#This Row],[Feuille]]&"'!"&N$5) -> 1.010883 | O8: =Tableau1[[#This Row],[PVC]]-Tableau1[[#This Row],[Prix d''Achat Boutique]] -> -13.556234 | P8: =HYPERLINK($B$1&"'"&Tableau1[[#This Row],[Feuille]]&"'!A1","aller à … "&Tableau1[[#This Row],[Feuille]]) -> aller à … test2
A9: =test3!A1 -> test3 | C9: =INDIRECT("'"&Tableau1[[#This Row],[Feuille]]&"'!"&C$5) -> 無花果 | D9: =INDIRECT("'"&Tableau1[[#This Row],[Feuille]]&"'!"&D$5) -> 無花果 | E9: =INDIRECT("'"&Tableau1[[#This Row],[Feuille]]&"'!"&E$5) -> Figue | F9: =INDIRECT("'"&Tableau1[[#This Row],[Feuille]]&"'!"&F$5) -> Inoki | G9: =INDIRECT("'"&Tableau1[[#This Row],[Feuille]]&"'!"&G$5) -> 45 gr | H9: =INDIRECT("'"&Tableau1[[#This Row],[Feuille]]&"'!"&H$5) -> 5.0134 | I9: =INDIRECT("'"&Tableau1[[#This Row],[Feuille]]&"'!"&I$5) -> 5.213936 | J9: =INDIRECT("'"&Tableau1[[#This Row],[Feuille]]&"'!"&J$5) -> 6.7781168 | K9: =-Tableau1[[#This Row],[Prix d''Achat Boutique]] -> -6.7781168 | L9: =INDIRECT("'"&Tableau1[[#This Row],[Feuille]]&"'!"&L$5) -> 0.3 | N9: =INDIRECT("'"&Tableau1[[#This Row],[Feuille]]&"'!"&N$5) -> 1.010883 | O9: =Tableau1[[#This Row],[PVC]]-Tableau1[[#This Row],[Prix d''Achat Boutique]] -> -13.556234 | P9: =HYPERLINK($B$1&"'"&Tableau1[[#This Row],[Feuille]]&"'!A1","aller à … "&Tableau1[[#This Row],[Feuille]]) -> aller à … test3

Sheet Recap International
A1: =RIGHT(CELL("nomfichier",A1),LEN(CELL("nomfichier",A1))-FIND("]",CELL("nomfichier",A1))) -> Recap International | B1: =MID(CELL("filename",A1),FIND("[",CELL("filename",A1)),SUM(FIND({"[";"]"},CELL("filename",A1))*{-1;1})+1) -> [Test tableau steelson.xlsx]
A2: Liste Prix
C5: C2 | D5: C4 | E5: C3 | F5: E3 | G5: K2 | H5: G49 | I5: G52 | J5: G82 | K5: G83 | L5: G61 | N5: G66 | O5: G71 | P5: G72 | R5: G77
A6: Feuille | B6: Photo | C6: Référence | D6: Désignation Japon | E6: Désignation | F6: Matière | G6: Poids Moyen | H6: Prix Achat Lex | I6: P.V.C. | J6: P.A. BEP | K6: Marge LEX -> BEP | L6: Marge Brute Lex -> BEP | M6: Taux Marge BEP | N6: Marge Brute BEP | O6: P.A. Distributeurs | P6: Marge LEX -> Distributeurs | Q6: Marge Brute Lex -> Distributeurs | R6: Taux Marge Distributeur | S6: Marge Brute Distributeur | T6: Raccourci Fiche
A7: =test1!A1 -> test1 | C7: =INDIRECT("'"&Tableau4[Feuille]&"'!"&C$5) -> キノコ１ | D7: =INDIRECT("'"&Tableau4[Feuille]&"'!"&D$5) -> キノコ | E7: =INDIRECT("'"&Tableau4[Feuille]&"'!"&E$5) -> Kinoko 1 | F7: =INDIRECT("'"&Tableau4[Feuille]&"'!"&F$5) -> Inoki | G7: =INDIRECT("'"&Tableau4[Feuille]&"'!"&G$5) -> 45 gr | H7: =INDIRECT("'"&Tableau4[Feuille]&"'!"&H$5) -> 6.1182 | I7: =INDIRECT("'"&Tableau4[Feuille]&"'!"&I$5) -> 12 | J7: =INDIRECT("'"&Tableau4[Feuille]&"'!"&J$5) -> 7.03593 | ... L7: =INDIRECT("'"&Tableau4[Feuille]&"'!"&L$5) -> 0.3 | M7: =test1!G88 -> 0.61172723 | N7: =INDIRECT("'"&Tableau4[Feuille]&"'!"&N$5) -> 1.0564118 | O7: =INDIRECT("'"&Tableau4[Feuille]&"'!"&O$5) -> 8.6 | P7: =INDIRECT("'"&Tableau4[Feuille]&"'!"&P$5) -> 0.40564218 | Q7: =O7-H7 -> 2.4818 | R7: =test1!G77 -> 0.31860465 | S7: =I7-O7 -> 3.4
A8: =test2!A1 -> test2 | C8: =INDIRECT("'"&Tableau4[Feuille]&"'!"&C$5) -> 無花果 | D8: =INDIRECT("'"&Tableau4[Feuille]&"'!"&D$5) -> 無花果 | E8: =INDIRECT("'"&Tableau4[Feuille]&"'!"&E$5) -> Figue | F8: =INDIRECT("'"&Tableau4[Feuille]&"'!"&F$5) -> Inoki | G8: =INDIRECT("'"&Tableau4[Feuille]&"'!"&G$5) -> 45 gr | H8: =INDIRECT("'"&Tableau4[Feuille]&"'!"&H$5) -> 6.2567232 | I8: =INDIRECT("'"&Tableau4[Feuille]&"'!"&I$5) -> 12 | J8: =INDIRECT("'"&Tableau4[Feuille]&"'!"&J$5) -> 7.1952317 | ... L8: =INDIRECT("'"&Tableau4[Feuille]&"'!"&L$5) -> 0.3 | M8: =test1!G89 -> 1.6117272 | N8: =INDIRECT("'"&Tableau4[Feuille]&"'!"&N$5) -> 1.010883 | O8: =INDIRECT("'"&Tableau4[Feuille]&"'!"&O$5) -> 8.6 | P8: =INDIRECT("'"&Tableau4[Feuille]&"'!"&P$5) -> 0.37452141 | Q8: =O8-H8 -> 2.3432768 | R8: =test1!G78 -> 1.3186047 | S8: =I8-O8 -> 3.4
A9: =test3!A1 -> test3 | C9: =INDIRECT("'"&Tableau4[Feuille]&"'!"&C$5) -> 無花果 | D9: =INDIRECT("'"&Tableau4[Feuille]&"'!"&D$5) -> 無花果 | E9: =INDIRECT("'"&Tableau4[Feuille]&"'!"&E$5) -> Figue | F9: =INDIRECT("'"&Tableau4[Feuille]&"'!"&F$5) -> Inoki | G9: =INDIRECT("'"&Tableau4[Feuille]&"'!"&G$5) -> 45 gr | H9: =INDIRECT("'"&Tableau4[Feuille]&"'!"&H$5) -> 6.2567232 | I9: =INDIRECT("'"&Tableau4[Feuille]&"'!"&I$5) -> 12 | J9: =INDIRECT("'"&Tableau4[Feuille]&"'!"&J$5) -> 7.1952317 | ... L9: =INDIRECT("'"&Tableau4[Feuille]&"'!"&L$5) -> 0.3 | M9: =test1!G90 -> 0 | N9: =INDIRECT("'"&Tableau4[Feuille]&"'!"&N$5) -> 1.010883 | O9: =INDIRECT("'"&Tableau4[Feuille]&"'!"&O$5) -> 8.6 | P9: =INDIRECT("'"&Tableau4[Feuille]&"'!"&P$5) -> 0.37452141 | Q9: =O9-H9 -> 2.3432768 | R9: =test1!G79 -> 0 | S9: =I9-O9 -> 3.4

Sheet Recap  prix client
A1: =RIGHT(CELL("nomfichier",A1),LEN(CELL("nomfichier",A1))-FIND("]",CELL("nomfichier",A1))) -> Recap prix client | B1: =MID(CELL("filename",A1),FIND("[",CELL("filename",A1)),SUM(FIND({"[";"]"},CELL("filename",A1))*{-1;1})+1) -> [Test tableau steelson.xlsx]
A2: Liste Prix
C5: C2 | D5: C4 | E5: E3 | F5: K2 | G5: E2 | H5: G45 | I5: I2 | J5: I3 | K5: I4 | L5: E4 | M5: K3 | N5: K4
A6: Feuille | B6: Photo | C6: Référence | D6: Désignation | E6: Matière | F6: Poids Moyen | G6: testé | H6: Prix H.T. | I6: Unité de vente | J6: U.V. / PCB | K6: PCB/PAL | L6: DLUO Moyenne | M6: Code EAN | N6: ITF 14 | O6: Raccourci Fiche
A7: =test1!A1 -> test1 | C7: =INDIRECT("'"&Tableau3[[#This Row],[Feuille]]&"'!"&C$5) -> キノコ１ | D7: =INDIRECT("'"&Tableau3[[#This Row],[Feuille]]&"'!"&D$5) -> キノコ | E7: =INDIRECT("'"&Tableau3[[#This Row],[Feuille]]&"'!"&E$5) -> Inoki | F7: =INDIRECT("'"&Tableau3[[#This Row],[Feuille]]&"'!"&F$5) -> 45 gr | G7: =INDIRECT("'"&Tableau3[[#This Row],[Feuille]]&"'!"&G$5) -> 0 | H7: =INDIRECT("'"&Tableau3[[#This Row],[Feuille]]&"'!"&H$5) -> 5.0985 | I7: =INDIRECT("'"&Tableau3[[#This Row],[Feuille]]&"'!"&I$5) -> 6 | J7: =INDIRECT("'"&Tableau3[[#This Row],[Feuille]]&"'!"&J$5) -> 300 | ... N7: =INDIRECT("'"&Tableau3[[#This Row],[Feuille]]&"'!"&N$5) -> 15467864356176 | O7: =HYPERLINK($B$1&"'"&Tableau3[[#This Row],[Feuille]]&"'!A1","aller à … "&Tableau3[[#This Row],[Feuille]]) -> aller à … test1
A8: =test2!A1 -> test2 | C8: =INDIRECT("'"&Tableau3[[#This Row],[Feuille]]&"'!"&C$5) -> 無花果 | D8: =INDIRECT("'"&Tableau3[[#This Row],[Feuille]]&"'!"&D$5) -> 無花果 | E8: =INDIRECT("'"&Tableau3[[#This Row],[Feuille]]&"'!"&E$5) -> Inoki | F8: =INDIRECT("'"&Tableau3[[#This Row],[Feuille]]&"'!"&F$5) -> 45 gr | G8: =INDIRECT("'"&Tableau3[[#This Row],[Feuille]]&"'!"&G$5) -> 0 | H8: =INDIRECT("'"&Tableau3[[#This Row],[Feuille]]&"'!"&H$5) -> 5.213936 | I8: =INDIRECT("'"&Tableau3[[#This Row],[Feuille]]&"'!"&I$5) -> 6 | J8: =INDIRECT("'"&Tableau3[[#This Row],[Feuille]]&"'!"&J$5) -> 300 | ... N8: =INDIRECT("'"&Tableau3[[#This Row],[Feuille]]&"'!"&N$5) -> 15467864356176 | O8: =HYPERLINK($B$1&"'"&Tableau3[[#This Row],[Feuille]]&"'!A1","aller à … "&Tableau3[[#This Row],[Feuille]]) -> aller à … test2

Sheet Recap  prix client Ishibashi 
A1: =RIGHT(CELL("nomfichier",A1),LEN(CELL("nomfichier",A1))-FIND("]",CELL("nomfichier",A1))) -> Recap prix client Ishibashi | B1: =MID(CELL("filename",A1),FIND("[",CELL("filename",A1)),SUM(FIND({"[";"]"},CELL("filename",A1))*{-1;1})+1) -> [Test tableau steelson.xlsx]
A2: Liste Prix
C5: C2 | D5: C3 | E5: E3 | F5: K2 | G5: D2 | H5: G71 | I5: I2 | J5: I3 | K5: I4 | L5: E4 | M5: K3 | N5: K4
A6: Feuille | B6: Photo | C6: Référence | D6: Désignation | E6: Matière | F6: Poids Moyen | G6: Teste | H6: Prix H.T. | I6: Unité de vente | J6: U.V. / PCB | K6: PCB/PAL | L6: DLUO Moyenne | M6: Code EAN | N6: ITF 14 | O6: Raccourci Fiche
A7: =test1!A1 -> test1 | C7: =INDIRECT("'"&Tableau2[[#This Row],[Feuille]]&"'!"&C$5) -> キノコ１ | D7: =INDIRECT("'"&Tableau2[[#This Row],[Feuille]]&"'!"&D$5) -> Kinoko 1 | E7: =INDIRECT("'"&Tableau2[[#This Row],[Feuille]]&"'!"&E$5) -> Inoki | F7: =INDIRECT("'"&Tableau2[[#This Row],[Feuille]]&"'!"&F$5) -> 45 gr | G7: =INDIRECT("'"&Tableau2[[#This Row],[Feuille]]&"'!"&G$5) -> TESTE : | H7: =INDIRECT("'"&Tableau2[[#This Row],[Feuille]]&"'!"&H$5) -> 8.6 | I7: =INDIRECT("'"&Tableau2[[#This Row],[Feuille]]&"'!"&I$5) -> 6 | J7: =INDIRECT("'"&Tableau2[[#This Row],[Feuille]]&"'!"&J$5) -> 300 | ... N7: =INDIRECT("'"&Tableau2[[#This Row],[Feuille]]&"'!"&N$5) -> 15467864356176 | O7: =HYPERLINK($B$1&"'"&Tableau2[[#This Row],[Feuille]]&"'!A1","aller à … "&Tableau2[[#This Row],[Feuille]]) -> aller à … test1
A8: =+test2!A1 -> test2 | C8: =INDIRECT("'"&Tableau2[[#This Row],[Feuille]]&"'!"&C$5) -> 無花果 | D8: =INDIRECT("'"&Tableau2[[#This Row],[Feuille]]&"'!"&D$5) -> Figue | E8: =INDIRECT("'"&Tableau2[[#This Row],[Feuille]]&"'!"&E$5) -> Inoki | F8: =INDIRECT("'"&Tableau2[[#This Row],[Feuille]]&"'!"&F$5) -> 45 gr | G8: =INDIRECT("'"&Tableau2[[#This Row],[Feuille]]&"'!"&G$5) -> 0 | H8: =INDIRECT("'"&Tableau2[[#This Row],[Feuille]]&"'!"&H$5) -> 8.6 | I8: =INDIRECT("'"&Tableau2[[#This Row],[Feuille]]&"'!"&I$5) -> 6 | J8: =INDIRECT("'"&Tableau2[[#This Row],[Feuille]]&"'!"&J$5) -> 300 | ... N8: =INDIRECT("'"&Tableau2[[#This Row],[Feuille]]&"'!"&N$5) -> 15467864356176 | O8: =HYPERLINK($B$1&"'"&Tableau2[[#This Row],[Feuille]]&"'!A1","aller à … "&Tableau2[[#This Row],[Feuille]]) -> aller à … test2

Sheet test1
A1: =RIGHT(CELL("nomfichier",A1),LEN(CELL("nomfichier",A1))-FIND("]",CELL("nomfichier",A1))) -> test1 | B1: Date
B2: REFERENCE : | C2: キノコ１ | D2: TESTE : | F2: FOURNISSEUR : | G2: 田中哲夫 | H2: Unité de Vente : | I2: 6 | J2: Poids Moyen : | K2: 45 gr
B3: Nom France : | C3: Kinoko 1 | D3: Matière : | E3: Inoki | F3: MARQUE : | G3: ソレル | H3: UV par PCB : | I3: 300 | J3: EAN : | K3: 3546786435617
B4: Nom produit Japonais : | C4: キノコ | D4: DLUO : | E4: 3 ans | F4: MARQUE : | H4: PCB / Pal : | I4: 6000 | J4: ITF14 : | K4: 15467864356176
B6: Packaging | C6: PU | D6: Nb | E6: PUPF | F6: %perte | G6: Euro | H6: Commentaires
A7: 1 | B7: Champs 1 | C7: 0 | D7: 0 | E7: =+D7*C7 -> 0 | F7: 0.1 | G7: =E7*F7+E7 -> 0
A8: =A7+1 -> 2 | B8: Champs 2 | C8: 0 | D8: 0 | E8: =+D8*C8 -> 0 | F8: 0 | G8: =E8*F8+E8 -> 0
A9: =A8+1 -> 3 | B9: Champs 3 | C9: 0 | D9: 0 | E9: =+D9*C9 -> 0 | F9: 0 | G9: =E9*F9+E9 -> 0
A10: =A9+1 -> 4 | B10: Champs 4 | C10: 0 | D10: 0 | E10: =+D10*C10 -> 0 | F10: 0 | G10: =E10*F10+E10 -> 0
A11: =A10+1 -> 5 | B11: Champs 5 | C11: 0 | D11: 0 | E11: =+D11*C11 -> 0 | F11: 0.05 | G11: =E11*F11+E11 -> 0
A12: =A11+1 -> 6 | B12: Champs 6 | C12: 0 | D12: 0 | E12: =+D12*C12 -> 0 | F12: 0 | G12: =E12*F12+E12 -> 0
A13: =A12+1 -> 7 | B13: Champs 7 | C13: 0 | D13: 0 | E13: =+D13*C13 -> 0 | F13: 0 | G13: =E13*F13+E13 -> 0
B14: Sous-Total Packaging | D14: Sous Total HP | E14: =SUM(E7:E13) -> 0 | F14: =G14/E14-1 -> #DIV/0! | G14: =SUM(G7:G13) -> 0
B16: Matière première Brute | C16: PU | D16: Nb | E16: PUPF | F16: %perte | G16: Euro | H16: Commentaires
A17: =A13+1 -> 8 | B17: Champs 1 | C17: 0 | D17: 0 | E17: =+D17*C17 -> 0 | F17: 0 | G17: =E17*F17+E17 -> 0
A18: =A17+1 -> 9 | B18: Champs 2 | C18: 0 | D18: 0 | E18: =+D18*C18 -> 0 | F18: 0 | G18: =E18*F18+E18 -> 0
A19: =A18+1 -> 10 | B19: Champs 3 | C19: 0 | D19: 0 | E19: =+D19*C19 -> 0 | F19: 0 | G19: =E19*F19+E19 -> 0
A20: =A19+1 -> 11 | B20: Champs 4 | C20: 0 | D20: 0 | E20: =+D20*C20 -> 0 | F20: 0 | G20: =E20*F20+E20 -> 0
B21: Sous total Matiere première Brute | D21: Sous Total HP | E21: =SUM(E17:E20) -> 0 | F21: =G21/E21-1 -> #DIV/0! | G21: =SUM(G17:G20) -> 0
A23: 12 | B23: Full Service | C23: 11 | D23: 0.45 | E23: =C23*D23 -> 4.95 | F23: 0.03 | G23: =E23*F23+E23 -> 5.0985
A25: 12 | B25: Total Packaging et Matière Première | D25: 1 | E25: =E14+E21+E23 -> 4.95 | F25: =G25/E25-1 -> 0.03 | G25: =G14+G21+G23 -> 5.0985
B27: Main d'œuvre et divers | C27: PU | D27: Nb | E27: PUPF | F27: %perte | G27: Euro | H27: Commentaires
A28: 13 | B28: Champs 1 | C28: 0 | D28: 0 | E28: =+D28*C28 -> 0 | F28: 0 | G28: =E28*F28+E28 -> 0
A29: 14 | B29: Champs 2 | C29: 0 | D29: 0 | E29: =+D29*C29 -> 0 | F29: 0.05 | G29: =E29*F29+E29 -> 0
A30: 15 | B30: Champs 3 | C30: 0 | D30: 0 | E30: =+D30*C30 -> 0 | F30: 0 | G30: =E30*F30+E30 -> 0
A31: 16 | B31: Champs 4 | C31: 0 | D31: 0 | E31: =+D31*C31 -> 0 | F31: 0 | G31: =E31*F31+E31 -> 0
A32: 17 | B32: Champs 5 | C32: 0 | D32: 0 | E32: =+D32*C32 -> 0 | F32: 0 | G32: =E32*F32+E32 -> 0
A33: 18 | B33: Champs 6 | C33: 0 | D33: 0 | E33: =+D33*C33 -> 0 | F33: 0 | G33: =E33*F33+E33 -> 0
A34: 15 | B34: Total Main d' œuvre + divers | E34: =SUM(E28:E33) -> 0 | F34: =G34/E34-1 -> #DIV/0! | G34: =SUM(G28:G33) -> 0
B36: Taxes et Droits | C36: PU | D36: Nb | E36: PUPF | F36: %perte | G36: Euro | H36: Commentaires
A37: 16 | B37: BAPSA | C37: 0 | D37: 0 | E37: =+D37*C37 -> 0 | F37: 0 | G37: =E37*F37+E37 -> 0
A38: 17 | B38: Eco-emballages | C38: 0 | D38: 0 | E38: =+D38*C38 -> 0 | F38: 0 | G38: =E38*F38+E38 -> 0
A39: 18 | B39: Droits D'alcool | C39: 0 | D39: 0 | E39: =+D39*C39 -> 0 | F39: 0 | G39: =E39*F39+E39 -> 0
A40: 19 | B40: Champs 4 | C40: 0 | D40: 0 | E40: =+D40*C40 -> 0 | F40: 0 | G40: =E40*F40+E40 -> 0
B41: Total Taxes et Droits | E41: =SUM(E37:E40) -> 0 | F41: =G41/E41-1 -> #DIV/0! | G41: =SUM(G37:G40) -> 0
A43: 18 | B43: Total Hors Packaging et MP | E43: =E34+E41 -> 0 | F43: =G43/E43-1 -> #DIV/0! | G43: =G34+G41 -> 0
A45: 19 | B45: Prix de revient Industriel | G45: =G25+G43 -> 5.0985
B47: Marge Vente Japon - Ishibashi Exploitation
A48: 19 | B48: PRI | G48: =G45 -> 5.0985
A49: 20 | B49: PV Ishibashi Exploitation HT | G49: =G48*G50+G48 -> 6.1182
...

Sheet test2
A1: =RIGHT(CELL("nomfichier",A1),LEN(CELL("nomfichier",A1))-FIND("]",CELL("nomfichier",A1))) -> test2 | B1: Date
B2: REFERENCE : | C2: 無花果 | F2: FOURNISSEUR : | G2: 田中哲夫 | H2: Unité de Vente : | I2: 6 | J2: Poids Moyen : | K2: 45 gr
B3: Nom France : | C3: Figue | D3: Matière : | E3: Inoki | F3: MARQUE : | G3: ソレル | H3: UV par PCB : | I3: 300 | J3: EAN : | K3: 3546786435617
B4: Nom produit Japonais : | C4: 無花果 | D4: DLUO : | E4: 3 ans | F4: MARQUE : | H4: PCB / Pal : | I4: 6000 | J4: ITF14 : | K4: 15467864356176
B6: Packaging | C6: PU | D6: Nb | E6: PUPF | F6: %perte | G6: Euro | H6: Commentaires
A7: 1 | B7: Champs 1 | C7: 0 | D7: 0 | E7: =+D7*C7 -> 0 | F7: 0.1 | G7: =E7*F7+E7 -> 0
A8: =A7+1 -> 2 | B8: Champs 2 | C8: 0 | D8: 0 | E8: =+D8*C8 -> 0 | F8: 0 | G8: =E8*F8+E8 -> 0
A9: =A8+1 -> 3 | B9: Champs 3 | C9: 0 | D9: 0 | E9: =+D9*C9 -> 0 | F9: 0 | G9: =E9*F9+E9 -> 0
A10: =A9+1 -> 4 | B10: Champs 4 | C10: 0 | D10: 0 | E10: =+D10*C10 -> 0 | F10: 0 | G10: =E10*F10+E10 -> 0
A11: =A10+1 -> 5 | B11: Champs 5 | C11: 0 | D11: 0 | E11: =+D11*C11 -> 0 | F11: 0.05 | G11: =E11*F11+E11 -> 0
A12: =A11+1 -> 6 | B12: Champs 6 | C12: 0 | D12: 0 | E12: =+D12*C12 -> 0 | F12: 0 | G12: =E12*F12+E12 -> 0
A13: =A12+1 -> 7 | B13: Champs 7 | C13: 0 | D13: 0 | E13: =+D13*C13 -> 0 | F13: 0 | G13: =E13*F13+E13 -> 0
B14: Sous-Total Packaging | D14: Sous Total HP | E14: =SUM(E7:E13) -> 0 | F14: =G14/E14-1 -> #DIV/0! | G14: =SUM(G7:G13) -> 0
B16: Matière première Brute | C16: PU | D16: Nb | E16: PUPF | F16: %perte | G16: Euro | H16: Commentaires
A17: =A13+1 -> 8 | B17: Champs 1 | C17: 0 | D17: 0 | E17: =+D17*C17 -> 0 | F17: 0 | G17: =E17*F17+E17 -> 0
A18: =A17+1 -> 9 | B18: Champs 2 | C18: 0 | D18: 0 | E18: =+D18*C18 -> 0 | F18: 0 | G18: =E18*F18+E18 -> 0
A19: =A18+1 -> 10 | B19: Champs 3 | C19: 0 | D19: 0 | E19: =+D19*C19 -> 0 | F19: 0 | G19: =E19*F19+E19 -> 0
A20: =A19+1 -> 11 | B20: Champs 4 | C20: 0 | D20: 0 | E20: =+D20*C20 -> 0 | F20: 0 | G20: =E20*F20+E20 -> 0
B21: Sous total Matiere première Brute | D21: Sous Total HP | E21: =SUM(E17:E20) -> 0 | F21: =G21/E21-1 -> #DIV/0! | G21: =SUM(G17:G20) -> 0
A23: 12 | B23: Full Service | C23: 11 | D23: 0.45 | E23: 5.0134 | F23: 0.04 | G23: =E23*F23+E23 -> 5.213936
A25: 12 | B25: Total Packaging et Matière Première | D25: 1 | E25: =E14+E21+E23 -> 5.0134 | F25: =G25/E25-1 -> 0.04 | G25: =G14+G21+G23 -> 5.213936
B27: Main d'œuvre et divers | C27: PU | D27: Nb | E27: PUPF | F27: %perte | G27: Euro | H27: Commentaires
A28: 13 | B28: Champs 1 | C28: 0 | D28: 0 | E28: =+D28*C28 -> 0 | F28: 0 | G28: =E28*F28+E28 -> 0
A29: 14 | B29: Champs 2 | C29: 0 | D29: 0 | E29: =+D29*C29 -> 0 | F29: 0.05 | G29: =E29*F29+E29 -> 0
A30: 15 | B30: Champs 3 | C30: 0 | D30: 0 | E30: =+D30*C30 -> 0 | F30: 0 | G30: =E30*F30+E30 -> 0
A31: 16 | B31: Champs 4 | C31: 0 | D31: 0 | E31: =+D31*C31 -> 0 | F31: 0 | G31: =E31*F31+E31 -> 0
A32: 17 | B32: Champs 5 | C32: 0 | D32: 0 | E32: =+D32*C32 -> 0 | F32: 0 | G32: =E32*F32+E32 -> 0
A33: 18 | B33: Champs 6 | C33: 0 | D33: 0 | E33: =+D33*C33 -> 0 | F33: 0 | G33: =E33*F33+E33 -> 0
A34: 15 | B34: Total Main d' œuvre + divers | E34: =SUM(E28:E33) -> 0 | F34: =G34/E34-1 -> #DIV/0! | G34: =SUM(G28:G33) -> 0
B36: Taxes et Droits | C36: PU | D36: Nb | E36: PUPF | F36: %perte | G36: Euro | H36: Commentaires
A37: 16 | B37: BAPSA | C37: 0 | D37: 0 | E37: =+D37*C37 -> 0 | F37: 0 | G37: =E37*F37+E37 -> 0
A38: 17 | B38: Eco-emballages | C38: 0 | D38: 0 | E38: =+D38*C38 -> 0 | F38: 0 | G38: =E38*F38+E38 -> 0
A39: 18 | B39: Droits D'alcool | C39: 0 | D39: 0 | E39: =+D39*C39 -> 0 | F39: 0 | G39: =E39*F39+E39 -> 0
A40: 19 | B40: Champs 4 | C40: 0 | D40: 0 | E40: =+D40*C40 -> 0 | F40: 0 | G40: =E40*F40+E40 -> 0
B41: Total Taxes et Droits | E41: =SUM(E37:E40) -> 0 | F41: =G41/E41-1 -> #DIV/0! | G41: =SUM(G37:G40) -> 0
A43: 18 | B43: Total Hors Packaging et MP | E43: =E34+E41 -> 0 | F43: =G43/E43-1 -> #DIV/0! | G43: =G34+G41 -> 0
A45: 19 | B45: Prix de revient Industriel | G45: =G25+G43 -> 5.213936
B47: Marge Vente Japon - Ishibashi Exploitation
A48: 19 | B48: PRI | G48: =G45 -> 5.213936
A49: 20 | B49: PV Ishibashi Exploitation HT | G49: =G48*G50+G48 -> 6.2567232
...

Sheet test3
A1: =RIGHT(CELL("nomfichier",A1),LEN(CELL("nomfichier",A1))-FIND("]",CELL("nomfichier",A1))) -> test3 | B1: Date
B2: REFERENCE : | C2: 無花果 | F2: FOURNISSEUR : | G2: 田中哲夫 | H2: Unité de Vente : | I2: 6 | J2: Poids Moyen : | K2: 45 gr
B3: Nom France : | C3: Figue | D3: Matière : | E3: Inoki | F3: MARQUE : | G3: ソレル | H3: UV par PCB : | I3: 300 | J3: EAN : | K3: 3546786435617
B4: Nom produit Japonais : | C4: 無花果 | D4: DLUO : | E4: 3 ans | F4: MARQUE : | H4: PCB / Pal : | I4: 6000 | J4: ITF14 : | K4: 15467864356176
B6: Packaging | C6: PU | D6: Nb | E6: PUPF | F6: %perte | G6: Euro | H6: Commentaires
A7: 1 | B7: Champs 1 | C7: 0 | D7: 0 | E7: =+D7*C7 -> 0 | F7: 0.1 | G7: =E7*F7+E7 -> 0
A8: =A7+1 -> 2 | B8: Champs 2 | C8: 0 | D8: 0 | E8: =+D8*C8 -> 0 | F8: 0 | G8: =E8*F8+E8 -> 0
A9: =A8+1 -> 3 | B9: Champs 3 | C9: 0 | D9: 0 | E9: =+D9*C9 -> 0 | F9: 0 | G9: =E9*F9+E9 -> 0
A10: =A9+1 -> 4 | B10: Champs 4 | C10: 0 | D10: 0 | E10: =+D10*C10 -> 0 | F10: 0 | G10: =E10*F10+E10 -> 0
A11: =A10+1 -> 5 | B11: Champs 5 | C11: 0 | D11: 0 | E11: =+D11*C11 -> 0 | F11: 0.05 | G11: =E11*F11+E11 -> 0
A12: =A11+1 -> 6 | B12: Champs 6 | C12: 0 | D12: 0 | E12: =+D12*C12 -> 0 | F12: 0 | G12: =E12*F12+E12 -> 0
A13: =A12+1 -> 7 | B13: Champs 7 | C13: 0 | D13: 0 | E13: =+D13*C13 -> 0 | F13: 0 | G13: =E13*F13+E13 -> 0
B14: Sous-Total Packaging | D14: Sous Total HP | E14: =SUM(E7:E13) -> 0 | F14: =G14/E14-1 -> #DIV/0! | G14: =SUM(G7:G13) -> 0
B16: Matière première Brute | C16: PU | D16: Nb | E16: PUPF | F16: %perte | G16: Euro | H16: Commentaires
A17: =A13+1 -> 8 | B17: Champs 1 | C17: 0 | D17: 0 | E17: =+D17*C17 -> 0 | F17: 0 | G17: =E17*F17+E17 -> 0
A18: =A17+1 -> 9 | B18: Champs 2 | C18: 0 | D18: 0 | E18: =+D18*C18 -> 0 | F18: 0 | G18: =E18*F18+E18 -> 0
A19: =A18+1 -> 10 | B19: Champs 3 | C19: 0 | D19: 0 | E19: =+D19*C19 -> 0 | F19: 0 | G19: =E19*F19+E19 -> 0
A20: =A19+1 -> 11 | B20: Champs 4 | C20: 0 | D20: 0 | E20: =+D20*C20 -> 0 | F20: 0 | G20: =E20*F20+E20 -> 0
B21: Sous total Matiere première Brute | D21: Sous Total HP | E21: =SUM(E17:E20) -> 0 | F21: =G21/E21-1 -> #DIV/0! | G21: =SUM(G17:G20) -> 0
A23: 12 | B23: Full Service | C23: 11 | D23: 0.45 | E23: 5.0134 | F23: 0.04 | G23: =E23*F23+E23 -> 5.213936
A25: 12 | B25: Total Packaging et Matière Première | D25: 1 | E25: =E14+E21+E23 -> 5.0134 | F25: =G25/E25-1 -> 0.04 | G25: =G14+G21+G23 -> 5.213936
B27: Main d'œuvre et divers | C27: PU | D27: Nb | E27: PUPF | F27: %perte | G27: Euro | H27: Commentaires
A28: 13 | B28: Champs 1 | C28: 0 | D28: 0 | E28: =+D28*C28 -> 0 | F28: 0 | G28: =E28*F28+E28 -> 0
A29: 14 | B29: Champs 2 | C29: 0 | D29: 0 | E29: =+D29*C29 -> 0 | F29: 0.05 | G29: =E29*F29+E29 -> 0
A30: 15 | B30: Champs 3 | C30: 0 | D30: 0 | E30: =+D30*C30 -> 0 | F30: 0 | G30: =E30*F30+E30 -> 0
A31: 16 | B31: Champs 4 | C31: 0 | D31: 0 | E31: =+D31*C31 -> 0 | F31: 0 | G31: =E31*F31+E31 -> 0
A32: 17 | B32: Champs 5 | C32: 0 | D32: 0 | E32: =+D32*C32 -> 0 | F32: 0 | G32: =E32*F32+E32 -> 0
A33: 18 | B33: Champs 6 | C33: 0 | D33: 0 | E33: =+D33*C33 -> 0 | F33: 0 | G33: =E33*F33+E33 -> 0
A34: 15 | B34: Total Main d' œuvre + divers | E34: =SUM(E28:E33) -> 0 | F34: =G34/E34-1 -> #DIV/0! | G34: =SUM(G28:G33) -> 0
B36: Taxes et Droits | C36: PU | D36: Nb | E36: PUPF | F36: %perte | G36: Euro | H36: Commentaires
A37: 16 | B37: BAPSA | C37: 0 | D37: 0 | E37: =+D37*C37 -> 0 | F37: 0 | G37: =E37*F37+E37 -> 0
A38: 17 | B38: Eco-emballages | C38: 0 | D38: 0 | E38: =+D38*C38 -> 0 | F38: 0 | G38: =E38*F38+E38 -> 0
A39: 18 | B39: Droits D'alcool | C39: 0 | D39: 0 | E39: =+D39*C39 -> 0 | F39: 0 | G39: =E39*F39+E39 -> 0
A40: 19 | B40: Champs 4 | C40: 0 | D40: 0 | E40: =+D40*C40 -> 0 | F40: 0 | G40: =E40*F40+E40 -> 0
B41: Total Taxes et Droits | E41: =SUM(E37:E40) -> 0 | F41: =G41/E41-1 -> #DIV/0! | G41: =SUM(G37:G40) -> 0
A43: 18 | B43: Total Hors Packaging et MP | E43: =E34+E41 -> 0 | F43: =G43/E43-1 -> #DIV/0! | G43: =G34+G41 -> 0
A45: 19 | B45: Prix de revient Industriel | G45: =G25+G43 -> 5.213936
B47: Marge Vente Japon - Ishibashi Exploitation
A48: 19 | B48: PRI | G48: =G45 -> 5.213936
A49: 20 | B49: PV Ishibashi Exploitation HT | G49: =G48*G50+G48 -> 6.2567232
...
