Workbook
Name Completude: [1]Définitions!$C$3:$C$6
Name Cout_ST_mois: [2]Paramètres!$E$6
Name CUO: [2]Paramètres!$B$8
Name ETP_par_m_en_h: [2]Paramètres!$B$11
Name TypeEvol: [1]Définitions!$A$3:$A$5

Sheet Planif
A1: Ref | B1: Date prévisionnelle planif. Rédac | C1: Date planif Approb
A2: TITRE
A3: SOUS TITRE 1
A4: AAAAAAAAAAAAA | B4: 43587 | C4: =IF(ISBLANK(B4),"",B4+28) -> 43615
A5: BBBBBBBBBBB | B5: 43594 | C5: =IF(ISBLANK(B5),"",B5+28) -> 43622
A6: CCCCCCCCCC | B6: 43600 | C6: =IF(ISBLANK(B6),"",B6+28) -> 43628
A7: DDDDDDDDDD | B7: 43606 | C7: =IF(ISBLANK(B7),"",B7+28) -> 43634
A8: EEEEEEEEEEE | B8: 43612 | C8: =IF(ISBLANK(B8),"",B8+28) -> 43640
A9: FFFFFFFFFFFFF | B9: 43619 | C9: =IF(ISBLANK(B9),"",B9+28) -> 43647
A10: GGGGGGGGGG | B10: 43627 | C10: =IF(ISBLANK(B10),"",B10+28) -> 43655
A11: SOUS TITRE 2
A12: HHHHHHHHHH | B12: 43606 | C12: =IF(ISBLANK(B12),"",B12+28) -> 43634
A13: IIIIIIIIIIIIIIIIIIIIIIIIIIIII | B13: 43654 | C13: =IF(ISBLANK(B13),"",B13+28) -> 43682
A14: JJJJJJJJJJJJJJ | B14: 43619 | C14: =IF(ISBLANK(B14),"",B14+28) -> 43647
A15: KKKKKKKKKKK | B15: 43668 | C15: =IF(ISBLANK(B15),"",B15+28) -> 43696
A16: LLLLLLLLLLLL | B16: 43651 | C16: =IF(ISBLANK(B16),"",B16+28) -> 43679
A17: MMMMMMMMM | B17: 43640 | C17: =IF(ISBLANK(B17),"",B17+28) -> 43668

Sheet Planning
B1: MAI | AG1: JUIN | BK1: JUILLET | CP1: AOUT | DV1: SEPTEMBRE
A2: SEMAINES | B2: 18 | G2: 19 | N2: 20 | U2: 21 | AB2: 22 | AI2: 23 | AP2: 24 | AW2: 25 | BD2: 26 | BK2: 27 | BR2: 28 | BY2: 29 | CF2: 30 | CM2: 31 | CT2: 32 | DA2: 33 | DH2: 34 | DO2: 35 | DV2: 36 | EC2: 37 | EJ2: 38 | EQ2: 39 | EX2: 40
B3: M | C3: J | D3: V | E3: S | F3: D | G3: L | H3: M | I3: M | J3: J | K3: V | L3: S | M3: D | N3: L | O3: M | P3: M | Q3: J | R3: V | S3: S | T3: D | U3: L | V3: M | W3: M | X3: J | Y3: V | Z3: S | AA3: D | AB3: L | AC3: M | AD3: M | AE3: J | AF3: V | AG3: S | AH3: D | AI3: L | AJ3: M | AK3: M | AL3: J | AM3: V | AN3: S | AO3: D | AP3: L | AQ3: M | AR3: M | AS3: J | AT3: V | AU3: S | AV3: D | AW3: L | AX3: M | AY3: M | AZ3: J | BA3: V | BB3: S | BC3: D | BD3: L | BE3: M | BF3: M | BG3: J | BH3: V | BI3: S | BJ3: D | BK3: L | BL3: M | BM3: M | BN3: J | BO3: V | BP3: S | BQ3: D | BR3: L | BS3: M | BT3: M | BU3: J | BV3: V | BW3: S | BX3: D | BY3: L | BZ3: M | CA3: M | CB3: J | CC3: V | CD3: S | CE3: D | CF3: L | CG3: M | CH3: M | CI3: J | CJ3: V | CK3: S | CL3: D | CM3: L | CN3: M | CO3: M | CP3: J | CQ3: V | CR3: S | CS3: D | CT3: L | CU3: M | CV3: M | CW3: J | CX3: V | CY3: S | CZ3: D | DA3: L | DB3: M | DC3: M | DD3: J | DE3: V | DF3: S | DG3: D | DH3: L | DI3: M | DJ3: M | DK3: J | DL3: V | DM3: S | DN3: D | DO3: L | DP3: M | DQ3: M | DR3: J | DS3: V | DT3: S | DU3: D | DV3: L | DW3: M | DX3: M | DY3: J | DZ3: V | EA3: S | EB3: D | EC3: L | ED3: M | EE3: M | EF3: J | EG3: V | EH3: S | EI3: D | EJ3: L | EK3: M | EL3: M | EM3: J | EN3: V | EO3: S | EP3: D | EQ3: L | ER3: M | ES3: M | ET3: J | EU3: V | EV3: S | EW3: D | EX3: L
A4: Test | B4: 43586 | C4: 43587 | D4: 43588 | E4: 43589 | F4: 43590 | G4: 43591 | H4: 43592 | I4: 43593 | J4: 43594 | K4: 43595 | L4: 43596 | M4: 43597 | N4: 43598 | O4: 43599 | P4: 43600 | Q4: 43601 | R4: 43602 | S4: 43603 | T4: 43604 | U4: 43605 | V4: 43606 | W4: 43607 | X4: 43608 | Y4: 43609 | Z4: 43610 | AA4: 43611 | AB4: 43612 | AC4: 43613 | AD4: 43614 | AE4: 43615 | AF4: 43616 | AG4: 43617 | AH4: 43618 | AI4: 43619 | AJ4: 43620 | AK4: 43621 | AL4: 43622 | AM4: 43623 | AN4: 43624 | AO4: 43625 | AP4: 43626 | AQ4: 43627 | AR4: 43628 | AS4: 43629 | AT4: 43630 | AU4: 43631 | AV4: 43632 | AW4: 43633 | AX4: 43634 | AY4: 43635 | AZ4: 43636 | BA4: 43637 | BB4: 43638 | BC4: 43639 | BD4: 43640 | BE4: 43641 | BF4: 43642 | BG4: 43643 | BH4: 43644 | BI4: 43645 | BJ4: 43646 | BK4: 43647 | BL4: 43648 | BM4: 43649 | BN4: 43650 | BO4: 43651 | BP4: 43652 | BQ4: 43653 | BR4: 43654 | BS4: 43655 | BT4: 43656 | BU4: 43657 | BV4: 43658 | BW4: 43659 | BX4: 43660 | BY4: 43661 | BZ4: 43662 | CA4: 43663 | CB4: 43664 | CC4: 43665 | CD4: 43666 | CE4: 43667 | CF4: 43668 | CG4: 43669 | CH4: 43670 | CI4: 43671 | CJ4: 43672 | CK4: 43673 | CL4: 43674 | CM4: 43675 | CN4: 43676 | CO4: 43677 | CP4: 43678 | CQ4: 43679 | CR4: 43680 | CS4: 43681 | CT4: 43682 | CU4: 43683 | CV4: 43684 | CW4: 43685 | CX4: 43686 | CY4: 43687 | CZ4: 43688 | DA4: 43689 | DB4: 43690 | DC4: 43691 | DD4: 43692 | DE4: 43693 | DF4: 43694 | DG4: 43695 | DH4: 43696 | DI4: 43697 | DJ4: 43698 | DK4: 43699 | DL4: 43700 | DM4: 43701 | DN4: 43702 | DO4: 43703 | DP4: 43704 | DQ4: 43705 | DR4: 43706 | DS4: 43707 | DT4: 43708 | DU4: 43709 | DV4: 43710 | DW4: 43711 | DX4: 43712 | DY4: 43713 | DZ4: 43714 | EA4: 43715 | EB4: 43716 | EC4: 43717 | ED4: 43718 | EE4: 43719 | EF4: 43720 | EG4: 43721 | EH4: 43722 | EI4: 43723 | EJ4: 43724 | EK4: 43725 | EL4: 43726 | EM4: 43727 | EN4: 43728 | EO4: 43729 | EP4: 43730 | EQ4: 43731 | ER4: 43732 | ES4: 43733 | ET4: 43734 | EU4: 43735 | EV4: 43736 | EW4: 43737 | EX4: 43738
A5: TITRE
A6: SOUS TITRE 1
A7: AAAAAAAAAAAAA | B7: =IF(OFFSET(Planif!$A$1,MATCH($A7,Planif!$A:$A,0)-1,1)=B$4,"X","") | C7: =IF(VLOOKUP($A7,Planif!$A:$C,2,0)=C$4,"X","") -> X | D7: =IF(VLOOKUP($A7,Planif!$A:$C,2,0)=D$4,"X","") | E7: =IF(VLOOKUP($A7,Planif!$A:$C,2,0)=E$4,"X","") | F7: =IF(VLOOKUP($A7,Planif!$A:$C,2,0)=F$4,"X","") | G7: =IF(VLOOKUP($A7,Planif!$A:$C,2,0)=G$4,"X","") | H7: =IF(VLOOKUP($A7,Planif!$A:$C,2,0)=H$4,"X","") | I7: =IF(VLOOKUP($A7,Planif!$A:$C,2,0)=I$4,"X","") | J7: =IF(VLOOKUP($A7,Planif!$A:$C,2,0)=J$4,"X","") | ... EX7: =IF(VLOOKUP($A7,Planif!$A:$C,2,0)=EX$4,"X","")
A8: BBBBBBBBBBB | B8: =IF(OFFSET(Planif!$A$1,MATCH($A8,Planif!$A:$A,0)-1,1)=B$4,"X","") | C8: =IF(VLOOKUP($A8,Planif!$A:$C,2,0)=C$4,"X","") | D8: =IF(VLOOKUP($A8,Planif!$A:$C,2,0)=D$4,"X","") | E8: =IF(VLOOKUP($A8,Planif!$A:$C,2,0)=E$4,"X","") | F8: =IF(VLOOKUP($A8,Planif!$A:$C,2,0)=F$4,"X","") | G8: =IF(VLOOKUP($A8,Planif!$A:$C,2,0)=G$4,"X","") | H8: =IF(VLOOKUP($A8,Planif!$A:$C,2,0)=H$4,"X","") | I8: =IF(VLOOKUP($A8,Planif!$A:$C,2,0)=I$4,"X","") | J8: =IF(VLOOKUP($A8,Planif!$A:$C,2,0)=J$4,"X","") -> X | ... EX8: =IF(VLOOKUP($A8,Planif!$A:$C,2,0)=EX$4,"X","")
A9: CCCCCCCCCC | B9: =IF(OFFSET(Planif!$A$1,MATCH($A9,Planif!$A:$A,0)-1,1)=B$4,"X","") | C9: =IF(VLOOKUP($A9,Planif!$A:$C,2,0)=C$4,"X","") | D9: =IF(VLOOKUP($A9,Planif!$A:$C,2,0)=D$4,"X","") | E9: =IF(VLOOKUP($A9,Planif!$A:$C,2,0)=E$4,"X","") | F9: =IF(VLOOKUP($A9,Planif!$A:$C,2,0)=F$4,"X","") | G9: =IF(VLOOKUP($A9,Planif!$A:$C,2,0)=G$4,"X","") | H9: =IF(VLOOKUP($A9,Planif!$A:$C,2,0)=H$4,"X","") | I9: =IF(VLOOKUP($A9,Planif!$A:$C,2,0)=I$4,"X","") | J9: =IF(VLOOKUP($A9,Planif!$A:$C,2,0)=J$4,"X","") | ... EX9: =IF(VLOOKUP($A9,Planif!$A:$C,2,0)=EX$4,"X","")
A10: DDDDDDDDDD | B10: =IF(OFFSET(Planif!$A$1,MATCH($A10,Planif!$A:$A,0)-1,1)=B$4,"X","") | C10: =IF(VLOOKUP($A10,Planif!$A:$C,2,0)=C$4,"X","") | D10: =IF(VLOOKUP($A10,Planif!$A:$C,2,0)=D$4,"X","") | E10: =IF(VLOOKUP($A10,Planif!$A:$C,2,0)=E$4,"X","") | F10: =IF(VLOOKUP($A10,Planif!$A:$C,2,0)=F$4,"X","") | G10: =IF(VLOOKUP($A10,Planif!$A:$C,2,0)=G$4,"X","") | H10: =IF(VLOOKUP($A10,Planif!$A:$C,2,0)=H$4,"X","") | I10: =IF(VLOOKUP($A10,Planif!$A:$C,2,0)=I$4,"X","") | J10: =IF(VLOOKUP($A10,Planif!$A:$C,2,0)=J$4,"X","") | ... EX10: =IF(VLOOKUP($A10,Planif!$A:$C,2,0)=EX$4,"X","")
A11: EEEEEEEEEEE | B11: =IF(OFFSET(Planif!$A$1,MATCH($A11,Planif!$A:$A,0)-1,1)=B$4,"X","") | C11: =IF(VLOOKUP($A11,Planif!$A:$C,2,0)=C$4,"X","") | D11: =IF(VLOOKUP($A11,Planif!$A:$C,2,0)=D$4,"X","") | E11: =IF(VLOOKUP($A11,Planif!$A:$C,2,0)=E$4,"X","") | F11: =IF(VLOOKUP($A11,Planif!$A:$C,2,0)=F$4,"X","") | G11: =IF(VLOOKUP($A11,Planif!$A:$C,2,0)=G$4,"X","") | H11: =IF(VLOOKUP($A11,Planif!$A:$C,2,0)=H$4,"X","") | I11: =IF(VLOOKUP($A11,Planif!$A:$C,2,0)=I$4,"X","") | J11: =IF(VLOOKUP($A11,Planif!$A:$C,2,0)=J$4,"X","") | ... EX11: =IF(VLOOKUP($A11,Planif!$A:$C,2,0)=EX$4,"X","")
A12: FFFFFFFFFFFFF | B12: =IF(OFFSET(Planif!$A$1,MATCH($A12,Planif!$A:$A,0)-1,1)=B$4,"X","") | C12: =IF(VLOOKUP($A12,Planif!$A:$C,2,0)=C$4,"X","") | D12: =IF(VLOOKUP($A12,Planif!$A:$C,2,0)=D$4,"X","") | E12: =IF(VLOOKUP($A12,Planif!$A:$C,2,0)=E$4,"X","") | F12: =IF(VLOOKUP($A12,Planif!$A:$C,2,0)=F$4,"X","") | G12: =IF(VLOOKUP($A12,Planif!$A:$C,2,0)=G$4,"X","") | H12: =IF(VLOOKUP($A12,Planif!$A:$C,2,0)=H$4,"X","") | I12: =IF(VLOOKUP($A12,Planif!$A:$C,2,0)=I$4,"X","") | J12: =IF(VLOOKUP($A12,Planif!$A:$C,2,0)=J$4,"X","") | ... EX12: =IF(VLOOKUP($A12,Planif!$A:$C,2,0)=EX$4,"X","")
A13: GGGGGGGGGG | B13: =IF(OFFSET(Planif!$A$1,MATCH($A13,Planif!$A:$A,0)-1,1)=B$4,"X","") | C13: =IF(VLOOKUP($A13,Planif!$A:$C,2,0)=C$4,"X","") | D13: =IF(VLOOKUP($A13,Planif!$A:$C,2,0)=D$4,"X","") | E13: =IF(VLOOKUP($A13,Planif!$A:$C,2,0)=E$4,"X","") | F13: =IF(VLOOKUP($A13,Planif!$A:$C,2,0)=F$4,"X","") | G13: =IF(VLOOKUP($A13,Planif!$A:$C,2,0)=G$4,"X","") | H13: =IF(VLOOKUP($A13,Planif!$A:$C,2,0)=H$4,"X","") | I13: =IF(VLOOKUP($A13,Planif!$A:$C,2,0)=I$4,"X","") | J13: =IF(VLOOKUP($A13,Planif!$A:$C,2,0)=J$4,"X","") | ... EX13: =IF(VLOOKUP($A13,Planif!$A:$C,2,0)=EX$4,"X","")
A14: SOUS TITRE 2
A15: HHHHHHHHHH | B15: =IF(OFFSET(Planif!$A$1,MATCH($A15,Planif!$A:$A,0)-1,1)=B$4,"X","") | C15: =IF(VLOOKUP($A15,Planif!$A:$C,2,0)=C$4,"X","") | D15: =IF(VLOOKUP($A15,Planif!$A:$C,2,0)=D$4,"X","") | E15: =IF(VLOOKUP($A15,Planif!$A:$C,2,0)=E$4,"X","") | F15: =IF(VLOOKUP($A15,Planif!$A:$C,2,0)=F$4,"X","") | G15: =IF(VLOOKUP($A15,Planif!$A:$C,2,0)=G$4,"X","") | H15: =IF(VLOOKUP($A15,Planif!$A:$C,2,0)=H$4,"X","") | I15: =IF(VLOOKUP($A15,Planif!$A:$C,2,0)=I$4,"X","") | J15: =IF(VLOOKUP($A15,Planif!$A:$C,2,0)=J$4,"X","") | ... EX15: =IF(VLOOKUP($A15,Planif!$A:$C,2,0)=EX$4,"X","")
A16: IIIIIIIIIIIIIIIIIIIIIIIIIIIII | B16: =IF(OFFSET(Planif!$A$1,MATCH($A16,Planif!$A:$A,0)-1,1)=B$4,"X","") | C16: =IF(VLOOKUP($A16,Planif!$A:$C,2,0)=C$4,"X","") | D16: =IF(VLOOKUP($A16,Planif!$A:$C,2,0)=D$4,"X","") | E16: =IF(VLOOKUP($A16,Planif!$A:$C,2,0)=E$4,"X","") | F16: =IF(VLOOKUP($A16,Planif!$A:$C,2,0)=F$4,"X","") | G16: =IF(VLOOKUP($A16,Planif!$A:$C,2,0)=G$4,"X","") | H16: =IF(VLOOKUP($A16,Planif!$A:$C,2,0)=H$4,"X","") | I16: =IF(VLOOKUP($A16,Planif!$A:$C,2,0)=I$4,"X","") | J16: =IF(VLOOKUP($A16,Planif!$A:$C,2,0)=J$4,"X","") | ... EX16: =IF(VLOOKUP($A16,Planif!$A:$C,2,0)=EX$4,"X","")
A17: JJJJJJJJJJJJJJ | B17: =IF(OFFSET(Planif!$A$1,MATCH($A17,Planif!$A:$A,0)-1,1)=B$4,"X","") | C17: =IF(VLOOKUP($A17,Planif!$A:$C,2,0)=C$4,"X","") | D17: =IF(VLOOKUP($A17,Planif!$A:$C,2,0)=D$4,"X","") | E17: =IF(VLOOKUP($A17,Planif!$A:$C,2,0)=E$4,"X","") | F17: =IF(VLOOKUP($A17,Planif!$A:$C,2,0)=F$4,"X","") | G17: =IF(VLOOKUP($A17,Planif!$A:$C,2,0)=G$4,"X","") | H17: =IF(VLOOKUP($A17,Planif!$A:$C,2,0)=H$4,"X","") | I17: =IF(VLOOKUP($A17,Planif!$A:$C,2,0)=I$4,"X","") | J17: =IF(VLOOKUP($A17,Planif!$A:$C,2,0)=J$4,"X","") | ... EX17: =IF(VLOOKUP($A17,Planif!$A:$C,2,0)=EX$4,"X","")
A18: KKKKKKKKKKK | B18: =IF(OFFSET(Planif!$A$1,MATCH($A18,Planif!$A:$A,0)-1,1)=B$4,"X","") | C18: =IF(VLOOKUP($A18,Planif!$A:$C,2,0)=C$4,"X","") | D18: =IF(VLOOKUP($A18,Planif!$A:$C,2,0)=D$4,"X","") | E18: =IF(VLOOKUP($A18,Planif!$A:$C,2,0)=E$4,"X","") | F18: =IF(VLOOKUP($A18,Planif!$A:$C,2,0)=F$4,"X","") | G18: =IF(VLOOKUP($A18,Planif!$A:$C,2,0)=G$4,"X","") | H18: =IF(VLOOKUP($A18,Planif!$A:$C,2,0)=H$4,"X","") | I18: =IF(VLOOKUP($A18,Planif!$A:$C,2,0)=I$4,"X","") | J18: =IF(VLOOKUP($A18,Planif!$A:$C,2,0)=J$4,"X","") | ... EX18: =IF(VLOOKUP($A18,Planif!$A:$C,2,0)=EX$4,"X","")
A19: LLLLLLLLLLLL | B19: =IF(OFFSET(Planif!$A$1,MATCH($A19,Planif!$A:$A,0)-1,1)=B$4,"X","") | C19: =IF(VLOOKUP($A19,Planif!$A:$C,2,0)=C$4,"X","") | D19: =IF(VLOOKUP($A19,Planif!$A:$C,2,0)=D$4,"X","") | E19: =IF(VLOOKUP($A19,Planif!$A:$C,2,0)=E$4,"X","") | F19: =IF(VLOOKUP($A19,Planif!$A:$C,2,0)=F$4,"X","") | G19: =IF(VLOOKUP($A19,Planif!$A:$C,2,0)=G$4,"X","") | H19: =IF(VLOOKUP($A19,Planif!$A:$C,2,0)=H$4,"X","") | I19: =IF(VLOOKUP($A19,Planif!$A:$C,2,0)=I$4,"X","") | J19: =IF(VLOOKUP($A19,Planif!$A:$C,2,0)=J$4,"X","") | ... EX19: =IF(VLOOKUP($A19,Planif!$A:$C,2,0)=EX$4,"X","")
A20: MMMMMMMMM | B20: =IF(OFFSET(Planif!$A$1,MATCH($A20,Planif!$A:$A,0)-1,1)=B$4,"X","") | C20: =IF(VLOOKUP($A20,Planif!$A:$C,2,0)=C$4,"X","") | D20: =IF(VLOOKUP($A20,Planif!$A:$C,2,0)=D$4,"X","") | E20: =IF(VLOOKUP($A20,Planif!$A:$C,2,0)=E$4,"X","") | F20: =IF(VLOOKUP($A20,Planif!$A:$C,2,0)=F$4,"X","") | G20: =IF(VLOOKUP($A20,Planif!$A:$C,2,0)=G$4,"X","") | H20: =IF(VLOOKUP($A20,Planif!$A:$C,2,0)=H$4,"X","") | I20: =IF(VLOOKUP($A20,Planif!$A:$C,2,0)=I$4,"X","") | J20: =IF(VLOOKUP($A20,Planif!$A:$C,2,0)=J$4,"X","") | ... EX20: =IF(VLOOKUP($A20,Planif!$A:$C,2,0)=EX$4,"X","")
