Workbook

Sheet Instructions
B2: 42064 | D2: 42065 | F2: 42066 | H2: 42067 | J2: 42068 | L2: 42069 | N2: 42070 | P2: 42071 | R2: 42072 | T2: 42073 | V2: 42074 | X2: 42075 | Z2: 42076 | AB2: 42077 | AD2: 42078 | AF2: 42079 | AH2: 42080 | AJ2: 42081 | AL2: 42082 | AN2: 42083 | AP2: 42084 | AR2: 42085 | AT2: 42086 | AV2: 42087 | AX2: 42088 | AZ2: 42089 | BB2: 42090 | BD2: 42091 | BF2: 42092 | BH2: 42093 | BJ2: 42094
B3: "-" | C3: "+" | D3: "-" | E3: "+" | F3: "-" | G3: "+" | H3: "-" | I3: "+" | J3: "-" | K3: "+" | L3: "-" | M3: "+" | N3: "-" | O3: "+" | P3: "-" | Q3: "+" | R3: "-" | S3: "+" | T3: "-" | U3: "+" | V3: "-" | W3: "+" | X3: "-" | Y3: "+" | Z3: "-" | AA3: "+" | AB3: "-" | AC3: "+" | AD3: "-" | AE3: "+" | AF3: "-" | AG3: "+" | AH3: "-" | AI3: "+" | AJ3: "-" | AK3: "+" | AL3: "-" | AM3: "+" | AN3: "-" | AO3: "+" | AP3: "-" | AQ3: "+" | AR3: "-" | AS3: "+" | AT3: "-" | AU3: "+" | AV3: "-" | AW3: "+" | AX3: "-" | AY3: "+" | AZ3: "-" | BA3: "+" | BB3: "-" | BC3: "+" | BD3: "-" | BE3: "+" | BF3: "-" | BG3: "+" | BH3: "-" | BI3: "+" | BJ3: "-" | BK3: "+"
A5: Sotck actualiza | B5: =A4+(C4-B4) -> 0 | D5: =B5+E4-D4 -> 0 | F5: =D5+G4-F4 -> 0 | H5: =F5+I4-H4 -> 0 | J5: =H5+K4-J4 -> 0 | L5: =J5+M4-L4 -> 0 | N5: =L5+O4-N4 -> 0 | P5: =N5+Q4-P4 -> 0 | R5: =P5+S4-R4 -> 0 | T5: =R5+U4-T4 -> 0 | V5: =T5+W4-V4 -> 0 | X5: =V5+Y4-X4 -> 0 | Z5: =X5+AA4-Z4 -> 0 | AB5: =Z5+AC4-AB4 -> 0 | AD5: =AB5+AE4-AD4 -> 0 | AF5: =AD5+AG4-AF4 -> 0 | AH5: =AF5+AI4-AH4 -> 0 | AJ5: =AH5+AK4-AJ4 -> 0 | AL5: =AJ5+AM4-AL4 -> 0 | AN5: =AL5+AO4-AN4 -> 0 | AP5: =AN5+AQ4-AP4 -> 0 | AR5: =AP5+AS4-AR4 -> 0 | AT5: =AR5+AU4-AT4 -> 0 | AV5: =AT5+AW4-AV4 -> 0 | AX5: =AV5+AY4-AX4 -> 0 | AZ5: =AX5+BA4-AZ4 -> 0 | BB5: =AZ5+BC4-BB4 -> 0 | BD5: =BB5+BE4-BD4 -> 0 | BF5: =BD5+BG4-BF4 -> 0 | BH5: =BF5+BI4-BH4 -> 0 | BJ5: =BH5+BK4-BJ4 -> 0
A6: Coût d'achat unitario
A7: Proveedor
A8: Valor unitario | B8: =B6 -> 0 | D8: =D6 -> 0 | F8: =F6 -> 0 | H8: =H6 -> 0 | J8: =J6 -> 0 | L8: =L6 -> 0 | N8: =N6 -> 0 | P8: =P6 -> 0 | R8: =R6 -> 0 | T8: =T6 -> 0 | V8: =V6 -> 0 | X8: =X6 -> 0 | Z8: =Z6 -> 0 | AB8: =AB6 -> 0 | AD8: =AD6 -> 0 | AF8: =AF6 -> 0 | AH8: =AH6 -> 0 | AJ8: =AJ6 -> 0 | AL8: =AL6 -> 0 | AN8: =AN6 -> 0 | AP8: =AP6 -> 0 | AR8: =AR6 -> 0 | AT8: =AT6 -> 0 | AV8: =AV6 -> 0 | AX8: =AX6 -> 0 | AZ8: =AZ6 -> 0 | BB8: =BB6 -> 0 | BD8: =BD6 -> 0 | BF8: =BF6 -> 0 | BH8: =BH6 -> 0 | BJ8: =BJ6 -> 0
A9: Valor media | D9: =D12/D5 -> #DIV/0! | F9: =F12/F5 -> #DIV/0! | H9: =H12/H5 -> #DIV/0! | J9: =J12/J5 -> #DIV/0! | L9: =L12/L5 -> #DIV/0! | N9: =N12/N5 -> #DIV/0! | P9: =P12/P5 -> #DIV/0! | R9: =R12/R5 -> #DIV/0! | T9: =T12/T5 -> #DIV/0! | V9: =V12/V5 -> #DIV/0! | X9: =X12/X5 -> #DIV/0! | Z9: =Z12/Z5 -> #DIV/0! | AB9: =AB12/AB5 -> #DIV/0! | AD9: =AD12/AD5 -> #DIV/0! | AF9: =AF12/AF5 -> #DIV/0! | AH9: =AH12/AH5 -> #DIV/0! | AJ9: =AJ12/AJ5 -> #DIV/0! | AL9: =AL12/AL5 -> #DIV/0! | AN9: =AN12/AN5 -> #DIV/0! | AP9: =AP12/AP5 -> #DIV/0! | AR9: =AR12/AR5 -> #DIV/0! | AT9: =AT12/AT5 -> #DIV/0! | AV9: =AV12/AV5 -> #DIV/0! | AX9: =AX12/AX5 -> #DIV/0! | AZ9: =AZ12/AZ5 -> #DIV/0! | BB9: =BB12/BB5 -> #DIV/0! | BD9: =BD12/BD5 -> #DIV/0! | BF9: =BF12/BF5 -> #DIV/0! | BH9: =BH12/BH5 -> #DIV/0! | BJ9: =BJ12/BJ5 -> #DIV/0!
A10: Entrée | B10: =C4*B6 -> 0 | D10: =E4*D6 -> 0 | F10: =G4*F6 -> 0 | H10: =I4*H6 -> 0 | J10: =K4*J6 -> 0 | L10: =M4*L6 -> 0 | N10: =O4*N6 -> 0 | P10: =Q4*P6 -> 0 | R10: =S4*R6 -> 0 | T10: =U4*T6 -> 0 | V10: =W4*V6 -> 0 | X10: =Y4*X6 -> 0 | Z10: =AA4*Z6 -> 0 | AB10: =AC4*AB6 -> 0 | AD10: =AE4*AD6 -> 0 | AF10: =AG4*AF6 -> 0 | AH10: =AI4*AH6 -> 0 | AJ10: =AK4*AJ6 -> 0 | AL10: =AM4*AL6 -> 0 | AN10: =AO4*AN6 -> 0 | AP10: =AQ4*AP6 -> 0 | AR10: =AS4*AR6 -> 0 | AT10: =AU4*AT6 -> 0 | AV10: =AW4*AV6 -> 0 | AX10: =AY4*AX6 -> 0 | AZ10: =BA4*AZ6 -> 0 | BB10: =BC4*BB6 -> 0 | BD10: =BE4*BD6 -> 0 | BF10: =BG4*BF6 -> 0 | BH10: =BI4*BH6 -> 0 | BJ10: =BK4*BJ6 -> 0
A11: Sorties | B11: =B4*B6 -> 0 | D11: =D4*D6 -> 0 | F11: =F4*F6 -> 0 | H11: =H4*H6 -> 0 | J11: =J4*J6 -> 0 | L11: =L4*L6 -> 0 | N11: =N4*N6 -> 0 | P11: =P4*P6 -> 0 | R11: =R4*R6 -> 0 | T11: =T4*T6 -> 0 | V11: =V4*V6 -> 0 | X11: =X4*X6 -> 0 | Z11: =Z4*Z6 -> 0 | AB11: =AB4*AB6 -> 0 | AD11: =AD4*AD6 -> 0 | AF11: =AF4*AF6 -> 0 | AH11: =AH4*AH6 -> 0 | AJ11: =AJ4*AJ6 -> 0 | AL11: =AL4*AL6 -> 0 | AN11: =AN4*AN6 -> 0 | AP11: =AP4*AP6 -> 0 | AR11: =AR4*AR6 -> 0 | AT11: =AT4*AT6 -> 0 | AV11: =AV4*AV6 -> 0 | AX11: =AX4*AX6 -> 0 | AZ11: =AZ4*AZ6 -> 0 | BB11: =BB4*BB6 -> 0 | BD11: =BD4*BD6 -> 0 | BF11: =BF4*BF6 -> 0 | BH11: =BH4*BH6 -> 0 | BJ11: =BJ4*BJ6 -> 0
A12: Valor Stock | B12: =B5*B8 -> 0 | D12: =B12+(E4-D4)*D8 -> 0 | F12: =D12+(G4-F4)*F8 -> 0 | H12: =F12+(I4-H4)*H8 -> 0 | J12: =H12+(K4-J4)*J8 -> 0 | L12: =J12+(M4-L4)*L8 -> 0 | N12: =L12+(O4-N4)*N8 -> 0 | P12: =N12+(Q4-P4)*P8 -> 0 | R12: =P12+(S4-R4)*R8 -> 0 | T12: =R12+(U4-T4)*T8 -> 0 | V12: =T12+(W4-V4)*V8 -> 0 | X12: =V12+(Y4-X4)*X8 -> 0 | Z12: =X12+(AA4-Z4)*Z8 -> 0 | AB12: =Z12+(AC4-AB4)*AB8 -> 0 | AD12: =AB12+(AE4-AD4)*AD8 -> 0 | AF12: =AD12+(AG4-AF4)*AF8 -> 0 | AH12: =AF12+(AI4-AH4)*AH8 -> 0 | AJ12: =AH12+(AK4-AJ4)*AJ8 -> 0 | AL12: =AJ12+(AM4-AL4)*AL8 -> 0 | AN12: =AL12+(AO4-AN4)*AN8 -> 0 | AP12: =AN12+(AQ4-AP4)*AP8 -> 0 | AR12: =AP12+(AS4-AR4)*AR8 -> 0 | AT12: =AR12+(AU4-AT4)*AT8 -> 0 | AV12: =AT12+(AW4-AV4)*AV8 -> 0 | AX12: =AV12+(AY4-AX4)*AX8 -> 0 | AZ12: =AX12+(BA4-AZ4)*AZ8 -> 0 | BB12: =AZ12+(BC4-BB4)*BB8 -> 0 | BD12: =BB12+(BE4-BD4)*BD8 -> 0 | BF12: =BD12+(BG4-BF4)*BF8 -> 0 | BH12: =BF12+(BI4-BH4)*BH8 -> 0 | BJ12: =BH12+(BK4-BJ4)*BJ8 -> 0
A14: Le travaille s'effectu sur le "tableau", les fiches se mettent automatiquement à jour. A la création d'une nouvelle fiche pour un nouveau produit, il faut faire attention à la formule de la valor unitario qui change selon le produit.

Sheet TABLEAU
A1: Stock | B1: Producto | C1: Medida | D1: 42036 | F1: 42037 | H1: 42038 | J1: 42039 | L1: 42040 | N1: 42041 | P1: 42042 | R1: 42043 | T1: 42044 | V1: 42045 | X1: 42046 | Z1: 42047 | AB1: 42048 | AD1: 42049 | AF1: 42050 | AH1: 42051 | AJ1: 42052 | AL1: 42053 | AN1: 42054 | AP1: 42055 | AR1: 42056 | AT1: 42057 | AV1: 54 | AX1: 42059 | AZ1: 42060 | BB1: 42061 | BD1: 42062 | BF1: 42063 | BH1: 29/02 | BJ1: 30/02 | BL1: 31/02 | BN1: Stock - | BO1: Stock + | BP1: Stock Final Mes | BQ1: Costo unitario | BR1: Costo total
D2: "-" | E2: "+" | F2: "-" | G2: "+" | H2: "-" | I2: "+" | J2: "-" | K2: "+" | L2: "-" | M2: "+" | N2: "-" | O2: "+" | P2: "-" | Q2: "+" | R2: "-" | S2: "+" | T2: "-" | U2: "+" | V2: "-" | W2: "+" | X2: "-" | Y2: "+" | Z2: "-" | AA2: "+" | AB2: "-" | AC2: "+" | AD2: "-" | AE2: "+" | AF2: "-" | AG2: "+" | AH2: "-" | AI2: "+" | AJ2: "-" | AK2: "+" | AL2: "-" | AM2: "+" | AN2: "-" | AO2: "+" | AP2: "-" | AQ2: "+" | AR2: "-" | AS2: "+" | AT2: "-" | AU2: "+" | AV2: "-" | AW2: "+" | AX2: "-" | AY2: "+" | AZ2: "-" | BA2: "+" | BB2: "-" | BC2: "+" | BD2: "-" | BE2: "+" | BF2: "-" | BG2: "+" | BH2: "-" | BI2: "+" | BJ2: "-" | BK2: "+" | BL2: "-" | BM2: "+"
B3: BODEGA
A4: 5 | B4: Aceite Balsamico | C4: 500 ml | E4: 2 | BN4: =D4+F4+H4+J4+L4+N4+P4+R4+T4+V4+X4+Z4+AB4+AD4+AF4+AH4+AJ4+AL4+AN4+AP4+AR4+AT4+AV4+AX4+AZ4+BB4+BD4+BF4+BH4+BJ4+BL4 -> 0 | BO4: =E4+G4+I4+K4+M4+O4+Q4+S4+U4+W4+Y4+AA4+AC4+AE4+AG4+AI4+AK4+AM4+AO4+AQ4+AS4+AU4+AW4+AY4+BA4+BC4+BE4+BG4+BI4+BK4+BM4 -> 2 | BP4: =A4-BN4+BO4 -> 7 | BQ4: 1755 | BR4: =INDEX('A-B-C-D'!A:E,(ROW()-4)*14+2,1) -> 12285
A5: 1 | B5: Aceite Borranza | C5: 5 lt | BN5: =D5+F5+H5+J5+L5+N5+P5+R5+T5+V5+X5+Z5+AB5+AD5+AF5+AH5+AJ5+AL5+AN5+AP5+AR5+AT5+AV5+AX5+AZ5+BB5+BD5+BF5+BH5+BJ5+BL5 -> 0 | BO5: =E5+G5+I5+K5+M5+O5+Q5+S5+U5+W5+Y5+AA5+AC5+AE5+AG5+AI5+AK5+AM5+AO5+AQ5+AS5+AU5+AW5+AY5+BA5+BC5+BE5+BG5+BI5+BK5+BM5 -> 0 | BP5: =A5-BN5+BO5 -> 1 | BQ5: 4498 | BR5: =INDEX('A-B-C-D'!A:E,(ROW()-4)*14+2,1) -> 4498
B6: Aceite de olivia extra viegen | C6: 5 lt | BN6: =D6+F6+H6+J6+L6+N6+P6+R6+T6+V6+X6+Z6+AB6+AD6+AF6+AH6+AJ6+AL6+AN6+AP6+AR6+AT6+AV6+AX6+AZ6+BB6+BD6+BF6+BH6+BJ6+BL6 -> 0 | BO6: =E6+G6+I6+K6+M6+O6+Q6+S6+U6+W6+Y6+AA6+AC6+AE6+AG6+AI6+AK6+AM6+AO6+AQ6+AS6+AU6+AW6+AY6+BA6+BC6+BE6+BG6+BI6+BK6+BM6 -> 0 | BP6: =A6-BN6+BO6 -> 0 | BQ6: 16200 | BR6: =INDEX('A-B-C-D'!A:E,(ROW()-4)*14+2,1) -> Valor Stock
B7: Aji crema | C7: 500 grs | BN7: =D7+F7+H7+J7+L7+N7+P7+R7+T7+V7+X7+Z7+AB7+AD7+AF7+AH7+AJ7+AL7+AN7+AP7+AR7+AT7+AV7+AX7+AZ7+BB7+BD7+BF7+BH7+BJ7+BL7 -> 0 | BO7: =E7+G7+I7+K7+M7+O7+Q7+S7+U7+W7+Y7+AA7+AC7+AE7+AG7+AI7+AK7+AM7+AO7+AQ7+AS7+AU7+AW7+AY7+BA7+BC7+BE7+BG7+BI7+BK7+BM7 -> 0 | BP7: =A7-BN7+BO7 -> 0 | BQ7: 500 | BR7: =INDEX('A-B-C-D'!A:E,(ROW()-4)*14+2,1) -> Valor Stock
B8: Aceite Maravilla chef | C8: 1 lt | BN8: =D8+F8+H8+J8+L8+N8+P8+R8+T8+V8+X8+Z8+AB8+AD8+AF8+AH8+AJ8+AL8+AN8+AP8+AR8+AT8+AV8+AX8+AZ8+BB8+BD8+BF8+BH8+BJ8+BL8 -> 0 | BO8: =E8+G8+I8+K8+M8+O8+Q8+S8+U8+W8+Y8+AA8+AC8+AE8+AG8+AI8+AK8+AM8+AO8+AQ8+AS8+AU8+AW8+AY8+BA8+BC8+BE8+BG8+BI8+BK8+BM8 -> 0 | BP8: =A8-BN8+BO8 -> 0 | BQ8: 1473 | BR8: =INDEX('A-B-C-D'!A:E,(ROW()-4)*14+2,1) -> Valor Stock
B9: Aji Chileno traverso | C9: 500 grs | BN9: =D9+F9+H9+J9+L9+N9+P9+R9+T9+V9+X9+Z9+AB9+AD9+AF9+AH9+AJ9+AL9+AN9+AP9+AR9+AT9+AV9+AX9+AZ9+BB9+BD9+BF9+BH9+BJ9+BL9 -> 0 | BO9: =E9+G9+I9+K9+M9+O9+Q9+S9+U9+W9+Y9+AA9+AC9+AE9+AG9+AI9+AK9+AM9+AO9+AQ9+AS9+AU9+AW9+AY9+BA9+BC9+BE9+BG9+BI9+BK9+BM9 -> 0 | BP9: =A9-BN9+BO9 -> 0 | BQ9: 412 | BR9: =INDEX('A-B-C-D'!A:E,(ROW()-4)*14+2,1) -> Valor Stock
B10: Aji merken | C10: 1kg | BN10: =D10+F10+H10+J10+L10+N10+P10+R10+T10+V10+X10+Z10+AB10+AD10+AF10+AH10+AJ10+AL10+AN10+AP10+AR10+AT10+AV10+AX10+AZ10+BB10+BD10+BF10+BH10+BJ10+BL10 -> 0 | BO10: =E10+G10+I10+K10+M10+O10+Q10+S10+U10+W10+Y10+AA10+AC10+AE10+AG10+AI10+AK10+AM10+AO10+AQ10+AS10+AU10+AW10+AY10+BA10+BC10+BE10+BG10+BI10+BK10+BM10 -> 0 | BP10: =A10-BN10+BO10 -> 0 | BQ10: 3475 | BR10: =INDEX('A-B-C-D'!A:E,(ROW()-4)*14+2,1) -> Valor Stock
B11: Aji traverso losificador | C11: 350 grs | BN11: =D11+F11+H11+J11+L11+N11+P11+R11+T11+V11+X11+Z11+AB11+AD11+AF11+AH11+AJ11+AL11+AN11+AP11+AR11+AT11+AV11+AX11+AZ11+BB11+BD11+BF11+BH11+BJ11+BL11 -> 0 | BO11: =E11+G11+I11+K11+M11+O11+Q11+S11+U11+W11+Y11+AA11+AC11+AE11+AG11+AI11+AK11+AM11+AO11+AQ11+AS11+AU11+AW11+AY11+BA11+BC11+BE11+BG11+BI11+BK11+BM11 -> 0 | BP11: =A11-BN11+BO11 -> 0 | BQ11: 521 | BR11: =INDEX('A-B-C-D'!A:E,(ROW()-4)*14+2,1) -> Valor Stock
B12: Arbolito | C12: 430 grs | BN12: =D12+F12+H12+J12+L12+N12+P12+R12+T12+V12+X12+Z12+AB12+AD12+AF12+AH12+AJ12+AL12+AN12+AP12+AR12+AT12+AV12+AX12+AZ12+BB12+BD12+BF12+BH12+BJ12+BL12 -> 0 | BO12: =E12+G12+I12+K12+M12+O12+Q12+S12+U12+W12+Y12+AA12+AC12+AE12+AG12+AI12+AK12+AM12+AO12+AQ12+AS12+AU12+AW12+AY12+BA12+BC12+BE12+BG12+BI12+BK12+BM12 -> 0 | BP12: =A12-BN12+BO12 -> 0 | BQ12: 1084 | BR12: =INDEX('A-B-C-D'!A:E,(ROW()-4)*14+2,1) -> Valor Stock
B13: Arroz Miraflores | C13: 1 kg | BN13: =D13+F13+H13+J13+L13+N13+P13+R13+T13+V13+X13+Z13+AB13+AD13+AF13+AH13+AJ13+AL13+AN13+AP13+AR13+AT13+AV13+AX13+AZ13+BB13+BD13+BF13+BH13+BJ13+BL13 -> 0 | BO13: =E13+G13+I13+K13+M13+O13+Q13+S13+U13+W13+Y13+AA13+AC13+AE13+AG13+AI13+AK13+AM13+AO13+AQ13+AS13+AU13+AW13+AY13+BA13+BC13+BE13+BG13+BI13+BK13+BM13 -> 0 | BP13: =A13-BN13+BO13 -> 0 | BQ13: 794 | BR13: =INDEX('A-B-C-D'!A:E,(ROW()-4)*14+2,1) -> Valor Stock
B14: Arvejas verdes | C14: 1kg | BN14: =D14+F14+H14+J14+L14+N14+P14+R14+T14+V14+X14+Z14+AB14+AD14+AF14+AH14+AJ14+AL14+AN14+AP14+AR14+AT14+AV14+AX14+AZ14+BB14+BD14+BF14+BH14+BJ14+BL14 -> 0 | BO14: =E14+G14+I14+K14+M14+O14+Q14+S14+U14+W14+Y14+AA14+AC14+AE14+AG14+AI14+AK14+AM14+AO14+AQ14+AS14+AU14+AW14+AY14+BA14+BC14+BE14+BG14+BI14+BK14+BM14 -> 0 | BP14: =A14-BN14+BO14 -> 0 | BQ14: 1133 | BR14: =INDEX('A-B-C-D'!A:E,(ROW()-4)*14+2,1) -> Valor Stock
B15: Atun comitos cruceros en agua | C15: 170 grs | BN15: =D15+F15+H15+J15+L15+N15+P15+R15+T15+V15+X15+Z15+AB15+AD15+AF15+AH15+AJ15+AL15+AN15+AP15+AR15+AT15+AV15+AX15+AZ15+BB15+BD15+BF15+BH15+BJ15+BL15 -> 0 | BO15: =E15+G15+I15+K15+M15+O15+Q15+S15+U15+W15+Y15+AA15+AC15+AE15+AG15+AI15+AK15+AM15+AO15+AQ15+AS15+AU15+AW15+AY15+BA15+BC15+BE15+BG15+BI15+BK15+BM15 -> 0 | BP15: =A15-BN15+BO15 -> 0 | BQ15: 606 | BR15: =INDEX('A-B-C-D'!A:E,(ROW()-4)*14+2,1) -> Valor Stock
B16: Atun desmenuzado aceite colorado | C16: 170 grs | BN16: =D16+F16+H16+J16+L16+N16+P16+R16+T16+V16+X16+Z16+AB16+AD16+AF16+AH16+AJ16+AL16+AN16+AP16+AR16+AT16+AV16+AX16+AZ16+BB16+BD16+BF16+BH16+BJ16+BL16 -> 0 | BO16: =E16+G16+I16+K16+M16+O16+Q16+S16+U16+W16+Y16+AA16+AC16+AE16+AG16+AI16+AK16+AM16+AO16+AQ16+AS16+AU16+AW16+AY16+BA16+BC16+BE16+BG16+BI16+BK16+BM16 -> 0 | BP16: =A16-BN16+BO16 -> 0 | BQ16: 437 | BR16: =INDEX('A-B-C-D'!A:E,(ROW()-4)*14+2,1) -> Valor Stock
B17: Atun desmenuzado agua acuenta | C17: 170 grs | BN17: =D17+F17+H17+J17+L17+N17+P17+R17+T17+V17+X17+Z17+AB17+AD17+AF17+AH17+AJ17+AL17+AN17+AP17+AR17+AT17+AV17+AX17+AZ17+BB17+BD17+BF17+BH17+BJ17+BL17 -> 0 | BO17: =E17+G17+I17+K17+M17+O17+Q17+S17+U17+W17+Y17+AA17+AC17+AE17+AG17+AI17+AK17+AM17+AO17+AQ17+AS17+AU17+AW17+AY17+BA17+BC17+BE17+BG17+BI17+BK17+BM17 -> 0 | BP17: =A17-BN17+BO17 -> 0 | BQ17: 395 | BR17: =INDEX('A-B-C-D'!A:E,(ROW()-4)*14+2,1) -> Valor Stock
... B29: nescfé Café Monterry | C29: 170 grs | BN29: =D29+F29+H29+J29+L29+N29+P29+R29+T29+V29+X29+Z29+AB29+AD29+AF29+AH29+AJ29+AL29+AN29+AP29+AR29+AT29+AV29+AX29+AZ29+BB29+BD29+BF29+BH29+BJ29+BL29 -> 0 | BO29: =E29+G29+I29+K29+M29+O29+Q29+S29+U29+W29+Y29+AA29+AC29+AE29+AG29+AI29+AK29+AM29+AO29+AQ29+AS29+AU29+AW29+AY29+BA29+BC29+BE29+BG29+BI29+BK29+BM29 -> 0 | BP29: =A29-BN29+BO29 -> 0 | BQ29: 3591 | BR29: =INDEX('A-B-C-D'!A:E,(ROW()-4)*14+2,1) -> Valor Stock
B30: Callampas secas | C30: 1kg | BN30: =D30+F30+H30+J30+L30+N30+P30+R30+T30+V30+X30+Z30+AB30+AD30+AF30+AH30+AJ30+AL30+AN30+AP30+AR30+AT30+AV30+AX30+AZ30+BB30+BD30+BF30+BH30+BJ30+BL30 -> 0 | BO30: =E30+G30+I30+K30+M30+O30+Q30+S30+U30+W30+Y30+AA30+AC30+AE30+AG30+AI30+AK30+AM30+AO30+AQ30+AS30+AU30+AW30+AY30+BA30+BC30+BE30+BG30+BI30+BK30+BM30 -> 0 | BP30: =A30-BN30+BO30 -> 0 | BR30: =INDEX('A-B-C-D'!A:E,(ROW()-4)*14+2,1) -> Valor Stock
B31: Caramelo Ambrosoli | C31: 100 unid | BN31: =D31+F31+H31+J31+L31+N31+P31+R31+T31+V31+X31+Z31+AB31+AD31+AF31+AH31+AJ31+AL31+AN31+AP31+AR31+AT31+AV31+AX31+AZ31+BB31+BD31+BF31+BH31+BJ31+BL31 -> 0 | BO31: =E31+G31+I31+K31+M31+O31+Q31+S31+U31+W31+Y31+AA31+AC31+AE31+AG31+AI31+AK31+AM31+AO31+AQ31+AS31+AU31+AW31+AY31+BA31+BC31+BE31+BG31+BI31+BK31+BM31 -> 0 | BP31: =A31-BN31+BO31 -> 0 | BQ31: 1084 | BR31: =INDEX('A-B-C-D'!A:E,(ROW()-4)*14+2,1) -> Valor Stock
B32: Cerezas el jugo | C32: 1,150 grs | BN32: =D32+F32+H32+J32+L32+N32+P32+R32+T32+V32+X32+Z32+AB32+AD32+AF32+AH32+AJ32+AL32+AN32+AP32+AR32+AT32+AV32+AX32+AZ32+BB32+BD32+BF32+BH32+BJ32+BL32 -> 0 | BO32: =E32+G32+I32+K32+M32+O32+Q32+S32+U32+W32+Y32+AA32+AC32+AE32+AG32+AI32+AK32+AM32+AO32+AQ32+AS32+AU32+AW32+AY32+BA32+BC32+BE32+BG32+BI32+BK32+BM32 -> 0 | BP32: =A32-BN32+BO32 -> 0 | BQ32: 5955 | BR32: =INDEX('A-B-C-D'!A:E,(ROW()-4)*14+2,1) -> Valor Stock
B33: Ciruela dagen sin carozo | C33: 1kg | BN33: =D33+F33+H33+J33+L33+N33+P33+R33+T33+V33+X33+Z33+AB33+AD33+AF33+AH33+AJ33+AL33+AN33+AP33+AR33+AT33+AV33+AX33+AZ33+BB33+BD33+BF33+BH33+BJ33+BL33 -> 0 | BO33: =E33+G33+I33+K33+M33+O33+Q33+S33+U33+W33+Y33+AA33+AC33+AE33+AG33+AI33+AK33+AM33+AO33+AQ33+AS33+AU33+AW33+AY33+BA33+BC33+BE33+BG33+BI33+BK33+BM33 -> 0 | BP33: =A33-BN33+BO33 -> 0 | BQ33: 4892 | BR33: =INDEX('A-B-C-D'!A:E,(ROW()-4)*14+2,1) -> Valor Stock
B34: Concentrado de tomate | C34: 1kg | BN34: =D34+F34+H34+J34+L34+N34+P34+R34+T34+V34+X34+Z34+AB34+AD34+AF34+AH34+AJ34+AL34+AN34+AP34+AR34+AT34+AV34+AX34+AZ34+BB34+BD34+BF34+BH34+BJ34+BL34 -> 0 | BO34: =E34+G34+I34+K34+M34+O34+Q34+S34+U34+W34+Y34+AA34+AC34+AE34+AG34+AI34+AK34+AM34+AO34+AQ34+AS34+AU34+AW34+AY34+BA34+BC34+BE34+BG34+BI34+BK34+BM34 -> 0 | BP34: =A34-BN34+BO34 -> 0 | BQ34: 1653 | BR34: =INDEX('A-B-C-D'!A:E,(ROW()-4)*14+2,1) -> 0
B35: Corbatas Carozzi | C35: 5 kg | BN35: =D35+F35+H35+J35+L35+N35+P35+R35+T35+V35+X35+Z35+AB35+AD35+AF35+AH35+AJ35+AL35+AN35+AP35+AR35+AT35+AV35+AX35+AZ35+BB35+BD35+BF35+BH35+BJ35+BL35 -> 0 | BO35: =E35+G35+I35+K35+M35+O35+Q35+S35+U35+W35+Y35+AA35+AC35+AE35+AG35+AI35+AK35+AM35+AO35+AQ35+AS35+AU35+AW35+AY35+BA35+BC35+BE35+BG35+BI35+BK35+BM35 -> 0 | BP35: =A35-BN35+BO35 -> 0 | BQ35: 4500 | BR35: =INDEX('A-B-C-D'!A:E,(ROW()-4)*14+2,1) -> 0
B36: Corbatas Luchetti | C36: 400 grs | BN36: =D36+F36+H36+J36+L36+N36+P36+R36+T36+V36+X36+Z36+AB36+AD36+AF36+AH36+AJ36+AL36+AN36+AP36+AR36+AT36+AV36+AX36+AZ36+BB36+BD36+BF36+BH36+BJ36+BL36 -> 0 | BO36: =E36+G36+I36+K36+M36+O36+Q36+S36+U36+W36+Y36+AA36+AC36+AE36+AG36+AI36+AK36+AM36+AO36+AQ36+AS36+AU36+AW36+AY36+BA36+BC36+BE36+BG36+BI36+BK36+BM36 -> 0 | BP36: =A36-BN36+BO36 -> 0 | BQ36: 492 | BR36: =INDEX('A-B-C-D'!A:E,(ROW()-4)*14+2,1) -> 0
B37: Corbatas Carozzi | C37: 400 grs | BN37: =D37+F37+H37+J37+L37+N37+P37+R37+T37+V37+X37+Z37+AB37+AD37+AF37+AH37+AJ37+AL37+AN37+AP37+AR37+AT37+AV37+AX37+AZ37+BB37+BD37+BF37+BH37+BJ37+BL37 -> 0 | BO37: =E37+G37+I37+K37+M37+O37+Q37+S37+U37+W37+Y37+AA37+AC37+AE37+AG37+AI37+AK37+AM37+AO37+AQ37+AS37+AU37+AW37+AY37+BA37+BC37+BE37+BG37+BI37+BK37+BM37 -> 0 | BP37: =A37-BN37+BO37 -> 0 | BR37: =INDEX('A-B-C-D'!A:E,(ROW()-4)*14+2,1) -> 0
B38: Corbertura de chocolate | C38: 1kg | BN38: =D38+F38+H38+J38+L38+N38+P38+R38+T38+V38+X38+Z38+AB38+AD38+AF38+AH38+AJ38+AL38+AN38+AP38+AR38+AT38+AV38+AX38+AZ38+BB38+BD38+BF38+BH38+BJ38+BL38 -> 0 | BO38: =E38+G38+I38+K38+M38+O38+Q38+S38+U38+W38+Y38+AA38+AC38+AE38+AG38+AI38+AK38+AM38+AO38+AQ38+AS38+AU38+AW38+AY38+BA38+BC38+BE38+BG38+BI38+BK38+BM38 -> 0 | BP38: =A38-BN38+BO38 -> 0 | BQ38: 3380 | BR38: =INDEX('A-B-C-D'!A:E,(ROW()-4)*14+2,1) -> 0
B39: Corbatura de chocolate blanco | C39: 1kg | BN39: =D39+F39+H39+J39+L39+N39+P39+R39+T39+V39+X39+Z39+AB39+AD39+AF39+AH39+AJ39+AL39+AN39+AP39+AR39+AT39+AV39+AX39+AZ39+BB39+BD39+BF39+BH39+BJ39+BL39 -> 0 | BO39: =E39+G39+I39+K39+M39+O39+Q39+S39+U39+W39+Y39+AA39+AC39+AE39+AG39+AI39+AK39+AM39+AO39+AQ39+AS39+AU39+AW39+AY39+BA39+BC39+BE39+BG39+BI39+BK39+BM39 -> 0 | BP39: =A39-BN39+BO39 -> 0 | BQ39: 3570 | BR39: =INDEX('A-B-C-D'!A:E,(ROW()-4)*14+2,1) -> 0
B40: Crema de aji chileno JB | C40: 1kg | BN40: =D40+F40+H40+J40+L40+N40+P40+R40+T40+V40+X40+Z40+AB40+AD40+AF40+AH40+AJ40+AL40+AN40+AP40+AR40+AT40+AV40+AX40+AZ40+BB40+BD40+BF40+BH40+BJ40+BL40 -> 0 | BO40: =E40+G40+I40+K40+M40+O40+Q40+S40+U40+W40+Y40+AA40+AC40+AE40+AG40+AI40+AK40+AM40+AO40+AQ40+AS40+AU40+AW40+AY40+BA40+BC40+BE40+BG40+BI40+BK40+BM40 -> 0 | BP40: =A40-BN40+BO40 -> 0 | BQ40: 1000 | BR40: =INDEX('A-B-C-D'!A:E,(ROW()-4)*14+2,1) -> 0
B41: Crema de choclo | C41: 1kg | BN41: =D41+F41+H41+J41+L41+N41+P41+R41+T41+V41+X41+Z41+AB41+AD41+AF41+AH41+AJ41+AL41+AN41+AP41+AR41+AT41+AV41+AX41+AZ41+BB41+BD41+BF41+BH41+BJ41+BL41 -> 0 | BO41: =E41+G41+I41+K41+M41+O41+Q41+S41+U41+W41+Y41+AA41+AC41+AE41+AG41+AI41+AK41+AM41+AO41+AQ41+AS41+AU41+AW41+AY41+BA41+BC41+BE41+BG41+BI41+BK41+BM41 -> 0 | BP41: =A41-BN41+BO41 -> 0 | BQ41: 3487 | BR41: =INDEX('A-B-C-D'!A:E,(ROW()-4)*14+2,1) -> 0
B42: Crema de coco | BN42: =D42+F42+H42+J42+L42+N42+P42+R42+T42+V42+X42+Z42+AB42+AD42+AF42+AH42+AJ42+AL42+AN42+AP42+AR42+AT42+AV42+AX42+AZ42+BB42+BD42+BF42+BH42+BJ42+BL42 -> 0 | BO42: =E42+G42+I42+K42+M42+O42+Q42+S42+U42+W42+Y42+AA42+AC42+AE42+AG42+AI42+AK42+AM42+AO42+AQ42+AS42+AU42+AW42+AY42+BA42+BC42+BE42+BG42+BI42+BK42+BM42 -> 0 | BP42: =A42-BN42+BO42 -> 0 | BR42: =INDEX('A-B-C-D'!A:E,(ROW()-4)*14+2,1) -> 0
B43: Crema de esparrazo | C43: 1kg | BN43: =D43+F43+H43+J43+L43+N43+P43+R43+T43+V43+X43+Z43+AB43+AD43+AF43+AH43+AJ43+AL43+AN43+AP43+AR43+AT43+AV43+AX43+AZ43+BB43+BD43+BF43+BH43+BJ43+BL43 -> 0 | BO43: =E43+G43+I43+K43+M43+O43+Q43+S43+U43+W43+Y43+AA43+AC43+AE43+AG43+AI43+AK43+AM43+AO43+AQ43+AS43+AU43+AW43+AY43+BA43+BC43+BE43+BG43+BI43+BK43+BM43 -> 0 | BP43: =A43-BN43+BO43 -> 0 | BQ43: 3279 | BR43: =INDEX('A-B-C-D'!A:E,(ROW()-4)*14+2,1) -> 0
B44: Crema de tomate | C44: 1kg | BN44: =D44+F44+H44+J44+L44+N44+P44+R44+T44+V44+X44+Z44+AB44+AD44+AF44+AH44+AJ44+AL44+AN44+AP44+AR44+AT44+AV44+AX44+AZ44+BB44+BD44+BF44+BH44+BJ44+BL44 -> 0 | BO44: =E44+G44+I44+K44+M44+O44+Q44+S44+U44+W44+Y44+AA44+AC44+AE44+AG44+AI44+AK44+AM44+AO44+AQ44+AS44+AU44+AW44+AY44+BA44+BC44+BE44+BG44+BI44+BK44+BM44 -> 0 | BP44: =A44-BN44+BO44 -> 0 | BQ44: 3924 | BR44: =INDEX('A-B-C-D'!A:E,(ROW()-4)*14+2,1) -> 0
B45: Crema | C45: 1 lt | BN45: =D45+F45+H45+J45+L45+N45+P45+R45+T45+V45+X45+Z45+AB45+AD45+AF45+AH45+AJ45+AL45+AN45+AP45+AR45+AT45+AV45+AX45+AZ45+BB45+BD45+BF45+BH45+BJ45+BL45 -> 0 | BO45: =E45+G45+I45+K45+M45+O45+Q45+S45+U45+W45+Y45+AA45+AC45+AE45+AG45+AI45+AK45+AM45+AO45+AQ45+AS45+AU45+AW45+AY45+BA45+BC45+BE45+BG45+BI45+BK45+BM45 -> 0 | BP45: =A45-BN45+BO45 -> 0 | BQ45: 1829.5 | BR45: =INDEX('A-B-C-D'!A:E,(ROW()-4)*14+2,1) -> 0
B46: Dulce de membrillo | C46: 1 kg | BN46: =D46+F46+H46+J46+L46+N46+P46+R46+T46+V46+X46+Z46+AB46+AD46+AF46+AH46+AJ46+AL46+AN46+AP46+AR46+AT46+AV46+AX46+AZ46+BB46+BD46+BF46+BH46+BJ46+BL46 -> 0 | BO46: =E46+G46+I46+K46+M46+O46+Q46+S46+U46+W46+Y46+AA46+AC46+AE46+AG46+AI46+AK46+AM46+AO46+AQ46+AS46+AU46+AW46+AY46+BA46+BC46+BE46+BG46+BI46+BK46+BM46 -> 0 | BP46: =A46-BN46+BO46 -> 0 | BQ46: 1146 | BR46: =INDEX('A-B-C-D'!A:E,(ROW()-4)*14+2,1) -> 0
B47: Durazno en mitades | C47: 590 grs | BN47: =D47+F47+H47+J47+L47+N47+P47+R47+T47+V47+X47+Z47+AB47+AD47+AF47+AH47+AJ47+AL47+AN47+AP47+AR47+AT47+AV47+AX47+AZ47+BB47+BD47+BF47+BH47+BJ47+BL47 -> 0 | BO47: =E47+G47+I47+K47+M47+O47+Q47+S47+U47+W47+Y47+AA47+AC47+AE47+AG47+AI47+AK47+AM47+AO47+AQ47+AS47+AU47+AW47+AY47+BA47+BC47+BE47+BG47+BI47+BK47+BM47 -> 0 | BP47: =A47-BN47+BO47 -> 0 | BQ47: 715 | BR47: =INDEX('A-B-C-D'!A:E,(ROW()-4)*14+2,1) -> 0
B48: Durazno en trocitos | C48: 590 grs | BN48: =D48+F48+H48+J48+L48+N48+P48+R48+T48+V48+X48+Z48+AB48+AD48+AF48+AH48+AJ48+AL48+AN48+AP48+AR48+AT48+AV48+AX48+AZ48+BB48+BD48+BF48+BH48+BJ48+BL48 -> 0 | BO48: =E48+G48+I48+K48+M48+O48+Q48+S48+U48+W48+Y48+AA48+AC48+AE48+AG48+AI48+AK48+AM48+AO48+AQ48+AS48+AU48+AW48+AY48+BA48+BC48+BE48+BG48+BI48+BK48+BM48 -> 0 | BP48: =A48-BN48+BO48 -> 0 | BQ48: 638 | BR48: =INDEX('A-B-C-D'!A:E,(ROW()-4)*14+2,1) -> 0
B49: Duetto coco | C49: 125 grs | BN49: =D49+F49+H49+J49+L49+N49+P49+R49+T49+V49+X49+Z49+AB49+AD49+AF49+AH49+AJ49+AL49+AN49+AP49+AR49+AT49+AV49+AX49+AZ49+BB49+BD49+BF49+BH49+BJ49+BL49 -> 0 | BO49: =E49+G49+I49+K49+M49+O49+Q49+S49+U49+W49+Y49+AA49+AC49+AE49+AG49+AI49+AK49+AM49+AO49+AQ49+AS49+AU49+AW49+AY49+BA49+BC49+BE49+BG49+BI49+BK49+BM49 -> 0 | BP49: =A49-BN49+BO49 -> 0 | BQ49: 288 | BR49: =INDEX('A-B-C-D'!A:E,(ROW()-4)*14+2,1) -> 0
B50: Duetto todo chocolate | C50: 126 grs | BN50: =D50+F50+H50+J50+L50+N50+P50+R50+T50+V50+X50+Z50+AB50+AD50+AF50+AH50+AJ50+AL50+AN50+AP50+AR50+AT50+AV50+AX50+AZ50+BB50+BD50+BF50+BH50+BJ50+BL50 -> 0 | BO50: =E50+G50+I50+K50+M50+O50+Q50+S50+U50+W50+Y50+AA50+AC50+AE50+AG50+AI50+AK50+AM50+AO50+AQ50+AS50+AU50+AW50+AY50+BA50+BC50+BE50+BG50+BI50+BK50+BM50 -> 0 | BP50: =A50-BN50+BO50 -> 0 | BQ50: 288 | BR50: =INDEX('A-B-C-D'!A:E,(ROW()-4)*14+2,1) -> 0
B51: Duetto chocolate | C51: 127 grs | BN51: =D51+F51+H51+J51+L51+N51+P51+R51+T51+V51+X51+Z51+AB51+AD51+AF51+AH51+AJ51+AL51+AN51+AP51+AR51+AT51+AV51+AX51+AZ51+BB51+BD51+BF51+BH51+BJ51+BL51 -> 0 | BO51: =E51+G51+I51+K51+M51+O51+Q51+S51+U51+W51+Y51+AA51+AC51+AE51+AG51+AI51+AK51+AM51+AO51+AQ51+AS51+AU51+AW51+AY51+BA51+BC51+BE51+BG51+BI51+BK51+BM51 -> 0 | BP51: =A51-BN51+BO51 -> 0 | BQ51: 288 | BR51: =INDEX('A-B-C-D'!A:E,(ROW()-4)*14+2,1) -> 0
...

Sheet A-B-C-D
A1: =INDEX(TABLEAU!B:C,(ROW()-1)/14+4,1)&" "&INDEX(TABLEAU!B:C,(ROW()-1)/14+4,2) -> Aceite Balsamico 500 ml
A2: {=INDEX(A12:BK12,MAX(IF(A12:BK12>0,COLUMN(A12:BK12))))} -> 12285 | B2: 42064 | D2: 42065 | F2: 42066 | H2: 42067 | J2: 42068 | L2: 42069 | N2: 42070 | P2: 42071 | R2: 42072 | T2: 42073 | V2: 42074 | X2: 42075 | Z2: 42076 | AB2: 42077 | AD2: 42078 | AF2: 42079 | AH2: 42080 | AJ2: 42081 | AL2: 42082 | AN2: 42083 | AP2: 42084 | AR2: 42085 | AT2: 42086 | AV2: 42087 | AX2: 42088 | AZ2: 42089 | BB2: 42090 | BD2: 42091 | BF2: 42092 | BH2: 42093 | BJ2: 42094
B3: "-" | C3: "+" | D3: "-" | E3: "+" | F3: "-" | G3: "+" | H3: "-" | I3: "+" | J3: "-" | K3: "+" | L3: "-" | M3: "+" | N3: "-" | O3: "+" | P3: "-" | Q3: "+" | R3: "-" | S3: "+" | T3: "-" | U3: "+" | V3: "-" | W3: "+" | X3: "-" | Y3: "+" | Z3: "-" | AA3: "+" | AB3: "-" | AC3: "+" | AD3: "-" | AE3: "+" | AF3: "-" | AG3: "+" | AH3: "-" | AI3: "+" | AJ3: "-" | AK3: "+" | AL3: "-" | AM3: "+" | AN3: "-" | AO3: "+" | AP3: "-" | AQ3: "+" | AR3: "-" | AS3: "+" | AT3: "-" | AU3: "+" | AV3: "-" | AW3: "+" | AX3: "-" | AY3: "+" | AZ3: "-" | BA3: "+" | BB3: "-" | BC3: "+" | BD3: "-" | BE3: "+" | BF3: "-" | BG3: "+" | BH3: "-" | BI3: "+" | BJ3: "-" | BK3: "+"
A4: =INDEX(TABLEAU!$A:$A,(ROW()-4)/14+4,1) -> 5 | B4: =INDEX(TABLEAU!$C:$BO,(ROW()-4)/14+4,COLUMN()) -> 0 | C4: =INDEX(TABLEAU!$C:$BO,(ROW()-4)/14+4,COLUMN()) -> 2 | D4: =INDEX(TABLEAU!$C:$BO,(ROW()-4)/14+4,COLUMN()) -> 0 | E4: =INDEX(TABLEAU!$C:$BO,(ROW()-4)/14+4,COLUMN()) -> 0 | F4: =INDEX(TABLEAU!$C:$BO,(ROW()-4)/14+4,COLUMN()) -> 0 | G4: =INDEX(TABLEAU!$C:$BO,(ROW()-4)/14+4,COLUMN()) -> 0 | H4: =INDEX(TABLEAU!$C:$BO,(ROW()-4)/14+4,COLUMN()) -> 0 | I4: =INDEX(TABLEAU!$C:$BO,(ROW()-4)/14+4,COLUMN()) -> 0 | ... BK4: =INDEX(TABLEAU!$C:$BO,(ROW()-4)/14+4,COLUMN()) -> 0
A5: Sotck actualiza | B5: =A4+(C4-B4) -> 7 | D5: =B5+(E4-D4) -> 7 | F5: =D5+(G4-F4) -> 7 | H5: =F5+(I4-H4) -> 7 | J5: =H5+(K4-J4) -> 7 | L5: =J5+(M4-L4) -> 7 | N5: =L5+(O4-N4) -> 7 | P5: =N5+(Q4-P4) -> 7 | R5: =P5+(S4-R4) -> 7 | T5: =R5+(U4-T4) -> 7 | V5: =T5+(W4-V4) -> 7 | X5: =V5+(Y4-X4) -> 7 | Z5: =X5+(AA4-Z4) -> 7 | AB5: =Z5+(AC4-AB4) -> 7 | AD5: =AB5+(AE4-AD4) -> 7 | AF5: =AD5+(AG4-AF4) -> 7 | AH5: =AF5+(AI4-AH4) -> 7 | AJ5: =AH5+(AK4-AJ4) -> 7 | AL5: =AJ5+(AM4-AL4) -> 7 | AN5: =AL5+(AO4-AN4) -> 7 | AP5: =AN5+(AQ4-AP4) -> 7 | AR5: =AP5+(AS4-AR4) -> 7 | AT5: =AR5+(AU4-AT4) -> 7 | AV5: =AT5+(AW4-AV4) -> 7 | AX5: =AV5+(AY4-AX4) -> 7 | AZ5: =AX5+(BA4-AZ4) -> 7 | BB5: =AZ5+(BC4-BB4) -> 7 | BD5: =BB5+(BE4-BD4) -> 7 | BF5: =BD5+(BG4-BF4) -> 7 | BH5: =BF5+(BI4-BH4) -> 7 | BJ5: =BH5+(BK4-BJ4) -> 7
A6: Coût d'achat unitario | B6: 1755
A7: Proveedor
A8: Valor unitario | B8: =B6 -> 1755 | D8: =D6 -> 0 | F8: =F6 -> 0 | H8: =H6 -> 0 | J8: =J6 -> 0 | L8: =L6 -> 0 | N8: =N6 -> 0 | P8: =P6 -> 0 | R8: =R6 -> 0 | T8: =T6 -> 0 | V8: =V6 -> 0 | X8: =X6 -> 0 | Z8: =Z6 -> 0 | AB8: =AB6 -> 0 | AD8: =AD6 -> 0 | AF8: =AF6 -> 0 | AH8: =AH6 -> 0 | AJ8: =AJ6 -> 0 | AL8: =AL6 -> 0 | AN8: =AN6 -> 0 | AP8: =AP6 -> 0 | AR8: =AR6 -> 0 | AT8: =AT6 -> 0 | AV8: =AV6 -> 0 | AX8: =AX6 -> 0 | AZ8: =AZ6 -> 0 | BB8: =BB6 -> 0 | BD8: =BD6 -> 0 | BF8: =BF6 -> 0 | BH8: =BH6 -> 0 | BJ8: =BJ6 -> 0
A9: Valor media | D9: =D12/D5 -> 1755 | F9: =F12/F5 -> 1755 | H9: =H12/H5 -> 1755 | J9: =J12/J5 -> 1755 | L9: =L12/L5 -> 1755 | N9: =N12/N5 -> 1755 | P9: =P12/P5 -> 1755 | R9: =R12/R5 -> 1755 | T9: =T12/T5 -> 1755 | V9: =V12/V5 -> 1755 | X9: =X12/X5 -> 1755 | Z9: =Z12/Z5 -> 1755 | AB9: =AB12/AB5 -> 1755 | AD9: =AD12/AD5 -> 1755 | AF9: =AF12/AF5 -> 1755 | AH9: =AH12/AH5 -> 1755 | AJ9: =AJ12/AJ5 -> 1755 | AL9: =AL12/AL5 -> 1755 | AN9: =AN12/AN5 -> 1755 | AP9: =AP12/AP5 -> 1755 | AR9: =AR12/AR5 -> 1755 | AT9: =AT12/AT5 -> 1755 | AV9: =AV12/AV5 -> 1755 | AX9: =AX12/AX5 -> 1755 | AZ9: =AZ12/AZ5 -> 1755 | BB9: =BB12/BB5 -> 1755 | BD9: =BD12/BD5 -> 1755 | BF9: =BF12/BF5 -> 1755 | BH9: =BH12/BH5 -> 1755 | BJ9: =BJ12/BJ5 -> 1755
A10: Entrée | B10: =C4*B6 -> 3510 | D10: =E4*D6 -> 0 | F10: =G4*F6 -> 0 | H10: =I4*H6 -> 0 | J10: =K4*J6 -> 0 | L10: =M4*L6 -> 0 | N10: =O4*N6 -> 0 | P10: =Q4*P6 -> 0 | R10: =S4*R6 -> 0 | T10: =U4*T6 -> 0 | V10: =W4*V6 -> 0 | X10: =Y4*X6 -> 0 | Z10: =AA4*Z6 -> 0 | AB10: =AC4*AB6 -> 0 | AD10: =AE4*AD6 -> 0 | AF10: =AG4*AF6 -> 0 | AH10: =AI4*AH6 -> 0 | AJ10: =AK4*AJ6 -> 0 | AL10: =AM4*AL6 -> 0 | AN10: =AO4*AN6 -> 0 | AP10: =AQ4*AP6 -> 0 | AR10: =AS4*AR6 -> 0 | AT10: =AU4*AT6 -> 0 | AV10: =AW4*AV6 -> 0 | AX10: =AY4*AX6 -> 0 | AZ10: =BA4*AZ6 -> 0 | BB10: =BC4*BB6 -> 0 | BD10: =BE4*BD6 -> 0 | BF10: =BG4*BF6 -> 0 | BH10: =BI4*BH6 -> 0 | BJ10: =BK4*BJ6 -> 0
A11: Sorties | B11: =B4*B6 -> 0 | D11: =D4*D6 -> 0 | F11: =F4*F6 -> 0 | H11: =H4*H6 -> 0 | J11: =J4*J6 -> 0 | L11: =L4*L6 -> 0 | N11: =N4*N6 -> 0 | P11: =P4*P6 -> 0 | R11: =R4*R6 -> 0 | T11: =T4*T6 -> 0 | V11: =V4*V6 -> 0 | X11: =X4*X6 -> 0 | Z11: =Z4*Z6 -> 0 | AB11: =AB4*AB6 -> 0 | AD11: =AD4*AD6 -> 0 | AF11: =AF4*AF6 -> 0 | AH11: =AH4*AH6 -> 0 | AJ11: =AJ4*AJ6 -> 0 | AL11: =AL4*AL6 -> 0 | AN11: =AN4*AN6 -> 0 | AP11: =AP4*AP6 -> 0 | AR11: =AR4*AR6 -> 0 | AT11: =AT4*AT6 -> 0 | AV11: =AV4*AV6 -> 0 | AX11: =AX4*AX6 -> 0 | AZ11: =AZ4*AZ6 -> 0 | BB11: =BB4*BB6 -> 0 | BD11: =BD4*BD6 -> 0 | BF11: =BF4*BF6 -> 0 | BH11: =BH4*BH6 -> 0 | BJ11: =BJ4*BJ6 -> 0
A12: Valor Stock | B12: =B5*B8 -> 12285 | D12: =B12+(E4-D4)*D8 -> 12285 | F12: =D12+(G4-F4)*F8 -> 12285 | H12: =F12+(I4-H4)*H8 -> 12285 | J12: =H12+(K4-J4)*J8 -> 12285 | L12: =J12+(M4-L4)*L8 -> 12285 | N12: =L12+(O4-N4)*N8 -> 12285 | P12: =N12+(Q4-P4)*P8 -> 12285 | R12: =P12+(S4-R4)*R8 -> 12285 | T12: =R12+(U4-T4)*T8 -> 12285 | V12: =T12+(W4-V4)*V8 -> 12285 | X12: =V12+(Y4-X4)*X8 -> 12285 | Z12: =X12+(AA4-Z4)*Z8 -> 12285 | AB12: =Z12+(AC4-AB4)*AB8 -> 12285 | AD12: =AB12+(AE4-AD4)*AD8 -> 12285 | AF12: =AD12+(AG4-AF4)*AF8 -> 12285 | AH12: =AF12+(AI4-AH4)*AH8 -> 12285 | AJ12: =AH12+(AK4-AJ4)*AJ8 -> 12285 | AL12: =AJ12+(AM4-AL4)*AL8 -> 12285 | AN12: =AL12+(AO4-AN4)*AN8 -> 12285 | AP12: =AN12+(AQ4-AP4)*AP8 -> 12285 | AR12: =AP12+(AS4-AR4)*AR8 -> 12285 | AT12: =AR12+(AU4-AT4)*AT8 -> 12285 | AV12: =AT12+(AW4-AV4)*AV8 -> 12285 | AX12: =AV12+(AY4-AX4)*AX8 -> 12285 | AZ12: =AX12+(BA4-AZ4)*AZ8 -> 12285 | BB12: =AZ12+(BC4-BB4)*BB8 -> 12285 | BD12: =BB12+(BE4-BD4)*BD8 -> 12285 | BF12: =BD12+(BG4-BF4)*BF8 -> 12285 | BH12: =BF12+(BI4-BH4)*BH8 -> 12285 | BJ12: =BH12+(BK4-BJ4)*BJ8 -> 12285
A15: =INDEX(TABLEAU!B:C,(ROW()-1)/14+4,1)&" "&INDEX(TABLEAU!B:C,(ROW()-1)/14+4,2) -> Aceite Borranza 5 lt
A16: {=INDEX(A26:BK26,MAX(IF(A26:BK26>0,COLUMN(A26:BK26))))} -> 4498 | B16: 42064 | D16: 42065 | F16: 42066 | H16: 42067 | J16: 42068 | L16: 42069 | N16: 42070 | P16: 42071 | R16: 42072 | T16: 42073 | V16: 42074 | X16: 42075 | Z16: 42076 | AB16: 42077 | AD16: 42078 | AF16: 42079 | AH16: 42080 | AJ16: 42081 | AL16: 42082 | AN16: 42083 | AP16: 42084 | AR16: 42085 | AT16: 42086 | AV16: 42087 | AX16: 42088 | AZ16: 42089 | BB16: 42090 | BD16: 42091 | BF16: 42092 | BH16: 42093 | BJ16: 42094
B17: "-" | C17: "+" | D17: "-" | E17: "+" | F17: "-" | G17: "+" | H17: "-" | I17: "+" | J17: "-" | K17: "+" | L17: "-" | M17: "+" | N17: "-" | O17: "+" | P17: "-" | Q17: "+" | R17: "-" | S17: "+" | T17: "-" | U17: "+" | V17: "-" | W17: "+" | X17: "-" | Y17: "+" | Z17: "-" | AA17: "+" | AB17: "-" | AC17: "+" | AD17: "-" | AE17: "+" | AF17: "-" | AG17: "+" | AH17: "-" | AI17: "+" | AJ17: "-" | AK17: "+" | AL17: "-" | AM17: "+" | AN17: "-" | AO17: "+" | AP17: "-" | AQ17: "+" | AR17: "-" | AS17: "+" | AT17: "-" | AU17: "+" | AV17: "-" | AW17: "+" | AX17: "-" | AY17: "+" | AZ17: "-" | BA17: "+" | BB17: "-" | BC17: "+" | BD17: "-" | BE17: "+" | BF17: "-" | BG17: "+" | BH17: "-" | BI17: "+" | BJ17: "-" | BK17: "+"
A18: =INDEX(TABLEAU!$A:$A,(ROW()-4)/14+4,1) -> 1 | B18: =INDEX(TABLEAU!$C:$BO,(ROW()-4)/14+4,COLUMN()) -> 0 | C18: =INDEX(TABLEAU!$C:$BO,(ROW()-4)/14+4,COLUMN()) -> 0 | D18: =INDEX(TABLEAU!$C:$BO,(ROW()-4)/14+4,COLUMN()) -> 0 | E18: =INDEX(TABLEAU!$C:$BO,(ROW()-4)/14+4,COLUMN()) -> 0 | F18: =INDEX(TABLEAU!$C:$BO,(ROW()-4)/14+4,COLUMN()) -> 0 | G18: =INDEX(TABLEAU!$C:$BO,(ROW()-4)/14+4,COLUMN()) -> 0 | H18: =INDEX(TABLEAU!$C:$BO,(ROW()-4)/14+4,COLUMN()) -> 0 | I18: =INDEX(TABLEAU!$C:$BO,(ROW()-4)/14+4,COLUMN()) -> 0 | ... BK18: =INDEX(TABLEAU!$C:$BO,(ROW()-4)/14+4,COLUMN()) -> 0
A19: Sotck actualiza | B19: =A18+(C18-B18) -> 1 | D19: =B19+E18-D18 -> 1 | F19: =D19+G18-F18 -> 1 | H19: =F19+I18-H18 -> 1 | J19: =H19+K18-J18 -> 1 | L19: =J19+M18-L18 -> 1 | N19: =L19+O18-N18 -> 1 | P19: =N19+Q18-P18 -> 1 | R19: =P19+S18-R18 -> 1 | T19: =R19+U18-T18 -> 1 | V19: =T19+W18-V18 -> 1 | X19: =V19+Y18-X18 -> 1 | Z19: =X19+AA18-Z18 -> 1 | AB19: =Z19+AC18-AB18 -> 1 | AD19: =AB19+AE18-AD18 -> 1 | AF19: =AD19+AG18-AF18 -> 1 | AH19: =AF19+AI18-AH18 -> 1 | AJ19: =AH19+AK18-AJ18 -> 1 | AL19: =AJ19+AM18-AL18 -> 1 | AN19: =AL19+AO18-AN18 -> 1 | AP19: =AN19+AQ18-AP18 -> 1 | AR19: =AP19+AS18-AR18 -> 1 | AT19: =AR19+AU18-AT18 -> 1 | AV19: =AT19+AW18-AV18 -> 1 | AX19: =AV19+AY18-AX18 -> 1 | AZ19: =AX19+BA18-AZ18 -> 1 | BB19: =AZ19+BC18-BB18 -> 1 | BD19: =BB19+BE18-BD18 -> 1 | BF19: =BD19+BG18-BF18 -> 1 | BH19: =BF19+BI18-BH18 -> 1 | BJ19: =BH19+BK18-BJ18 -> 1
A20: Coût d'achat unitario | B20: 4498
A21: Proveedor
A22: Valor unitario | B22: =B20 -> 4498 | D22: =D20 -> 0 | F22: =F20 -> 0 | H22: =H20 -> 0 | J22: =J20 -> 0 | L22: =L20 -> 0 | N22: =N20 -> 0 | P22: =P20 -> 0 | R22: =R20 -> 0 | T22: =T20 -> 0 | V22: =V20 -> 0 | X22: =X20 -> 0 | Z22: =Z20 -> 0 | AB22: =AB20 -> 0 | AD22: =AD20 -> 0 | AF22: =AF20 -> 0 | AH22: =AH20 -> 0 | AJ22: =AJ20 -> 0 | AL22: =AL20 -> 0 | AN22: =AN20 -> 0 | AP22: =AP20 -> 0 | AR22: =AR20 -> 0 | AT22: =AT20 -> 0 | AV22: =AV20 -> 0 | AX22: =AX20 -> 0 | AZ22: =AZ20 -> 0 | BB22: =BB20 -> 0 | BD22: =BD20 -> 0 | BF22: =BF20 -> 0 | BH22: =BH20 -> 0 | BJ22: =BJ20 -> 0
A23: Valor media | D23: =D26/D19 -> 4498 | F23: =F26/F19 -> 4498 | H23: =H26/H19 -> 4498 | J23: =J26/J19 -> 4498 | L23: =L26/L19 -> 4498 | N23: =N26/N19 -> 4498 | P23: =P26/P19 -> 4498 | R23: =R26/R19 -> 4498 | T23: =T26/T19 -> 4498 | V23: =V26/V19 -> 4498 | X23: =X26/X19 -> 4498 | Z23: =Z26/Z19 -> 4498 | AB23: =AB26/AB19 -> 4498 | AD23: =AD26/AD19 -> 4498 | AF23: =AF26/AF19 -> 4498 | AH23: =AH26/AH19 -> 4498 | AJ23: =AJ26/AJ19 -> 4498 | AL23: =AL26/AL19 -> 4498 | AN23: =AN26/AN19 -> 4498 | AP23: =AP26/AP19 -> 4498 | AR23: =AR26/AR19 -> 4498 | AT23: =AT26/AT19 -> 4498 | AV23: =AV26/AV19 -> 4498 | AX23: =AX26/AX19 -> 4498 | AZ23: =AZ26/AZ19 -> 4498 | BB23: =BB26/BB19 -> 4498 | BD23: =BD26/BD19 -> 4498 | BF23: =BF26/BF19 -> 4498 | BH23: =BH26/BH19 -> 4498 | BJ23: =BJ26/BJ19 -> 4498
A24: Entrée | B24: =C18*B20 -> 0 | D24: =E18*D20 -> 0 | F24: =G18*F20 -> 0 | H24: =I18*H20 -> 0 | J24: =K18*J20 -> 0 | L24: =M18*L20 -> 0 | N24: =O18*N20 -> 0 | P24: =Q18*P20 -> 0 | R24: =S18*R20 -> 0 | T24: =U18*T20 -> 0 | V24: =W18*V20 -> 0 | X24: =Y18*X20 -> 0 | Z24: =AA18*Z20 -> 0 | AB24: =AC18*AB20 -> 0 | AD24: =AE18*AD20 -> 0 | AF24: =AG18*AF20 -> 0 | AH24: =AI18*AH20 -> 0 | AJ24: =AK18*AJ20 -> 0 | AL24: =AM18*AL20 -> 0 | AN24: =AO18*AN20 -> 0 | AP24: =AQ18*AP20 -> 0 | AR24: =AS18*AR20 -> 0 | AT24: =AU18*AT20 -> 0 | AV24: =AW18*AV20 -> 0 | AX24: =AY18*AX20 -> 0 | AZ24: =BA18*AZ20 -> 0 | BB24: =BC18*BB20 -> 0 | BD24: =BE18*BD20 -> 0 | BF24: =BG18*BF20 -> 0 | BH24: =BI18*BH20 -> 0 | BJ24: =BK18*BJ20 -> 0
A25: Sorties | B25: =B18*B20 -> 0 | D25: =D18*D20 -> 0 | F25: =F18*F20 -> 0 | H25: =H18*H20 -> 0 | J25: =J18*J20 -> 0 | L25: =L18*L20 -> 0 | N25: =N18*N20 -> 0 | P25: =P18*P20 -> 0 | R25: =R18*R20 -> 0 | T25: =T18*T20 -> 0 | V25: =V18*V20 -> 0 | X25: =X18*X20 -> 0 | Z25: =Z18*Z20 -> 0 | AB25: =AB18*AB20 -> 0 | AD25: =AD18*AD20 -> 0 | AF25: =AF18*AF20 -> 0 | AH25: =AH18*AH20 -> 0 | AJ25: =AJ18*AJ20 -> 0 | AL25: =AL18*AL20 -> 0 | AN25: =AN18*AN20 -> 0 | AP25: =AP18*AP20 -> 0 | AR25: =AR18*AR20 -> 0 | AT25: =AT18*AT20 -> 0 | AV25: =AV18*AV20 -> 0 | AX25: =AX18*AX20 -> 0 | AZ25: =AZ18*AZ20 -> 0 | BB25: =BB18*BB20 -> 0 | BD25: =BD18*BD20 -> 0 | BF25: =BF18*BF20 -> 0 | BH25: =BH18*BH20 -> 0 | BJ25: =BJ18*BJ20 -> 0
A26: Valor Stock | B26: =B19*B22 -> 4498 | D26: =B26+(E18-D18)*D22 -> 4498 | F26: =D26+(G18-F18)*F22 -> 4498 | H26: =F26+(I18-H18)*H22 -> 4498 | J26: =H26+(K18-J18)*J22 -> 4498 | L26: =J26+(M18-L18)*L22 -> 4498 | N26: =L26+(O18-N18)*N22 -> 4498 | P26: =N26+(Q18-P18)*P22 -> 4498 | R26: =P26+(S18-R18)*R22 -> 4498 | T26: =R26+(U18-T18)*T22 -> 4498 | V26: =T26+(W18-V18)*V22 -> 4498 | X26: =V26+(Y18-X18)*X22 -> 4498 | Z26: =X26+(AA18-Z18)*Z22 -> 4498 | AB26: =Z26+(AC18-AB18)*AB22 -> 4498 | AD26: =AB26+(AE18-AD18)*AD22 -> 4498 | AF26: =AD26+(AG18-AF18)*AF22 -> 4498 | AH26: =AF26+(AI18-AH18)*AH22 -> 4498 | AJ26: =AH26+(AK18-AJ18)*AJ22 -> 4498 | AL26: =AJ26+(AM18-AL18)*AL22 -> 4498 | AN26: =AL26+(AO18-AN18)*AN22 -> 4498 | AP26: =AN26+(AQ18-AP18)*AP22 -> 4498 | AR26: =AP26+(AS18-AR18)*AR22 -> 4498 | AT26: =AR26+(AU18-AT18)*AT22 -> 4498 | AV26: =AT26+(AW18-AV18)*AV22 -> 4498 | AX26: =AV26+(AY18-AX18)*AX22 -> 4498 | AZ26: =AX26+(BA18-AZ18)*AZ22 -> 4498 | BB26: =AZ26+(BC18-BB18)*BB22 -> 4498 | BD26: =BB26+(BE18-BD18)*BD22 -> 4498 | BF26: =BD26+(BG18-BF18)*BF22 -> 4498 | BH26: =BF26+(BI18-BH18)*BH22 -> 4498 | BJ26: =BH26+(BK18-BJ18)*BJ22 -> 4498
A29: =INDEX(TABLEAU!B:C,(ROW()-1)/14+4,1)&" "&INDEX(TABLEAU!B:C,(ROW()-1)/14+4,2) -> Aceite de olivia extra viegen 5 lt
A30: {=INDEX(A40:BK40,MAX(IF(A40:BK40>0,COLUMN(A40:BK40))))} -> Valor Stock | B30: 42064 | D30: 42065 | F30: 42066 | H30: 42067 | J30: 42068 | L30: 42069 | N30: 42070 | P30: 42071 | R30: 42072 | T30: 42073 | V30: 42074 | X30: 42075 | Z30: 42076 | AB30: 42077 | AD30: 42078 | AF30: 42079 | AH30: 42080 | AJ30: 42081 | AL30: 42082 | AN30: 42083 | AP30: 42084 | AR30: 42085 | AT30: 42086 | AV30: 42087 | AX30: 42088 | AZ30: 42089 | BB30: 42090 | BD30: 42091 | BF30: 42092 | BH30: 42093 | BJ30: 42094
B31: "-" | C31: "+" | D31: "-" | E31: "+" | F31: "-" | G31: "+" | H31: "-" | I31: "+" | J31: "-" | K31: "+" | L31: "-" | M31: "+" | N31: "-" | O31: "+" | P31: "-" | Q31: "+" | R31: "-" | S31: "+" | T31: "-" | U31: "+" | V31: "-" | W31: "+" | X31: "-" | Y31: "+" | Z31: "-" | AA31: "+" | AB31: "-" | AC31: "+" | AD31: "-" | AE31: "+" | AF31: "-" | AG31: "+" | AH31: "-" | AI31: "+" | AJ31: "-" | AK31: "+" | AL31: "-" | AM31: "+" | AN31: "-" | AO31: "+" | AP31: "-" | AQ31: "+" | AR31: "-" | AS31: "+" | AT31: "-" | AU31: "+" | AV31: "-" | AW31: "+" | AX31: "-" | AY31: "+" | AZ31: "-" | BA31: "+" | BB31: "-" | BC31: "+" | BD31: "-" | BE31: "+" | BF31: "-" | BG31: "+" | BH31: "-" | BI31: "+" | BJ31: "-" | BK31: "+"
A32: =INDEX(TABLEAU!$A:$A,(ROW()-4)/14+4,1) -> 0 | B32: =INDEX(TABLEAU!$C:$BO,(ROW()-4)/14+4,COLUMN()) -> 0 | C32: =INDEX(TABLEAU!$C:$BO,(ROW()-4)/14+4,COLUMN()) -> 0 | D32: =INDEX(TABLEAU!$C:$BO,(ROW()-4)/14+4,COLUMN()) -> 0 | E32: =INDEX(TABLEAU!$C:$BO,(ROW()-4)/14+4,COLUMN()) -> 0 | F32: =INDEX(TABLEAU!$C:$BO,(ROW()-4)/14+4,COLUMN()) -> 0 | G32: =INDEX(TABLEAU!$C:$BO,(ROW()-4)/14+4,COLUMN()) -> 0 | H32: =INDEX(TABLEAU!$C:$BO,(ROW()-4)/14+4,COLUMN()) -> 0 | I32: =INDEX(TABLEAU!$C:$BO,(ROW()-4)/14+4,COLUMN()) -> 0 | ... BK32: =INDEX(TABLEAU!$C:$BO,(ROW()-4)/14+4,COLUMN()) -> 0
A33: Sotck actualiza | B33: =A32+(C32-B32) -> 0 | D33: =B33+E32-D32 -> 0 | F33: =D33+G32-F32 -> 0 | H33: =F33+I32-H32 -> 0 | J33: =H33+K32-J32 -> 0 | L33: =J33+M32-L32 -> 0 | N33: =L33+O32-N32 -> 0 | P33: =N33+Q32-P32 -> 0 | R33: =P33+S32-R32 -> 0 | T33: =R33+U32-T32 -> 0 | V33: =T33+W32-V32 -> 0 | X33: =V33+Y32-X32 -> 0 | Z33: =X33+AA32-Z32 -> 0 | AB33: =Z33+AC32-AB32 -> 0 | AD33: =AB33+AE32-AD32 -> 0 | AF33: =AD33+AG32-AF32 -> 0 | AH33: =AF33+AI32-AH32 -> 0 | AJ33: =AH33+AK32-AJ32 -> 0 | AL33: =AJ33+AM32-AL32 -> 0 | AN33: =AL33+AO32-AN32 -> 0 | AP33: =AN33+AQ32-AP32 -> 0 | AR33: =AP33+AS32-AR32 -> 0 | AT33: =AR33+AU32-AT32 -> 0 | AV33: =AT33+AW32-AV32 -> 0 | AX33: =AV33+AY32-AX32 -> 0 | AZ33: =AX33+BA32-AZ32 -> 0 | BB33: =AZ33+BC32-BB32 -> 0 | BD33: =BB33+BE32-BD32 -> 0 | BF33: =BD33+BG32-BF32 -> 0 | BH33: =BF33+BI32-BH32 -> 0 | BJ33: =BH33+BK32-BJ32 -> 0
A34: Coût d'achat unitario | B34: 4498
A35: Proveedor
A36: Valor unitario | B36: =B34 -> 4498 | D36: =D34 -> 0 | F36: =F34 -> 0 | H36: =H34 -> 0 | J36: =J34 -> 0 | L36: =L34 -> 0 | N36: =N34 -> 0 | P36: =P34 -> 0 | R36: =R34 -> 0 | T36: =T34 -> 0 | V36: =V34 -> 0 | X36: =X34 -> 0 | Z36: =Z34 -> 0 | AB36: =AB34 -> 0 | AD36: =AD34 -> 0 | AF36: =AF34 -> 0 | AH36: =AH34 -> 0 | AJ36: =AJ34 -> 0 | AL36: =AL34 -> 0 | AN36: =AN34 -> 0 | AP36: =AP34 -> 0 | AR36: =AR34 -> 0 | AT36: =AT34 -> 0 | AV36: =AV34 -> 0 | AX36: =AX34 -> 0 | AZ36: =AZ34 -> 0 | BB36: =BB34 -> 0 | BD36: =BD34 -> 0 | BF36: =BF34 -> 0 | BH36: =BH34 -> 0 | BJ36: =BJ34 -> 0
A37: Valor media | D37: =D40/D33 -> #DIV/0! | F37: =F40/F33 -> #DIV/0! | H37: =H40/H33 -> #DIV/0! | J37: =J40/J33 -> #DIV/0! | L37: =L40/L33 -> #DIV/0! | N37: =N40/N33 -> #DIV/0! | P37: =P40/P33 -> #DIV/0! | R37: =R40/R33 -> #DIV/0! | T37: =T40/T33 -> #DIV/0! | V37: =V40/V33 -> #DIV/0! | X37: =X40/X33 -> #DIV/0! | Z37: =Z40/Z33 -> #DIV/0! | AB37: =AB40/AB33 -> #DIV/0! | AD37: =AD40/AD33 -> #DIV/0! | AF37: =AF40/AF33 -> #DIV/0! | AH37: =AH40/AH33 -> #DIV/0! | AJ37: =AJ40/AJ33 -> #DIV/0! | AL37: =AL40/AL33 -> #DIV/0! | AN37: =AN40/AN33 -> #DIV/0! | AP37: =AP40/AP33 -> #DIV/0! | AR37: =AR40/AR33 -> #DIV/0! | AT37: =AT40/AT33 -> #DIV/0! | AV37: =AV40/AV33 -> #DIV/0! | AX37: =AX40/AX33 -> #DIV/0! | AZ37: =AZ40/AZ33 -> #DIV/0! | BB37: =BB40/BB33 -> #DIV/0! | BD37: =BD40/BD33 -> #DIV/0! | BF37: =BF40/BF33 -> #DIV/0! | BH37: =BH40/BH33 -> #DIV/0! | BJ37: =BJ40/BJ33 -> #DIV/0!
A38: Entrée | B38: =C32*B34 -> 0 | D38: =E32*D34 -> 0 | F38: =G32*F34 -> 0 | H38: =I32*H34 -> 0 | J38: =K32*J34 -> 0 | L38: =M32*L34 -> 0 | N38: =O32*N34 -> 0 | P38: =Q32*P34 -> 0 | R38: =S32*R34 -> 0 | T38: =U32*T34 -> 0 | V38: =W32*V34 -> 0 | X38: =Y32*X34 -> 0 | Z38: =AA32*Z34 -> 0 | AB38: =AC32*AB34 -> 0 | AD38: =AE32*AD34 -> 0 | AF38: =AG32*AF34 -> 0 | AH38: =AI32*AH34 -> 0 | AJ38: =AK32*AJ34 -> 0 | AL38: =AM32*AL34 -> 0 | AN38: =AO32*AN34 -> 0 | AP38: =AQ32*AP34 -> 0 | AR38: =AS32*AR34 -> 0 | AT38: =AU32*AT34 -> 0 | AV38: =AW32*AV34 -> 0 | AX38: =AY32*AX34 -> 0 | AZ38: =BA32*AZ34 -> 0 | BB38: =BC32*BB34 -> 0 | BD38: =BE32*BD34 -> 0 | BF38: =BG32*BF34 -> 0 | BH38: =BI32*BH34 -> 0 | BJ38: =BK32*BJ34 -> 0
A39: Sorties | B39: =B32*B34 -> 0 | D39: =D32*D34 -> 0 | F39: =F32*F34 -> 0 | H39: =H32*H34 -> 0 | J39: =J32*J34 -> 0 | L39: =L32*L34 -> 0 | N39: =N32*N34 -> 0 | P39: =P32*P34 -> 0 | R39: =R32*R34 -> 0 | T39: =T32*T34 -> 0 | V39: =V32*V34 -> 0 | X39: =X32*X34 -> 0 | Z39: =Z32*Z34 -> 0 | AB39: =AB32*AB34 -> 0 | AD39: =AD32*AD34 -> 0 | AF39: =AF32*AF34 -> 0 | AH39: =AH32*AH34 -> 0 | AJ39: =AJ32*AJ34 -> 0 | AL39: =AL32*AL34 -> 0 | AN39: =AN32*AN34 -> 0 | AP39: =AP32*AP34 -> 0 | AR39: =AR32*AR34 -> 0 | AT39: =AT32*AT34 -> 0 | AV39: =AV32*AV34 -> 0 | AX39: =AX32*AX34 -> 0 | AZ39: =AZ32*AZ34 -> 0 | BB39: =BB32*BB34 -> 0 | BD39: =BD32*BD34 -> 0 | BF39: =BF32*BF34 -> 0 | BH39: =BH32*BH34 -> 0 | BJ39: =BJ32*BJ34 -> 0
A40: Valor Stock | B40: =B33*B36 -> 0 | D40: =B40+(E32-D32)*D36 -> 0 | F40: =D40+(G32-F32)*F36 -> 0 | H40: =F40+(I32-H32)*H36 -> 0 | J40: =H40+(K32-J32)*J36 -> 0 | L40: =J40+(M32-L32)*L36 -> 0 | N40: =L40+(O32-N32)*N36 -> 0 | P40: =N40+(Q32-P32)*P36 -> 0 | R40: =P40+(S32-R32)*R36 -> 0 | T40: =R40+(U32-T32)*T36 -> 0 | V40: =T40+(W32-V32)*V36 -> 0 | X40: =V40+(Y32-X32)*X36 -> 0 | Z40: =X40+(AA32-Z32)*Z36 -> 0 | AB40: =Z40+(AC32-AB32)*AB36 -> 0 | AD40: =AB40+(AE32-AD32)*AD36 -> 0 | AF40: =AD40+(AG32-AF32)*AF36 -> 0 | AH40: =AF40+(AI32-AH32)*AH36 -> 0 | AJ40: =AH40+(AK32-AJ32)*AJ36 -> 0 | AL40: =AJ40+(AM32-AL32)*AL36 -> 0 | AN40: =AL40+(AO32-AN32)*AN36 -> 0 | AP40: =AN40+(AQ32-AP32)*AP36 -> 0 | AR40: =AP40+(AS32-AR32)*AR36 -> 0 | AT40: =AR40+(AU32-AT32)*AT36 -> 0 | AV40: =AT40+(AW32-AV32)*AV36 -> 0 | AX40: =AV40+(AY32-AX32)*AX36 -> 0 | AZ40: =AX40+(BA32-AZ32)*AZ36 -> 0 | BB40: =AZ40+(BC32-BB32)*BB36 -> 0 | BD40: =BB40+(BE32-BD32)*BD36 -> 0 | BF40: =BD40+(BG32-BF32)*BF36 -> 0 | BH40: =BF40+(BI32-BH32)*BH36 -> 0 | BJ40: =BH40+(BK32-BJ32)*BJ36 -> 0
A43: =INDEX(TABLEAU!B:C,(ROW()-1)/14+4,1)&" "&INDEX(TABLEAU!B:C,(ROW()-1)/14+4,2) -> Aji crema 500 grs
A44: {=INDEX(A54:BK54,MAX(IF(A54:BK54>0,COLUMN(A54:BK54))))} -> Valor Stock | B44: 42064 | D44: 42065 | F44: 42066 | H44: 42067 | J44: 42068 | L44: 42069 | N44: 42070 | P44: 42071 | R44: 42072 | T44: 42073 | V44: 42074 | X44: 42075 | Z44: 42076 | AB44: 42077 | AD44: 42078 | AF44: 42079 | AH44: 42080 | AJ44: 42081 | AL44: 42082 | AN44: 42083 | AP44: 42084 | AR44: 42085 | AT44: 42086 | AV44: 42087 | AX44: 42088 | AZ44: 42089 | BB44: 42090 | BD44: 42091 | BF44: 42092 | BH44: 42093 | BJ44: 42094
B45: "-" | C45: "+" | D45: "-" | E45: "+" | F45: "-" | G45: "+" | H45: "-" | I45: "+" | J45: "-" | K45: "+" | L45: "-" | M45: "+" | N45: "-" | O45: "+" | P45: "-" | Q45: "+" | R45: "-" | S45: "+" | T45: "-" | U45: "+" | V45: "-" | W45: "+" | X45: "-" | Y45: "+" | Z45: "-" | AA45: "+" | AB45: "-" | AC45: "+" | AD45: "-" | AE45: "+" | AF45: "-" | AG45: "+" | AH45: "-" | AI45: "+" | AJ45: "-" | AK45: "+" | AL45: "-" | AM45: "+" | AN45: "-" | AO45: "+" | AP45: "-" | AQ45: "+" | AR45: "-" | AS45: "+" | AT45: "-" | AU45: "+" | AV45: "-" | AW45: "+" | AX45: "-" | AY45: "+" | AZ45: "-" | BA45: "+" | BB45: "-" | BC45: "+" | BD45: "-" | BE45: "+" | BF45: "-" | BG45: "+" | BH45: "-" | BI45: "+" | BJ45: "-" | BK45: "+"
A46: =INDEX(TABLEAU!$A:$A,(ROW()-4)/14+4,1) -> 0 | B46: =INDEX(TABLEAU!$C:$BO,(ROW()-4)/14+4,COLUMN()) -> 0 | C46: =INDEX(TABLEAU!$C:$BO,(ROW()-4)/14+4,COLUMN()) -> 0 | D46: =INDEX(TABLEAU!$C:$BO,(ROW()-4)/14+4,COLUMN()) -> 0 | E46: =INDEX(TABLEAU!$C:$BO,(ROW()-4)/14+4,COLUMN()) -> 0 | F46: =INDEX(TABLEAU!$C:$BO,(ROW()-4)/14+4,COLUMN()) -> 0 | G46: =INDEX(TABLEAU!$C:$BO,(ROW()-4)/14+4,COLUMN()) -> 0 | H46: =INDEX(TABLEAU!$C:$BO,(ROW()-4)/14+4,COLUMN()) -> 0 | I46: =INDEX(TABLEAU!$C:$BO,(ROW()-4)/14+4,COLUMN()) -> 0 | ... BK46: =INDEX(TABLEAU!$C:$BO,(ROW()-4)/14+4,COLUMN()) -> 0
...
