Workbook

Sheet Instructions
B2: 42064 | D2: 42065 | F2: 42066 | H2: 42067 | J2: 42068 | L2: 42069 | N2: 42070 | P2: 42071 | R2: 42072 | T2: 42073 | V2: 42074 | X2: 42075 | Z2: 42076 | AB2: 42077 | AD2: 42078 | AF2: 42079 | AH2: 42080 | AJ2: 42081 | AL2: 42082 | AN2: 42083 | AP2: 42084 | AR2: 42085 | AT2: 42086 | AV2: 42087 | AX2: 42088 | AZ2: 42089 | BB2: 42090 | BD2: 42091 | BF2: 42092 | BH2: 42093 | BJ2: 42094
B3: "-" | C3: "+" | D3: "-" | E3: "+" | F3: "-" | G3: "+" | H3: "-" | I3: "+" | J3: "-" | K3: "+" | L3: "-" | M3: "+" | N3: "-" | O3: "+" | P3: "-" | Q3: "+" | R3: "-" | S3: "+" | T3: "-" | U3: "+" | V3: "-" | W3: "+" | X3: "-" | Y3: "+" | Z3: "-" | AA3: "+" | AB3: "-" | AC3: "+" | AD3: "-" | AE3: "+" | AF3: "-" | AG3: "+" | AH3: "-" | AI3: "+" | AJ3: "-" | AK3: "+" | AL3: "-" | AM3: "+" | AN3: "-" | AO3: "+" | AP3: "-" | AQ3: "+" | AR3: "-" | AS3: "+" | AT3: "-" | AU3: "+" | AV3: "-" | AW3: "+" | AX3: "-" | AY3: "+" | AZ3: "-" | BA3: "+" | BB3: "-" | BC3: "+" | BD3: "-" | BE3: "+" | BF3: "-" | BG3: "+" | BH3: "-" | BI3: "+" | BJ3: "-" | BK3: "+"
A5: Sotck actualiza | B5: =A4+(C4-B4) -> 0 | D5: =B5+E4-D4 -> 0 | F5: =D5+G4-F4 -> 0 | H5: =F5+I4-H4 -> 0 | J5: =H5+K4-J4 -> 0 | L5: =J5+M4-L4 -> 0 | N5: =L5+O4-N4 -> 0 | P5: =N5+Q4-P4 -> 0 | R5: =P5+S4-R4 -> 0 | T5: =R5+U4-T4 -> 0 | V5: =T5+W4-V4 -> 0 | X5: =V5+Y4-X4 -> 0 | Z5: =X5+AA4-Z4 -> 0 | AB5: =Z5+AC4-AB4 -> 0 | AD5: =AB5+AE4-AD4 -> 0 | AF5: =AD5+AG4-AF4 -> 0 | AH5: =AF5+AI4-AH4 -> 0 | AJ5: =AH5+AK4-AJ4 -> 0 | AL5: =AJ5+AM4-AL4 -> 0 | AN5: =AL5+AO4-AN4 -> 0 | AP5: =AN5+AQ4-AP4 -> 0 | AR5: =AP5+AS4-AR4 -> 0 | AT5: =AR5+AU4-AT4 -> 0 | AV5: =AT5+AW4-AV4 -> 0 | AX5: =AV5+AY4-AX4 -> 0 | AZ5: =AX5+BA4-AZ4 -> 0 | BB5: =AZ5+BC4-BB4 -> 0 | BD5: =BB5+BE4-BD4 -> 0 | BF5: =BD5+BG4-BF4 -> 0 | BH5: =BF5+BI4-BH4 -> 0 | BJ5: =BH5+BK4-BJ4 -> 0
A6: Coût d'achat unitario
A7: Proveedor
A8: Valor unitario | B8: =B6 -> 0 | D8: =D6 -> 0 | F8: =F6 -> 0 | H8: =H6 -> 0 | J8: =J6 -> 0 | L8: =L6 -> 0 | N8: =N6 -> 0 | P8: =P6 -> 0 | R8: =R6 -> 0 | T8: =T6 -> 0 | V8: =V6 -> 0 | X8: =X6 -> 0 | Z8: =Z6 -> 0 | AB8: =AB6 -> 0 | AD8: =AD6 -> 0 | AF8: =AF6 -> 0 | AH8: =AH6 -> 0 | AJ8: =AJ6 -> 0 | AL8: =AL6 -> 0 | AN8: =AN6 -> 0 | AP8: =AP6 -> 0 | AR8: =AR6 -> 0 | AT8: =AT6 -> 0 | AV8: =AV6 -> 0 | AX8: =AX6 -> 0 | AZ8: =AZ6 -> 0 | BB8: =BB6 -> 0 | BD8: =BD6 -> 0 | BF8: =BF6 -> 0 | BH8: =BH6 -> 0 | BJ8: =BJ6 -> 0
A9: Valor media | D9: =D12/D5 -> #DIV/0! | F9: =F12/F5 -> #DIV/0! | H9: =H12/H5 -> #DIV/0! | J9: =J12/J5 -> #DIV/0! | L9: =L12/L5 -> #DIV/0! | N9: =N12/N5 -> #DIV/0! | P9: =P12/P5 -> #DIV/0! | R9: =R12/R5 -> #DIV/0! | T9: =T12/T5 -> #DIV/0! | V9: =V12/V5 -> #DIV/0! | X9: =X12/X5 -> #DIV/0! | Z9: =Z12/Z5 -> #DIV/0! | AB9: =AB12/AB5 -> #DIV/0! | AD9: =AD12/AD5 -> #DIV/0! | AF9: =AF12/AF5 -> #DIV/0! | AH9: =AH12/AH5 -> #DIV/0! | AJ9: =AJ12/AJ5 -> #DIV/0! | AL9: =AL12/AL5 -> #DIV/0! | AN9: =AN12/AN5 -> #DIV/0! | AP9: =AP12/AP5 -> #DIV/0! | AR9: =AR12/AR5 -> #DIV/0! | AT9: =AT12/AT5 -> #DIV/0! | AV9: =AV12/AV5 -> #DIV/0! | AX9: =AX12/AX5 -> #DIV/0! | AZ9: =AZ12/AZ5 -> #DIV/0! | BB9: =BB12/BB5 -> #DIV/0! | BD9: =BD12/BD5 -> #DIV/0! | BF9: =BF12/BF5 -> #DIV/0! | BH9: =BH12/BH5 -> #DIV/0! | BJ9: =BJ12/BJ5 -> #DIV/0!
A10: Entrée | B10: =C4*B6 -> 0 | D10: =E4*D6 -> 0 | F10: =G4*F6 -> 0 | H10: =I4*H6 -> 0 | J10: =K4*J6 -> 0 | L10: =M4*L6 -> 0 | N10: =O4*N6 -> 0 | P10: =Q4*P6 -> 0 | R10: =S4*R6 -> 0 | T10: =U4*T6 -> 0 | V10: =W4*V6 -> 0 | X10: =Y4*X6 -> 0 | Z10: =AA4*Z6 -> 0 | AB10: =AC4*AB6 -> 0 | AD10: =AE4*AD6 -> 0 | AF10: =AG4*AF6 -> 0 | AH10: =AI4*AH6 -> 0 | AJ10: =AK4*AJ6 -> 0 | AL10: =AM4*AL6 -> 0 | AN10: =AO4*AN6 -> 0 | AP10: =AQ4*AP6 -> 0 | AR10: =AS4*AR6 -> 0 | AT10: =AU4*AT6 -> 0 | AV10: =AW4*AV6 -> 0 | AX10: =AY4*AX6 -> 0 | AZ10: =BA4*AZ6 -> 0 | BB10: =BC4*BB6 -> 0 | BD10: =BE4*BD6 -> 0 | BF10: =BG4*BF6 -> 0 | BH10: =BI4*BH6 -> 0 | BJ10: =BK4*BJ6 -> 0
A11: Sorties | B11: =B4*B6 -> 0 | D11: =D4*D6 -> 0 | F11: =F4*F6 -> 0 | H11: =H4*H6 -> 0 | J11: =J4*J6 -> 0 | L11: =L4*L6 -> 0 | N11: =N4*N6 -> 0 | P11: =P4*P6 -> 0 | R11: =R4*R6 -> 0 | T11: =T4*T6 -> 0 | V11: =V4*V6 -> 0 | X11: =X4*X6 -> 0 | Z11: =Z4*Z6 -> 0 | AB11: =AB4*AB6 -> 0 | AD11: =AD4*AD6 -> 0 | AF11: =AF4*AF6 -> 0 | AH11: =AH4*AH6 -> 0 | AJ11: =AJ4*AJ6 -> 0 | AL11: =AL4*AL6 -> 0 | AN11: =AN4*AN6 -> 0 | AP11: =AP4*AP6 -> 0 | AR11: =AR4*AR6 -> 0 | AT11: =AT4*AT6 -> 0 | AV11: =AV4*AV6 -> 0 | AX11: =AX4*AX6 -> 0 | AZ11: =AZ4*AZ6 -> 0 | BB11: =BB4*BB6 -> 0 | BD11: =BD4*BD6 -> 0 | BF11: =BF4*BF6 -> 0 | BH11: =BH4*BH6 -> 0 | BJ11: =BJ4*BJ6 -> 0
A12: Valor Stock | B12: =B5*B8 -> 0 | D12: =B12+(E4-D4)*D8 -> 0 | F12: =D12+(G4-F4)*F8 -> 0 | H12: =F12+(I4-H4)*H8 -> 0 | J12: =H12+(K4-J4)*J8 -> 0 | L12: =J12+(M4-L4)*L8 -> 0 | N12: =L12+(O4-N4)*N8 -> 0 | P12: =N12+(Q4-P4)*P8 -> 0 | R12: =P12+(S4-R4)*R8 -> 0 | T12: =R12+(U4-T4)*T8 -> 0 | V12: =T12+(W4-V4)*V8 -> 0 | X12: =V12+(Y4-X4)*X8 -> 0 | Z12: =X12+(AA4-Z4)*Z8 -> 0 | AB12: =Z12+(AC4-AB4)*AB8 -> 0 | AD12: =AB12+(AE4-AD4)*AD8 -> 0 | AF12: =AD12+(AG4-AF4)*AF8 -> 0 | AH12: =AF12+(AI4-AH4)*AH8 -> 0 | AJ12: =AH12+(AK4-AJ4)*AJ8 -> 0 | AL12: =AJ12+(AM4-AL4)*AL8 -> 0 | AN12: =AL12+(AO4-AN4)*AN8 -> 0 | AP12: =AN12+(AQ4-AP4)*AP8 -> 0 | AR12: =AP12+(AS4-AR4)*AR8 -> 0 | AT12: =AR12+(AU4-AT4)*AT8 -> 0 | AV12: =AT12+(AW4-AV4)*AV8 -> 0 | AX12: =AV12+(AY4-AX4)*AX8 -> 0 | AZ12: =AX12+(BA4-AZ4)*AZ8 -> 0 | BB12: =AZ12+(BC4-BB4)*BB8 -> 0 | BD12: =BB12+(BE4-BD4)*BD8 -> 0 | BF12: =BD12+(BG4-BF4)*BF8 -> 0 | BH12: =BF12+(BI4-BH4)*BH8 -> 0 | BJ12: =BH12+(BK4-BJ4)*BJ8 -> 0
A14: Le travaille s'effectu sur le "tableau", les fiches se mettent automatiquement à jour. A la création d'une nouvelle fiche pour un nouveau produit, il faut faire attention à la formule de la valor unitario qui change selon le produit.

Sheet TABLEAU
A1: Stock | B1: Producto | C1: Medida | D1: 42036 | F1: 42037 | H1: 42038 | J1: 42039 | L1: 42040 | N1: 42041 | P1: 42042 | R1: 42043 | T1: 42044 | V1: 42045 | X1: 42046 | Z1: 42047 | AB1: 42048 | AD1: 42049 | AF1: 42050 | AH1: 42051 | AJ1: 42052 | AL1: 42053 | AN1: 42054 | AP1: 42055 | AR1: 42056 | AT1: 42057 | AV1: 54 | AX1: 42059 | AZ1: 42060 | BB1: 42061 | BD1: 42062 | BF1: 42063 | BH1: 29/02 | BJ1: 30/02 | BL1: 31/02 | BN1: Stock - | BO1: Stock + | BP1: Stock Final Mes | BQ1: Costo unitario | BR1: Costo total
D2: "-" | E2: "+" | F2: "-" | G2: "+" | H2: "-" | I2: "+" | J2: "-" | K2: "+" | L2: "-" | M2: "+" | N2: "-" | O2: "+" | P2: "-" | Q2: "+" | R2: "-" | S2: "+" | T2: "-" | U2: "+" | V2: "-" | W2: "+" | X2: "-" | Y2: "+" | Z2: "-" | AA2: "+" | AB2: "-" | AC2: "+" | AD2: "-" | AE2: "+" | AF2: "-" | AG2: "+" | AH2: "-" | AI2: "+" | AJ2: "-" | AK2: "+" | AL2: "-" | AM2: "+" | AN2: "-" | AO2: "+" | AP2: "-" | AQ2: "+" | AR2: "-" | AS2: "+" | AT2: "-" | AU2: "+" | AV2: "-" | AW2: "+" | AX2: "-" | AY2: "+" | AZ2: "-" | BA2: "+" | BB2: "-" | BC2: "+" | BD2: "-" | BE2: "+" | BF2: "-" | BG2: "+" | BH2: "-" | BI2: "+" | BJ2: "-" | BK2: "+" | BL2: "-" | BM2: "+"
B3: BODEGA
A4: 5 | B4: Aceite Balsamico | C4: 500 ml | E4: 2 | BN4: =D4+F4+H4+J4+L4+N4+P4+R4+T4+V4+X4+Z4+AB4+AD4+AF4+AH4+AJ4+AL4+AN4+AP4+AR4+AT4+AV4+AX4+AZ4+BB4+BD4+BF4+BH4+BJ4+BL4 -> 0 | BO4: =E4+G4+I4+K4+M4+O4+Q4+S4+U4+W4+Y4+AA4+AC4+AE4+AG4+AI4+AK4+AM4+AO4+AQ4+AS4+AU4+AW4+AY4+BA4+BC4+BE4+BG4+BI4+BK4+BM4 -> 2 | BP4: =A4-BN4+BO4 -> 7 | BQ4: 1755 | BR4: =INDEX('A-B-C-D'!A:E,(ROW()-4)*14+2,1) -> 12285
A5: 1 | B5: Aceite Borranza | C5: 5 lt | BN5: =D5+F5+H5+J5+L5+N5+P5+R5+T5+V5+X5+Z5+AB5+AD5+AF5+AH5+AJ5+AL5+AN5+AP5+AR5+AT5+AV5+AX5+AZ5+BB5+BD5+BF5+BH5+BJ5+BL5 -> 0 | BO5: =E5+G5+I5+K5+M5+O5+Q5+S5+U5+W5+Y5+AA5+AC5+AE5+AG5+AI5+AK5+AM5+AO5+AQ5+AS5+AU5+AW5+AY5+BA5+BC5+BE5+BG5+BI5+BK5+BM5 -> 0 | BP5: =A5-BN5+BO5 -> 1 | BQ5: 4498 | BR5: =INDEX('A-B-C-D'!A:E,(ROW()-4)*14+2,1) -> 4498
B6: Aceite de olivia extra viegen | C6: 5 lt | BN6: =D6+F6+H6+J6+L6+N6+P6+R6+T6+V6+X6+Z6+AB6+AD6+AF6+AH6+AJ6+AL6+AN6+AP6+AR6+AT6+AV6+AX6+AZ6+BB6+BD6+BF6+BH6+BJ6+BL6 -> 0 | BO6: =E6+G6+I6+K6+M6+O6+Q6+S6+U6+W6+Y6+AA6+AC6+AE6+AG6+AI6+AK6+AM6+AO6+AQ6+AS6+AU6+AW6+AY6+BA6+BC6+BE6+BG6+BI6+BK6+BM6 -> 0 | BP6: =A6-BN6+BO6 -> 0 | BQ6: 16200 | BR6: =INDEX('A-B-C-D'!A:E,(ROW()-4)*14+2,1) -> Valor Stock
B7: Aji crema | C7: 500 grs | BN7: =D7+F7+H7+J7+L7+N7+P7+R7+T7+V7+X7+Z7+AB7+AD7+AF7+AH7+AJ7+AL7+AN7+AP7+AR7+AT7+AV7+AX7+AZ7+BB7+BD7+BF7+BH7+BJ7+BL7 -> 0 | BO7: =E7+G7+I7+K7+M7+O7+Q7+S7+U7+W7+Y7+AA7+AC7+AE7+AG7+AI7+AK7+AM7+AO7+AQ7+AS7+AU7+AW7+AY7+BA7+BC7+BE7+BG7+BI7+BK7+BM7 -> 0 | BP7: =A7-BN7+BO7 -> 0 | BQ7: 500 | BR7: =INDEX('A-B-C-D'!A:E,(ROW()-4)*14+2,1) -> Valor Stock
B8: Aceite Maravilla chef | C8: 1 lt | BN8: =D8+F8+H8+J8+L8+N8+P8+R8+T8+V8+X8+Z8+AB8+AD8+AF8+AH8+AJ8+AL8+AN8+AP8+AR8+AT8+AV8+AX8+AZ8+BB8+BD8+BF8+BH8+BJ8+BL8 -> 0 | BO8: =E8+G8+I8+K8+M8+O8+Q8+S8+U8+W8+Y8+AA8+AC8+AE8+AG8+AI8+AK8+AM8+AO8+AQ8+AS8+AU8+AW8+AY8+BA8+BC8+BE8+BG8+BI8+BK8+BM8 -> 0 | BP8: =A8-BN8+BO8 -> 0 | BQ8: 1473 | BR8: =INDEX('A-B-C-D'!A:E,(ROW()-4)*14+2,1) -> Valor Stock
B9: Aji Chileno traverso | C9: 500 grs | BN9: =D9+F9+H9+J9+L9+N9+P9+R9+T9+V9+X9+Z9+AB9+AD9+AF9+AH9+AJ9+AL9+AN9+AP9+AR9+AT9+AV9+AX9+AZ9+BB9+BD9+BF9+BH9+BJ9+BL9 -> 0 | BO9: =E9+G9+I9+K9+M9+O9+Q9+S9+U9+W9+Y9+AA9+AC9+AE9+AG9+AI9+AK9+AM9+AO9+AQ9+AS9+AU9+AW9+AY9+BA9+BC9+BE9+BG9+BI9+BK9+BM9 -> 0 | BP9: =A9-BN9+BO9 -> 0 | BQ9: 412 | BR9: =INDEX('A-B-C-D'!A:E,(ROW()-4)*14+2,1) -> Valor Stock
B10: Aji merken | C10: 1kg | BN10: =D10+F10+H10+J10+L10+N10+P10+R10+T10+V10+X10+Z10+AB10+AD10+AF10+AH10+AJ10+AL10+AN10+AP10+AR10+AT10+AV10+AX10+AZ10+BB10+BD10+BF10+BH10+BJ10+BL10 -> 0 | BO10: =E10+G10+I10+K10+M10+O10+Q10+S10+U10+W10+Y10+AA10+AC10+AE10+AG10+AI10+AK10+AM10+AO10+AQ10+AS10+AU10+AW10+AY10+BA10+BC10+BE10+BG10+BI10+BK10+BM10 -> 0 | BP10: =A10-BN10+BO10 -> 0 | BQ10: 3475 | BR10: =INDEX('A-B-C-D'!A:E,(ROW()-4)*14+2,1) -> Valor Stock
B11: Aji traverso losificador | C11: 350 grs | BN11: =D11+F11+H11+J11+L11+N11+P11+R11+T11+V11+X11+Z11+AB11+AD11+AF11+AH11+AJ11+AL11+AN11+AP11+AR11+AT11+AV11+AX11+AZ11+BB11+BD11+BF11+BH11+BJ11+BL11 -> 0 | BO11: =E11+G11+I11+K11+M11+O11+Q11+S11+U11+W11+Y11+AA11+AC11+AE11+AG11+AI11+AK11+AM11+AO11+AQ11+AS11+AU11+AW11+AY11+BA11+BC11+BE11+BG11+BI11+BK11+BM11 -> 0 | BP11: =A11-BN11+BO11 -> 0 | BQ11: 521 | BR11: =INDEX('A-B-C-D'!A:E,(ROW()-4)*14+2,1) -> Valor Stock
B12: Arbolito | C12: 430 grs | BN12: =D12+F12+H12+J12+L12+N12+P12+R12+T12+V12+X12+Z12+AB12+AD12+AF12+AH12+AJ12+AL12+AN12+AP12+AR12+AT12+AV12+AX12+AZ12+BB12+BD12+BF12+BH12+BJ12+BL12 -> 0 | BO12: =E12+G12+I12+K12+M12+O12+Q12+S12+U12+W12+Y12+AA12+AC12+AE12+AG12+AI12+AK12+AM12+AO12+AQ12+AS12+AU12+AW12+AY12+BA12+BC12+BE12+BG12+BI12+BK12+BM12 -> 0 | BP12: =A12-BN12+BO12 -> 0 | BQ12: 1084 | BR12: =INDEX('A-B-C-D'!A:E,(ROW()-4)*14+2,1) -> Valor Stock
B13: Arroz Miraflores | C13: 1 kg | BN13: =D13+F13+H13+J13+L13+N13+P13+R13+T13+V13+X13+Z13+AB13+AD13+AF13+AH13+AJ13+AL13+AN13+AP13+AR13+AT13+AV13+AX13+AZ13+BB13+BD13+BF13+BH13+BJ13+BL13 -> 0 | BO13: =E13+G13+I13+K13+M13+O13+Q13+S13+U13+W13+Y13+AA13+AC13+AE13+AG13+AI13+AK13+AM13+AO13+AQ13+AS13+AU13+AW13+AY13+BA13+BC13+BE13+BG13+BI13+BK13+BM13 -> 0 | BP13: =A13-BN13+BO13 -> 0 | BQ13: 794 | BR13: =INDEX('A-B-C-D'!A:E,(ROW()-4)*14+2,1) -> Valor Stock
B14: Arvejas verdes | C14: 1kg | BN14: =D14+F14+H14+J14+L14+N14+P14+R14+T14+V14+X14+Z14+AB14+AD14+AF14+AH14+AJ14+AL14+AN14+AP14+AR14+AT14+AV14+AX14+AZ14+BB14+BD14+BF14+BH14+BJ14+BL14 -> 0 | BO14: =E14+G14+I14+K14+M14+O14+Q14+S14+U14+W14+Y14+AA14+AC14+AE14+AG14+AI14+AK14+AM14+AO14+AQ14+AS14+AU14+AW14+AY14+BA14+BC14+BE14+BG14+BI14+BK14+BM14 -> 0 | BP14: =A14-BN14+BO14 -> 0 | BQ14: 1133 | BR14: =INDEX('A-B-C-D'!A:E,(ROW()-4)*14+2,1) -> Valor Stock
B15: Atun comitos cruceros en agua | C15: 170 grs | BN15: =D15+F15+H15+J15+L15+N15+P15+R15+T15+V15+X15+Z15+AB15+AD15+AF15+AH15+AJ15+AL15+AN15+AP15+AR15+AT15+AV15+AX15+AZ15+BB15+BD15+BF15+BH15+BJ15+BL15 -> 0 | BO15: =E15+G15+I15+K15+M15+O15+Q15+S15+U15+W15+Y15+AA15+AC15+AE15+AG15+AI15+AK15+AM15+AO15+AQ15+AS15+AU15+AW15+AY15+BA15+BC15+BE15+BG15+BI15+BK15+BM15 -> 0 | BP15: =A15-BN15+BO15 -> 0 | BQ15: 606 | BR15: =INDEX('A-B-C-D'!A:E,(ROW()-4)*14+2,1) -> Valor Stock
B16: Atun desmenuzado aceite colorado | C16: 170 grs | BN16: =D16+F16+H16+J16+L16+N16+P16+R16+T16+V16+X16+Z16+AB16+AD16+AF16+AH16+AJ16+AL16+AN16+AP16+AR16+AT16+AV16+AX16+AZ16+BB16+BD16+BF16+BH16+BJ16+BL16 -> 0 | BO16: =E16+G16+I16+K16+M16+O16+Q16+S16+U16+W16+Y16+AA16+AC16+AE16+AG16+AI16+AK16+AM16+AO16+AQ16+AS16+AU16+AW16+AY16+BA16+BC16+BE16+BG16+BI16+BK16+BM16 -> 0 | BP16: =A16-BN16+BO16 -> 0 | BQ16: 437 | BR16: =INDEX('A-B-C-D'!A:E,(ROW()-4)*14+2,1) -> Valor Stock
B17: Atun desmenuzado agua acuenta | C17: 170 grs | BN17: =D17+F17+H17+J17+L17+N17+P17+R17+T17+V17+X17+Z17+AB17+AD17+AF17+AH17+AJ17+AL17+AN17+AP17+AR17+AT17+AV17+AX17+AZ17+BB17+BD17+BF17+BH17+BJ17+BL17 -> 0 | BO17: =E17+G17+I17+K17+M17+O17+Q17+S17+U17+W17+Y17+AA17+AC17+AE17+AG17+AI17+AK17+AM17+AO17+AQ17+AS17+AU17+AW17+AY17+BA17+BC17+BE17+BG17+BI17+BK17+BM17 -> 0 | BP17: =A17-BN17+BO17 -> 0 | BQ17: 395 | BR17: =INDEX('A-B-C-D'!A:E,(ROW()-4)*14+2,1) -> Valor Stock
... B29: nescfé Café Monterry | C29: 170 grs | BN29: =D29+F29+H29+J29+L29+N29+P29+R29+T29+V29+X29+Z29+AB29+AD29+AF29+AH29+AJ29+AL29+AN29+AP29+AR29+AT29+AV29+AX29+AZ29+BB29+BD29+BF29+BH29+BJ29+BL29 -> 0 | BO29: =E29+G29+I29+K29+M29+O29+Q29+S29+U29+W29+Y29+AA29+AC29+AE29+AG29+AI29+AK29+AM29+AO29+AQ29+AS29+AU29+AW29+AY29+BA29+BC29+BE29+BG29+BI29+BK29+BM29 -> 0 | BP29: =A29-BN29+BO29 -> 0 | BQ29: 3591 | BR29: =INDEX('A-B-C-D'!A:E,(ROW()-4)*14+2,1) -> Valor Stock
B30: Callampas secas | C30: 1kg | BN30: =D30+F30+H30+J30+L30+N30+P30+R30+T30+V30+X30+Z30+AB30+AD30+AF30+AH30+AJ30+AL30+AN30+AP30+AR30+AT30+AV30+AX30+AZ30+BB30+BD30+BF30+BH30+BJ30+BL30 -> 0 | BO30: =E30+G30+I30+K30+M30+O30+Q30+S30+U30+W30+Y30+AA30+AC30+AE30+AG30+AI30+AK30+AM30+AO30+AQ30+AS30+AU30+AW30+AY30+BA30+BC30+BE30+BG30+BI30+BK30+BM30 -> 0 | BP30: =A30-BN30+BO30 -> 0 | BR30: =INDEX('A-B-C-D'!A:E,(ROW()-4)*14+2,1) -> Valor Stock
B31: Caramelo Ambrosoli | C31: 100 unid | BN31: =D31+F31+H31+J31+L31+N31+P31+R31+T31+V31+X31+Z31+AB31+AD31+AF31+AH31+AJ31+AL31+AN31+AP31+AR31+AT31+AV31+AX31+AZ31+BB31+BD31+BF31+BH31+BJ31+BL31 -> 0 | BO31: =E31+G31+I31+K31+M31+O31+Q31+S31+U31+W31+Y31+AA31+AC31+AE31+AG31+AI31+AK31+AM31+AO31+AQ31+AS31+AU31+AW31+AY31+BA31+BC31+BE31+BG31+BI31+BK31+BM31 -> 0 | BP31: =A31-BN31+BO31 -> 0 | BQ31: 1084 | BR31: =INDEX('A-B-C-D'!A:E,(ROW()-4)*14+2,1) -> Valor Stock
B32: Cerezas el jugo | C32: 1,150 grs | BN32: =D32+F32+H32+J32+L32+N32+P32+R32+T32+V32+X32+Z32+AB32+AD32+AF32+AH32+AJ32+AL32+AN32+AP32+AR32+AT32+AV32+AX32+AZ32+BB32+BD32+BF32+BH32+BJ32+BL32 -> 0 | BO32: =E32+G32+I32+K32+M32+O32+Q32+S32+U32+W32+Y32+AA32+AC32+AE32+AG32+AI32+AK32+AM32+AO32+AQ32+AS32+AU32+AW32+AY32+BA32+BC32+BE32+BG32+BI32+BK32+BM32 -> 0 | BP32: =A32-BN32+BO32 -> 0 | BQ32: 5955 | BR32: =INDEX('A-B-C-D'!A:E,(ROW()-4)*14+2,1) -> Valor Stock
B33: Ciruela dagen sin carozo | C33: 1kg | BN33: =D33+F33+H33+J33+L33+N33+P33+R33+T33+V33+X33+Z33+AB33+AD33+AF33+AH33+AJ33+AL33+AN33+AP33+AR33+AT33+AV33+AX33+AZ33+BB33+BD33+BF33+BH33+BJ33+BL33 -> 0 | BO33: =E33+G33+I33+K33+M33+O33+Q33+S33+U33+W33+Y33+AA33+AC33+AE33+AG33+AI33+AK33+AM33+AO33+AQ33+AS33+AU33+AW33+AY33+BA33+BC33+BE33+BG33+BI33+BK33+BM33 -> 0 | BP33: =A33-BN33+BO33 -> 0 | BQ33: 4892 | BR33: =INDEX('A-B-C-D'!A:E,(ROW()-4)*14+2,1) -> Valor Stock
B34: Concentrado de tomate | C34: 1kg | BN34: =D34+F34+H34+J34+L34+N34+P34+R34+T34+V34+X34+Z34+AB34+AD34+AF34+AH34+AJ34+AL34+AN34+AP34+AR34+AT34+AV34+AX34+AZ34+BB34+BD34+BF34+BH34+BJ34+BL34 -> 0 | BO34: =E34+G34+I34+K34+M34+O34+Q34+S34+U34+W34+Y34+AA34+AC34+AE34+AG34+AI34+AK34+AM34+AO34+AQ34+AS34+AU34+AW34+AY34+BA34+BC34+BE34+BG34+BI34+BK34+BM34 -> 0 | BP34: =A34-BN34+BO34 -> 0 | BQ34: 1653 | BR34: =INDEX('A-B-C-D'!A:E,(ROW()-4)*14+2,1) -> 0
B35: Corbatas Carozzi | C35: 5 kg | BN35: =D35+F35+H35+J35+L35+N35+P35+R35+T35+V35+X35+Z35+AB35+AD35+AF35+AH35+AJ35+AL35+AN35+AP35+AR35+AT35+AV35+AX35+AZ35+BB35+BD35+BF35+BH35+BJ35+BL35 -> 0 | BO35: =E35+G35+I35+K35+M35+O35+Q35+S35+U35+W35+Y35+AA35+AC35+AE35+AG35+AI35+AK35+AM35+AO35+AQ35+AS35+AU35+AW35+AY35+BA35+BC35+BE35+BG35+BI35+BK35+BM35 -> 0 | BP35: =A35-BN35+BO35 -> 0 | BQ35: 4500 | BR35: =INDEX('A-B-C-D'!A:E,(ROW()-4)*14+2,1) -> 0
B36: Corbatas Luchetti | C36: 400 grs | BN36: =D36+F36+H36+J36+L36+N36+P36+R36+T36+V36+X36+Z36+AB36+AD36+AF36+AH36+AJ36+AL36+AN36+AP36+AR36+AT36+AV36+AX36+AZ36+BB36+BD36+BF36+BH36+BJ36+BL36 -> 0 | BO36: =E36+G36+I36+K36+M36+O36+Q36+S36+U36+W36+Y36+AA36+AC36+AE36+AG36+AI36+AK36+AM36+AO36+AQ36+AS36+AU36+AW36+AY36+BA36+BC36+BE36+BG36+BI36+BK36+BM36 -> 0 | BP36: =A36-BN36+BO36 -> 0 | BQ36: 492 | BR36: =INDEX('A-B-C-D'!A:E,(ROW()-4)*14+2,1) -> 0
B37: Corbatas Carozzi | C37: 400 grs | BN37: =D37+F37+H37+J37+L37+N37+P37+R37+T37+V37+X37+Z37+AB37+AD37+AF37+AH37+AJ37+AL37+AN37+AP37+AR37+AT37+AV37+AX37+AZ37+BB37+BD37+BF37+BH37+BJ37+BL37 -> 0 | BO37: =E37+G37+I37+K37+M37+O37+Q37+S37+U37+W37+Y37+AA37+AC37+AE37+AG37+AI37+AK37+AM37+AO37+AQ37+AS37+AU37+AW37+AY37+BA37+BC37+BE37+BG37+BI37+BK37+BM37 -> 0 | BP37: =A37-BN37+BO37 -> 0 | BR37: =INDEX('A-B-C-D'!A:E,(ROW()-4)*14+2,1) -> 0
B38: Corbertura de chocolate | C38: 1kg | BN38: =D38+F38+H38+J38+L38+N38+P38+R38+T38+V38+X38+Z38+AB38+AD38+AF38+AH38+AJ38+AL38+AN38+AP38+AR38+AT38+AV38+AX38+AZ38+BB38+BD38+BF38+BH38+BJ38+BL38 -> 0 | BO38: =E38+G38+I38+K38+M38+O38+Q38+S38+U38+W38+Y38+AA38+AC38+AE38+AG38+AI38+AK38+AM38+AO38+AQ38+AS38+AU38+AW38+AY38+BA38+BC38+BE38+BG38+BI38+BK38+BM38 -> 0 | BP38: =A38-BN38+BO38 -> 0 | BQ38: 3380 | BR38: =INDEX('A-B-C-D'!A:E,(ROW()-4)*14+2,1) -> 0
B39: Corbatura de chocolate blanco | C39: 1kg | BN39: =D39+F39+H39+J39+L39+N39+P39+R39+T39+V39+X39+Z39+AB39+AD39+AF39+AH39+AJ39+AL39+AN39+AP39+AR39+AT39+AV39+AX39+AZ39+BB39+BD39+BF39+BH39+BJ39+BL39 -> 0 | BO39: =E39+G39+I39+K39+M39+O39+Q39+S39+U39+W39+Y39+AA39+AC39+AE39+AG39+AI39+AK39+AM39+AO39+AQ39+AS39+AU39+AW39+AY39+BA39+BC39+BE39+BG39+BI39+BK39+BM39 -> 0 | BP39: =A39-BN39+BO39 -> 0 | BQ39: 3570 | BR39: =INDEX('A-B-C-D'!A:E,(ROW()-4)*14+2,1) -> 0
B40: Crema de aji chileno JB | C40: 1kg | BN40: =D40+F40+H40+J40+L40+N40+P40+R40+T40+V40+X40+Z40+AB40+AD40+AF40+AH40+AJ40+AL40+AN40+AP40+AR40+AT40+AV40+AX40+AZ40+BB40+BD40+BF40+BH40+BJ40+BL40 -> 0 | BO40: =E40+G40+I40+K40+M40+O40+Q40+S40+U40+W40+Y40+AA40+AC40+AE40+AG40+AI40+AK40+AM40+AO40+AQ40+AS40+AU40+AW40+AY40+BA40+BC40+BE40+BG40+BI40+BK40+BM40 -> 0 | BP40: =A40-BN40+BO40 -> 0 | BQ40: 1000 | BR40: =INDEX('A-B-C-D'!A:E,(ROW()-4)*14+2,1) -> 0
B41: Crema de choclo | C41: 1kg | BN41: =D41+F41+H41+J41+L41+N41+P41+R41+T41+V41+X41+Z41+AB41+AD41+AF41+AH41+AJ41+AL41+AN41+AP41+AR41+AT41+AV41+AX41+AZ41+BB41+BD41+BF41+BH41+BJ41+BL41 -> 0 | BO41: =E41+G41+I41+K41+M41+O41+Q41+S41+U41+W41+Y41+AA41+AC41+AE41+AG41+AI41+AK41+AM41+AO41+AQ41+AS41+AU41+AW41+AY41+BA41+BC41+BE41+BG41+BI41+BK41+BM41 -> 0 | BP41: =A41-BN41+BO41 -> 0 | BQ41: 3487 | BR41: =INDEX('A-B-C-D'!A:E,(ROW()-4)*14+2,1) -> 0
B42: Crema de coco | BN42: =D42+F42+H42+J42+L42+N42+P42+R42+T42+V42+X42+Z42+AB42+AD42+AF42+AH42+AJ42+AL42+AN42+AP42+AR42+AT42+AV42+AX42+AZ42+BB42+BD42+BF42+BH42+BJ42+BL42 -> 0 | BO42: =E42+G42+I42+K42+M42+O42+Q42+S42+U42+W42+Y42+AA42+AC42+AE42+AG42+AI42+AK42+AM42+AO42+AQ42+AS42+AU42+AW42+AY42+BA42+BC42+BE42+BG42+BI42+BK42+BM42 -> 0 | BP42: =A42-BN42+BO42 -> 0 | BR42: =INDEX('A-B-C-D'!A:E,(ROW()-4)*14+2,1) -> 0
B43: Crema de esparrazo | C43: 1kg | BN43: =D43+F43+H43+J43+L43+N43+P43+R43+T43+V43+X43+Z43+AB43+AD43+AF43+AH43+AJ43+AL43+AN43+AP43+AR43+AT43+AV43+AX43+AZ43+BB43+BD43+BF43+BH43+BJ43+BL43 -> 0 | BO43: =E43+G43+I43+K43+M43+O43+Q43+S43+U43+W43+Y43+AA43+AC43+AE43+AG43+AI43+AK43+AM43+AO43+AQ43+AS43+AU43+AW43+AY43+BA43+BC43+BE43+BG43+BI43+BK43+BM43 -> 0 | BP43: =A43-BN43+BO43 -> 0 | BQ43: 3279 | BR43: =INDEX('A-B-C-D'!A:E,(ROW()-4)*14+2,1) -> 0
B44: Crema de tomate | C44: 1kg | BN44: =D44+F44+H44+J44+L44+N44+P44+R44+T44+V44+X44+Z44+AB44+AD44+AF44+AH44+AJ44+AL44+AN44+AP44+AR44+AT44+AV44+AX44+AZ44+BB44+BD44+BF44+BH44+BJ44+BL44 -> 0 | BO44: =E44+G44+I44+K44+M44+O44+Q44+S44+U44+W44+Y44+AA44+AC44+AE44+AG44+AI44+AK44+AM44+AO44+AQ44+AS44+AU44+AW44+AY44+BA44+BC44+BE44+BG44+BI44+BK44+BM44 -> 0 | BP44: =A44-BN44+BO44 -> 0 | BQ44: 3924 | BR44: =INDEX('A-B-C-D'!A:E,(ROW()-4)*14+2,1) -> 0
B45: Crema | C45: 1 lt | BN45: =D45+F45+H45+J45+L45+N45+P45+R45+T45+V45+X45+Z45+AB45+AD45+AF45+AH45+AJ45+AL45+AN45+AP45+AR45+AT45+AV45+AX45+AZ45+BB45+BD45+BF45+BH45+BJ45+BL45 -> 0 | BO45: =E45+G45+I45+K45+M45+O45+Q45+S45+U45+W45+Y45+AA45+AC45+AE45+AG45+AI45+AK45+AM45+AO45+AQ45+AS45+AU45+AW45+AY45+BA45+BC45+BE45+BG45+BI45+BK45+BM45 -> 0 | BP45: =A45-BN45+BO45 -> 0 | BQ45: 1829.5 | BR45: =INDEX('A-B-C-D'!A:E,(ROW()-4)*14+2,1) -> 0
B46: Dulce de membrillo | C46: 1 kg | BN46: =D46+F46+H46+J46+L46+N46+P46+R46+T46+V46+X46+Z46+AB46+AD46+AF46+AH46+AJ46+AL46+AN46+AP46+AR46+AT46+AV46+AX46+AZ46+BB46+BD46+BF46+BH46+BJ46+BL46 -> 0 | BO46: =E46+G46+I46+K46+M46+O46+Q46+S46+U46+W46+Y46+AA46+AC46+AE46+AG46+AI46+AK46+AM46+AO46+AQ46+AS46+AU46+AW46+AY46+BA46+BC46+BE46+BG46+BI46+BK46+BM46 -> 0 | BP46: =A46-BN46+BO46 -> 0 | BQ46: 1146 | BR46: =INDEX('A-B-C-D'!A:E,(ROW()-4)*14+2,1) -> 0
B47: Durazno en mitades | C47: 590 grs | BN47: =D47+F47+H47+J47+L47+N47+P47+R47+T47+V47+X47+Z47+AB47+AD47+AF47+AH47+AJ47+AL47+AN47+AP47+AR47+AT47+AV47+AX47+AZ47+BB47+BD47+BF47+BH47+BJ47+BL47 -> 0 | BO47: =E47+G47+I47+K47+M47+O47+Q47+S47+U47+W47+Y47+AA47+AC47+AE47+AG47+AI47+AK47+AM47+AO47+AQ47+AS47+AU47+AW47+AY47+BA47+BC47+BE47+BG47+BI47+BK47+BM47 -> 0 | BP47: =A47-BN47+BO47 -> 0 | BQ47: 715 | BR47: =INDEX('A-B-C-D'!A:E,(ROW()-4)*14+2,1) -> 0
B48: Durazno en trocitos | C48: 590 grs | BN48: =D48+F48+H48+J48+L48+N48+P48+R48+T48+V48+X48+Z48+AB48+AD48+AF48+AH48+AJ48+AL48+AN48+AP48+AR48+AT48+AV48+AX48+AZ48+BB48+BD48+BF48+BH48+BJ48+BL48 -> 0 | BO48: =E48+G48+I48+K48+M48+O48+Q48+S48+U48+W48+Y48+AA48+AC48+AE48+AG48+AI48+AK48+AM48+AO48+AQ48+AS48+AU48+AW48+AY48+BA48+BC48+BE48+BG48+BI48+BK48+BM48 -> 0 | BP48: =A48-BN48+BO48 -> 0 | BQ48: 638 | BR48: =INDEX('A-B-C-D'!A:E,(ROW()-4)*14+2,1) -> 0
B49: Duetto coco | C49: 125 grs | BN49: =D49+F49+H49+J49+L49+N49+P49+R49+T49+V49+X49+Z49+AB49+AD49+AF49+AH49+AJ49+AL49+AN49+AP49+AR49+AT49+AV49+AX49+AZ49+BB49+BD49+BF49+BH49+BJ49+BL49 -> 0 | BO49: =E49+G49+I49+K49+M49+O49+Q49+S49+U49+W49+Y49+AA49+AC49+AE49+AG49+AI49+AK49+AM49+AO49+AQ49+AS49+AU49+AW49+AY49+BA49+BC49+BE49+BG49+BI49+BK49+BM49 -> 0 | BP49: =A49-BN49+BO49 -> 0 | BQ49: 288 | BR49: =INDEX('A-B-C-D'!A:E,(ROW()-4)*14+2,1) -> 0
B50: Duetto todo chocolate | C50: 126 grs | BN50: =D50+F50+H50+J50+L50+N50+P50+R50+T50+V50+X50+Z50+AB50+AD50+AF50+AH50+AJ50+AL50+AN50+AP50+AR50+AT50+AV50+AX50+AZ50+BB50+BD50+BF50+BH50+BJ50+BL50 -> 0 | BO50: =E50+G50+I50+K50+M50+O50+Q50+S50+U50+W50+Y50+AA50+AC50+AE50+AG50+AI50+AK50+AM50+AO50+AQ50+AS50+AU50+AW50+AY50+BA50+BC50+BE50+BG50+BI50+BK50+BM50 -> 0 | BP50: =A50-BN50+BO50 -> 0 | BQ50: 288 | BR50: =INDEX('A-B-C-D'!A:E,(ROW()-4)*14+2,1) -> 0
B51: Duetto chocolate | C51: 127 grs | BN51: =D51+F51+H51+J51+L51+N51+P51+R51+T51+V51+X51+Z51+AB51+AD51+AF51+AH51+AJ51+AL51+AN51+AP51+AR51+AT51+AV51+AX51+AZ51+BB51+BD51+BF51+BH51+BJ51+BL51 -> 0 | BO51: =E51+G51+I51+K51+M51+O51+Q51+S51+U51+W51+Y51+AA51+AC51+AE51+AG51+AI51+AK51+AM51+AO51+AQ51+AS51+AU51+AW51+AY51+BA51+BC51+BE51+BG51+BI51+BK51+BM51 -> 0 | BP51: =A51-BN51+BO51 -> 0 | BQ51: 288 | BR51: =INDEX('A-B-C-D'!A:E,(ROW()-4)*14+2,1) -> 0
B52: Flan chocolate | C52: 40 grs | BN52: =D52+F52+H52+J52+L52+N52+P52+R52+T52+V52+X52+Z52+AB52+AD52+AF52+AH52+AJ52+AL52+AN52+AP52+AR52+AT52+AV52+AX52+AZ52+BB52+BD52+BF52+BH52+BJ52+BL52 -> 0 | BO52: =E52+G52+I52+K52+M52+O52+Q52+S52+U52+W52+Y52+AA52+AC52+AE52+AG52+AI52+AK52+AM52+AO52+AQ52+AS52+AU52+AW52+AY52+BA52+BC52+BE52+BG52+BI52+BK52+BM52 -> 0 | BP52: =A52-BN52+BO52 -> 0 | BQ52: 73 | BR52: =INDEX('A-B-C-D'!A:E,(ROW()-4)*14+2,1) -> 0
B53: Flan vanilla | C53: 1 kg | BN53: =D53+F53+H53+J53+L53+N53+P53+R53+T53+V53+X53+Z53+AB53+AD53+AF53+AH53+AJ53+AL53+AN53+AP53+AR53+AT53+AV53+AX53+AZ53+BB53+BD53+BF53+BH53+BJ53+BL53 -> 0 | BO53: =E53+G53+I53+K53+M53+O53+Q53+S53+U53+W53+Y53+AA53+AC53+AE53+AG53+AI53+AK53+AM53+AO53+AQ53+AS53+AU53+AW53+AY53+BA53+BC53+BE53+BG53+BI53+BK53+BM53 -> 0 | BP53: =A53-BN53+BO53 -> 0 | BQ53: 1765 | BR53: =INDEX('A-B-C-D'!A:E,(ROW()-4)*14+2,1) -> 0
B54: Flan chocolate vivo | C54: 90 grs | BN54: =D54+F54+H54+J54+L54+N54+P54+R54+T54+V54+X54+Z54+AB54+AD54+AF54+AH54+AJ54+AL54+AN54+AP54+AR54+AT54+AV54+AX54+AZ54+BB54+BD54+BF54+BH54+BJ54+BL54 -> 0 | BO54: =E54+G54+I54+K54+M54+O54+Q54+S54+U54+W54+Y54+AA54+AC54+AE54+AG54+AI54+AK54+AM54+AO54+AQ54+AS54+AU54+AW54+AY54+BA54+BC54+BE54+BG54+BI54+BK54+BM54 -> 0 | BP54: =A54-BN54+BO54 -> 0 | BQ54: 159 | BR54: =INDEX('A-B-C-D'!A:E,(ROW()-4)*14+2,1) -> 0
... B66: Ketchup traverso pote | C66: 350 grs | BN66: =D66+F66+H66+J66+L66+N66+P66+R66+T66+V66+X66+Z66+AB66+AD66+AF66+AH66+AJ66+AL66+AN66+AP66+AR66+AT66+AV66+AX66+AZ66+BB66+BD66+BF66+BH66+BJ66+BL66 -> 0 | BO66: =E66+G66+I66+K66+M66+O66+Q66+S66+U66+W66+Y66+AA66+AC66+AE66+AG66+AI66+AK66+AM66+AO66+AQ66+AS66+AU66+AW66+AY66+BA66+BC66+BE66+BG66+BI66+BK66+BM66 -> 0 | BP66: =A66-BN66+BO66 -> 0 | BQ66: 733 | BR66: =INDEX('A-B-C-D'!A:E,(ROW()-4)*14+2,1) -> 0
B67: Lasano Luchetti | BN67: =D67+F67+H67+J67+L67+N67+P67+R67+T67+V67+X67+Z67+AB67+AD67+AF67+AH67+AJ67+AL67+AN67+AP67+AR67+AT67+AV67+AX67+AZ67+BB67+BD67+BF67+BH67+BJ67+BL67 -> 0 | BO67: =E67+G67+I67+K67+M67+O67+Q67+S67+U67+W67+Y67+AA67+AC67+AE67+AG67+AI67+AK67+AM67+AO67+AQ67+AS67+AU67+AW67+AY67+BA67+BC67+BE67+BG67+BI67+BK67+BM67 -> 0 | BP67: =A67-BN67+BO67 -> 0 | BQ67: 772 | BR67: =INDEX('A-B-C-D'!A:E,(ROW()-4)*14+2,1) -> 0
B68: Lavadura instantanera | C68: 500 grs | BN68: =D68+F68+H68+J68+L68+N68+P68+R68+T68+V68+X68+Z68+AB68+AD68+AF68+AH68+AJ68+AL68+AN68+AP68+AR68+AT68+AV68+AX68+AZ68+BB68+BD68+BF68+BH68+BJ68+BL68 -> 0 | BO68: =E68+G68+I68+K68+M68+O68+Q68+S68+U68+W68+Y68+AA68+AC68+AE68+AG68+AI68+AK68+AM68+AO68+AQ68+AS68+AU68+AW68+AY68+BA68+BC68+BE68+BG68+BI68+BK68+BM68 -> 0 | BP68: =A68-BN68+BO68 -> 0 | BQ68: 3947 | BR68: =INDEX('A-B-C-D'!A:E,(ROW()-4)*14+2,1) -> 0
B69: Leche | C69: 1 lt | BN69: =D69+F69+H69+J69+L69+N69+P69+R69+T69+V69+X69+Z69+AB69+AD69+AF69+AH69+AJ69+AL69+AN69+AP69+AR69+AT69+AV69+AX69+AZ69+BB69+BD69+BF69+BH69+BJ69+BL69 -> 0 | BO69: =E69+G69+I69+K69+M69+O69+Q69+S69+U69+W69+Y69+AA69+AC69+AE69+AG69+AI69+AK69+AM69+AO69+AQ69+AS69+AU69+AW69+AY69+BA69+BC69+BE69+BG69+BI69+BK69+BM69 -> 0 | BP69: =A69-BN69+BO69 -> 0 | BQ69: 541.85 | BR69: =INDEX('A-B-C-D'!A:E,(ROW()-4)*14+2,1) -> 0
B70: Leche Condensada Leche sur | C70: 397 grs | BN70: =D70+F70+H70+J70+L70+N70+P70+R70+T70+V70+X70+Z70+AB70+AD70+AF70+AH70+AJ70+AL70+AN70+AP70+AR70+AT70+AV70+AX70+AZ70+BB70+BD70+BF70+BH70+BJ70+BL70 -> 0 | BO70: =E70+G70+I70+K70+M70+O70+Q70+S70+U70+W70+Y70+AA70+AC70+AE70+AG70+AI70+AK70+AM70+AO70+AQ70+AS70+AU70+AW70+AY70+BA70+BC70+BE70+BG70+BI70+BK70+BM70 -> 0 | BP70: =A70-BN70+BO70 -> 0 | BQ70: 751 | BR70: =INDEX('A-B-C-D'!A:E,(ROW()-4)*14+2,1) -> 0
B71: Leche condensada nestlé | C71: 397 grs | BN71: =D71+F71+H71+J71+L71+N71+P71+R71+T71+V71+X71+Z71+AB71+AD71+AF71+AH71+AJ71+AL71+AN71+AP71+AR71+AT71+AV71+AX71+AZ71+BB71+BD71+BF71+BH71+BJ71+BL71 -> 0 | BO71: =E71+G71+I71+K71+M71+O71+Q71+S71+U71+W71+Y71+AA71+AC71+AE71+AG71+AI71+AK71+AM71+AO71+AQ71+AS71+AU71+AW71+AY71+BA71+BC71+BE71+BG71+BI71+BK71+BM71 -> 0 | BP71: =A71-BN71+BO71 -> 0 | BQ71: 751 | BR71: =INDEX('A-B-C-D'!A:E,(ROW()-4)*14+2,1) -> 0
B72: Leche de coco | C72: 400 cc | BN72: =D72+F72+H72+J72+L72+N72+P72+R72+T72+V72+X72+Z72+AB72+AD72+AF72+AH72+AJ72+AL72+AN72+AP72+AR72+AT72+AV72+AX72+AZ72+BB72+BD72+BF72+BH72+BJ72+BL72 -> 0 | BO72: =E72+G72+I72+K72+M72+O72+Q72+S72+U72+W72+Y72+AA72+AC72+AE72+AG72+AI72+AK72+AM72+AO72+AQ72+AS72+AU72+AW72+AY72+BA72+BC72+BE72+BG72+BI72+BK72+BM72 -> 0 | BP72: =A72-BN72+BO72 -> 0 | BQ72: 1169 | BR72: =INDEX('A-B-C-D'!A:E,(ROW()-4)*14+2,1) -> 0
B73: Leche evaporada Nestlé | C73: 400 grs | BN73: =D73+F73+H73+J73+L73+N73+P73+R73+T73+V73+X73+Z73+AB73+AD73+AF73+AH73+AJ73+AL73+AN73+AP73+AR73+AT73+AV73+AX73+AZ73+BB73+BD73+BF73+BH73+BJ73+BL73 -> 0 | BO73: =E73+G73+I73+K73+M73+O73+Q73+S73+U73+W73+Y73+AA73+AC73+AE73+AG73+AI73+AK73+AM73+AO73+AQ73+AS73+AU73+AW73+AY73+BA73+BC73+BE73+BG73+BI73+BK73+BM73 -> 0 | BP73: =A73-BN73+BO73 -> 0 | BQ73: 828 | BR73: =INDEX('A-B-C-D'!A:E,(ROW()-4)*14+2,1) -> 0
B74: Lentejas | C74: 1kg | BN74: =D74+F74+H74+J74+L74+N74+P74+R74+T74+V74+X74+Z74+AB74+AD74+AF74+AH74+AJ74+AL74+AN74+AP74+AR74+AT74+AV74+AX74+AZ74+BB74+BD74+BF74+BH74+BJ74+BL74 -> 0 | BO74: =E74+G74+I74+K74+M74+O74+Q74+S74+U74+W74+Y74+AA74+AC74+AE74+AG74+AI74+AK74+AM74+AO74+AQ74+AS74+AU74+AW74+AY74+BA74+BC74+BE74+BG74+BI74+BK74+BM74 -> 0 | BP74: =A74-BN74+BO74 -> 0 | BQ74: 898 | BR74: =INDEX('A-B-C-D'!A:E,(ROW()-4)*14+2,1) -> 0
B75: Lipton yellow label Bolsitos | C75: 150 unid | BN75: =D75+F75+H75+J75+L75+N75+P75+R75+T75+V75+X75+Z75+AB75+AD75+AF75+AH75+AJ75+AL75+AN75+AP75+AR75+AT75+AV75+AX75+AZ75+BB75+BD75+BF75+BH75+BJ75+BL75 -> 0 | BO75: =E75+G75+I75+K75+M75+O75+Q75+S75+U75+W75+Y75+AA75+AC75+AE75+AG75+AI75+AK75+AM75+AO75+AQ75+AS75+AU75+AW75+AY75+BA75+BC75+BE75+BG75+BI75+BK75+BM75 -> 0 | BP75: =A75-BN75+BO75 -> 0 | BQ75: 3241 | BR75: =INDEX('A-B-C-D'!A:E,(ROW()-4)*14+2,1) -> 0
B76: Maizena | C76: 250 grs | BN76: =D76+F76+H76+J76+L76+N76+P76+R76+T76+V76+X76+Z76+AB76+AD76+AF76+AH76+AJ76+AL76+AN76+AP76+AR76+AT76+AV76+AX76+AZ76+BB76+BD76+BF76+BH76+BJ76+BL76 -> 0 | BO76: =E76+G76+I76+K76+M76+O76+Q76+S76+U76+W76+Y76+AA76+AC76+AE76+AG76+AI76+AK76+AM76+AO76+AQ76+AS76+AU76+AW76+AY76+BA76+BC76+BE76+BG76+BI76+BK76+BM76 -> 0 | BP76: =A76-BN76+BO76 -> 0 | BQ76: 828 | BR76: =INDEX('A-B-C-D'!A:E,(ROW()-4)*14+2,1) -> 0
B77: Manjar Nestlé | C77: 1kg | BN77: =D77+F77+H77+J77+L77+N77+P77+R77+T77+V77+X77+Z77+AB77+AD77+AF77+AH77+AJ77+AL77+AN77+AP77+AR77+AT77+AV77+AX77+AZ77+BB77+BD77+BF77+BH77+BJ77+BL77 -> 0 | BO77: =E77+G77+I77+K77+M77+O77+Q77+S77+U77+W77+Y77+AA77+AC77+AE77+AG77+AI77+AK77+AM77+AO77+AQ77+AS77+AU77+AW77+AY77+BA77+BC77+BE77+BG77+BI77+BK77+BM77 -> 0 | BP77: =A77-BN77+BO77 -> 0 | BQ77: 1845 | BR77: =INDEX('A-B-C-D'!A:E,(ROW()-4)*14+2,1) -> 0
B78: Mayonesa hellma… | C78: 800 grs | BN78: =D78+F78+H78+J78+L78+N78+P78+R78+T78+V78+X78+Z78+AB78+AD78+AF78+AH78+AJ78+AL78+AN78+AP78+AR78+AT78+AV78+AX78+AZ78+BB78+BD78+BF78+BH78+BJ78+BL78 -> 0 | BO78: =E78+G78+I78+K78+M78+O78+Q78+S78+U78+W78+Y78+AA78+AC78+AE78+AG78+AI78+AK78+AM78+AO78+AQ78+AS78+AU78+AW78+AY78+BA78+BC78+BE78+BG78+BI78+BK78+BM78 -> 0 | BP78: =A78-BN78+BO78 -> 0 | BQ78: 1476 | BR78: =INDEX('A-B-C-D'!A:E,(ROW()-4)*14+2,1) -> 0
B79: Mayonesa hellmann's UFS | C79: 1 kg | BN79: =D79+F79+H79+J79+L79+N79+P79+R79+T79+V79+X79+Z79+AB79+AD79+AF79+AH79+AJ79+AL79+AN79+AP79+AR79+AT79+AV79+AX79+AZ79+BB79+BD79+BF79+BH79+BJ79+BL79 -> 0 | BO79: =E79+G79+I79+K79+M79+O79+Q79+S79+U79+W79+Y79+AA79+AC79+AE79+AG79+AI79+AK79+AM79+AO79+AQ79+AS79+AU79+AW79+AY79+BA79+BC79+BE79+BG79+BI79+BK79+BM79 -> 0 | BP79: =A79-BN79+BO79 -> 0 | BQ79: 1209 | BR79: =INDEX('A-B-C-D'!A:E,(ROW()-4)*14+2,1) -> 0
... B82: Mermelada Malloa Mora | C82: 1kg | BN82: =D82+F82+H82+J82+L82+N82+P82+R82+T82+V82+X82+Z82+AB82+AD82+AF82+AH82+AJ82+AL82+AN82+AP82+AR82+AT82+AV82+AX82+AZ82+BB82+BD82+BF82+BH82+BJ82+BL82 -> 0 | BO82: =E82+G82+I82+K82+M82+O82+Q82+S82+U82+W82+Y82+AA82+AC82+AE82+AG82+AI82+AK82+AM82+AO82+AQ82+AS82+AU82+AW82+AY82+BA82+BC82+BE82+BG82+BI82+BK82+BM82 -> 0 | BP82: =A82-BN82+BO82 -> 0 | BQ82: 2351 | BR82: =INDEX('A-B-C-D'!A:E,(ROW()-4)*14+2,1) -> 0
B83: Mermelada duraznos | BN83: =D83+F83+H83+J83+L83+N83+P83+R83+T83+V83+X83+Z83+AB83+AD83+AF83+AH83+AJ83+AL83+AN83+AP83+AR83+AT83+AV83+AX83+AZ83+BB83+BD83+BF83+BH83+BJ83+BL83 -> 0 | BO83: =E83+G83+I83+K83+M83+O83+Q83+S83+U83+W83+Y83+AA83+AC83+AE83+AG83+AI83+AK83+AM83+AO83+AQ83+AS83+AU83+AW83+AY83+BA83+BC83+BE83+BG83+BI83+BK83+BM83 -> 0 | BP83: =A83-BN83+BO83 -> 0 | BQ83: 1904 | BR83: =INDEX('A-B-C-D'!A:E,(ROW()-4)*14+2,1) -> 0
B84: Miel Arquilue | C84: 400 grs | BN84: =D84+F84+H84+J84+L84+N84+P84+R84+T84+V84+X84+Z84+AB84+AD84+AF84+AH84+AJ84+AL84+AN84+AP84+AR84+AT84+AV84+AX84+AZ84+BB84+BD84+BF84+BH84+BJ84+BL84 -> 0 | BO84: =E84+G84+I84+K84+M84+O84+Q84+S84+U84+W84+Y84+AA84+AC84+AE84+AG84+AI84+AK84+AM84+AO84+AQ84+AS84+AU84+AW84+AY84+BA84+BC84+BE84+BG84+BI84+BK84+BM84 -> 0 | BP84: =A84-BN84+BO84 -> 0 | BQ84: 1260 | BR84: =INDEX('A-B-C-D'!A:E,(ROW()-4)*14+2,1) -> 0
B85: Minute verde (poroto verde) | C85: 1 kg | BN85: =D85+F85+H85+J85+L85+N85+P85+R85+T85+V85+X85+Z85+AB85+AD85+AF85+AH85+AJ85+AL85+AN85+AP85+AR85+AT85+AV85+AX85+AZ85+BB85+BD85+BF85+BH85+BJ85+BL85 -> 0 | BO85: =E85+G85+I85+K85+M85+O85+Q85+S85+U85+W85+Y85+AA85+AC85+AE85+AG85+AI85+AK85+AM85+AO85+AQ85+AS85+AU85+AW85+AY85+BA85+BC85+BE85+BG85+BI85+BK85+BM85 -> 0 | BP85: =A85-BN85+BO85 -> 0 | BQ85: 1471 | BR85: =INDEX('A-B-C-D'!A:E,(ROW()-4)*14+2,1) -> 0
B86: Mantequilla | C86: 250 grs | BN86: =D86+F86+H86+J86+L86+N86+P86+R86+T86+V86+X86+Z86+AB86+AD86+AF86+AH86+AJ86+AL86+AN86+AP86+AR86+AT86+AV86+AX86+AZ86+BB86+BD86+BF86+BH86+BJ86+BL86 -> 0 | BO86: =E86+G86+I86+K86+M86+O86+Q86+S86+U86+W86+Y86+AA86+AC86+AE86+AG86+AI86+AK86+AM86+AO86+AQ86+AS86+AU86+AW86+AY86+BA86+BC86+BE86+BG86+BI86+BK86+BM86 -> 0 | BP86: =A86-BN86+BO86 -> 0 | BQ86: 815 | BR86: =INDEX('A-B-C-D'!A:E,(ROW()-4)*14+2,1) -> 0
B87: Mostaccioli 46 Carozzi | C87: 5kg | BN87: =D87+F87+H87+J87+L87+N87+P87+R87+T87+V87+X87+Z87+AB87+AD87+AF87+AH87+AJ87+AL87+AN87+AP87+AR87+AT87+AV87+AX87+AZ87+BB87+BD87+BF87+BH87+BJ87+BL87 -> 0 | BO87: =E87+G87+I87+K87+M87+O87+Q87+S87+U87+W87+Y87+AA87+AC87+AE87+AG87+AI87+AK87+AM87+AO87+AQ87+AS87+AU87+AW87+AY87+BA87+BC87+BE87+BG87+BI87+BK87+BM87 -> 0 | BP87: =A87-BN87+BO87 -> 0 | BQ87: 4500 | BR87: =INDEX('A-B-C-D'!A:E,(ROW()-4)*14+2,1) -> 0
B88: Mostaza JB | C88: 1kg | BN88: =D88+F88+H88+J88+L88+N88+P88+R88+T88+V88+X88+Z88+AB88+AD88+AF88+AH88+AJ88+AL88+AN88+AP88+AR88+AT88+AV88+AX88+AZ88+BB88+BD88+BF88+BH88+BJ88+BL88 -> 0 | BO88: =E88+G88+I88+K88+M88+O88+Q88+S88+U88+W88+Y88+AA88+AC88+AE88+AG88+AI88+AK88+AM88+AO88+AQ88+AS88+AU88+AW88+AY88+BA88+BC88+BE88+BG88+BI88+BK88+BM88 -> 0 | BP88: =A88-BN88+BO88 -> 0 | BQ88: 728 | BR88: =INDEX('A-B-C-D'!A:E,(ROW()-4)*14+2,1) -> 0
B89: Nescafé tradicion frosco | C89: 170 grs | BN89: =D89+F89+H89+J89+L89+N89+P89+R89+T89+V89+X89+Z89+AB89+AD89+AF89+AH89+AJ89+AL89+AN89+AP89+AR89+AT89+AV89+AX89+AZ89+BB89+BD89+BF89+BH89+BJ89+BL89 -> 0 | BO89: =E89+G89+I89+K89+M89+O89+Q89+S89+U89+W89+Y89+AA89+AC89+AE89+AG89+AI89+AK89+AM89+AO89+AQ89+AS89+AU89+AW89+AY89+BA89+BC89+BE89+BG89+BI89+BK89+BM89 -> 0 | BP89: =A89-BN89+BO89 -> 0 | BQ89: 3051 | BR89: =INDEX('A-B-C-D'!A:E,(ROW()-4)*14+2,1) -> 0
B90: Papaya en almibar al jugo | C90: 1 Lt | BN90: =D90+F90+H90+J90+L90+N90+P90+R90+T90+V90+X90+Z90+AB90+AD90+AF90+AH90+AJ90+AL90+AN90+AP90+AR90+AT90+AV90+AX90+AZ90+BB90+BD90+BF90+BH90+BJ90+BL90 -> 0 | BO90: =E90+G90+I90+K90+M90+O90+Q90+S90+U90+W90+Y90+AA90+AC90+AE90+AG90+AI90+AK90+AM90+AO90+AQ90+AS90+AU90+AW90+AY90+BA90+BC90+BE90+BG90+BI90+BK90+BM90 -> 0 | BP90: =A90-BN90+BO90 -> 0 | BQ90: 2953 | BR90: =INDEX('A-B-C-D'!A:E,(ROW()-4)*14+2,1) -> 0
B91: Parmesano | C91: unid | BN91: =D91+F91+H91+J91+L91+N91+P91+R91+T91+V91+X91+Z91+AB91+AD91+AF91+AH91+AJ91+AL91+AN91+AP91+AR91+AT91+AV91+AX91+AZ91+BB91+BD91+BF91+BH91+BJ91+BL91 -> 0 | BO91: =E91+G91+I91+K91+M91+O91+Q91+S91+U91+W91+Y91+AA91+AC91+AE91+AG91+AI91+AK91+AM91+AO91+AQ91+AS91+AU91+AW91+AY91+BA91+BC91+BE91+BG91+BI91+BK91+BM91 -> 0 | BP91: =A91-BN91+BO91 -> 0 | BQ91: 403 | BR91: =INDEX('A-B-C-D'!A:E,(ROW()-4)*14+2,1) -> 0
B92: Picadillo de mariscos en aceite Uno | C92: 425 grs | BN92: =D92+F92+H92+J92+L92+N92+P92+R92+T92+V92+X92+Z92+AB92+AD92+AF92+AH92+AJ92+AL92+AN92+AP92+AR92+AT92+AV92+AX92+AZ92+BB92+BD92+BF92+BH92+BJ92+BL92 -> 0 | BO92: =E92+G92+I92+K92+M92+O92+Q92+S92+U92+W92+Y92+AA92+AC92+AE92+AG92+AI92+AK92+AM92+AO92+AQ92+AS92+AU92+AW92+AY92+BA92+BC92+BE92+BG92+BI92+BK92+BM92 -> 0 | BP92: =A92-BN92+BO92 -> 0 | BQ92: 1235 | BR92: =INDEX('A-B-C-D'!A:E,(ROW()-4)*14+2,1) -> 0
B93: Poluo de hornear Imperial | C93: 100 grs | BN93: =D93+F93+H93+J93+L93+N93+P93+R93+T93+V93+X93+Z93+AB93+AD93+AF93+AH93+AJ93+AL93+AN93+AP93+AR93+AT93+AV93+AX93+AZ93+BB93+BD93+BF93+BH93+BJ93+BL93 -> 0 | BO93: =E93+G93+I93+K93+M93+O93+Q93+S93+U93+W93+Y93+AA93+AC93+AE93+AG93+AI93+AK93+AM93+AO93+AQ93+AS93+AU93+AW93+AY93+BA93+BC93+BE93+BG93+BI93+BK93+BM93 -> 0 | BP93: =A93-BN93+BO93 -> 0 | BQ93: 338 | BR93: =INDEX('A-B-C-D'!A:E,(ROW()-4)*14+2,1) -> 0
B94: Poluo de hornear Tarro | C94: 750 grs | BN94: =D94+F94+H94+J94+L94+N94+P94+R94+T94+V94+X94+Z94+AB94+AD94+AF94+AH94+AJ94+AL94+AN94+AP94+AR94+AT94+AV94+AX94+AZ94+BB94+BD94+BF94+BH94+BJ94+BL94 -> 0 | BO94: =E94+G94+I94+K94+M94+O94+Q94+S94+U94+W94+Y94+AA94+AC94+AE94+AG94+AI94+AK94+AM94+AO94+AQ94+AS94+AU94+AW94+AY94+BA94+BC94+BE94+BG94+BI94+BK94+BM94 -> 0 | BP94: =A94-BN94+BO94 -> 0 | BQ94: 2518 | BR94: =INDEX('A-B-C-D'!A:E,(ROW()-4)*14+2,1) -> 0
B95: Poratos black mexican | C95: 1kg | BN95: =D95+F95+H95+J95+L95+N95+P95+R95+T95+V95+X95+Z95+AB95+AD95+AF95+AH95+AJ95+AL95+AN95+AP95+AR95+AT95+AV95+AX95+AZ95+BB95+BD95+BF95+BH95+BJ95+BL95 -> 0 | BO95: =E95+G95+I95+K95+M95+O95+Q95+S95+U95+W95+Y95+AA95+AC95+AE95+AG95+AI95+AK95+AM95+AO95+AQ95+AS95+AU95+AW95+AY95+BA95+BC95+BE95+BG95+BI95+BK95+BM95 -> 0 | BP95: =A95-BN95+BO95 -> 0 | BQ95: 1180 | BR95: =INDEX('A-B-C-D'!A:E,(ROW()-4)*14+2,1) -> 0
... B100: Quifaros Luchetti | C100: 400 grs | BN100: =D100+F100+H100+J100+L100+N100+P100+R100+T100+V100+X100+Z100+AB100+AD100+AF100+AH100+AJ100+AL100+AN100+AP100+AR100+AT100+AV100+AX100+AZ100+BB100+BD100+BF100+BH100+BJ100+BL100 -> 0 | BO100: =E100+G100+I100+K100+M100+O100+Q100+S100+U100+W100+Y100+AA100+AC100+AE100+AG100+AI100+AK100+AM100+AO100+AQ100+AS100+AU100+AW100+AY100+BA100+BC100+BE100+BG100+BI100+BK100+BM100 -> 0 | BP100: =A100-BN100+BO100 -> 0 | BQ100: 4500 | BR100: =INDEX('A-B-C-D'!A:E,(ROW()-4)*14+2,1) -> 0
B101: Quinoa Lider | BN101: =D101+F101+H101+J101+L101+N101+P101+R101+T101+V101+X101+Z101+AB101+AD101+AF101+AH101+AJ101+AL101+AN101+AP101+AR101+AT101+AV101+AX101+AZ101+BB101+BD101+BF101+BH101+BJ101+BL101 -> 0 | BO101: =E101+G101+I101+K101+M101+O101+Q101+S101+U101+W101+Y101+AA101+AC101+AE101+AG101+AI101+AK101+AM101+AO101+AQ101+AS101+AU101+AW101+AY101+BA101+BC101+BE101+BG101+BI101+BK101+BM101 -> 0 | BP101: =A101-BN101+BO101 -> 0 | BR101: =INDEX('A-B-C-D'!A:E,(ROW()-4)*14+2,1) -> 0
B102: Sal cocina | C102: 1kg | BN102: =D102+F102+H102+J102+L102+N102+P102+R102+T102+V102+X102+Z102+AB102+AD102+AF102+AH102+AJ102+AL102+AN102+AP102+AR102+AT102+AV102+AX102+AZ102+BB102+BD102+BF102+BH102+BJ102+BL102 -> 0 | BO102: =E102+G102+I102+K102+M102+O102+Q102+S102+U102+W102+Y102+AA102+AC102+AE102+AG102+AI102+AK102+AM102+AO102+AQ102+AS102+AU102+AW102+AY102+BA102+BC102+BE102+BG102+BI102+BK102+BM102 -> 0 | BP102: =A102-BN102+BO102 -> 0 | BQ102: 266 | BR102: =INDEX('A-B-C-D'!A:E,(ROW()-4)*14+2,1) -> 0
B103: sal dona eulalia | C103: 1 kg | BN103: =D103+F103+H103+J103+L103+N103+P103+R103+T103+V103+X103+Z103+AB103+AD103+AF103+AH103+AJ103+AL103+AN103+AP103+AR103+AT103+AV103+AX103+AZ103+BB103+BD103+BF103+BH103+BJ103+BL103 -> 0 | BO103: =E103+G103+I103+K103+M103+O103+Q103+S103+U103+W103+Y103+AA103+AC103+AE103+AG103+AI103+AK103+AM103+AO103+AQ103+AS103+AU103+AW103+AY103+BA103+BC103+BE103+BG103+BI103+BK103+BM103 -> 0 | BP103: =A103-BN103+BO103 -> 0 | BQ103: 266 | BR103: =INDEX('A-B-C-D'!A:E,(ROW()-4)*14+2,1) -> 0
B104: Sal de mesa | C104: 1kg | BN104: =D104+F104+H104+J104+L104+N104+P104+R104+T104+V104+X104+Z104+AB104+AD104+AF104+AH104+AJ104+AL104+AN104+AP104+AR104+AT104+AV104+AX104+AZ104+BB104+BD104+BF104+BH104+BJ104+BL104 -> 0 | BO104: =E104+G104+I104+K104+M104+O104+Q104+S104+U104+W104+Y104+AA104+AC104+AE104+AG104+AI104+AK104+AM104+AO104+AQ104+AS104+AU104+AW104+AY104+BA104+BC104+BE104+BG104+BI104+BK104+BM104 -> 0 | BP104: =A104-BN104+BO104 -> 0 | BQ104: 266 | BR104: =INDEX('A-B-C-D'!A:E,(ROW()-4)*14+2,1) -> 0
B105: Salsa de tomate | BN105: =D105+F105+H105+J105+L105+N105+P105+R105+T105+V105+X105+Z105+AB105+AD105+AF105+AH105+AJ105+AL105+AN105+AP105+AR105+AT105+AV105+AX105+AZ105+BB105+BD105+BF105+BH105+BJ105+BL105 -> 0 | BO105: =E105+G105+I105+K105+M105+O105+Q105+S105+U105+W105+Y105+AA105+AC105+AE105+AG105+AI105+AK105+AM105+AO105+AQ105+AS105+AU105+AW105+AY105+BA105+BC105+BE105+BG105+BI105+BK105+BM105 -> 0 | BP105: =A105-BN105+BO105 -> 0 | BQ105: 184 | BR105: =INDEX('A-B-C-D'!A:E,(ROW()-4)*14+2,1) -> 0
B106: Semolina Lucchetti | C106: 500 grs | BN106: =D106+F106+H106+J106+L106+N106+P106+R106+T106+V106+X106+Z106+AB106+AD106+AF106+AH106+AJ106+AL106+AN106+AP106+AR106+AT106+AV106+AX106+AZ106+BB106+BD106+BF106+BH106+BJ106+BL106 -> 0 | BO106: =E106+G106+I106+K106+M106+O106+Q106+S106+U106+W106+Y106+AA106+AC106+AE106+AG106+AI106+AK106+AM106+AO106+AQ106+AS106+AU106+AW106+AY106+BA106+BC106+BE106+BG106+BI106+BK106+BM106 -> 0 | BP106: =A106-BN106+BO106 -> 0 | BQ106: 480 | BR106: =INDEX('A-B-C-D'!A:E,(ROW()-4)*14+2,1) -> 0
B107: Semola Luccheti | C107: 500 grs | BN107: =D107+F107+H107+J107+L107+N107+P107+R107+T107+V107+X107+Z107+AB107+AD107+AF107+AH107+AJ107+AL107+AN107+AP107+AR107+AT107+AV107+AX107+AZ107+BB107+BD107+BF107+BH107+BJ107+BL107 -> 0 | BO107: =E107+G107+I107+K107+M107+O107+Q107+S107+U107+W107+Y107+AA107+AC107+AE107+AG107+AI107+AK107+AM107+AO107+AQ107+AS107+AU107+AW107+AY107+BA107+BC107+BE107+BG107+BI107+BK107+BM107 -> 0 | BP107: =A107-BN107+BO107 -> 0 | BQ107: 480 | BR107: =INDEX('A-B-C-D'!A:E,(ROW()-4)*14+2,1) -> 0
B108: Spaghetti 3 vegetales Lucchetti | C108: 400 grs | BN108: =D108+F108+H108+J108+L108+N108+P108+R108+T108+V108+X108+Z108+AB108+AD108+AF108+AH108+AJ108+AL108+AN108+AP108+AR108+AT108+AV108+AX108+AZ108+BB108+BD108+BF108+BH108+BJ108+BL108 -> 0 | BO108: =E108+G108+I108+K108+M108+O108+Q108+S108+U108+W108+Y108+AA108+AC108+AE108+AG108+AI108+AK108+AM108+AO108+AQ108+AS108+AU108+AW108+AY108+BA108+BC108+BE108+BG108+BI108+BK108+BM108 -> 0 | BP108: =A108-BN108+BO108 -> 0 | BQ108: 570 | BR108: =INDEX('A-B-C-D'!A:E,(ROW()-4)*14+2,1) -> 0
B109: Spaghetti Carozzi | C109: 5kg | BN109: =D109+F109+H109+J109+L109+N109+P109+R109+T109+V109+X109+Z109+AB109+AD109+AF109+AH109+AJ109+AL109+AN109+AP109+AR109+AT109+AV109+AX109+AZ109+BB109+BD109+BF109+BH109+BJ109+BL109 -> 0 | BO109: =E109+G109+I109+K109+M109+O109+Q109+S109+U109+W109+Y109+AA109+AC109+AE109+AG109+AI109+AK109+AM109+AO109+AQ109+AS109+AU109+AW109+AY109+BA109+BC109+BE109+BG109+BI109+BK109+BM109 -> 0 | BP109: =A109-BN109+BO109 -> 0 | BQ109: 4500 | BR109: =INDEX('A-B-C-D'!A:E,(ROW()-4)*14+2,1) -> 0
B110: Spaghetti romano | C110: 400 grs | BN110: =D110+F110+H110+J110+L110+N110+P110+R110+T110+V110+X110+Z110+AB110+AD110+AF110+AH110+AJ110+AL110+AN110+AP110+AR110+AT110+AV110+AX110+AZ110+BB110+BD110+BF110+BH110+BJ110+BL110 -> 0 | BO110: =E110+G110+I110+K110+M110+O110+Q110+S110+U110+W110+Y110+AA110+AC110+AE110+AG110+AI110+AK110+AM110+AO110+AQ110+AS110+AU110+AW110+AY110+BA110+BC110+BE110+BG110+BI110+BK110+BM110 -> 0 | BP110: =A110-BN110+BO110 -> 0 | BQ110: 428 | BR110: =INDEX('A-B-C-D'!A:E,(ROW()-4)*14+2,1) -> 0
B111: Stevia en tableta | BN111: =D111+F111+H111+J111+L111+N111+P111+R111+T111+V111+X111+Z111+AB111+AD111+AF111+AH111+AJ111+AL111+AN111+AP111+AR111+AT111+AV111+AX111+AZ111+BB111+BD111+BF111+BH111+BJ111+BL111 -> 0 | BO111: =E111+G111+I111+K111+M111+O111+Q111+S111+U111+W111+Y111+AA111+AC111+AE111+AG111+AI111+AK111+AM111+AO111+AQ111+AS111+AU111+AW111+AY111+BA111+BC111+BE111+BG111+BI111+BK111+BM111 -> 0 | BP111: =A111-BN111+BO111 -> 0 | BQ111: 2850 | BR111: =INDEX('A-B-C-D'!A:E,(ROW()-4)*14+2,1) -> 0
B112: Stevia liquido | BN112: =D112+F112+H112+J112+L112+N112+P112+R112+T112+V112+X112+Z112+AB112+AD112+AF112+AH112+AJ112+AL112+AN112+AP112+AR112+AT112+AV112+AX112+AZ112+BB112+BD112+BF112+BH112+BJ112+BL112 -> 0 | BO112: =E112+G112+I112+K112+M112+O112+Q112+S112+U112+W112+Y112+AA112+AC112+AE112+AG112+AI112+AK112+AM112+AO112+AQ112+AS112+AU112+AW112+AY112+BA112+BC112+BE112+BG112+BI112+BK112+BM112 -> 0 | BP112: =A112-BN112+BO112 -> 0 | BQ112: 2798 | BR112: =INDEX('A-B-C-D'!A:E,(ROW()-4)*14+2,1) -> 0
B113: Sucedanero de limon La Hortelana | C113: 5 lt | BN113: =D113+F113+H113+J113+L113+N113+P113+R113+T113+V113+X113+Z113+AB113+AD113+AF113+AH113+AJ113+AL113+AN113+AP113+AR113+AT113+AV113+AX113+AZ113+BB113+BD113+BF113+BH113+BJ113+BL113 -> 0 | BO113: =E113+G113+I113+K113+M113+O113+Q113+S113+U113+W113+Y113+AA113+AC113+AE113+AG113+AI113+AK113+AM113+AO113+AQ113+AS113+AU113+AW113+AY113+BA113+BC113+BE113+BG113+BI113+BK113+BM113 -> 0 | BP113: =A113-BN113+BO113 -> 0 | BQ113: 2650 | BR113: =INDEX('A-B-C-D'!A:E,(ROW()-4)*14+2,1) -> 0
B114: Tallarines 87 Carozzi | C114: 5 kg | BN114: =D114+F114+H114+J114+L114+N114+P114+R114+T114+V114+X114+Z114+AB114+AD114+AF114+AH114+AJ114+AL114+AN114+AP114+AR114+AT114+AV114+AX114+AZ114+BB114+BD114+BF114+BH114+BJ114+BL114 -> 0 | BO114: =E114+G114+I114+K114+M114+O114+Q114+S114+U114+W114+Y114+AA114+AC114+AE114+AG114+AI114+AK114+AM114+AO114+AQ114+AS114+AU114+AW114+AY114+BA114+BC114+BE114+BG114+BI114+BK114+BM114 -> 0 | BP114: =A114-BN114+BO114 -> 0 | BQ114: 4500 | BR114: =INDEX('A-B-C-D'!A:E,(ROW()-4)*14+2,1) -> 0
B115: Trigo mote granada | C115: 500 grs | BN115: =D115+F115+H115+J115+L115+N115+P115+R115+T115+V115+X115+Z115+AB115+AD115+AF115+AH115+AJ115+AL115+AN115+AP115+AR115+AT115+AV115+AX115+AZ115+BB115+BD115+BF115+BH115+BJ115+BL115 -> 0 | BO115: =E115+G115+I115+K115+M115+O115+Q115+S115+U115+W115+Y115+AA115+AC115+AE115+AG115+AI115+AK115+AM115+AO115+AQ115+AS115+AU115+AW115+AY115+BA115+BC115+BE115+BG115+BI115+BK115+BM115 -> 0 | BP115: =A115-BN115+BO115 -> 0 | BQ115: 610 | BR115: =INDEX('A-B-C-D'!A:E,(ROW()-4)*14+2,1) -> 0
B116: Trigo note mi tierra | C116: 750 grs | BN116: =D116+F116+H116+J116+L116+N116+P116+R116+T116+V116+X116+Z116+AB116+AD116+AF116+AH116+AJ116+AL116+AN116+AP116+AR116+AT116+AV116+AX116+AZ116+BB116+BD116+BF116+BH116+BJ116+BL116 -> 0 | BO116: =E116+G116+I116+K116+M116+O116+Q116+S116+U116+W116+Y116+AA116+AC116+AE116+AG116+AI116+AK116+AM116+AO116+AQ116+AS116+AU116+AW116+AY116+BA116+BC116+BE116+BG116+BI116+BK116+BM116 -> 0 | BP116: =A116-BN116+BO116 -> 0 | BQ116: 1670 | BR116: =INDEX('A-B-C-D'!A:E,(ROW()-4)*14+2,1) -> 0
B117: Arroz Tucapel | C117: 1kg | BN117: =D117+F117+H117+J117+L117+N117+P117+R117+T117+V117+X117+Z117+AB117+AD117+AF117+AH117+AJ117+AL117+AN117+AP117+AR117+AT117+AV117+AX117+AZ117+BB117+BD117+BF117+BH117+BJ117+BL117 -> 0 | BO117: =E117+G117+I117+K117+M117+O117+Q117+S117+U117+W117+Y117+AA117+AC117+AE117+AG117+AI117+AK117+AM117+AO117+AQ117+AS117+AU117+AW117+AY117+BA117+BC117+BE117+BG117+BI117+BK117+BM117 -> 0 | BP117: =A117-BN117+BO117 -> 0 | BQ117: 711 | BR117: =INDEX('A-B-C-D'!A:E,(ROW()-4)*14+2,1) -> 0
B118: Vinagre de vino tinto | BN118: =D118+F118+H118+J118+L118+N118+P118+R118+T118+V118+X118+Z118+AB118+AD118+AF118+AH118+AJ118+AL118+AN118+AP118+AR118+AT118+AV118+AX118+AZ118+BB118+BD118+BF118+BH118+BJ118+BL118 -> 0 | BO118: =E118+G118+I118+K118+M118+O118+Q118+S118+U118+W118+Y118+AA118+AC118+AE118+AG118+AI118+AK118+AM118+AO118+AQ118+AS118+AU118+AW118+AY118+BA118+BC118+BE118+BG118+BI118+BK118+BM118 -> 0 | BP118: =A118-BN118+BO118 -> 0 | BQ118: 792 | BR118: =INDEX('A-B-C-D'!A:E,(ROW()-4)*14+2,1) -> 0
B119: OFFICINA | BR119: =INDEX('A-B-C-D'!A:E,(ROW()-4)*14+2,1) -> 0
B120: Baldes Escurridor | C120: unid | BN120: =D120+F120+H120+J120+L120+N120+P120+R120+T120+V120+X120+Z120+AB120+AD120+AF120+AH120+AJ120+AL120+AN120+AP120+AR120+AT120+AV120+AX120+AZ120+BB120+BD120+BF120+BH120+BJ120+BL120 -> 0 | BO120: =E120+G120+I120+K120+M120+O120+Q120+S120+U120+W120+Y120+AA120+AC120+AE120+AG120+AI120+AK120+AM120+AO120+AQ120+AS120+AU120+AW120+AY120+BA120+BC120+BE120+BG120+BI120+BK120+BM120 -> 0 | BP120: =A120-BN120+BO120 -> 0 | BQ120: 4131 | BR120: =INDEX('A-B-C-D'!A:E,(ROW()-4)*14+2,1) -> 0
B121: Ariel | C121: 1 lt | BN121: =D121+F121+H121+J121+L121+N121+P121+R121+T121+V121+X121+Z121+AB121+AD121+AF121+AH121+AJ121+AL121+AN121+AP121+AR121+AT121+AV121+AX121+AZ121+BB121+BD121+BF121+BH121+BJ121+BL121 -> 0 | BO121: =E121+G121+I121+K121+M121+O121+Q121+S121+U121+W121+Y121+AA121+AC121+AE121+AG121+AI121+AK121+AM121+AO121+AQ121+AS121+AU121+AW121+AY121+BA121+BC121+BE121+BG121+BI121+BK121+BM121 -> 0 | BP121: =A121-BN121+BO121 -> 0 | BQ121: 5431 | BR121: =INDEX('A-B-C-D'!A:E,(ROW()-4)*14+2,1) -> 0
B122: Bolsa de basura gigante 110x120 | C122: 5 unid | BN122: =D122+F122+H122+J122+L122+N122+P122+R122+T122+V122+X122+Z122+AB122+AD122+AF122+AH122+AJ122+AL122+AN122+AP122+AR122+AT122+AV122+AX122+AZ122+BB122+BD122+BF122+BH122+BJ122+BL122 -> 0 | BO122: =E122+G122+I122+K122+M122+O122+Q122+S122+U122+W122+Y122+AA122+AC122+AE122+AG122+AI122+AK122+AM122+AO122+AQ122+AS122+AU122+AW122+AY122+BA122+BC122+BE122+BG122+BI122+BK122+BM122 -> 0 | BP122: =A122-BN122+BO122 -> 0 | BQ122: 711 | BR122: =INDEX('A-B-C-D'!A:E,(ROW()-4)*14+2,1) -> 0
B123: Bolsa de basura mediana 70x90 | C123: 10 unid | BN123: =D123+F123+H123+J123+L123+N123+P123+R123+T123+V123+X123+Z123+AB123+AD123+AF123+AH123+AJ123+AL123+AN123+AP123+AR123+AT123+AV123+AX123+AZ123+BB123+BD123+BF123+BH123+BJ123+BL123 -> 0 | BO123: =E123+G123+I123+K123+M123+O123+Q123+S123+U123+W123+Y123+AA123+AC123+AE123+AG123+AI123+AK123+AM123+AO123+AQ123+AS123+AU123+AW123+AY123+BA123+BC123+BE123+BG123+BI123+BK123+BM123 -> 0 | BP123: =A123-BN123+BO123 -> 0 | BQ123: 680 | BR123: =INDEX('A-B-C-D'!A:E,(ROW()-4)*14+2,1) -> 0
B124: Bolsa porcionadora mediana 70x90 | C124: unid | BN124: =D124+F124+H124+J124+L124+N124+P124+R124+T124+V124+X124+Z124+AB124+AD124+AF124+AH124+AJ124+AL124+AN124+AP124+AR124+AT124+AV124+AX124+AZ124+BB124+BD124+BF124+BH124+BJ124+BL124 -> 0 | BO124: =E124+G124+I124+K124+M124+O124+Q124+S124+U124+W124+Y124+AA124+AC124+AE124+AG124+AI124+AK124+AM124+AO124+AQ124+AS124+AU124+AW124+AY124+BA124+BC124+BE124+BG124+BI124+BK124+BM124 -> 0 | BP124: =A124-BN124+BO124 -> 0 | BR124: =INDEX('A-B-C-D'!A:E,(ROW()-4)*14+2,1) -> 0
B125: Bombillas | C125: unid | BN125: =D125+F125+H125+J125+L125+N125+P125+R125+T125+V125+X125+Z125+AB125+AD125+AF125+AH125+AJ125+AL125+AN125+AP125+AR125+AT125+AV125+AX125+AZ125+BB125+BD125+BF125+BH125+BJ125+BL125 -> 0 | BO125: =E125+G125+I125+K125+M125+O125+Q125+S125+U125+W125+Y125+AA125+AC125+AE125+AG125+AI125+AK125+AM125+AO125+AQ125+AS125+AU125+AW125+AY125+BA125+BC125+BE125+BG125+BI125+BK125+BM125 -> 0 | BP125: =A125-BN125+BO125 -> 0 | BQ125: 7.6 | BR125: =INDEX('A-B-C-D'!A:E,(ROW()-4)*14+2,1) -> 0
B126: brocheta corte (Surco) | C126: unid | BN126: =D126+F126+H126+J126+L126+N126+P126+R126+T126+V126+X126+Z126+AB126+AD126+AF126+AH126+AJ126+AL126+AN126+AP126+AR126+AT126+AV126+AX126+AZ126+BB126+BD126+BF126+BH126+BJ126+BL126 -> 0 | BO126: =E126+G126+I126+K126+M126+O126+Q126+S126+U126+W126+Y126+AA126+AC126+AE126+AG126+AI126+AK126+AM126+AO126+AQ126+AS126+AU126+AW126+AY126+BA126+BC126+BE126+BG126+BI126+BK126+BM126 -> 0 | BP126: =A126-BN126+BO126 -> 0 | BQ126: 9.3 | BR126: =INDEX('A-B-C-D'!A:E,(ROW()-4)*14+2,1) -> 0
B127: Cif crema | C127: 500ml | BN127: =D127+F127+H127+J127+L127+N127+P127+R127+T127+V127+X127+Z127+AB127+AD127+AF127+AH127+AJ127+AL127+AN127+AP127+AR127+AT127+AV127+AX127+AZ127+BB127+BD127+BF127+BH127+BJ127+BL127 -> 0 | BO127: =E127+G127+I127+K127+M127+O127+Q127+S127+U127+W127+Y127+AA127+AC127+AE127+AG127+AI127+AK127+AM127+AO127+AQ127+AS127+AU127+AW127+AY127+BA127+BC127+BE127+BG127+BI127+BK127+BM127 -> 0 | BP127: =A127-BN127+BO127 -> 0 | BQ127: 1172 | BR127: =INDEX('A-B-C-D'!A:E,(ROW()-4)*14+2,1) -> 0
B128: Clorox | C128: 1 Lt | BN128: =D128+F128+H128+J128+L128+N128+P128+R128+T128+V128+X128+Z128+AB128+AD128+AF128+AH128+AJ128+AL128+AN128+AP128+AR128+AT128+AV128+AX128+AZ128+BB128+BD128+BF128+BH128+BJ128+BL128 -> 0 | BO128: =E128+G128+I128+K128+M128+O128+Q128+S128+U128+W128+Y128+AA128+AC128+AE128+AG128+AI128+AK128+AM128+AO128+AQ128+AS128+AU128+AW128+AY128+BA128+BC128+BE128+BG128+BI128+BK128+BM128 -> 0 | BP128: =A128-BN128+BO128 -> 0 | BQ128: 468 | BR128: =INDEX('A-B-C-D'!A:E,(ROW()-4)*14+2,1) -> 0
...

Sheet A-B-C-D
A1: =INDEX(TABLEAU!B:C,(ROW()-1)/14+4,1)&" "&INDEX(TABLEAU!B:C,(ROW()-1)/14+4,2) -> Aceite Balsamico 500 ml
A2: {=INDEX(A12:BK12,MAX(IF(A12:BK12>0,COLUMN(A12:BK12))))} -> 12285 | B2: 42064 | D2: 42065 | F2: 42066 | H2: 42067 | J2: 42068 | L2: 42069 | N2: 42070 | P2: 42071 | R2: 42072 | T2: 42073 | V2: 42074 | X2: 42075 | Z2: 42076 | AB2: 42077 | AD2: 42078 | AF2: 42079 | AH2: 42080 | AJ2: 42081 | AL2: 42082 | AN2: 42083 | AP2: 42084 | AR2: 42085 | AT2: 42086 | AV2: 42087 | AX2: 42088 | AZ2: 42089 | BB2: 42090 | BD2: 42091 | BF2: 42092 | BH2: 42093 | BJ2: 42094
B3: "-" | C3: "+" | D3: "-" | E3: "+" | F3: "-" | G3: "+" | H3: "-" | I3: "+" | J3: "-" | K3: "+" | L3: "-" | M3: "+" | N3: "-" | O3: "+" | P3: "-" | Q3: "+" | R3: "-" | S3: "+" | T3: "-" | U3: "+" | V3: "-" | W3: "+" | X3: "-" | Y3: "+" | Z3: "-" | AA3: "+" | AB3: "-" | AC3: "+" | AD3: "-" | AE3: "+" | AF3: "-" | AG3: "+" | AH3: "-" | AI3: "+" | AJ3: "-" | AK3: "+" | AL3: "-" | AM3: "+" | AN3: "-" | AO3: "+" | AP3: "-" | AQ3: "+" | AR3: "-" | AS3: "+" | AT3: "-" | AU3: "+" | AV3: "-" | AW3: "+" | AX3: "-" | AY3: "+" | AZ3: "-" | BA3: "+" | BB3: "-" | BC3: "+" | BD3: "-" | BE3: "+" | BF3: "-" | BG3: "+" | BH3: "-" | BI3: "+" | BJ3: "-" | BK3: "+"
A4: =INDEX(TABLEAU!$A:$A,(ROW()-4)/14+4,1) -> 5 | B4: =INDEX(TABLEAU!$C:$BO,(ROW()-4)/14+4,COLUMN()) -> 0 | C4: =INDEX(TABLEAU!$C:$BO,(ROW()-4)/14+4,COLUMN()) -> 2 | D4: =INDEX(TABLEAU!$C:$BO,(ROW()-4)/14+4,COLUMN()) -> 0 | E4: =INDEX(TABLEAU!$C:$BO,(ROW()-4)/14+4,COLUMN()) -> 0 | F4: =INDEX(TABLEAU!$C:$BO,(ROW()-4)/14+4,COLUMN()) -> 0 | G4: =INDEX(TABLEAU!$C:$BO,(ROW()-4)/14+4,COLUMN()) -> 0 | H4: =INDEX(TABLEAU!$C:$BO,(ROW()-4)/14+4,COLUMN()) -> 0 | I4: =INDEX(TABLEAU!$C:$BO,(ROW()-4)/14+4,COLUMN()) -> 0 | ... BK4: =INDEX(TABLEAU!$C:$BO,(ROW()-4)/14+4,COLUMN()) -> 0
A5: Sotck actualiza | B5: =A4+(C4-B4) -> 7 | D5: =B5+(E4-D4) -> 7 | F5: =D5+(G4-F4) -> 7 | H5: =F5+(I4-H4) -> 7 | J5: =H5+(K4-J4) -> 7 | L5: =J5+(M4-L4) -> 7 | N5: =L5+(O4-N4) -> 7 | P5: =N5+(Q4-P4) -> 7 | R5: =P5+(S4-R4) -> 7 | T5: =R5+(U4-T4) -> 7 | V5: =T5+(W4-V4) -> 7 | X5: =V5+(Y4-X4) -> 7 | Z5: =X5+(AA4-Z4) -> 7 | AB5: =Z5+(AC4-AB4) -> 7 | AD5: =AB5+(AE4-AD4) -> 7 | AF5: =AD5+(AG4-AF4) -> 7 | AH5: =AF5+(AI4-AH4) -> 7 | AJ5: =AH5+(AK4-AJ4) -> 7 | AL5: =AJ5+(AM4-AL4) -> 7 | AN5: =AL5+(AO4-AN4) -> 7 | AP5: =AN5+(AQ4-AP4) -> 7 | AR5: =AP5+(AS4-AR4) -> 7 | AT5: =AR5+(AU4-AT4) -> 7 | AV5: =AT5+(AW4-AV4) -> 7 | AX5: =AV5+(AY4-AX4) -> 7 | AZ5: =AX5+(BA4-AZ4) -> 7 | BB5: =AZ5+(BC4-BB4) -> 7 | BD5: =BB5+(BE4-BD4) -> 7 | BF5: =BD5+(BG4-BF4) -> 7 | BH5: =BF5+(BI4-BH4) -> 7 | BJ5: =BH5+(BK4-BJ4) -> 7
A6: Coût d'achat unitario | B6: 1755
A7: Proveedor
A8: Valor unitario | B8: =B6 -> 1755 | D8: =D6 -> 0 | F8: =F6 -> 0 | H8: =H6 -> 0 | J8: =J6 -> 0 | L8: =L6 -> 0 | N8: =N6 -> 0 | P8: =P6 -> 0 | R8: =R6 -> 0 | T8: =T6 -> 0 | V8: =V6 -> 0 | X8: =X6 -> 0 | Z8: =Z6 -> 0 | AB8: =AB6 -> 0 | AD8: =AD6 -> 0 | AF8: =AF6 -> 0 | AH8: =AH6 -> 0 | AJ8: =AJ6 -> 0 | AL8: =AL6 -> 0 | AN8: =AN6 -> 0 | AP8: =AP6 -> 0 | AR8: =AR6 -> 0 | AT8: =AT6 -> 0 | AV8: =AV6 -> 0 | AX8: =AX6 -> 0 | AZ8: =AZ6 -> 0 | BB8: =BB6 -> 0 | BD8: =BD6 -> 0 | BF8: =BF6 -> 0 | BH8: =BH6 -> 0 | BJ8: =BJ6 -> 0
A9: Valor media | D9: =D12/D5 -> 1755 | F9: =F12/F5 -> 1755 | H9: =H12/H5 -> 1755 | J9: =J12/J5 -> 1755 | L9: =L12/L5 -> 1755 | N9: =N12/N5 -> 1755 | P9: =P12/P5 -> 1755 | R9: =R12/R5 -> 1755 | T9: =T12/T5 -> 1755 | V9: =V12/V5 -> 1755 | X9: =X12/X5 -> 1755 | Z9: =Z12/Z5 -> 1755 | AB9: =AB12/AB5 -> 1755 | AD9: =AD12/AD5 -> 1755 | AF9: =AF12/AF5 -> 1755 | AH9: =AH12/AH5 -> 1755 | AJ9: =AJ12/AJ5 -> 1755 | AL9: =AL12/AL5 -> 1755 | AN9: =AN12/AN5 -> 1755 | AP9: =AP12/AP5 -> 1755 | AR9: =AR12/AR5 -> 1755 | AT9: =AT12/AT5 -> 1755 | AV9: =AV12/AV5 -> 1755 | AX9: =AX12/AX5 -> 1755 | AZ9: =AZ12/AZ5 -> 1755 | BB9: =BB12/BB5 -> 1755 | BD9: =BD12/BD5 -> 1755 | BF9: =BF12/BF5 -> 1755 | BH9: =BH12/BH5 -> 1755 | BJ9: =BJ12/BJ5 -> 1755
A10: Entrée | B10: =C4*B6 -> 3510 | D10: =E4*D6 -> 0 | F10: =G4*F6 -> 0 | H10: =I4*H6 -> 0 | J10: =K4*J6 -> 0 | L10: =M4*L6 -> 0 | N10: =O4*N6 -> 0 | P10: =Q4*P6 -> 0 | R10: =S4*R6 -> 0 | T10: =U4*T6 -> 0 | V10: =W4*V6 -> 0 | X10: =Y4*X6 -> 0 | Z10: =AA4*Z6 -> 0 | AB10: =AC4*AB6 -> 0 | AD10: =AE4*AD6 -> 0 | AF10: =AG4*AF6 -> 0 | AH10: =AI4*AH6 -> 0 | AJ10: =AK4*AJ6 -> 0 | AL10: =AM4*AL6 -> 0 | AN10: =AO4*AN6 -> 0 | AP10: =AQ4*AP6 -> 0 | AR10: =AS4*AR6 -> 0 | AT10: =AU4*AT6 -> 0 | AV10: =AW4*AV6 -> 0 | AX10: =AY4*AX6 -> 0 | AZ10: =BA4*AZ6 -> 0 | BB10: =BC4*BB6 -> 0 | BD10: =BE4*BD6 -> 0 | BF10: =BG4*BF6 -> 0 | BH10: =BI4*BH6 -> 0 | BJ10: =BK4*BJ6 -> 0
A11: Sorties | B11: =B4*B6 -> 0 | D11: =D4*D6 -> 0 | F11: =F4*F6 -> 0 | H11: =H4*H6 -> 0 | J11: =J4*J6 -> 0 | L11: =L4*L6 -> 0 | N11: =N4*N6 -> 0 | P11: =P4*P6 -> 0 | R11: =R4*R6 -> 0 | T11: =T4*T6 -> 0 | V11: =V4*V6 -> 0 | X11: =X4*X6 -> 0 | Z11: =Z4*Z6 -> 0 | AB11: =AB4*AB6 -> 0 | AD11: =AD4*AD6 -> 0 | AF11: =AF4*AF6 -> 0 | AH11: =AH4*AH6 -> 0 | AJ11: =AJ4*AJ6 -> 0 | AL11: =AL4*AL6 -> 0 | AN11: =AN4*AN6 -> 0 | AP11: =AP4*AP6 -> 0 | AR11: =AR4*AR6 -> 0 | AT11: =AT4*AT6 -> 0 | AV11: =AV4*AV6 -> 0 | AX11: =AX4*AX6 -> 0 | AZ11: =AZ4*AZ6 -> 0 | BB11: =BB4*BB6 -> 0 | BD11: =BD4*BD6 -> 0 | BF11: =BF4*BF6 -> 0 | BH11: =BH4*BH6 -> 0 | BJ11: =BJ4*BJ6 -> 0
A12: Valor Stock | B12: =B5*B8 -> 12285 | D12: =B12+(E4-D4)*D8 -> 12285 | F12: =D12+(G4-F4)*F8 -> 12285 | H12: =F12+(I4-H4)*H8 -> 12285 | J12: =H12+(K4-J4)*J8 -> 12285 | L12: =J12+(M4-L4)*L8 -> 12285 | N12: =L12+(O4-N4)*N8 -> 12285 | P12: =N12+(Q4-P4)*P8 -> 12285 | R12: =P12+(S4-R4)*R8 -> 12285 | T12: =R12+(U4-T4)*T8 -> 12285 | V12: =T12+(W4-V4)*V8 -> 12285 | X12: =V12+(Y4-X4)*X8 -> 12285 | Z12: =X12+(AA4-Z4)*Z8 -> 12285 | AB12: =Z12+(AC4-AB4)*AB8 -> 12285 | AD12: =AB12+(AE4-AD4)*AD8 -> 12285 | AF12: =AD12+(AG4-AF4)*AF8 -> 12285 | AH12: =AF12+(AI4-AH4)*AH8 -> 12285 | AJ12: =AH12+(AK4-AJ4)*AJ8 -> 12285 | AL12: =AJ12+(AM4-AL4)*AL8 -> 12285 | AN12: =AL12+(AO4-AN4)*AN8 -> 12285 | AP12: =AN12+(AQ4-AP4)*AP8 -> 12285 | AR12: =AP12+(AS4-AR4)*AR8 -> 12285 | AT12: =AR12+(AU4-AT4)*AT8 -> 12285 | AV12: =AT12+(AW4-AV4)*AV8 -> 12285 | AX12: =AV12+(AY4-AX4)*AX8 -> 12285 | AZ12: =AX12+(BA4-AZ4)*AZ8 -> 12285 | BB12: =AZ12+(BC4-BB4)*BB8 -> 12285 | BD12: =BB12+(BE4-BD4)*BD8 -> 12285 | BF12: =BD12+(BG4-BF4)*BF8 -> 12285 | BH12: =BF12+(BI4-BH4)*BH8 -> 12285 | BJ12: =BH12+(BK4-BJ4)*BJ8 -> 12285
A15: =INDEX(TABLEAU!B:C,(ROW()-1)/14+4,1)&" "&INDEX(TABLEAU!B:C,(ROW()-1)/14+4,2) -> Aceite Borranza 5 lt
A16: {=INDEX(A26:BK26,MAX(IF(A26:BK26>0,COLUMN(A26:BK26))))} -> 4498 | B16: 42064 | D16: 42065 | F16: 42066 | H16: 42067 | J16: 42068 | L16: 42069 | N16: 42070 | P16: 42071 | R16: 42072 | T16: 42073 | V16: 42074 | X16: 42075 | Z16: 42076 | AB16: 42077 | AD16: 42078 | AF16: 42079 | AH16: 42080 | AJ16: 42081 | AL16: 42082 | AN16: 42083 | AP16: 42084 | AR16: 42085 | AT16: 42086 | AV16: 42087 | AX16: 42088 | AZ16: 42089 | BB16: 42090 | BD16: 42091 | BF16: 42092 | BH16: 42093 | BJ16: 42094
B17: "-" | C17: "+" | D17: "-" | E17: "+" | F17: "-" | G17: "+" | H17: "-" | I17: "+" | J17: "-" | K17: "+" | L17: "-" | M17: "+" | N17: "-" | O17: "+" | P17: "-" | Q17: "+" | R17: "-" | S17: "+" | T17: "-" | U17: "+" | V17: "-" | W17: "+" | X17: "-" | Y17: "+" | Z17: "-" | AA17: "+" | AB17: "-" | AC17: "+" | AD17: "-" | AE17: "+" | AF17: "-" | AG17: "+" | AH17: "-" | AI17: "+" | AJ17: "-" | AK17: "+" | AL17: "-" | AM17: "+" | AN17: "-" | AO17: "+" | AP17: "-" | AQ17: "+" | AR17: "-" | AS17: "+" | AT17: "-" | AU17: "+" | AV17: "-" | AW17: "+" | AX17: "-" | AY17: "+" | AZ17: "-" | BA17: "+" | BB17: "-" | BC17: "+" | BD17: "-" | BE17: "+" | BF17: "-" | BG17: "+" | BH17: "-" | BI17: "+" | BJ17: "-" | BK17: "+"
A18: =INDEX(TABLEAU!$A:$A,(ROW()-4)/14+4,1) -> 1 | B18: =INDEX(TABLEAU!$C:$BO,(ROW()-4)/14+4,COLUMN()) -> 0 | C18: =INDEX(TABLEAU!$C:$BO,(ROW()-4)/14+4,COLUMN()) -> 0 | D18: =INDEX(TABLEAU!$C:$BO,(ROW()-4)/14+4,COLUMN()) -> 0 | E18: =INDEX(TABLEAU!$C:$BO,(ROW()-4)/14+4,COLUMN()) -> 0 | F18: =INDEX(TABLEAU!$C:$BO,(ROW()-4)/14+4,COLUMN()) -> 0 | G18: =INDEX(TABLEAU!$C:$BO,(ROW()-4)/14+4,COLUMN()) -> 0 | H18: =INDEX(TABLEAU!$C:$BO,(ROW()-4)/14+4,COLUMN()) -> 0 | I18: =INDEX(TABLEAU!$C:$BO,(ROW()-4)/14+4,COLUMN()) -> 0 | ... BK18: =INDEX(TABLEAU!$C:$BO,(ROW()-4)/14+4,COLUMN()) -> 0
A19: Sotck actualiza | B19: =A18+(C18-B18) -> 1 | D19: =B19+E18-D18 -> 1 | F19: =D19+G18-F18 -> 1 | H19: =F19+I18-H18 -> 1 | J19: =H19+K18-J18 -> 1 | L19: =J19+M18-L18 -> 1 | N19: =L19+O18-N18 -> 1 | P19: =N19+Q18-P18 -> 1 | R19: =P19+S18-R18 -> 1 | T19: =R19+U18-T18 -> 1 | V19: =T19+W18-V18 -> 1 | X19: =V19+Y18-X18 -> 1 | Z19: =X19+AA18-Z18 -> 1 | AB19: =Z19+AC18-AB18 -> 1 | AD19: =AB19+AE18-AD18 -> 1 | AF19: =AD19+AG18-AF18 -> 1 | AH19: =AF19+AI18-AH18 -> 1 | AJ19: =AH19+AK18-AJ18 -> 1 | AL19: =AJ19+AM18-AL18 -> 1 | AN19: =AL19+AO18-AN18 -> 1 | AP19: =AN19+AQ18-AP18 -> 1 | AR19: =AP19+AS18-AR18 -> 1 | AT19: =AR19+AU18-AT18 -> 1 | AV19: =AT19+AW18-AV18 -> 1 | AX19: =AV19+AY18-AX18 -> 1 | AZ19: =AX19+BA18-AZ18 -> 1 | BB19: =AZ19+BC18-BB18 -> 1 | BD19: =BB19+BE18-BD18 -> 1 | BF19: =BD19+BG18-BF18 -> 1 | BH19: =BF19+BI18-BH18 -> 1 | BJ19: =BH19+BK18-BJ18 -> 1
A20: Coût d'achat unitario | B20: 4498
A21: Proveedor
A22: Valor unitario | B22: =B20 -> 4498 | D22: =D20 -> 0 | F22: =F20 -> 0 | H22: =H20 -> 0 | J22: =J20 -> 0 | L22: =L20 -> 0 | N22: =N20 -> 0 | P22: =P20 -> 0 | R22: =R20 -> 0 | T22: =T20 -> 0 | V22: =V20 -> 0 | X22: =X20 -> 0 | Z22: =Z20 -> 0 | AB22: =AB20 -> 0 | AD22: =AD20 -> 0 | AF22: =AF20 -> 0 | AH22: =AH20 -> 0 | AJ22: =AJ20 -> 0 | AL22: =AL20 -> 0 | AN22: =AN20 -> 0 | AP22: =AP20 -> 0 | AR22: =AR20 -> 0 | AT22: =AT20 -> 0 | AV22: =AV20 -> 0 | AX22: =AX20 -> 0 | AZ22: =AZ20 -> 0 | BB22: =BB20 -> 0 | BD22: =BD20 -> 0 | BF22: =BF20 -> 0 | BH22: =BH20 -> 0 | BJ22: =BJ20 -> 0
A23: Valor media | D23: =D26/D19 -> 4498 | F23: =F26/F19 -> 4498 | H23: =H26/H19 -> 4498 | J23: =J26/J19 -> 4498 | L23: =L26/L19 -> 4498 | N23: =N26/N19 -> 4498 | P23: =P26/P19 -> 4498 | R23: =R26/R19 -> 4498 | T23: =T26/T19 -> 4498 | V23: =V26/V19 -> 4498 | X23: =X26/X19 -> 4498 | Z23: =Z26/Z19 -> 4498 | AB23: =AB26/AB19 -> 4498 | AD23: =AD26/AD19 -> 4498 | AF23: =AF26/AF19 -> 4498 | AH23: =AH26/AH19 -> 4498 | AJ23: =AJ26/AJ19 -> 4498 | AL23: =AL26/AL19 -> 4498 | AN23: =AN26/AN19 -> 4498 | AP23: =AP26/AP19 -> 4498 | AR23: =AR26/AR19 -> 4498 | AT23: =AT26/AT19 -> 4498 | AV23: =AV26/AV19 -> 4498 | AX23: =AX26/AX19 -> 4498 | AZ23: =AZ26/AZ19 -> 4498 | BB23: =BB26/BB19 -> 4498 | BD23: =BD26/BD19 -> 4498 | BF23: =BF26/BF19 -> 4498 | BH23: =BH26/BH19 -> 4498 | BJ23: =BJ26/BJ19 -> 4498
A24: Entrée | B24: =C18*B20 -> 0 | D24: =E18*D20 -> 0 | F24: =G18*F20 -> 0 | H24: =I18*H20 -> 0 | J24: =K18*J20 -> 0 | L24: =M18*L20 -> 0 | N24: =O18*N20 -> 0 | P24: =Q18*P20 -> 0 | R24: =S18*R20 -> 0 | T24: =U18*T20 -> 0 | V24: =W18*V20 -> 0 | X24: =Y18*X20 -> 0 | Z24: =AA18*Z20 -> 0 | AB24: =AC18*AB20 -> 0 | AD24: =AE18*AD20 -> 0 | AF24: =AG18*AF20 -> 0 | AH24: =AI18*AH20 -> 0 | AJ24: =AK18*AJ20 -> 0 | AL24: =AM18*AL20 -> 0 | AN24: =AO18*AN20 -> 0 | AP24: =AQ18*AP20 -> 0 | AR24: =AS18*AR20 -> 0 | AT24: =AU18*AT20 -> 0 | AV24: =AW18*AV20 -> 0 | AX24: =AY18*AX20 -> 0 | AZ24: =BA18*AZ20 -> 0 | BB24: =BC18*BB20 -> 0 | BD24: =BE18*BD20 -> 0 | BF24: =BG18*BF20 -> 0 | BH24: =BI18*BH20 -> 0 | BJ24: =BK18*BJ20 -> 0
A25: Sorties | B25: =B18*B20 -> 0 | D25: =D18*D20 -> 0 | F25: =F18*F20 -> 0 | H25: =H18*H20 -> 0 | J25: =J18*J20 -> 0 | L25: =L18*L20 -> 0 | N25: =N18*N20 -> 0 | P25: =P18*P20 -> 0 | R25: =R18*R20 -> 0 | T25: =T18*T20 -> 0 | V25: =V18*V20 -> 0 | X25: =X18*X20 -> 0 | Z25: =Z18*Z20 -> 0 | AB25: =AB18*AB20 -> 0 | AD25: =AD18*AD20 -> 0 | AF25: =AF18*AF20 -> 0 | AH25: =AH18*AH20 -> 0 | AJ25: =AJ18*AJ20 -> 0 | AL25: =AL18*AL20 -> 0 | AN25: =AN18*AN20 -> 0 | AP25: =AP18*AP20 -> 0 | AR25: =AR18*AR20 -> 0 | AT25: =AT18*AT20 -> 0 | AV25: =AV18*AV20 -> 0 | AX25: =AX18*AX20 -> 0 | AZ25: =AZ18*AZ20 -> 0 | BB25: =BB18*BB20 -> 0 | BD25: =BD18*BD20 -> 0 | BF25: =BF18*BF20 -> 0 | BH25: =BH18*BH20 -> 0 | BJ25: =BJ18*BJ20 -> 0
A26: Valor Stock | B26: =B19*B22 -> 4498 | D26: =B26+(E18-D18)*D22 -> 4498 | F26: =D26+(G18-F18)*F22 -> 4498 | H26: =F26+(I18-H18)*H22 -> 4498 | J26: =H26+(K18-J18)*J22 -> 4498 | L26: =J26+(M18-L18)*L22 -> 4498 | N26: =L26+(O18-N18)*N22 -> 4498 | P26: =N26+(Q18-P18)*P22 -> 4498 | R26: =P26+(S18-R18)*R22 -> 4498 | T26: =R26+(U18-T18)*T22 -> 4498 | V26: =T26+(W18-V18)*V22 -> 4498 | X26: =V26+(Y18-X18)*X22 -> 4498 | Z26: =X26+(AA18-Z18)*Z22 -> 4498 | AB26: =Z26+(AC18-AB18)*AB22 -> 4498 | AD26: =AB26+(AE18-AD18)*AD22 -> 4498 | AF26: =AD26+(AG18-AF18)*AF22 -> 4498 | AH26: =AF26+(AI18-AH18)*AH22 -> 4498 | AJ26: =AH26+(AK18-AJ18)*AJ22 -> 4498 | AL26: =AJ26+(AM18-AL18)*AL22 -> 4498 | AN26: =AL26+(AO18-AN18)*AN22 -> 4498 | AP26: =AN26+(AQ18-AP18)*AP22 -> 4498 | AR26: =AP26+(AS18-AR18)*AR22 -> 4498 | AT26: =AR26+(AU18-AT18)*AT22 -> 4498 | AV26: =AT26+(AW18-AV18)*AV22 -> 4498 | AX26: =AV26+(AY18-AX18)*AX22 -> 4498 | AZ26: =AX26+(BA18-AZ18)*AZ22 -> 4498 | BB26: =AZ26+(BC18-BB18)*BB22 -> 4498 | BD26: =BB26+(BE18-BD18)*BD22 -> 4498 | BF26: =BD26+(BG18-BF18)*BF22 -> 4498 | BH26: =BF26+(BI18-BH18)*BH22 -> 4498 | BJ26: =BH26+(BK18-BJ18)*BJ22 -> 4498
A29: =INDEX(TABLEAU!B:C,(ROW()-1)/14+4,1)&" "&INDEX(TABLEAU!B:C,(ROW()-1)/14+4,2) -> Aceite de olivia extra viegen 5 lt
A30: {=INDEX(A40:BK40,MAX(IF(A40:BK40>0,COLUMN(A40:BK40))))} -> Valor Stock | B30: 42064 | D30: 42065 | F30: 42066 | H30: 42067 | J30: 42068 | L30: 42069 | N30: 42070 | P30: 42071 | R30: 42072 | T30: 42073 | V30: 42074 | X30: 42075 | Z30: 42076 | AB30: 42077 | AD30: 42078 | AF30: 42079 | AH30: 42080 | AJ30: 42081 | AL30: 42082 | AN30: 42083 | AP30: 42084 | AR30: 42085 | AT30: 42086 | AV30: 42087 | AX30: 42088 | AZ30: 42089 | BB30: 42090 | BD30: 42091 | BF30: 42092 | BH30: 42093 | BJ30: 42094
B31: "-" | C31: "+" | D31: "-" | E31: "+" | F31: "-" | G31: "+" | H31: "-" | I31: "+" | J31: "-" | K31: "+" | L31: "-" | M31: "+" | N31: "-" | O31: "+" | P31: "-" | Q31: "+" | R31: "-" | S31: "+" | T31: "-" | U31: "+" | V31: "-" | W31: "+" | X31: "-" | Y31: "+" | Z31: "-" | AA31: "+" | AB31: "-" | AC31: "+" | AD31: "-" | AE31: "+" | AF31: "-" | AG31: "+" | AH31: "-" | AI31: "+" | AJ31: "-" | AK31: "+" | AL31: "-" | AM31: "+" | AN31: "-" | AO31: "+" | AP31: "-" | AQ31: "+" | AR31: "-" | AS31: "+" | AT31: "-" | AU31: "+" | AV31: "-" | AW31: "+" | AX31: "-" | AY31: "+" | AZ31: "-" | BA31: "+" | BB31: "-" | BC31: "+" | BD31: "-" | BE31: "+" | BF31: "-" | BG31: "+" | BH31: "-" | BI31: "+" | BJ31: "-" | BK31: "+"
A32: =INDEX(TABLEAU!$A:$A,(ROW()-4)/14+4,1) -> 0 | B32: =INDEX(TABLEAU!$C:$BO,(ROW()-4)/14+4,COLUMN()) -> 0 | C32: =INDEX(TABLEAU!$C:$BO,(ROW()-4)/14+4,COLUMN()) -> 0 | D32: =INDEX(TABLEAU!$C:$BO,(ROW()-4)/14+4,COLUMN()) -> 0 | E32: =INDEX(TABLEAU!$C:$BO,(ROW()-4)/14+4,COLUMN()) -> 0 | F32: =INDEX(TABLEAU!$C:$BO,(ROW()-4)/14+4,COLUMN()) -> 0 | G32: =INDEX(TABLEAU!$C:$BO,(ROW()-4)/14+4,COLUMN()) -> 0 | H32: =INDEX(TABLEAU!$C:$BO,(ROW()-4)/14+4,COLUMN()) -> 0 | I32: =INDEX(TABLEAU!$C:$BO,(ROW()-4)/14+4,COLUMN()) -> 0 | ... BK32: =INDEX(TABLEAU!$C:$BO,(ROW()-4)/14+4,COLUMN()) -> 0
A33: Sotck actualiza | B33: =A32+(C32-B32) -> 0 | D33: =B33+E32-D32 -> 0 | F33: =D33+G32-F32 -> 0 | H33: =F33+I32-H32 -> 0 | J33: =H33+K32-J32 -> 0 | L33: =J33+M32-L32 -> 0 | N33: =L33+O32-N32 -> 0 | P33: =N33+Q32-P32 -> 0 | R33: =P33+S32-R32 -> 0 | T33: =R33+U32-T32 -> 0 | V33: =T33+W32-V32 -> 0 | X33: =V33+Y32-X32 -> 0 | Z33: =X33+AA32-Z32 -> 0 | AB33: =Z33+AC32-AB32 -> 0 | AD33: =AB33+AE32-AD32 -> 0 | AF33: =AD33+AG32-AF32 -> 0 | AH33: =AF33+AI32-AH32 -> 0 | AJ33: =AH33+AK32-AJ32 -> 0 | AL33: =AJ33+AM32-AL32 -> 0 | AN33: =AL33+AO32-AN32 -> 0 | AP33: =AN33+AQ32-AP32 -> 0 | AR33: =AP33+AS32-AR32 -> 0 | AT33: =AR33+AU32-AT32 -> 0 | AV33: =AT33+AW32-AV32 -> 0 | AX33: =AV33+AY32-AX32 -> 0 | AZ33: =AX33+BA32-AZ32 -> 0 | BB33: =AZ33+BC32-BB32 -> 0 | BD33: =BB33+BE32-BD32 -> 0 | BF33: =BD33+BG32-BF32 -> 0 | BH33: =BF33+BI32-BH32 -> 0 | BJ33: =BH33+BK32-BJ32 -> 0
A34: Coût d'achat unitario | B34: 4498
A35: Proveedor
A36: Valor unitario | B36: =B34 -> 4498 | D36: =D34 -> 0 | F36: =F34 -> 0 | H36: =H34 -> 0 | J36: =J34 -> 0 | L36: =L34 -> 0 | N36: =N34 -> 0 | P36: =P34 -> 0 | R36: =R34 -> 0 | T36: =T34 -> 0 | V36: =V34 -> 0 | X36: =X34 -> 0 | Z36: =Z34 -> 0 | AB36: =AB34 -> 0 | AD36: =AD34 -> 0 | AF36: =AF34 -> 0 | AH36: =AH34 -> 0 | AJ36: =AJ34 -> 0 | AL36: =AL34 -> 0 | AN36: =AN34 -> 0 | AP36: =AP34 -> 0 | AR36: =AR34 -> 0 | AT36: =AT34 -> 0 | AV36: =AV34 -> 0 | AX36: =AX34 -> 0 | AZ36: =AZ34 -> 0 | BB36: =BB34 -> 0 | BD36: =BD34 -> 0 | BF36: =BF34 -> 0 | BH36: =BH34 -> 0 | BJ36: =BJ34 -> 0
A37: Valor media | D37: =D40/D33 -> #DIV/0! | F37: =F40/F33 -> #DIV/0! | H37: =H40/H33 -> #DIV/0! | J37: =J40/J33 -> #DIV/0! | L37: =L40/L33 -> #DIV/0! | N37: =N40/N33 -> #DIV/0! | P37: =P40/P33 -> #DIV/0! | R37: =R40/R33 -> #DIV/0! | T37: =T40/T33 -> #DIV/0! | V37: =V40/V33 -> #DIV/0! | X37: =X40/X33 -> #DIV/0! | Z37: =Z40/Z33 -> #DIV/0! | AB37: =AB40/AB33 -> #DIV/0! | AD37: =AD40/AD33 -> #DIV/0! | AF37: =AF40/AF33 -> #DIV/0! | AH37: =AH40/AH33 -> #DIV/0! | AJ37: =AJ40/AJ33 -> #DIV/0! | AL37: =AL40/AL33 -> #DIV/0! | AN37: =AN40/AN33 -> #DIV/0! | AP37: =AP40/AP33 -> #DIV/0! | AR37: =AR40/AR33 -> #DIV/0! | AT37: =AT40/AT33 -> #DIV/0! | AV37: =AV40/AV33 -> #DIV/0! | AX37: =AX40/AX33 -> #DIV/0! | AZ37: =AZ40/AZ33 -> #DIV/0! | BB37: =BB40/BB33 -> #DIV/0! | BD37: =BD40/BD33 -> #DIV/0! | BF37: =BF40/BF33 -> #DIV/0! | BH37: =BH40/BH33 -> #DIV/0! | BJ37: =BJ40/BJ33 -> #DIV/0!
A38: Entrée | B38: =C32*B34 -> 0 | D38: =E32*D34 -> 0 | F38: =G32*F34 -> 0 | H38: =I32*H34 -> 0 | J38: =K32*J34 -> 0 | L38: =M32*L34 -> 0 | N38: =O32*N34 -> 0 | P38: =Q32*P34 -> 0 | R38: =S32*R34 -> 0 | T38: =U32*T34 -> 0 | V38: =W32*V34 -> 0 | X38: =Y32*X34 -> 0 | Z38: =AA32*Z34 -> 0 | AB38: =AC32*AB34 -> 0 | AD38: =AE32*AD34 -> 0 | AF38: =AG32*AF34 -> 0 | AH38: =AI32*AH34 -> 0 | AJ38: =AK32*AJ34 -> 0 | AL38: =AM32*AL34 -> 0 | AN38: =AO32*AN34 -> 0 | AP38: =AQ32*AP34 -> 0 | AR38: =AS32*AR34 -> 0 | AT38: =AU32*AT34 -> 0 | AV38: =AW32*AV34 -> 0 | AX38: =AY32*AX34 -> 0 | AZ38: =BA32*AZ34 -> 0 | BB38: =BC32*BB34 -> 0 | BD38: =BE32*BD34 -> 0 | BF38: =BG32*BF34 -> 0 | BH38: =BI32*BH34 -> 0 | BJ38: =BK32*BJ34 -> 0
A39: Sorties | B39: =B32*B34 -> 0 | D39: =D32*D34 -> 0 | F39: =F32*F34 -> 0 | H39: =H32*H34 -> 0 | J39: =J32*J34 -> 0 | L39: =L32*L34 -> 0 | N39: =N32*N34 -> 0 | P39: =P32*P34 -> 0 | R39: =R32*R34 -> 0 | T39: =T32*T34 -> 0 | V39: =V32*V34 -> 0 | X39: =X32*X34 -> 0 | Z39: =Z32*Z34 -> 0 | AB39: =AB32*AB34 -> 0 | AD39: =AD32*AD34 -> 0 | AF39: =AF32*AF34 -> 0 | AH39: =AH32*AH34 -> 0 | AJ39: =AJ32*AJ34 -> 0 | AL39: =AL32*AL34 -> 0 | AN39: =AN32*AN34 -> 0 | AP39: =AP32*AP34 -> 0 | AR39: =AR32*AR34 -> 0 | AT39: =AT32*AT34 -> 0 | AV39: =AV32*AV34 -> 0 | AX39: =AX32*AX34 -> 0 | AZ39: =AZ32*AZ34 -> 0 | BB39: =BB32*BB34 -> 0 | BD39: =BD32*BD34 -> 0 | BF39: =BF32*BF34 -> 0 | BH39: =BH32*BH34 -> 0 | BJ39: =BJ32*BJ34 -> 0
A40: Valor Stock | B40: =B33*B36 -> 0 | D40: =B40+(E32-D32)*D36 -> 0 | F40: =D40+(G32-F32)*F36 -> 0 | H40: =F40+(I32-H32)*H36 -> 0 | J40: =H40+(K32-J32)*J36 -> 0 | L40: =J40+(M32-L32)*L36 -> 0 | N40: =L40+(O32-N32)*N36 -> 0 | P40: =N40+(Q32-P32)*P36 -> 0 | R40: =P40+(S32-R32)*R36 -> 0 | T40: =R40+(U32-T32)*T36 -> 0 | V40: =T40+(W32-V32)*V36 -> 0 | X40: =V40+(Y32-X32)*X36 -> 0 | Z40: =X40+(AA32-Z32)*Z36 -> 0 | AB40: =Z40+(AC32-AB32)*AB36 -> 0 | AD40: =AB40+(AE32-AD32)*AD36 -> 0 | AF40: =AD40+(AG32-AF32)*AF36 -> 0 | AH40: =AF40+(AI32-AH32)*AH36 -> 0 | AJ40: =AH40+(AK32-AJ32)*AJ36 -> 0 | AL40: =AJ40+(AM32-AL32)*AL36 -> 0 | AN40: =AL40+(AO32-AN32)*AN36 -> 0 | AP40: =AN40+(AQ32-AP32)*AP36 -> 0 | AR40: =AP40+(AS32-AR32)*AR36 -> 0 | AT40: =AR40+(AU32-AT32)*AT36 -> 0 | AV40: =AT40+(AW32-AV32)*AV36 -> 0 | AX40: =AV40+(AY32-AX32)*AX36 -> 0 | AZ40: =AX40+(BA32-AZ32)*AZ36 -> 0 | BB40: =AZ40+(BC32-BB32)*BB36 -> 0 | BD40: =BB40+(BE32-BD32)*BD36 -> 0 | BF40: =BD40+(BG32-BF32)*BF36 -> 0 | BH40: =BF40+(BI32-BH32)*BH36 -> 0 | BJ40: =BH40+(BK32-BJ32)*BJ36 -> 0
A43: =INDEX(TABLEAU!B:C,(ROW()-1)/14+4,1)&" "&INDEX(TABLEAU!B:C,(ROW()-1)/14+4,2) -> Aji crema 500 grs
A44: {=INDEX(A54:BK54,MAX(IF(A54:BK54>0,COLUMN(A54:BK54))))} -> Valor Stock | B44: 42064 | D44: 42065 | F44: 42066 | H44: 42067 | J44: 42068 | L44: 42069 | N44: 42070 | P44: 42071 | R44: 42072 | T44: 42073 | V44: 42074 | X44: 42075 | Z44: 42076 | AB44: 42077 | AD44: 42078 | AF44: 42079 | AH44: 42080 | AJ44: 42081 | AL44: 42082 | AN44: 42083 | AP44: 42084 | AR44: 42085 | AT44: 42086 | AV44: 42087 | AX44: 42088 | AZ44: 42089 | BB44: 42090 | BD44: 42091 | BF44: 42092 | BH44: 42093 | BJ44: 42094
B45: "-" | C45: "+" | D45: "-" | E45: "+" | F45: "-" | G45: "+" | H45: "-" | I45: "+" | J45: "-" | K45: "+" | L45: "-" | M45: "+" | N45: "-" | O45: "+" | P45: "-" | Q45: "+" | R45: "-" | S45: "+" | T45: "-" | U45: "+" | V45: "-" | W45: "+" | X45: "-" | Y45: "+" | Z45: "-" | AA45: "+" | AB45: "-" | AC45: "+" | AD45: "-" | AE45: "+" | AF45: "-" | AG45: "+" | AH45: "-" | AI45: "+" | AJ45: "-" | AK45: "+" | AL45: "-" | AM45: "+" | AN45: "-" | AO45: "+" | AP45: "-" | AQ45: "+" | AR45: "-" | AS45: "+" | AT45: "-" | AU45: "+" | AV45: "-" | AW45: "+" | AX45: "-" | AY45: "+" | AZ45: "-" | BA45: "+" | BB45: "-" | BC45: "+" | BD45: "-" | BE45: "+" | BF45: "-" | BG45: "+" | BH45: "-" | BI45: "+" | BJ45: "-" | BK45: "+"
A46: =INDEX(TABLEAU!$A:$A,(ROW()-4)/14+4,1) -> 0 | B46: =INDEX(TABLEAU!$C:$BO,(ROW()-4)/14+4,COLUMN()) -> 0 | C46: =INDEX(TABLEAU!$C:$BO,(ROW()-4)/14+4,COLUMN()) -> 0 | D46: =INDEX(TABLEAU!$C:$BO,(ROW()-4)/14+4,COLUMN()) -> 0 | E46: =INDEX(TABLEAU!$C:$BO,(ROW()-4)/14+4,COLUMN()) -> 0 | F46: =INDEX(TABLEAU!$C:$BO,(ROW()-4)/14+4,COLUMN()) -> 0 | G46: =INDEX(TABLEAU!$C:$BO,(ROW()-4)/14+4,COLUMN()) -> 0 | H46: =INDEX(TABLEAU!$C:$BO,(ROW()-4)/14+4,COLUMN()) -> 0 | I46: =INDEX(TABLEAU!$C:$BO,(ROW()-4)/14+4,COLUMN()) -> 0 | ... BK46: =INDEX(TABLEAU!$C:$BO,(ROW()-4)/14+4,COLUMN()) -> 0
A47: Sotck actualiza | B47: =A46+(C46-B46) -> 0 | D47: =B47+E46-D46 -> 0 | F47: =D47+G46-F46 -> 0 | H47: =F47+I46-H46 -> 0 | J47: =H47+K46-J46 -> 0 | L47: =J47+M46-L46 -> 0 | N47: =L47+O46-N46 -> 0 | P47: =N47+Q46-P46 -> 0 | R47: =P47+S46-R46 -> 0 | T47: =R47+U46-T46 -> 0 | V47: =T47+W46-V46 -> 0 | X47: =V47+Y46-X46 -> 0 | Z47: =X47+AA46-Z46 -> 0 | AB47: =Z47+AC46-AB46 -> 0 | AD47: =AB47+AE46-AD46 -> 0 | AF47: =AD47+AG46-AF46 -> 0 | AH47: =AF47+AI46-AH46 -> 0 | AJ47: =AH47+AK46-AJ46 -> 0 | AL47: =AJ47+AM46-AL46 -> 0 | AN47: =AL47+AO46-AN46 -> 0 | AP47: =AN47+AQ46-AP46 -> 0 | AR47: =AP47+AS46-AR46 -> 0 | AT47: =AR47+AU46-AT46 -> 0 | AV47: =AT47+AW46-AV46 -> 0 | AX47: =AV47+AY46-AX46 -> 0 | AZ47: =AX47+BA46-AZ46 -> 0 | BB47: =AZ47+BC46-BB46 -> 0 | BD47: =BB47+BE46-BD46 -> 0 | BF47: =BD47+BG46-BF46 -> 0 | BH47: =BF47+BI46-BH46 -> 0 | BJ47: =BH47+BK46-BJ46 -> 0
A48: Coût d'achat unitario | B48: 4498
A49: Proveedor
A50: Valor unitario | B50: =B48 -> 4498 | D50: =D48 -> 0 | F50: =F48 -> 0 | H50: =H48 -> 0 | J50: =J48 -> 0 | L50: =L48 -> 0 | N50: =N48 -> 0 | P50: =P48 -> 0 | R50: =R48 -> 0 | T50: =T48 -> 0 | V50: =V48 -> 0 | X50: =X48 -> 0 | Z50: =Z48 -> 0 | AB50: =AB48 -> 0 | AD50: =AD48 -> 0 | AF50: =AF48 -> 0 | AH50: =AH48 -> 0 | AJ50: =AJ48 -> 0 | AL50: =AL48 -> 0 | AN50: =AN48 -> 0 | AP50: =AP48 -> 0 | AR50: =AR48 -> 0 | AT50: =AT48 -> 0 | AV50: =AV48 -> 0 | AX50: =AX48 -> 0 | AZ50: =AZ48 -> 0 | BB50: =BB48 -> 0 | BD50: =BD48 -> 0 | BF50: =BF48 -> 0 | BH50: =BH48 -> 0 | BJ50: =BJ48 -> 0
A51: Valor media | D51: =D54/D47 -> #DIV/0! | F51: =F54/F47 -> #DIV/0! | H51: =H54/H47 -> #DIV/0! | J51: =J54/J47 -> #DIV/0! | L51: =L54/L47 -> #DIV/0! | N51: =N54/N47 -> #DIV/0! | P51: =P54/P47 -> #DIV/0! | R51: =R54/R47 -> #DIV/0! | T51: =T54/T47 -> #DIV/0! | V51: =V54/V47 -> #DIV/0! | X51: =X54/X47 -> #DIV/0! | Z51: =Z54/Z47 -> #DIV/0! | AB51: =AB54/AB47 -> #DIV/0! | AD51: =AD54/AD47 -> #DIV/0! | AF51: =AF54/AF47 -> #DIV/0! | AH51: =AH54/AH47 -> #DIV/0! | AJ51: =AJ54/AJ47 -> #DIV/0! | AL51: =AL54/AL47 -> #DIV/0! | AN51: =AN54/AN47 -> #DIV/0! | AP51: =AP54/AP47 -> #DIV/0! | AR51: =AR54/AR47 -> #DIV/0! | AT51: =AT54/AT47 -> #DIV/0! | AV51: =AV54/AV47 -> #DIV/0! | AX51: =AX54/AX47 -> #DIV/0! | AZ51: =AZ54/AZ47 -> #DIV/0! | BB51: =BB54/BB47 -> #DIV/0! | BD51: =BD54/BD47 -> #DIV/0! | BF51: =BF54/BF47 -> #DIV/0! | BH51: =BH54/BH47 -> #DIV/0! | BJ51: =BJ54/BJ47 -> #DIV/0!
A52: Entrée | B52: =C46*B48 -> 0 | D52: =E46*D48 -> 0 | F52: =G46*F48 -> 0 | H52: =I46*H48 -> 0 | J52: =K46*J48 -> 0 | L52: =M46*L48 -> 0 | N52: =O46*N48 -> 0 | P52: =Q46*P48 -> 0 | R52: =S46*R48 -> 0 | T52: =U46*T48 -> 0 | V52: =W46*V48 -> 0 | X52: =Y46*X48 -> 0 | Z52: =AA46*Z48 -> 0 | AB52: =AC46*AB48 -> 0 | AD52: =AE46*AD48 -> 0 | AF52: =AG46*AF48 -> 0 | AH52: =AI46*AH48 -> 0 | AJ52: =AK46*AJ48 -> 0 | AL52: =AM46*AL48 -> 0 | AN52: =AO46*AN48 -> 0 | AP52: =AQ46*AP48 -> 0 | AR52: =AS46*AR48 -> 0 | AT52: =AU46*AT48 -> 0 | AV52: =AW46*AV48 -> 0 | AX52: =AY46*AX48 -> 0 | AZ52: =BA46*AZ48 -> 0 | BB52: =BC46*BB48 -> 0 | BD52: =BE46*BD48 -> 0 | BF52: =BG46*BF48 -> 0 | BH52: =BI46*BH48 -> 0 | BJ52: =BK46*BJ48 -> 0
A53: Sorties | B53: =B46*B48 -> 0 | D53: =D46*D48 -> 0 | F53: =F46*F48 -> 0 | H53: =H46*H48 -> 0 | J53: =J46*J48 -> 0 | L53: =L46*L48 -> 0 | N53: =N46*N48 -> 0 | P53: =P46*P48 -> 0 | R53: =R46*R48 -> 0 | T53: =T46*T48 -> 0 | V53: =V46*V48 -> 0 | X53: =X46*X48 -> 0 | Z53: =Z46*Z48 -> 0 | AB53: =AB46*AB48 -> 0 | AD53: =AD46*AD48 -> 0 | AF53: =AF46*AF48 -> 0 | AH53: =AH46*AH48 -> 0 | AJ53: =AJ46*AJ48 -> 0 | AL53: =AL46*AL48 -> 0 | AN53: =AN46*AN48 -> 0 | AP53: =AP46*AP48 -> 0 | AR53: =AR46*AR48 -> 0 | AT53: =AT46*AT48 -> 0 | AV53: =AV46*AV48 -> 0 | AX53: =AX46*AX48 -> 0 | AZ53: =AZ46*AZ48 -> 0 | BB53: =BB46*BB48 -> 0 | BD53: =BD46*BD48 -> 0 | BF53: =BF46*BF48 -> 0 | BH53: =BH46*BH48 -> 0 | BJ53: =BJ46*BJ48 -> 0
A54: Valor Stock | B54: =B47*B50 -> 0 | D54: =B54+(E46-D46)*D50 -> 0 | F54: =D54+(G46-F46)*F50 -> 0 | H54: =F54+(I46-H46)*H50 -> 0 | J54: =H54+(K46-J46)*J50 -> 0 | L54: =J54+(M46-L46)*L50 -> 0 | N54: =L54+(O46-N46)*N50 -> 0 | P54: =N54+(Q46-P46)*P50 -> 0 | R54: =P54+(S46-R46)*R50 -> 0 | T54: =R54+(U46-T46)*T50 -> 0 | V54: =T54+(W46-V46)*V50 -> 0 | X54: =V54+(Y46-X46)*X50 -> 0 | Z54: =X54+(AA46-Z46)*Z50 -> 0 | AB54: =Z54+(AC46-AB46)*AB50 -> 0 | AD54: =AB54+(AE46-AD46)*AD50 -> 0 | AF54: =AD54+(AG46-AF46)*AF50 -> 0 | AH54: =AF54+(AI46-AH46)*AH50 -> 0 | AJ54: =AH54+(AK46-AJ46)*AJ50 -> 0 | AL54: =AJ54+(AM46-AL46)*AL50 -> 0 | AN54: =AL54+(AO46-AN46)*AN50 -> 0 | AP54: =AN54+(AQ46-AP46)*AP50 -> 0 | AR54: =AP54+(AS46-AR46)*AR50 -> 0 | AT54: =AR54+(AU46-AT46)*AT50 -> 0 | AV54: =AT54+(AW46-AV46)*AV50 -> 0 | AX54: =AV54+(AY46-AX46)*AX50 -> 0 | AZ54: =AX54+(BA46-AZ46)*AZ50 -> 0 | BB54: =AZ54+(BC46-BB46)*BB50 -> 0 | BD54: =BB54+(BE46-BD46)*BD50 -> 0 | BF54: =BD54+(BG46-BF46)*BF50 -> 0 | BH54: =BF54+(BI46-BH46)*BH50 -> 0 | BJ54: =BH54+(BK46-BJ46)*BJ50 -> 0
A57: =INDEX(TABLEAU!B:C,(ROW()-1)/14+4,1)&" "&INDEX(TABLEAU!B:C,(ROW()-1)/14+4,2) -> Aceite Maravilla chef 1 lt
A58: {=INDEX(A68:BK68,MAX(IF(A68:BK68>0,COLUMN(A68:BK68))))} -> Valor Stock | B58: 42064 | D58: 42065 | F58: 42066 | H58: 42067 | J58: 42068 | L58: 42069 | N58: 42070 | P58: 42071 | R58: 42072 | T58: 42073 | V58: 42074 | X58: 42075 | Z58: 42076 | AB58: 42077 | AD58: 42078 | AF58: 42079 | AH58: 42080 | AJ58: 42081 | AL58: 42082 | AN58: 42083 | AP58: 42084 | AR58: 42085 | AT58: 42086 | AV58: 42087 | AX58: 42088 | AZ58: 42089 | BB58: 42090 | BD58: 42091 | BF58: 42092 | BH58: 42093 | BJ58: 42094
B59: "-" | C59: "+" | D59: "-" | E59: "+" | F59: "-" | G59: "+" | H59: "-" | I59: "+" | J59: "-" | K59: "+" | L59: "-" | M59: "+" | N59: "-" | O59: "+" | P59: "-" | Q59: "+" | R59: "-" | S59: "+" | T59: "-" | U59: "+" | V59: "-" | W59: "+" | X59: "-" | Y59: "+" | Z59: "-" | AA59: "+" | AB59: "-" | AC59: "+" | AD59: "-" | AE59: "+" | AF59: "-" | AG59: "+" | AH59: "-" | AI59: "+" | AJ59: "-" | AK59: "+" | AL59: "-" | AM59: "+" | AN59: "-" | AO59: "+" | AP59: "-" | AQ59: "+" | AR59: "-" | AS59: "+" | AT59: "-" | AU59: "+" | AV59: "-" | AW59: "+" | AX59: "-" | AY59: "+" | AZ59: "-" | BA59: "+" | BB59: "-" | BC59: "+" | BD59: "-" | BE59: "+" | BF59: "-" | BG59: "+" | BH59: "-" | BI59: "+" | BJ59: "-" | BK59: "+"
A60: =INDEX(TABLEAU!$A:$A,(ROW()-4)/14+4,1) -> 0 | B60: =INDEX(TABLEAU!$C:$BO,(ROW()-4)/14+4,COLUMN()) -> 0 | C60: =INDEX(TABLEAU!$C:$BO,(ROW()-4)/14+4,COLUMN()) -> 0 | D60: =INDEX(TABLEAU!$C:$BO,(ROW()-4)/14+4,COLUMN()) -> 0 | E60: =INDEX(TABLEAU!$C:$BO,(ROW()-4)/14+4,COLUMN()) -> 0 | F60: =INDEX(TABLEAU!$C:$BO,(ROW()-4)/14+4,COLUMN()) -> 0 | G60: =INDEX(TABLEAU!$C:$BO,(ROW()-4)/14+4,COLUMN()) -> 0 | H60: =INDEX(TABLEAU!$C:$BO,(ROW()-4)/14+4,COLUMN()) -> 0 | I60: =INDEX(TABLEAU!$C:$BO,(ROW()-4)/14+4,COLUMN()) -> 0 | ... BK60: =INDEX(TABLEAU!$C:$BO,(ROW()-4)/14+4,COLUMN()) -> 0
A61: Sotck actualiza | B61: =A60+(C60-B60) -> 0 | D61: =B61+E60-D60 -> 0 | F61: =D61+G60-F60 -> 0 | H61: =F61+I60-H60 -> 0 | J61: =H61+K60-J60 -> 0 | L61: =J61+M60-L60 -> 0 | N61: =L61+O60-N60 -> 0 | P61: =N61+Q60-P60 -> 0 | R61: =P61+S60-R60 -> 0 | T61: =R61+U60-T60 -> 0 | V61: =T61+W60-V60 -> 0 | X61: =V61+Y60-X60 -> 0 | Z61: =X61+AA60-Z60 -> 0 | AB61: =Z61+AC60-AB60 -> 0 | AD61: =AB61+AE60-AD60 -> 0 | AF61: =AD61+AG60-AF60 -> 0 | AH61: =AF61+AI60-AH60 -> 0 | AJ61: =AH61+AK60-AJ60 -> 0 | AL61: =AJ61+AM60-AL60 -> 0 | AN61: =AL61+AO60-AN60 -> 0 | AP61: =AN61+AQ60-AP60 -> 0 | AR61: =AP61+AS60-AR60 -> 0 | AT61: =AR61+AU60-AT60 -> 0 | AV61: =AT61+AW60-AV60 -> 0 | AX61: =AV61+AY60-AX60 -> 0 | AZ61: =AX61+BA60-AZ60 -> 0 | BB61: =AZ61+BC60-BB60 -> 0 | BD61: =BB61+BE60-BD60 -> 0 | BF61: =BD61+BG60-BF60 -> 0 | BH61: =BF61+BI60-BH60 -> 0 | BJ61: =BH61+BK60-BJ60 -> 0
A62: Coût d'achat unitario | B62: 4498
A63: Proveedor
A64: Valor unitario | B64: =B62 -> 4498 | D64: =D62 -> 0 | F64: =F62 -> 0 | H64: =H62 -> 0 | J64: =J62 -> 0 | L64: =L62 -> 0 | N64: =N62 -> 0 | P64: =P62 -> 0 | R64: =R62 -> 0 | T64: =T62 -> 0 | V64: =V62 -> 0 | X64: =X62 -> 0 | Z64: =Z62 -> 0 | AB64: =AB62 -> 0 | AD64: =AD62 -> 0 | AF64: =AF62 -> 0 | AH64: =AH62 -> 0 | AJ64: =AJ62 -> 0 | AL64: =AL62 -> 0 | AN64: =AN62 -> 0 | AP64: =AP62 -> 0 | AR64: =AR62 -> 0 | AT64: =AT62 -> 0 | AV64: =AV62 -> 0 | AX64: =AX62 -> 0 | AZ64: =AZ62 -> 0 | BB64: =BB62 -> 0 | BD64: =BD62 -> 0 | BF64: =BF62 -> 0 | BH64: =BH62 -> 0 | BJ64: =BJ62 -> 0
A65: Valor media | D65: =D68/D61 -> #DIV/0! | F65: =F68/F61 -> #DIV/0! | H65: =H68/H61 -> #DIV/0! | J65: =J68/J61 -> #DIV/0! | L65: =L68/L61 -> #DIV/0! | N65: =N68/N61 -> #DIV/0! | P65: =P68/P61 -> #DIV/0! | R65: =R68/R61 -> #DIV/0! | T65: =T68/T61 -> #DIV/0! | V65: =V68/V61 -> #DIV/0! | X65: =X68/X61 -> #DIV/0! | Z65: =Z68/Z61 -> #DIV/0! | AB65: =AB68/AB61 -> #DIV/0! | AD65: =AD68/AD61 -> #DIV/0! | AF65: =AF68/AF61 -> #DIV/0! | AH65: =AH68/AH61 -> #DIV/0! | AJ65: =AJ68/AJ61 -> #DIV/0! | AL65: =AL68/AL61 -> #DIV/0! | AN65: =AN68/AN61 -> #DIV/0! | AP65: =AP68/AP61 -> #DIV/0! | AR65: =AR68/AR61 -> #DIV/0! | AT65: =AT68/AT61 -> #DIV/0! | AV65: =AV68/AV61 -> #DIV/0! | AX65: =AX68/AX61 -> #DIV/0! | AZ65: =AZ68/AZ61 -> #DIV/0! | BB65: =BB68/BB61 -> #DIV/0! | BD65: =BD68/BD61 -> #DIV/0! | BF65: =BF68/BF61 -> #DIV/0! | BH65: =BH68/BH61 -> #DIV/0! | BJ65: =BJ68/BJ61 -> #DIV/0!
A66: Entrée | B66: =C60*B62 -> 0 | D66: =E60*D62 -> 0 | F66: =G60*F62 -> 0 | H66: =I60*H62 -> 0 | J66: =K60*J62 -> 0 | L66: =M60*L62 -> 0 | N66: =O60*N62 -> 0 | P66: =Q60*P62 -> 0 | R66: =S60*R62 -> 0 | T66: =U60*T62 -> 0 | V66: =W60*V62 -> 0 | X66: =Y60*X62 -> 0 | Z66: =AA60*Z62 -> 0 | AB66: =AC60*AB62 -> 0 | AD66: =AE60*AD62 -> 0 | AF66: =AG60*AF62 -> 0 | AH66: =AI60*AH62 -> 0 | AJ66: =AK60*AJ62 -> 0 | AL66: =AM60*AL62 -> 0 | AN66: =AO60*AN62 -> 0 | AP66: =AQ60*AP62 -> 0 | AR66: =AS60*AR62 -> 0 | AT66: =AU60*AT62 -> 0 | AV66: =AW60*AV62 -> 0 | AX66: =AY60*AX62 -> 0 | AZ66: =BA60*AZ62 -> 0 | BB66: =BC60*BB62 -> 0 | BD66: =BE60*BD62 -> 0 | BF66: =BG60*BF62 -> 0 | BH66: =BI60*BH62 -> 0 | BJ66: =BK60*BJ62 -> 0
A67: Sorties | B67: =B60*B62 -> 0 | D67: =D60*D62 -> 0 | F67: =F60*F62 -> 0 | H67: =H60*H62 -> 0 | J67: =J60*J62 -> 0 | L67: =L60*L62 -> 0 | N67: =N60*N62 -> 0 | P67: =P60*P62 -> 0 | R67: =R60*R62 -> 0 | T67: =T60*T62 -> 0 | V67: =V60*V62 -> 0 | X67: =X60*X62 -> 0 | Z67: =Z60*Z62 -> 0 | AB67: =AB60*AB62 -> 0 | AD67: =AD60*AD62 -> 0 | AF67: =AF60*AF62 -> 0 | AH67: =AH60*AH62 -> 0 | AJ67: =AJ60*AJ62 -> 0 | AL67: =AL60*AL62 -> 0 | AN67: =AN60*AN62 -> 0 | AP67: =AP60*AP62 -> 0 | AR67: =AR60*AR62 -> 0 | AT67: =AT60*AT62 -> 0 | AV67: =AV60*AV62 -> 0 | AX67: =AX60*AX62 -> 0 | AZ67: =AZ60*AZ62 -> 0 | BB67: =BB60*BB62 -> 0 | BD67: =BD60*BD62 -> 0 | BF67: =BF60*BF62 -> 0 | BH67: =BH60*BH62 -> 0 | BJ67: =BJ60*BJ62 -> 0
A68: Valor Stock | B68: =B61*B64 -> 0 | D68: =B68+(E60-D60)*D64 -> 0 | F68: =D68+(G60-F60)*F64 -> 0 | H68: =F68+(I60-H60)*H64 -> 0 | J68: =H68+(K60-J60)*J64 -> 0 | L68: =J68+(M60-L60)*L64 -> 0 | N68: =L68+(O60-N60)*N64 -> 0 | P68: =N68+(Q60-P60)*P64 -> 0 | R68: =P68+(S60-R60)*R64 -> 0 | T68: =R68+(U60-T60)*T64 -> 0 | V68: =T68+(W60-V60)*V64 -> 0 | X68: =V68+(Y60-X60)*X64 -> 0 | Z68: =X68+(AA60-Z60)*Z64 -> 0 | AB68: =Z68+(AC60-AB60)*AB64 -> 0 | AD68: =AB68+(AE60-AD60)*AD64 -> 0 | AF68: =AD68+(AG60-AF60)*AF64 -> 0 | AH68: =AF68+(AI60-AH60)*AH64 -> 0 | AJ68: =AH68+(AK60-AJ60)*AJ64 -> 0 | AL68: =AJ68+(AM60-AL60)*AL64 -> 0 | AN68: =AL68+(AO60-AN60)*AN64 -> 0 | AP68: =AN68+(AQ60-AP60)*AP64 -> 0 | AR68: =AP68+(AS60-AR60)*AR64 -> 0 | AT68: =AR68+(AU60-AT60)*AT64 -> 0 | AV68: =AT68+(AW60-AV60)*AV64 -> 0 | AX68: =AV68+(AY60-AX60)*AX64 -> 0 | AZ68: =AX68+(BA60-AZ60)*AZ64 -> 0 | BB68: =AZ68+(BC60-BB60)*BB64 -> 0 | BD68: =BB68+(BE60-BD60)*BD64 -> 0 | BF68: =BD68+(BG60-BF60)*BF64 -> 0 | BH68: =BF68+(BI60-BH60)*BH64 -> 0 | BJ68: =BH68+(BK60-BJ60)*BJ64 -> 0
A71: =INDEX(TABLEAU!B:C,(ROW()-1)/14+4,1)&" "&INDEX(TABLEAU!B:C,(ROW()-1)/14+4,2) -> Aji Chileno traverso 500 grs
A72: {=INDEX(A82:BK82,MAX(IF(A82:BK82>0,COLUMN(A82:BK82))))} -> Valor Stock | B72: 42064 | D72: 42065 | F72: 42066 | H72: 42067 | J72: 42068 | L72: 42069 | N72: 42070 | P72: 42071 | R72: 42072 | T72: 42073 | V72: 42074 | X72: 42075 | Z72: 42076 | AB72: 42077 | AD72: 42078 | AF72: 42079 | AH72: 42080 | AJ72: 42081 | AL72: 42082 | AN72: 42083 | AP72: 42084 | AR72: 42085 | AT72: 42086 | AV72: 42087 | AX72: 42088 | AZ72: 42089 | BB72: 42090 | BD72: 42091 | BF72: 42092 | BH72: 42093 | BJ72: 42094
B73: "-" | C73: "+" | D73: "-" | E73: "+" | F73: "-" | G73: "+" | H73: "-" | I73: "+" | J73: "-" | K73: "+" | L73: "-" | M73: "+" | N73: "-" | O73: "+" | P73: "-" | Q73: "+" | R73: "-" | S73: "+" | T73: "-" | U73: "+" | V73: "-" | W73: "+" | X73: "-" | Y73: "+" | Z73: "-" | AA73: "+" | AB73: "-" | AC73: "+" | AD73: "-" | AE73: "+" | AF73: "-" | AG73: "+" | AH73: "-" | AI73: "+" | AJ73: "-" | AK73: "+" | AL73: "-" | AM73: "+" | AN73: "-" | AO73: "+" | AP73: "-" | AQ73: "+" | AR73: "-" | AS73: "+" | AT73: "-" | AU73: "+" | AV73: "-" | AW73: "+" | AX73: "-" | AY73: "+" | AZ73: "-" | BA73: "+" | BB73: "-" | BC73: "+" | BD73: "-" | BE73: "+" | BF73: "-" | BG73: "+" | BH73: "-" | BI73: "+" | BJ73: "-" | BK73: "+"
A74: =INDEX(TABLEAU!$A:$A,(ROW()-4)/14+4,1) -> 0 | B74: =INDEX(TABLEAU!$C:$BO,(ROW()-4)/14+4,COLUMN()) -> 0 | C74: =INDEX(TABLEAU!$C:$BO,(ROW()-4)/14+4,COLUMN()) -> 0 | D74: =INDEX(TABLEAU!$C:$BO,(ROW()-4)/14+4,COLUMN()) -> 0 | E74: =INDEX(TABLEAU!$C:$BO,(ROW()-4)/14+4,COLUMN()) -> 0 | F74: =INDEX(TABLEAU!$C:$BO,(ROW()-4)/14+4,COLUMN()) -> 0 | G74: =INDEX(TABLEAU!$C:$BO,(ROW()-4)/14+4,COLUMN()) -> 0 | H74: =INDEX(TABLEAU!$C:$BO,(ROW()-4)/14+4,COLUMN()) -> 0 | I74: =INDEX(TABLEAU!$C:$BO,(ROW()-4)/14+4,COLUMN()) -> 0 | ... BK74: =INDEX(TABLEAU!$C:$BO,(ROW()-4)/14+4,COLUMN()) -> 0
A75: Sotck actualiza | B75: =A74+(C74-B74) -> 0 | D75: =B75+E74-D74 -> 0 | F75: =D75+G74-F74 -> 0 | H75: =F75+I74-H74 -> 0 | J75: =H75+K74-J74 -> 0 | L75: =J75+M74-L74 -> 0 | N75: =L75+O74-N74 -> 0 | P75: =N75+Q74-P74 -> 0 | R75: =P75+S74-R74 -> 0 | T75: =R75+U74-T74 -> 0 | V75: =T75+W74-V74 -> 0 | X75: =V75+Y74-X74 -> 0 | Z75: =X75+AA74-Z74 -> 0 | AB75: =Z75+AC74-AB74 -> 0 | AD75: =AB75+AE74-AD74 -> 0 | AF75: =AD75+AG74-AF74 -> 0 | AH75: =AF75+AI74-AH74 -> 0 | AJ75: =AH75+AK74-AJ74 -> 0 | AL75: =AJ75+AM74-AL74 -> 0 | AN75: =AL75+AO74-AN74 -> 0 | AP75: =AN75+AQ74-AP74 -> 0 | AR75: =AP75+AS74-AR74 -> 0 | AT75: =AR75+AU74-AT74 -> 0 | AV75: =AT75+AW74-AV74 -> 0 | AX75: =AV75+AY74-AX74 -> 0 | AZ75: =AX75+BA74-AZ74 -> 0 | BB75: =AZ75+BC74-BB74 -> 0 | BD75: =BB75+BE74-BD74 -> 0 | BF75: =BD75+BG74-BF74 -> 0 | BH75: =BF75+BI74-BH74 -> 0 | BJ75: =BH75+BK74-BJ74 -> 0
A76: Coût d'achat unitario | B76: 4498
A77: Proveedor
A78: Valor unitario | B78: =B76 -> 4498 | D78: =D76 -> 0 | F78: =F76 -> 0 | H78: =H76 -> 0 | J78: =J76 -> 0 | L78: =L76 -> 0 | N78: =N76 -> 0 | P78: =P76 -> 0 | R78: =R76 -> 0 | T78: =T76 -> 0 | V78: =V76 -> 0 | X78: =X76 -> 0 | Z78: =Z76 -> 0 | AB78: =AB76 -> 0 | AD78: =AD76 -> 0 | AF78: =AF76 -> 0 | AH78: =AH76 -> 0 | AJ78: =AJ76 -> 0 | AL78: =AL76 -> 0 | AN78: =AN76 -> 0 | AP78: =AP76 -> 0 | AR78: =AR76 -> 0 | AT78: =AT76 -> 0 | AV78: =AV76 -> 0 | AX78: =AX76 -> 0 | AZ78: =AZ76 -> 0 | BB78: =BB76 -> 0 | BD78: =BD76 -> 0 | BF78: =BF76 -> 0 | BH78: =BH76 -> 0 | BJ78: =BJ76 -> 0
A79: Valor media | D79: =D82/D75 -> #DIV/0! | F79: =F82/F75 -> #DIV/0! | H79: =H82/H75 -> #DIV/0! | J79: =J82/J75 -> #DIV/0! | L79: =L82/L75 -> #DIV/0! | N79: =N82/N75 -> #DIV/0! | P79: =P82/P75 -> #DIV/0! | R79: =R82/R75 -> #DIV/0! | T79: =T82/T75 -> #DIV/0! | V79: =V82/V75 -> #DIV/0! | X79: =X82/X75 -> #DIV/0! | Z79: =Z82/Z75 -> #DIV/0! | AB79: =AB82/AB75 -> #DIV/0! | AD79: =AD82/AD75 -> #DIV/0! | AF79: =AF82/AF75 -> #DIV/0! | AH79: =AH82/AH75 -> #DIV/0! | AJ79: =AJ82/AJ75 -> #DIV/0! | AL79: =AL82/AL75 -> #DIV/0! | AN79: =AN82/AN75 -> #DIV/0! | AP79: =AP82/AP75 -> #DIV/0! | AR79: =AR82/AR75 -> #DIV/0! | AT79: =AT82/AT75 -> #DIV/0! | AV79: =AV82/AV75 -> #DIV/0! | AX79: =AX82/AX75 -> #DIV/0! | AZ79: =AZ82/AZ75 -> #DIV/0! | BB79: =BB82/BB75 -> #DIV/0! | BD79: =BD82/BD75 -> #DIV/0! | BF79: =BF82/BF75 -> #DIV/0! | BH79: =BH82/BH75 -> #DIV/0! | BJ79: =BJ82/BJ75 -> #DIV/0!
A80: Entrée | B80: =C74*B76 -> 0 | D80: =E74*D76 -> 0 | F80: =G74*F76 -> 0 | H80: =I74*H76 -> 0 | J80: =K74*J76 -> 0 | L80: =M74*L76 -> 0 | N80: =O74*N76 -> 0 | P80: =Q74*P76 -> 0 | R80: =S74*R76 -> 0 | T80: =U74*T76 -> 0 | V80: =W74*V76 -> 0 | X80: =Y74*X76 -> 0 | Z80: =AA74*Z76 -> 0 | AB80: =AC74*AB76 -> 0 | AD80: =AE74*AD76 -> 0 | AF80: =AG74*AF76 -> 0 | AH80: =AI74*AH76 -> 0 | AJ80: =AK74*AJ76 -> 0 | AL80: =AM74*AL76 -> 0 | AN80: =AO74*AN76 -> 0 | AP80: =AQ74*AP76 -> 0 | AR80: =AS74*AR76 -> 0 | AT80: =AU74*AT76 -> 0 | AV80: =AW74*AV76 -> 0 | AX80: =AY74*AX76 -> 0 | AZ80: =BA74*AZ76 -> 0 | BB80: =BC74*BB76 -> 0 | BD80: =BE74*BD76 -> 0 | BF80: =BG74*BF76 -> 0 | BH80: =BI74*BH76 -> 0 | BJ80: =BK74*BJ76 -> 0
A81: Sorties | B81: =B74*B76 -> 0 | D81: =D74*D76 -> 0 | F81: =F74*F76 -> 0 | H81: =H74*H76 -> 0 | J81: =J74*J76 -> 0 | L81: =L74*L76 -> 0 | N81: =N74*N76 -> 0 | P81: =P74*P76 -> 0 | R81: =R74*R76 -> 0 | T81: =T74*T76 -> 0 | V81: =V74*V76 -> 0 | X81: =X74*X76 -> 0 | Z81: =Z74*Z76 -> 0 | AB81: =AB74*AB76 -> 0 | AD81: =AD74*AD76 -> 0 | AF81: =AF74*AF76 -> 0 | AH81: =AH74*AH76 -> 0 | AJ81: =AJ74*AJ76 -> 0 | AL81: =AL74*AL76 -> 0 | AN81: =AN74*AN76 -> 0 | AP81: =AP74*AP76 -> 0 | AR81: =AR74*AR76 -> 0 | AT81: =AT74*AT76 -> 0 | AV81: =AV74*AV76 -> 0 | AX81: =AX74*AX76 -> 0 | AZ81: =AZ74*AZ76 -> 0 | BB81: =BB74*BB76 -> 0 | BD81: =BD74*BD76 -> 0 | BF81: =BF74*BF76 -> 0 | BH81: =BH74*BH76 -> 0 | BJ81: =BJ74*BJ76 -> 0
A82: Valor Stock | B82: =B75*B78 -> 0 | D82: =B82+(E74-D74)*D78 -> 0 | F82: =D82+(G74-F74)*F78 -> 0 | H82: =F82+(I74-H74)*H78 -> 0 | J82: =H82+(K74-J74)*J78 -> 0 | L82: =J82+(M74-L74)*L78 -> 0 | N82: =L82+(O74-N74)*N78 -> 0 | P82: =N82+(Q74-P74)*P78 -> 0 | R82: =P82+(S74-R74)*R78 -> 0 | T82: =R82+(U74-T74)*T78 -> 0 | V82: =T82+(W74-V74)*V78 -> 0 | X82: =V82+(Y74-X74)*X78 -> 0 | Z82: =X82+(AA74-Z74)*Z78 -> 0 | AB82: =Z82+(AC74-AB74)*AB78 -> 0 | AD82: =AB82+(AE74-AD74)*AD78 -> 0 | AF82: =AD82+(AG74-AF74)*AF78 -> 0 | AH82: =AF82+(AI74-AH74)*AH78 -> 0 | AJ82: =AH82+(AK74-AJ74)*AJ78 -> 0 | AL82: =AJ82+(AM74-AL74)*AL78 -> 0 | AN82: =AL82+(AO74-AN74)*AN78 -> 0 | AP82: =AN82+(AQ74-AP74)*AP78 -> 0 | AR82: =AP82+(AS74-AR74)*AR78 -> 0 | AT82: =AR82+(AU74-AT74)*AT78 -> 0 | AV82: =AT82+(AW74-AV74)*AV78 -> 0 | AX82: =AV82+(AY74-AX74)*AX78 -> 0 | AZ82: =AX82+(BA74-AZ74)*AZ78 -> 0 | BB82: =AZ82+(BC74-BB74)*BB78 -> 0 | BD82: =BB82+(BE74-BD74)*BD78 -> 0 | BF82: =BD82+(BG74-BF74)*BF78 -> 0 | BH82: =BF82+(BI74-BH74)*BH78 -> 0 | BJ82: =BH82+(BK74-BJ74)*BJ78 -> 0
A85: =INDEX(TABLEAU!B:C,(ROW()-1)/14+4,1)&" "&INDEX(TABLEAU!B:C,(ROW()-1)/14+4,2) -> Aji merken 1kg
A86: {=INDEX(A96:BK96,MAX(IF(A96:BK96>0,COLUMN(A96:BK96))))} -> Valor Stock | B86: 42064 | D86: 42065 | F86: 42066 | H86: 42067 | J86: 42068 | L86: 42069 | N86: 42070 | P86: 42071 | R86: 42072 | T86: 42073 | V86: 42074 | X86: 42075 | Z86: 42076 | AB86: 42077 | AD86: 42078 | AF86: 42079 | AH86: 42080 | AJ86: 42081 | AL86: 42082 | AN86: 42083 | AP86: 42084 | AR86: 42085 | AT86: 42086 | AV86: 42087 | AX86: 42088 | AZ86: 42089 | BB86: 42090 | BD86: 42091 | BF86: 42092 | BH86: 42093 | BJ86: 42094
B87: "-" | C87: "+" | D87: "-" | E87: "+" | F87: "-" | G87: "+" | H87: "-" | I87: "+" | J87: "-" | K87: "+" | L87: "-" | M87: "+" | N87: "-" | O87: "+" | P87: "-" | Q87: "+" | R87: "-" | S87: "+" | T87: "-" | U87: "+" | V87: "-" | W87: "+" | X87: "-" | Y87: "+" | Z87: "-" | AA87: "+" | AB87: "-" | AC87: "+" | AD87: "-" | AE87: "+" | AF87: "-" | AG87: "+" | AH87: "-" | AI87: "+" | AJ87: "-" | AK87: "+" | AL87: "-" | AM87: "+" | AN87: "-" | AO87: "+" | AP87: "-" | AQ87: "+" | AR87: "-" | AS87: "+" | AT87: "-" | AU87: "+" | AV87: "-" | AW87: "+" | AX87: "-" | AY87: "+" | AZ87: "-" | BA87: "+" | BB87: "-" | BC87: "+" | BD87: "-" | BE87: "+" | BF87: "-" | BG87: "+" | BH87: "-" | BI87: "+" | BJ87: "-" | BK87: "+"
A88: =INDEX(TABLEAU!$A:$A,(ROW()-4)/14+4,1) -> 0 | B88: =INDEX(TABLEAU!$C:$BO,(ROW()-4)/14+4,COLUMN()) -> 0 | C88: =INDEX(TABLEAU!$C:$BO,(ROW()-4)/14+4,COLUMN()) -> 0 | D88: =INDEX(TABLEAU!$C:$BO,(ROW()-4)/14+4,COLUMN()) -> 0 | E88: =INDEX(TABLEAU!$C:$BO,(ROW()-4)/14+4,COLUMN()) -> 0 | F88: =INDEX(TABLEAU!$C:$BO,(ROW()-4)/14+4,COLUMN()) -> 0 | G88: =INDEX(TABLEAU!$C:$BO,(ROW()-4)/14+4,COLUMN()) -> 0 | H88: =INDEX(TABLEAU!$C:$BO,(ROW()-4)/14+4,COLUMN()) -> 0 | I88: =INDEX(TABLEAU!$C:$BO,(ROW()-4)/14+4,COLUMN()) -> 0 | ... BK88: =INDEX(TABLEAU!$C:$BO,(ROW()-4)/14+4,COLUMN()) -> 0
A89: Sotck actualiza | B89: =A88+(C88-B88) -> 0 | D89: =B89+(E88-D88) -> 0 | F89: =D89+(G88-F88) -> 0 | H89: =F89+(I88-H88) -> 0 | J89: =H89+(K88-J88) -> 0 | L89: =J89+(M88-L88) -> 0 | N89: =L89+(O88-N88) -> 0 | P89: =N89+(Q88-P88) -> 0 | R89: =P89+(S88-R88) -> 0 | T89: =R89+(U88-T88) -> 0 | V89: =T89+(W88-V88) -> 0 | X89: =V89+(Y88-X88) -> 0 | Z89: =X89+(AA88-Z88) -> 0 | AB89: =Z89+(AC88-AB88) -> 0 | AD89: =AB89+(AE88-AD88) -> 0 | AF89: =AD89+(AG88-AF88) -> 0 | AH89: =AF89+(AI88-AH88) -> 0 | AJ89: =AH89+(AK88-AJ88) -> 0 | AL89: =AJ89+(AM88-AL88) -> 0 | AN89: =AL89+(AO88-AN88) -> 0 | AP89: =AN89+(AQ88-AP88) -> 0 | AR89: =AP89+(AS88-AR88) -> 0 | AT89: =AR89+(AU88-AT88) -> 0 | AV89: =AT89+(AW88-AV88) -> 0 | AX89: =AV89+(AY88-AX88) -> 0 | AZ89: =AX89+(BA88-AZ88) -> 0 | BB89: =AZ89+(BC88-BB88) -> 0 | BD89: =BB89+(BE88-BD88) -> 0 | BF89: =BD89+(BG88-BF88) -> 0 | BH89: =BF89+(BI88-BH88) -> 0 | BJ89: =BH89+(BK88-BJ88) -> 0
A90: Coût d'achat unitario | B90: 1755
A91: Proveedor
A92: Valor unitario | B92: =B90 -> 1755 | D92: =D90 -> 0 | F92: =F90 -> 0 | H92: =H90 -> 0 | J92: =J90 -> 0 | L92: =L90 -> 0 | N92: =N90 -> 0 | P92: =P90 -> 0 | R92: =R90 -> 0 | T92: =T90 -> 0 | V92: =V90 -> 0 | X92: =X90 -> 0 | Z92: =Z90 -> 0 | AB92: =AB90 -> 0 | AD92: =AD90 -> 0 | AF92: =AF90 -> 0 | AH92: =AH90 -> 0 | AJ92: =AJ90 -> 0 | AL92: =AL90 -> 0 | AN92: =AN90 -> 0 | AP92: =AP90 -> 0 | AR92: =AR90 -> 0 | AT92: =AT90 -> 0 | AV92: =AV90 -> 0 | AX92: =AX90 -> 0 | AZ92: =AZ90 -> 0 | BB92: =BB90 -> 0 | BD92: =BD90 -> 0 | BF92: =BF90 -> 0 | BH92: =BH90 -> 0 | BJ92: =BJ90 -> 0
A93: Valor media | D93: =D96/D89 -> #DIV/0! | F93: =F96/F89 -> #DIV/0! | H93: =H96/H89 -> #DIV/0! | J93: =J96/J89 -> #DIV/0! | L93: =L96/L89 -> #DIV/0! | N93: =N96/N89 -> #DIV/0! | P93: =P96/P89 -> #DIV/0! | R93: =R96/R89 -> #DIV/0! | T93: =T96/T89 -> #DIV/0! | V93: =V96/V89 -> #DIV/0! | X93: =X96/X89 -> #DIV/0! | Z93: =Z96/Z89 -> #DIV/0! | AB93: =AB96/AB89 -> #DIV/0! | AD93: =AD96/AD89 -> #DIV/0! | AF93: =AF96/AF89 -> #DIV/0! | AH93: =AH96/AH89 -> #DIV/0! | AJ93: =AJ96/AJ89 -> #DIV/0! | AL93: =AL96/AL89 -> #DIV/0! | AN93: =AN96/AN89 -> #DIV/0! | AP93: =AP96/AP89 -> #DIV/0! | AR93: =AR96/AR89 -> #DIV/0! | AT93: =AT96/AT89 -> #DIV/0! | AV93: =AV96/AV89 -> #DIV/0! | AX93: =AX96/AX89 -> #DIV/0! | AZ93: =AZ96/AZ89 -> #DIV/0! | BB93: =BB96/BB89 -> #DIV/0! | BD93: =BD96/BD89 -> #DIV/0! | BF93: =BF96/BF89 -> #DIV/0! | BH93: =BH96/BH89 -> #DIV/0! | BJ93: =BJ96/BJ89 -> #DIV/0!
A94: Entrée | B94: =C88*B90 -> 0 | D94: =E88*D90 -> 0 | F94: =G88*F90 -> 0 | H94: =I88*H90 -> 0 | J94: =K88*J90 -> 0 | L94: =M88*L90 -> 0 | N94: =O88*N90 -> 0 | P94: =Q88*P90 -> 0 | R94: =S88*R90 -> 0 | T94: =U88*T90 -> 0 | V94: =W88*V90 -> 0 | X94: =Y88*X90 -> 0 | Z94: =AA88*Z90 -> 0 | AB94: =AC88*AB90 -> 0 | AD94: =AE88*AD90 -> 0 | AF94: =AG88*AF90 -> 0 | AH94: =AI88*AH90 -> 0 | AJ94: =AK88*AJ90 -> 0 | AL94: =AM88*AL90 -> 0 | AN94: =AO88*AN90 -> 0 | AP94: =AQ88*AP90 -> 0 | AR94: =AS88*AR90 -> 0 | AT94: =AU88*AT90 -> 0 | AV94: =AW88*AV90 -> 0 | AX94: =AY88*AX90 -> 0 | AZ94: =BA88*AZ90 -> 0 | BB94: =BC88*BB90 -> 0 | BD94: =BE88*BD90 -> 0 | BF94: =BG88*BF90 -> 0 | BH94: =BI88*BH90 -> 0 | BJ94: =BK88*BJ90 -> 0
A95: Sorties | B95: =B88*B90 -> 0 | D95: =D88*D90 -> 0 | F95: =F88*F90 -> 0 | H95: =H88*H90 -> 0 | J95: =J88*J90 -> 0 | L95: =L88*L90 -> 0 | N95: =N88*N90 -> 0 | P95: =P88*P90 -> 0 | R95: =R88*R90 -> 0 | T95: =T88*T90 -> 0 | V95: =V88*V90 -> 0 | X95: =X88*X90 -> 0 | Z95: =Z88*Z90 -> 0 | AB95: =AB88*AB90 -> 0 | AD95: =AD88*AD90 -> 0 | AF95: =AF88*AF90 -> 0 | AH95: =AH88*AH90 -> 0 | AJ95: =AJ88*AJ90 -> 0 | AL95: =AL88*AL90 -> 0 | AN95: =AN88*AN90 -> 0 | AP95: =AP88*AP90 -> 0 | AR95: =AR88*AR90 -> 0 | AT95: =AT88*AT90 -> 0 | AV95: =AV88*AV90 -> 0 | AX95: =AX88*AX90 -> 0 | AZ95: =AZ88*AZ90 -> 0 | BB95: =BB88*BB90 -> 0 | BD95: =BD88*BD90 -> 0 | BF95: =BF88*BF90 -> 0 | BH95: =BH88*BH90 -> 0 | BJ95: =BJ88*BJ90 -> 0
A96: Valor Stock | B96: =B89*B92 -> 0 | D96: =B96+(E88-D88)*D92 -> 0 | F96: =D96+(G88-F88)*F92 -> 0 | H96: =F96+(I88-H88)*H92 -> 0 | J96: =H96+(K88-J88)*J92 -> 0 | L96: =J96+(M88-L88)*L92 -> 0 | N96: =L96+(O88-N88)*N92 -> 0 | P96: =N96+(Q88-P88)*P92 -> 0 | R96: =P96+(S88-R88)*R92 -> 0 | T96: =R96+(U88-T88)*T92 -> 0 | V96: =T96+(W88-V88)*V92 -> 0 | X96: =V96+(Y88-X88)*X92 -> 0 | Z96: =X96+(AA88-Z88)*Z92 -> 0 | AB96: =Z96+(AC88-AB88)*AB92 -> 0 | AD96: =AB96+(AE88-AD88)*AD92 -> 0 | AF96: =AD96+(AG88-AF88)*AF92 -> 0 | AH96: =AF96+(AI88-AH88)*AH92 -> 0 | AJ96: =AH96+(AK88-AJ88)*AJ92 -> 0 | AL96: =AJ96+(AM88-AL88)*AL92 -> 0 | AN96: =AL96+(AO88-AN88)*AN92 -> 0 | AP96: =AN96+(AQ88-AP88)*AP92 -> 0 | AR96: =AP96+(AS88-AR88)*AR92 -> 0 | AT96: =AR96+(AU88-AT88)*AT92 -> 0 | AV96: =AT96+(AW88-AV88)*AV92 -> 0 | AX96: =AV96+(AY88-AX88)*AX92 -> 0 | AZ96: =AX96+(BA88-AZ88)*AZ92 -> 0 | BB96: =AZ96+(BC88-BB88)*BB92 -> 0 | BD96: =BB96+(BE88-BD88)*BD92 -> 0 | BF96: =BD96+(BG88-BF88)*BF92 -> 0 | BH96: =BF96+(BI88-BH88)*BH92 -> 0 | BJ96: =BH96+(BK88-BJ88)*BJ92 -> 0
A99: =INDEX(TABLEAU!B:C,(ROW()-1)/14+4,1)&" "&INDEX(TABLEAU!B:C,(ROW()-1)/14+4,2) -> Aji traverso losificador 350 grs
A100: {=INDEX(A110:BK110,MAX(IF(A110:BK110>0,COLUMN(A110:BK110))))} -> Valor Stock | B100: 42064 | D100: 42065 | F100: 42066 | H100: 42067 | J100: 42068 | L100: 42069 | N100: 42070 | P100: 42071 | R100: 42072 | T100: 42073 | V100: 42074 | X100: 42075 | Z100: 42076 | AB100: 42077 | AD100: 42078 | AF100: 42079 | AH100: 42080 | AJ100: 42081 | AL100: 42082 | AN100: 42083 | AP100: 42084 | AR100: 42085 | AT100: 42086 | AV100: 42087 | AX100: 42088 | AZ100: 42089 | BB100: 42090 | BD100: 42091 | BF100: 42092 | BH100: 42093 | BJ100: 42094
B101: "-" | C101: "+" | D101: "-" | E101: "+" | F101: "-" | G101: "+" | H101: "-" | I101: "+" | J101: "-" | K101: "+" | L101: "-" | M101: "+" | N101: "-" | O101: "+" | P101: "-" | Q101: "+" | R101: "-" | S101: "+" | T101: "-" | U101: "+" | V101: "-" | W101: "+" | X101: "-" | Y101: "+" | Z101: "-" | AA101: "+" | AB101: "-" | AC101: "+" | AD101: "-" | AE101: "+" | AF101: "-" | AG101: "+" | AH101: "-" | AI101: "+" | AJ101: "-" | AK101: "+" | AL101: "-" | AM101: "+" | AN101: "-" | AO101: "+" | AP101: "-" | AQ101: "+" | AR101: "-" | AS101: "+" | AT101: "-" | AU101: "+" | AV101: "-" | AW101: "+" | AX101: "-" | AY101: "+" | AZ101: "-" | BA101: "+" | BB101: "-" | BC101: "+" | BD101: "-" | BE101: "+" | BF101: "-" | BG101: "+" | BH101: "-" | BI101: "+" | BJ101: "-" | BK101: "+"
A102: =INDEX(TABLEAU!$A:$A,(ROW()-4)/14+4,1) -> 0 | B102: =INDEX(TABLEAU!$C:$BO,(ROW()-4)/14+4,COLUMN()) -> 0 | C102: =INDEX(TABLEAU!$C:$BO,(ROW()-4)/14+4,COLUMN()) -> 0 | D102: =INDEX(TABLEAU!$C:$BO,(ROW()-4)/14+4,COLUMN()) -> 0 | E102: =INDEX(TABLEAU!$C:$BO,(ROW()-4)/14+4,COLUMN()) -> 0 | F102: =INDEX(TABLEAU!$C:$BO,(ROW()-4)/14+4,COLUMN()) -> 0 | G102: =INDEX(TABLEAU!$C:$BO,(ROW()-4)/14+4,COLUMN()) -> 0 | H102: =INDEX(TABLEAU!$C:$BO,(ROW()-4)/14+4,COLUMN()) -> 0 | I102: =INDEX(TABLEAU!$C:$BO,(ROW()-4)/14+4,COLUMN()) -> 0 | ... BK102: =INDEX(TABLEAU!$C:$BO,(ROW()-4)/14+4,COLUMN()) -> 0
A103: Sotck actualiza | B103: =A102+(C102-B102) -> 0 | D103: =B103+E102-D102 -> 0 | F103: =D103+G102-F102 -> 0 | H103: =F103+I102-H102 -> 0 | J103: =H103+K102-J102 -> 0 | L103: =J103+M102-L102 -> 0 | N103: =L103+O102-N102 -> 0 | P103: =N103+Q102-P102 -> 0 | R103: =P103+S102-R102 -> 0 | T103: =R103+U102-T102 -> 0 | V103: =T103+W102-V102 -> 0 | X103: =V103+Y102-X102 -> 0 | Z103: =X103+AA102-Z102 -> 0 | AB103: =Z103+AC102-AB102 -> 0 | AD103: =AB103+AE102-AD102 -> 0 | AF103: =AD103+AG102-AF102 -> 0 | AH103: =AF103+AI102-AH102 -> 0 | AJ103: =AH103+AK102-AJ102 -> 0 | AL103: =AJ103+AM102-AL102 -> 0 | AN103: =AL103+AO102-AN102 -> 0 | AP103: =AN103+AQ102-AP102 -> 0 | AR103: =AP103+AS102-AR102 -> 0 | AT103: =AR103+AU102-AT102 -> 0 | AV103: =AT103+AW102-AV102 -> 0 | AX103: =AV103+AY102-AX102 -> 0 | AZ103: =AX103+BA102-AZ102 -> 0 | BB103: =AZ103+BC102-BB102 -> 0 | BD103: =BB103+BE102-BD102 -> 0 | BF103: =BD103+BG102-BF102 -> 0 | BH103: =BF103+BI102-BH102 -> 0 | BJ103: =BH103+BK102-BJ102 -> 0
A104: Coût d'achat unitario | B104: 4498
A105: Proveedor
A106: Valor unitario | B106: =B104 -> 4498 | D106: =D104 -> 0 | F106: =F104 -> 0 | H106: =H104 -> 0 | J106: =J104 -> 0 | L106: =L104 -> 0 | N106: =N104 -> 0 | P106: =P104 -> 0 | R106: =R104 -> 0 | T106: =T104 -> 0 | V106: =V104 -> 0 | X106: =X104 -> 0 | Z106: =Z104 -> 0 | AB106: =AB104 -> 0 | AD106: =AD104 -> 0 | AF106: =AF104 -> 0 | AH106: =AH104 -> 0 | AJ106: =AJ104 -> 0 | AL106: =AL104 -> 0 | AN106: =AN104 -> 0 | AP106: =AP104 -> 0 | AR106: =AR104 -> 0 | AT106: =AT104 -> 0 | AV106: =AV104 -> 0 | AX106: =AX104 -> 0 | AZ106: =AZ104 -> 0 | BB106: =BB104 -> 0 | BD106: =BD104 -> 0 | BF106: =BF104 -> 0 | BH106: =BH104 -> 0 | BJ106: =BJ104 -> 0
A107: Valor media | D107: =D110/D103 -> #DIV/0! | F107: =F110/F103 -> #DIV/0! | H107: =H110/H103 -> #DIV/0! | J107: =J110/J103 -> #DIV/0! | L107: =L110/L103 -> #DIV/0! | N107: =N110/N103 -> #DIV/0! | P107: =P110/P103 -> #DIV/0! | R107: =R110/R103 -> #DIV/0! | T107: =T110/T103 -> #DIV/0! | V107: =V110/V103 -> #DIV/0! | X107: =X110/X103 -> #DIV/0! | Z107: =Z110/Z103 -> #DIV/0! | AB107: =AB110/AB103 -> #DIV/0! | AD107: =AD110/AD103 -> #DIV/0! | AF107: =AF110/AF103 -> #DIV/0! | AH107: =AH110/AH103 -> #DIV/0! | AJ107: =AJ110/AJ103 -> #DIV/0! | AL107: =AL110/AL103 -> #DIV/0! | AN107: =AN110/AN103 -> #DIV/0! | AP107: =AP110/AP103 -> #DIV/0! | AR107: =AR110/AR103 -> #DIV/0! | AT107: =AT110/AT103 -> #DIV/0! | AV107: =AV110/AV103 -> #DIV/0! | AX107: =AX110/AX103 -> #DIV/0! | AZ107: =AZ110/AZ103 -> #DIV/0! | BB107: =BB110/BB103 -> #DIV/0! | BD107: =BD110/BD103 -> #DIV/0! | BF107: =BF110/BF103 -> #DIV/0! | BH107: =BH110/BH103 -> #DIV/0! | BJ107: =BJ110/BJ103 -> #DIV/0!
A108: Entrée | B108: =C102*B104 -> 0 | D108: =E102*D104 -> 0 | F108: =G102*F104 -> 0 | H108: =I102*H104 -> 0 | J108: =K102*J104 -> 0 | L108: =M102*L104 -> 0 | N108: =O102*N104 -> 0 | P108: =Q102*P104 -> 0 | R108: =S102*R104 -> 0 | T108: =U102*T104 -> 0 | V108: =W102*V104 -> 0 | X108: =Y102*X104 -> 0 | Z108: =AA102*Z104 -> 0 | AB108: =AC102*AB104 -> 0 | AD108: =AE102*AD104 -> 0 | AF108: =AG102*AF104 -> 0 | AH108: =AI102*AH104 -> 0 | AJ108: =AK102*AJ104 -> 0 | AL108: =AM102*AL104 -> 0 | AN108: =AO102*AN104 -> 0 | AP108: =AQ102*AP104 -> 0 | AR108: =AS102*AR104 -> 0 | AT108: =AU102*AT104 -> 0 | AV108: =AW102*AV104 -> 0 | AX108: =AY102*AX104 -> 0 | AZ108: =BA102*AZ104 -> 0 | BB108: =BC102*BB104 -> 0 | BD108: =BE102*BD104 -> 0 | BF108: =BG102*BF104 -> 0 | BH108: =BI102*BH104 -> 0 | BJ108: =BK102*BJ104 -> 0
A109: Sorties | B109: =B102*B104 -> 0 | D109: =D102*D104 -> 0 | F109: =F102*F104 -> 0 | H109: =H102*H104 -> 0 | J109: =J102*J104 -> 0 | L109: =L102*L104 -> 0 | N109: =N102*N104 -> 0 | P109: =P102*P104 -> 0 | R109: =R102*R104 -> 0 | T109: =T102*T104 -> 0 | V109: =V102*V104 -> 0 | X109: =X102*X104 -> 0 | Z109: =Z102*Z104 -> 0 | AB109: =AB102*AB104 -> 0 | AD109: =AD102*AD104 -> 0 | AF109: =AF102*AF104 -> 0 | AH109: =AH102*AH104 -> 0 | AJ109: =AJ102*AJ104 -> 0 | AL109: =AL102*AL104 -> 0 | AN109: =AN102*AN104 -> 0 | AP109: =AP102*AP104 -> 0 | AR109: =AR102*AR104 -> 0 | AT109: =AT102*AT104 -> 0 | AV109: =AV102*AV104 -> 0 | AX109: =AX102*AX104 -> 0 | AZ109: =AZ102*AZ104 -> 0 | BB109: =BB102*BB104 -> 0 | BD109: =BD102*BD104 -> 0 | BF109: =BF102*BF104 -> 0 | BH109: =BH102*BH104 -> 0 | BJ109: =BJ102*BJ104 -> 0
A110: Valor Stock | B110: =B103*B106 -> 0 | D110: =B110+(E102-D102)*D106 -> 0 | F110: =D110+(G102-F102)*F106 -> 0 | H110: =F110+(I102-H102)*H106 -> 0 | J110: =H110+(K102-J102)*J106 -> 0 | L110: =J110+(M102-L102)*L106 -> 0 | N110: =L110+(O102-N102)*N106 -> 0 | P110: =N110+(Q102-P102)*P106 -> 0 | R110: =P110+(S102-R102)*R106 -> 0 | T110: =R110+(U102-T102)*T106 -> 0 | V110: =T110+(W102-V102)*V106 -> 0 | X110: =V110+(Y102-X102)*X106 -> 0 | Z110: =X110+(AA102-Z102)*Z106 -> 0 | AB110: =Z110+(AC102-AB102)*AB106 -> 0 | AD110: =AB110+(AE102-AD102)*AD106 -> 0 | AF110: =AD110+(AG102-AF102)*AF106 -> 0 | AH110: =AF110+(AI102-AH102)*AH106 -> 0 | AJ110: =AH110+(AK102-AJ102)*AJ106 -> 0 | AL110: =AJ110+(AM102-AL102)*AL106 -> 0 | AN110: =AL110+(AO102-AN102)*AN106 -> 0 | AP110: =AN110+(AQ102-AP102)*AP106 -> 0 | AR110: =AP110+(AS102-AR102)*AR106 -> 0 | AT110: =AR110+(AU102-AT102)*AT106 -> 0 | AV110: =AT110+(AW102-AV102)*AV106 -> 0 | AX110: =AV110+(AY102-AX102)*AX106 -> 0 | AZ110: =AX110+(BA102-AZ102)*AZ106 -> 0 | BB110: =AZ110+(BC102-BB102)*BB106 -> 0 | BD110: =BB110+(BE102-BD102)*BD106 -> 0 | BF110: =BD110+(BG102-BF102)*BF106 -> 0 | BH110: =BF110+(BI102-BH102)*BH106 -> 0 | BJ110: =BH110+(BK102-BJ102)*BJ106 -> 0
A113: =INDEX(TABLEAU!B:C,(ROW()-1)/14+4,1)&" "&INDEX(TABLEAU!B:C,(ROW()-1)/14+4,2) -> Arbolito 430 grs
A114: {=INDEX(A124:BK124,MAX(IF(A124:BK124>0,COLUMN(A124:BK124))))} -> Valor Stock | B114: 42064 | D114: 42065 | F114: 42066 | H114: 42067 | J114: 42068 | L114: 42069 | N114: 42070 | P114: 42071 | R114: 42072 | T114: 42073 | V114: 42074 | X114: 42075 | Z114: 42076 | AB114: 42077 | AD114: 42078 | AF114: 42079 | AH114: 42080 | AJ114: 42081 | AL114: 42082 | AN114: 42083 | AP114: 42084 | AR114: 42085 | AT114: 42086 | AV114: 42087 | AX114: 42088 | AZ114: 42089 | BB114: 42090 | BD114: 42091 | BF114: 42092 | BH114: 42093 | BJ114: 42094
B115: "-" | C115: "+" | D115: "-" | E115: "+" | F115: "-" | G115: "+" | H115: "-" | I115: "+" | J115: "-" | K115: "+" | L115: "-" | M115: "+" | N115: "-" | O115: "+" | P115: "-" | Q115: "+" | R115: "-" | S115: "+" | T115: "-" | U115: "+" | V115: "-" | W115: "+" | X115: "-" | Y115: "+" | Z115: "-" | AA115: "+" | AB115: "-" | AC115: "+" | AD115: "-" | AE115: "+" | AF115: "-" | AG115: "+" | AH115: "-" | AI115: "+" | AJ115: "-" | AK115: "+" | AL115: "-" | AM115: "+" | AN115: "-" | AO115: "+" | AP115: "-" | AQ115: "+" | AR115: "-" | AS115: "+" | AT115: "-" | AU115: "+" | AV115: "-" | AW115: "+" | AX115: "-" | AY115: "+" | AZ115: "-" | BA115: "+" | BB115: "-" | BC115: "+" | BD115: "-" | BE115: "+" | BF115: "-" | BG115: "+" | BH115: "-" | BI115: "+" | BJ115: "-" | BK115: "+"
A116: =INDEX(TABLEAU!$A:$A,(ROW()-4)/14+4,1) -> 0 | B116: =INDEX(TABLEAU!$C:$BO,(ROW()-4)/14+4,COLUMN()) -> 0 | C116: =INDEX(TABLEAU!$C:$BO,(ROW()-4)/14+4,COLUMN()) -> 0 | D116: =INDEX(TABLEAU!$C:$BO,(ROW()-4)/14+4,COLUMN()) -> 0 | E116: =INDEX(TABLEAU!$C:$BO,(ROW()-4)/14+4,COLUMN()) -> 0 | F116: =INDEX(TABLEAU!$C:$BO,(ROW()-4)/14+4,COLUMN()) -> 0 | G116: =INDEX(TABLEAU!$C:$BO,(ROW()-4)/14+4,COLUMN()) -> 0 | H116: =INDEX(TABLEAU!$C:$BO,(ROW()-4)/14+4,COLUMN()) -> 0 | I116: =INDEX(TABLEAU!$C:$BO,(ROW()-4)/14+4,COLUMN()) -> 0 | ... BK116: =INDEX(TABLEAU!$C:$BO,(ROW()-4)/14+4,COLUMN()) -> 0
...
