Workbook
Name BasePoint7: [1]Database!$H$2:$I$667
Name BasePoint8: [1]Database!$L$2:$M$5024
Name DIR: [1]Database!$A$20:$E$23
Name RT: [1]Database!$A$2:$C$4
Name ST: [1]Database!$A$8:$C$15

Sheet Villes et référence prix
A1: Villes: | B1: PR | C1: Min Amt | D1: 1 | E1: 500 | F1: 1000 | G1: 2000 | H1: 5000 | I1: 10000 | J1: 20000 | K1: 45000 | L1: 48000
A2: (ANNAPOLIS) | C2: =IFERROR(VLOOKUP(Tableau2[[#This Row],[PR]],'Taux sortant'!$I$9:$S$167,COLUMN(),0),"") | D2: =IFERROR(VLOOKUP(Tableau2[[#This Row],[PR]],'Taux sortant'!$I$9:$S$167,COLUMN(),0),"") | E2: =IFERROR(VLOOKUP(Tableau2[[#This Row],[PR]],'Taux sortant'!$I$9:$S$167,COLUMN(),0),"") | F2: =IFERROR(VLOOKUP(Tableau2[[#This Row],[PR]],'Taux sortant'!$I$9:$S$167,COLUMN(),0),"") | G2: =IFERROR(VLOOKUP(Tableau2[[#This Row],[PR]],'Taux sortant'!$I$9:$S$167,COLUMN(),0),"") | H2: =IFERROR(VLOOKUP(Tableau2[[#This Row],[PR]],'Taux sortant'!$I$9:$S$167,COLUMN(),0),"") | I2: =IFERROR(VLOOKUP(Tableau2[[#This Row],[PR]],'Taux sortant'!$I$9:$S$167,COLUMN(),0),"") | J2: =IFERROR(VLOOKUP(Tableau2[[#This Row],[PR]],'Taux sortant'!$I$9:$S$167,COLUMN(),0),"") | ... L2: =IFERROR(VLOOKUP(Tableau2[[#This Row],[PR]],'Taux sortant'!$I$9:$S$167,COLUMN(),0),"")
A3: (GUYSBOROUGH) | C3: =IFERROR(VLOOKUP(Tableau2[[#This Row],[PR]],'Taux sortant'!$I$9:$S$167,COLUMN(),0),"") | D3: =IFERROR(VLOOKUP(Tableau2[[#This Row],[PR]],'Taux sortant'!$I$9:$S$167,COLUMN(),0),"") | E3: =IFERROR(VLOOKUP(Tableau2[[#This Row],[PR]],'Taux sortant'!$I$9:$S$167,COLUMN(),0),"") | F3: =IFERROR(VLOOKUP(Tableau2[[#This Row],[PR]],'Taux sortant'!$I$9:$S$167,COLUMN(),0),"") | G3: =IFERROR(VLOOKUP(Tableau2[[#This Row],[PR]],'Taux sortant'!$I$9:$S$167,COLUMN(),0),"") | H3: =IFERROR(VLOOKUP(Tableau2[[#This Row],[PR]],'Taux sortant'!$I$9:$S$167,COLUMN(),0),"") | I3: =IFERROR(VLOOKUP(Tableau2[[#This Row],[PR]],'Taux sortant'!$I$9:$S$167,COLUMN(),0),"") | J3: =IFERROR(VLOOKUP(Tableau2[[#This Row],[PR]],'Taux sortant'!$I$9:$S$167,COLUMN(),0),"") | ... L3: =IFERROR(VLOOKUP(Tableau2[[#This Row],[PR]],'Taux sortant'!$I$9:$S$167,COLUMN(),0),"")
A4: (NORTHUMBERLAND) | C4: =IFERROR(VLOOKUP(Tableau2[[#This Row],[PR]],'Taux sortant'!$I$9:$S$167,COLUMN(),0),"") | D4: =IFERROR(VLOOKUP(Tableau2[[#This Row],[PR]],'Taux sortant'!$I$9:$S$167,COLUMN(),0),"") | E4: =IFERROR(VLOOKUP(Tableau2[[#This Row],[PR]],'Taux sortant'!$I$9:$S$167,COLUMN(),0),"") | F4: =IFERROR(VLOOKUP(Tableau2[[#This Row],[PR]],'Taux sortant'!$I$9:$S$167,COLUMN(),0),"") | G4: =IFERROR(VLOOKUP(Tableau2[[#This Row],[PR]],'Taux sortant'!$I$9:$S$167,COLUMN(),0),"") | H4: =IFERROR(VLOOKUP(Tableau2[[#This Row],[PR]],'Taux sortant'!$I$9:$S$167,COLUMN(),0),"") | I4: =IFERROR(VLOOKUP(Tableau2[[#This Row],[PR]],'Taux sortant'!$I$9:$S$167,COLUMN(),0),"") | J4: =IFERROR(VLOOKUP(Tableau2[[#This Row],[PR]],'Taux sortant'!$I$9:$S$167,COLUMN(),0),"") | ... L4: =IFERROR(VLOOKUP(Tableau2[[#This Row],[PR]],'Taux sortant'!$I$9:$S$167,COLUMN(),0),"")
A5: (OROMOCTO) | C5: =IFERROR(VLOOKUP(Tableau2[[#This Row],[PR]],'Taux sortant'!$I$9:$S$167,COLUMN(),0),"") | D5: =IFERROR(VLOOKUP(Tableau2[[#This Row],[PR]],'Taux sortant'!$I$9:$S$167,COLUMN(),0),"") | E5: =IFERROR(VLOOKUP(Tableau2[[#This Row],[PR]],'Taux sortant'!$I$9:$S$167,COLUMN(),0),"") | F5: =IFERROR(VLOOKUP(Tableau2[[#This Row],[PR]],'Taux sortant'!$I$9:$S$167,COLUMN(),0),"") | G5: =IFERROR(VLOOKUP(Tableau2[[#This Row],[PR]],'Taux sortant'!$I$9:$S$167,COLUMN(),0),"") | H5: =IFERROR(VLOOKUP(Tableau2[[#This Row],[PR]],'Taux sortant'!$I$9:$S$167,COLUMN(),0),"") | I5: =IFERROR(VLOOKUP(Tableau2[[#This Row],[PR]],'Taux sortant'!$I$9:$S$167,COLUMN(),0),"") | J5: =IFERROR(VLOOKUP(Tableau2[[#This Row],[PR]],'Taux sortant'!$I$9:$S$167,COLUMN(),0),"") | ... L5: =IFERROR(VLOOKUP(Tableau2[[#This Row],[PR]],'Taux sortant'!$I$9:$S$167,COLUMN(),0),"")
A6: (PETERBOROUGH) | C6: =IFERROR(VLOOKUP(Tableau2[[#This Row],[PR]],'Taux sortant'!$I$9:$S$167,COLUMN(),0),"") | D6: =IFERROR(VLOOKUP(Tableau2[[#This Row],[PR]],'Taux sortant'!$I$9:$S$167,COLUMN(),0),"") | E6: =IFERROR(VLOOKUP(Tableau2[[#This Row],[PR]],'Taux sortant'!$I$9:$S$167,COLUMN(),0),"") | F6: =IFERROR(VLOOKUP(Tableau2[[#This Row],[PR]],'Taux sortant'!$I$9:$S$167,COLUMN(),0),"") | G6: =IFERROR(VLOOKUP(Tableau2[[#This Row],[PR]],'Taux sortant'!$I$9:$S$167,COLUMN(),0),"") | H6: =IFERROR(VLOOKUP(Tableau2[[#This Row],[PR]],'Taux sortant'!$I$9:$S$167,COLUMN(),0),"") | I6: =IFERROR(VLOOKUP(Tableau2[[#This Row],[PR]],'Taux sortant'!$I$9:$S$167,COLUMN(),0),"") | J6: =IFERROR(VLOOKUP(Tableau2[[#This Row],[PR]],'Taux sortant'!$I$9:$S$167,COLUMN(),0),"") | ... L6: =IFERROR(VLOOKUP(Tableau2[[#This Row],[PR]],'Taux sortant'!$I$9:$S$167,COLUMN(),0),"")
A7: (SHELBURNE) | C7: =IFERROR(VLOOKUP(Tableau2[[#This Row],[PR]],'Taux sortant'!$I$9:$S$167,COLUMN(),0),"") | D7: =IFERROR(VLOOKUP(Tableau2[[#This Row],[PR]],'Taux sortant'!$I$9:$S$167,COLUMN(),0),"") | E7: =IFERROR(VLOOKUP(Tableau2[[#This Row],[PR]],'Taux sortant'!$I$9:$S$167,COLUMN(),0),"") | F7: =IFERROR(VLOOKUP(Tableau2[[#This Row],[PR]],'Taux sortant'!$I$9:$S$167,COLUMN(),0),"") | G7: =IFERROR(VLOOKUP(Tableau2[[#This Row],[PR]],'Taux sortant'!$I$9:$S$167,COLUMN(),0),"") | H7: =IFERROR(VLOOKUP(Tableau2[[#This Row],[PR]],'Taux sortant'!$I$9:$S$167,COLUMN(),0),"") | I7: =IFERROR(VLOOKUP(Tableau2[[#This Row],[PR]],'Taux sortant'!$I$9:$S$167,COLUMN(),0),"") | J7: =IFERROR(VLOOKUP(Tableau2[[#This Row],[PR]],'Taux sortant'!$I$9:$S$167,COLUMN(),0),"") | ... L7: =IFERROR(VLOOKUP(Tableau2[[#This Row],[PR]],'Taux sortant'!$I$9:$S$167,COLUMN(),0),"")
A8: 48 ROAD | B8: MONTAGUE, SOURIS | C8: =IFERROR(VLOOKUP(Tableau2[[#This Row],[PR]],'Taux sortant'!$I$9:$S$167,COLUMN(),0),"") | D8: =IFERROR(VLOOKUP(Tableau2[[#This Row],[PR]],'Taux sortant'!$I$9:$S$167,COLUMN(),0),"") | E8: =IFERROR(VLOOKUP(Tableau2[[#This Row],[PR]],'Taux sortant'!$I$9:$S$167,COLUMN(),0),"") | F8: =IFERROR(VLOOKUP(Tableau2[[#This Row],[PR]],'Taux sortant'!$I$9:$S$167,COLUMN(),0),"") | G8: =IFERROR(VLOOKUP(Tableau2[[#This Row],[PR]],'Taux sortant'!$I$9:$S$167,COLUMN(),0),"") | H8: =IFERROR(VLOOKUP(Tableau2[[#This Row],[PR]],'Taux sortant'!$I$9:$S$167,COLUMN(),0),"") | I8: =IFERROR(VLOOKUP(Tableau2[[#This Row],[PR]],'Taux sortant'!$I$9:$S$167,COLUMN(),0),"") | J8: =IFERROR(VLOOKUP(Tableau2[[#This Row],[PR]],'Taux sortant'!$I$9:$S$167,COLUMN(),0),"") | ... L8: =IFERROR(VLOOKUP(Tableau2[[#This Row],[PR]],'Taux sortant'!$I$9:$S$167,COLUMN(),0),"")
A9: ABBOTSFORD | B9: GRANBY | C9: =IFERROR(VLOOKUP(Tableau2[[#This Row],[PR]],'Taux sortant'!$I$9:$S$167,COLUMN(),0),"") -> 10.29 | D9: =IFERROR(VLOOKUP(Tableau2[[#This Row],[PR]],'Taux sortant'!$I$9:$S$167,COLUMN(),0),"") -> 8.12 | E9: =IFERROR(VLOOKUP(Tableau2[[#This Row],[PR]],'Taux sortant'!$I$9:$S$167,COLUMN(),0),"") -> 5.69 | F9: =IFERROR(VLOOKUP(Tableau2[[#This Row],[PR]],'Taux sortant'!$I$9:$S$167,COLUMN(),0),"") -> 4.52 | G9: =IFERROR(VLOOKUP(Tableau2[[#This Row],[PR]],'Taux sortant'!$I$9:$S$167,COLUMN(),0),"") -> 3.74 | H9: =IFERROR(VLOOKUP(Tableau2[[#This Row],[PR]],'Taux sortant'!$I$9:$S$167,COLUMN(),0),"") -> 3.28 | I9: =IFERROR(VLOOKUP(Tableau2[[#This Row],[PR]],'Taux sortant'!$I$9:$S$167,COLUMN(),0),"") -> 2.99 | J9: =IFERROR(VLOOKUP(Tableau2[[#This Row],[PR]],'Taux sortant'!$I$9:$S$167,COLUMN(),0),"") -> 0 | ... L9: =IFERROR(VLOOKUP(Tableau2[[#This Row],[PR]],'Taux sortant'!$I$9:$S$167,COLUMN(),0),"")
A10: ABBOTSFORD | B10: VANCOUVER* | C10: =IFERROR(VLOOKUP(Tableau2[[#This Row],[PR]],'Taux sortant'!$I$9:$S$167,COLUMN(),0),"") | D10: =IFERROR(VLOOKUP(Tableau2[[#This Row],[PR]],'Taux sortant'!$I$9:$S$167,COLUMN(),0),"") | E10: =IFERROR(VLOOKUP(Tableau2[[#This Row],[PR]],'Taux sortant'!$I$9:$S$167,COLUMN(),0),"") | F10: =IFERROR(VLOOKUP(Tableau2[[#This Row],[PR]],'Taux sortant'!$I$9:$S$167,COLUMN(),0),"") | G10: =IFERROR(VLOOKUP(Tableau2[[#This Row],[PR]],'Taux sortant'!$I$9:$S$167,COLUMN(),0),"") | H10: =IFERROR(VLOOKUP(Tableau2[[#This Row],[PR]],'Taux sortant'!$I$9:$S$167,COLUMN(),0),"") | I10: =IFERROR(VLOOKUP(Tableau2[[#This Row],[PR]],'Taux sortant'!$I$9:$S$167,COLUMN(),0),"") | J10: =IFERROR(VLOOKUP(Tableau2[[#This Row],[PR]],'Taux sortant'!$I$9:$S$167,COLUMN(),0),"") | ... L10: =IFERROR(VLOOKUP(Tableau2[[#This Row],[PR]],'Taux sortant'!$I$9:$S$167,COLUMN(),0),"")
A11: ABENAKIS | B11: MONTMAGNY | C11: =IFERROR(VLOOKUP(Tableau2[[#This Row],[PR]],'Taux sortant'!$I$9:$S$167,COLUMN(),0),"") -> 20.91 | D11: =IFERROR(VLOOKUP(Tableau2[[#This Row],[PR]],'Taux sortant'!$I$9:$S$167,COLUMN(),0),"") -> 16.62 | E11: =IFERROR(VLOOKUP(Tableau2[[#This Row],[PR]],'Taux sortant'!$I$9:$S$167,COLUMN(),0),"") -> 12.11 | F11: =IFERROR(VLOOKUP(Tableau2[[#This Row],[PR]],'Taux sortant'!$I$9:$S$167,COLUMN(),0),"") -> 9.71 | G11: =IFERROR(VLOOKUP(Tableau2[[#This Row],[PR]],'Taux sortant'!$I$9:$S$167,COLUMN(),0),"") -> 7 | H11: =IFERROR(VLOOKUP(Tableau2[[#This Row],[PR]],'Taux sortant'!$I$9:$S$167,COLUMN(),0),"") -> 4.81 | I11: =IFERROR(VLOOKUP(Tableau2[[#This Row],[PR]],'Taux sortant'!$I$9:$S$167,COLUMN(),0),"") -> 4.19 | J11: =IFERROR(VLOOKUP(Tableau2[[#This Row],[PR]],'Taux sortant'!$I$9:$S$167,COLUMN(),0),"") -> 0 | ... L11: =IFERROR(VLOOKUP(Tableau2[[#This Row],[PR]],'Taux sortant'!$I$9:$S$167,COLUMN(),0),"")
A12: ABERCORN | B12: GRANBY | C12: =IFERROR(VLOOKUP(Tableau2[[#This Row],[PR]],'Taux sortant'!$I$9:$S$167,COLUMN(),0),"") -> 10.29 | D12: =IFERROR(VLOOKUP(Tableau2[[#This Row],[PR]],'Taux sortant'!$I$9:$S$167,COLUMN(),0),"") -> 8.12 | E12: =IFERROR(VLOOKUP(Tableau2[[#This Row],[PR]],'Taux sortant'!$I$9:$S$167,COLUMN(),0),"") -> 5.69 | F12: =IFERROR(VLOOKUP(Tableau2[[#This Row],[PR]],'Taux sortant'!$I$9:$S$167,COLUMN(),0),"") -> 4.52 | G12: =IFERROR(VLOOKUP(Tableau2[[#This Row],[PR]],'Taux sortant'!$I$9:$S$167,COLUMN(),0),"") -> 3.74 | H12: =IFERROR(VLOOKUP(Tableau2[[#This Row],[PR]],'Taux sortant'!$I$9:$S$167,COLUMN(),0),"") -> 3.28 | I12: =IFERROR(VLOOKUP(Tableau2[[#This Row],[PR]],'Taux sortant'!$I$9:$S$167,COLUMN(),0),"") -> 2.99 | J12: =IFERROR(VLOOKUP(Tableau2[[#This Row],[PR]],'Taux sortant'!$I$9:$S$167,COLUMN(),0),"") -> 0 | ... L12: =IFERROR(VLOOKUP(Tableau2[[#This Row],[PR]],'Taux sortant'!$I$9:$S$167,COLUMN(),0),"")
A13: ABERCROMBIE | B13: NEW GLASGOW | C13: =IFERROR(VLOOKUP(Tableau2[[#This Row],[PR]],'Taux sortant'!$I$9:$S$167,COLUMN(),0),"") -> 16.93 | D13: =IFERROR(VLOOKUP(Tableau2[[#This Row],[PR]],'Taux sortant'!$I$9:$S$167,COLUMN(),0),"") -> 14.32 | E13: =IFERROR(VLOOKUP(Tableau2[[#This Row],[PR]],'Taux sortant'!$I$9:$S$167,COLUMN(),0),"") -> 11.27 | F13: =IFERROR(VLOOKUP(Tableau2[[#This Row],[PR]],'Taux sortant'!$I$9:$S$167,COLUMN(),0),"") -> 9.77 | G13: =IFERROR(VLOOKUP(Tableau2[[#This Row],[PR]],'Taux sortant'!$I$9:$S$167,COLUMN(),0),"") -> 8.41 | H13: =IFERROR(VLOOKUP(Tableau2[[#This Row],[PR]],'Taux sortant'!$I$9:$S$167,COLUMN(),0),"") -> 7.25 | I13: =IFERROR(VLOOKUP(Tableau2[[#This Row],[PR]],'Taux sortant'!$I$9:$S$167,COLUMN(),0),"") -> 6.31 | J13: =IFERROR(VLOOKUP(Tableau2[[#This Row],[PR]],'Taux sortant'!$I$9:$S$167,COLUMN(),0),"") -> 0 | ... L13: =IFERROR(VLOOKUP(Tableau2[[#This Row],[PR]],'Taux sortant'!$I$9:$S$167,COLUMN(),0),"")
A14: ABERCROMBIE POINT | B14: NEW GLASGOW | C14: =IFERROR(VLOOKUP(Tableau2[[#This Row],[PR]],'Taux sortant'!$I$9:$S$167,COLUMN(),0),"") -> 16.93 | D14: =IFERROR(VLOOKUP(Tableau2[[#This Row],[PR]],'Taux sortant'!$I$9:$S$167,COLUMN(),0),"") -> 14.32 | E14: =IFERROR(VLOOKUP(Tableau2[[#This Row],[PR]],'Taux sortant'!$I$9:$S$167,COLUMN(),0),"") -> 11.27 | F14: =IFERROR(VLOOKUP(Tableau2[[#This Row],[PR]],'Taux sortant'!$I$9:$S$167,COLUMN(),0),"") -> 9.77 | G14: =IFERROR(VLOOKUP(Tableau2[[#This Row],[PR]],'Taux sortant'!$I$9:$S$167,COLUMN(),0),"") -> 8.41 | H14: =IFERROR(VLOOKUP(Tableau2[[#This Row],[PR]],'Taux sortant'!$I$9:$S$167,COLUMN(),0),"") -> 7.25 | I14: =IFERROR(VLOOKUP(Tableau2[[#This Row],[PR]],'Taux sortant'!$I$9:$S$167,COLUMN(),0),"") -> 6.31 | J14: =IFERROR(VLOOKUP(Tableau2[[#This Row],[PR]],'Taux sortant'!$I$9:$S$167,COLUMN(),0),"") -> 0 | ... L14: =IFERROR(VLOOKUP(Tableau2[[#This Row],[PR]],'Taux sortant'!$I$9:$S$167,COLUMN(),0),"")
A15: ABERDEEN | B15: INVERNESS, INGONISH | C15: =IFERROR(VLOOKUP(Tableau2[[#This Row],[PR]],'Taux sortant'!$I$9:$S$167,COLUMN(),0),"") | D15: =IFERROR(VLOOKUP(Tableau2[[#This Row],[PR]],'Taux sortant'!$I$9:$S$167,COLUMN(),0),"") | E15: =IFERROR(VLOOKUP(Tableau2[[#This Row],[PR]],'Taux sortant'!$I$9:$S$167,COLUMN(),0),"") | F15: =IFERROR(VLOOKUP(Tableau2[[#This Row],[PR]],'Taux sortant'!$I$9:$S$167,COLUMN(),0),"") | G15: =IFERROR(VLOOKUP(Tableau2[[#This Row],[PR]],'Taux sortant'!$I$9:$S$167,COLUMN(),0),"") | H15: =IFERROR(VLOOKUP(Tableau2[[#This Row],[PR]],'Taux sortant'!$I$9:$S$167,COLUMN(),0),"") | I15: =IFERROR(VLOOKUP(Tableau2[[#This Row],[PR]],'Taux sortant'!$I$9:$S$167,COLUMN(),0),"") | J15: =IFERROR(VLOOKUP(Tableau2[[#This Row],[PR]],'Taux sortant'!$I$9:$S$167,COLUMN(),0),"") | ... L15: =IFERROR(VLOOKUP(Tableau2[[#This Row],[PR]],'Taux sortant'!$I$9:$S$167,COLUMN(),0),"")
A16: ABERFOYLE | B16: KITCHENER | C16: =IFERROR(VLOOKUP(Tableau2[[#This Row],[PR]],'Taux sortant'!$I$9:$S$167,COLUMN(),0),"") -> 11.64 | D16: =IFERROR(VLOOKUP(Tableau2[[#This Row],[PR]],'Taux sortant'!$I$9:$S$167,COLUMN(),0),"") -> 9.28 | E16: =IFERROR(VLOOKUP(Tableau2[[#This Row],[PR]],'Taux sortant'!$I$9:$S$167,COLUMN(),0),"") -> 6.6 | F16: =IFERROR(VLOOKUP(Tableau2[[#This Row],[PR]],'Taux sortant'!$I$9:$S$167,COLUMN(),0),"") -> 5.3 | G16: =IFERROR(VLOOKUP(Tableau2[[#This Row],[PR]],'Taux sortant'!$I$9:$S$167,COLUMN(),0),"") -> 4.37 | H16: =IFERROR(VLOOKUP(Tableau2[[#This Row],[PR]],'Taux sortant'!$I$9:$S$167,COLUMN(),0),"") -> 3.62 | I16: =IFERROR(VLOOKUP(Tableau2[[#This Row],[PR]],'Taux sortant'!$I$9:$S$167,COLUMN(),0),"") -> 3.13 | J16: =IFERROR(VLOOKUP(Tableau2[[#This Row],[PR]],'Taux sortant'!$I$9:$S$167,COLUMN(),0),"") -> 0 | ... L16: =IFERROR(VLOOKUP(Tableau2[[#This Row],[PR]],'Taux sortant'!$I$9:$S$167,COLUMN(),0),"")
A17: ABNEY | B17: MONTAGUE, SOURIS | C17: =IFERROR(VLOOKUP(Tableau2[[#This Row],[PR]],'Taux sortant'!$I$9:$S$167,COLUMN(),0),"") | D17: =IFERROR(VLOOKUP(Tableau2[[#This Row],[PR]],'Taux sortant'!$I$9:$S$167,COLUMN(),0),"") | E17: =IFERROR(VLOOKUP(Tableau2[[#This Row],[PR]],'Taux sortant'!$I$9:$S$167,COLUMN(),0),"") | F17: =IFERROR(VLOOKUP(Tableau2[[#This Row],[PR]],'Taux sortant'!$I$9:$S$167,COLUMN(),0),"") | G17: =IFERROR(VLOOKUP(Tableau2[[#This Row],[PR]],'Taux sortant'!$I$9:$S$167,COLUMN(),0),"") | H17: =IFERROR(VLOOKUP(Tableau2[[#This Row],[PR]],'Taux sortant'!$I$9:$S$167,COLUMN(),0),"") | I17: =IFERROR(VLOOKUP(Tableau2[[#This Row],[PR]],'Taux sortant'!$I$9:$S$167,COLUMN(),0),"") | J17: =IFERROR(VLOOKUP(Tableau2[[#This Row],[PR]],'Taux sortant'!$I$9:$S$167,COLUMN(),0),"") | ... L17: =IFERROR(VLOOKUP(Tableau2[[#This Row],[PR]],'Taux sortant'!$I$9:$S$167,COLUMN(),0),"")
A18: ABOUJAGANE | B18: SHEDIAC | C18: =IFERROR(VLOOKUP(Tableau2[[#This Row],[PR]],'Taux sortant'!$I$9:$S$167,COLUMN(),0),"") -> 14.68 | D18: =IFERROR(VLOOKUP(Tableau2[[#This Row],[PR]],'Taux sortant'!$I$9:$S$167,COLUMN(),0),"") -> 12.17 | E18: =IFERROR(VLOOKUP(Tableau2[[#This Row],[PR]],'Taux sortant'!$I$9:$S$167,COLUMN(),0),"") -> 9.26 | F18: =IFERROR(VLOOKUP(Tableau2[[#This Row],[PR]],'Taux sortant'!$I$9:$S$167,COLUMN(),0),"") -> 7.85 | G18: =IFERROR(VLOOKUP(Tableau2[[#This Row],[PR]],'Taux sortant'!$I$9:$S$167,COLUMN(),0),"") -> 6.68 | H18: =IFERROR(VLOOKUP(Tableau2[[#This Row],[PR]],'Taux sortant'!$I$9:$S$167,COLUMN(),0),"") -> 5.72 | I18: =IFERROR(VLOOKUP(Tableau2[[#This Row],[PR]],'Taux sortant'!$I$9:$S$167,COLUMN(),0),"") -> 4.96 | J18: =IFERROR(VLOOKUP(Tableau2[[#This Row],[PR]],'Taux sortant'!$I$9:$S$167,COLUMN(),0),"") -> 0 | ... L18: =IFERROR(VLOOKUP(Tableau2[[#This Row],[PR]],'Taux sortant'!$I$9:$S$167,COLUMN(),0),"")
A19: ABRAHAMS COVE | B19: LOURDES | C19: =IFERROR(VLOOKUP(Tableau2[[#This Row],[PR]],'Taux sortant'!$I$9:$S$167,COLUMN(),0),"") -> 27.96 | D19: =IFERROR(VLOOKUP(Tableau2[[#This Row],[PR]],'Taux sortant'!$I$9:$S$167,COLUMN(),0),"") -> 24.55 | E19: =IFERROR(VLOOKUP(Tableau2[[#This Row],[PR]],'Taux sortant'!$I$9:$S$167,COLUMN(),0),"") -> 20.54 | F19: =IFERROR(VLOOKUP(Tableau2[[#This Row],[PR]],'Taux sortant'!$I$9:$S$167,COLUMN(),0),"") -> 18.54 | G19: =IFERROR(VLOOKUP(Tableau2[[#This Row],[PR]],'Taux sortant'!$I$9:$S$167,COLUMN(),0),"") -> 16.35 | H19: =IFERROR(VLOOKUP(Tableau2[[#This Row],[PR]],'Taux sortant'!$I$9:$S$167,COLUMN(),0),"") -> 14.17 | I19: =IFERROR(VLOOKUP(Tableau2[[#This Row],[PR]],'Taux sortant'!$I$9:$S$167,COLUMN(),0),"") -> 12.23 | J19: =IFERROR(VLOOKUP(Tableau2[[#This Row],[PR]],'Taux sortant'!$I$9:$S$167,COLUMN(),0),"") -> 0 | ... L19: =IFERROR(VLOOKUP(Tableau2[[#This Row],[PR]],'Taux sortant'!$I$9:$S$167,COLUMN(),0),"")
... A1071: CARMANVILLE | B1071: TWILLINGATE, GAMBO | C1071: =IFERROR(VLOOKUP(Tableau2[[#This Row],[PR]],'Taux sortant'!$I$9:$S$167,COLUMN(),0),"") | D1071: =IFERROR(VLOOKUP(Tableau2[[#This Row],[PR]],'Taux sortant'!$I$9:$S$167,COLUMN(),0),"") | E1071: =IFERROR(VLOOKUP(Tableau2[[#This Row],[PR]],'Taux sortant'!$I$9:$S$167,COLUMN(),0),"") | F1071: =IFERROR(VLOOKUP(Tableau2[[#This Row],[PR]],'Taux sortant'!$I$9:$S$167,COLUMN(),0),"") | G1071: =IFERROR(VLOOKUP(Tableau2[[#This Row],[PR]],'Taux sortant'!$I$9:$S$167,COLUMN(),0),"") | H1071: =IFERROR(VLOOKUP(Tableau2[[#This Row],[PR]],'Taux sortant'!$I$9:$S$167,COLUMN(),0),"") | I1071: =IFERROR(VLOOKUP(Tableau2[[#This Row],[PR]],'Taux sortant'!$I$9:$S$167,COLUMN(),0),"") | J1071: =IFERROR(VLOOKUP(Tableau2[[#This Row],[PR]],'Taux sortant'!$I$9:$S$167,COLUMN(),0),"") | ... L1071: =IFERROR(VLOOKUP(Tableau2[[#This Row],[PR]],'Taux sortant'!$I$9:$S$167,COLUMN(),0),"")
A1072: CARMEL | C1072: =IFERROR(VLOOKUP(Tableau2[[#This Row],[PR]],'Taux sortant'!$I$9:$S$167,COLUMN(),0),"") | D1072: =IFERROR(VLOOKUP(Tableau2[[#This Row],[PR]],'Taux sortant'!$I$9:$S$167,COLUMN(),0),"") | E1072: =IFERROR(VLOOKUP(Tableau2[[#This Row],[PR]],'Taux sortant'!$I$9:$S$167,COLUMN(),0),"") | F1072: =IFERROR(VLOOKUP(Tableau2[[#This Row],[PR]],'Taux sortant'!$I$9:$S$167,COLUMN(),0),"") | G1072: =IFERROR(VLOOKUP(Tableau2[[#This Row],[PR]],'Taux sortant'!$I$9:$S$167,COLUMN(),0),"") | H1072: =IFERROR(VLOOKUP(Tableau2[[#This Row],[PR]],'Taux sortant'!$I$9:$S$167,COLUMN(),0),"") | I1072: =IFERROR(VLOOKUP(Tableau2[[#This Row],[PR]],'Taux sortant'!$I$9:$S$167,COLUMN(),0),"") | J1072: =IFERROR(VLOOKUP(Tableau2[[#This Row],[PR]],'Taux sortant'!$I$9:$S$167,COLUMN(),0),"") | ... L1072: =IFERROR(VLOOKUP(Tableau2[[#This Row],[PR]],'Taux sortant'!$I$9:$S$167,COLUMN(),0),"")
A1073: CARNARVON | B1073: LINDSAY | C1073: =IFERROR(VLOOKUP(Tableau2[[#This Row],[PR]],'Taux sortant'!$I$9:$S$167,COLUMN(),0),"") -> 20.05 | D1073: =IFERROR(VLOOKUP(Tableau2[[#This Row],[PR]],'Taux sortant'!$I$9:$S$167,COLUMN(),0),"") -> 15.11 | E1073: =IFERROR(VLOOKUP(Tableau2[[#This Row],[PR]],'Taux sortant'!$I$9:$S$167,COLUMN(),0),"") -> 10.84 | F1073: =IFERROR(VLOOKUP(Tableau2[[#This Row],[PR]],'Taux sortant'!$I$9:$S$167,COLUMN(),0),"") -> 8.73 | G1073: =IFERROR(VLOOKUP(Tableau2[[#This Row],[PR]],'Taux sortant'!$I$9:$S$167,COLUMN(),0),"") -> 6.21 | H1073: =IFERROR(VLOOKUP(Tableau2[[#This Row],[PR]],'Taux sortant'!$I$9:$S$167,COLUMN(),0),"") -> 4.48 | I1073: =IFERROR(VLOOKUP(Tableau2[[#This Row],[PR]],'Taux sortant'!$I$9:$S$167,COLUMN(),0),"") -> 3.71 | J1073: =IFERROR(VLOOKUP(Tableau2[[#This Row],[PR]],'Taux sortant'!$I$9:$S$167,COLUMN(),0),"") -> 0 | ... L1073: =IFERROR(VLOOKUP(Tableau2[[#This Row],[PR]],'Taux sortant'!$I$9:$S$167,COLUMN(),0),"")
A1074: CARON BROOK | B1074: EDMUNDSTON | C1074: =IFERROR(VLOOKUP(Tableau2[[#This Row],[PR]],'Taux sortant'!$I$9:$S$167,COLUMN(),0),"") -> 12.34 | D1074: =IFERROR(VLOOKUP(Tableau2[[#This Row],[PR]],'Taux sortant'!$I$9:$S$167,COLUMN(),0),"") -> 10.06 | E1074: =IFERROR(VLOOKUP(Tableau2[[#This Row],[PR]],'Taux sortant'!$I$9:$S$167,COLUMN(),0),"") -> 7.45 | F1074: =IFERROR(VLOOKUP(Tableau2[[#This Row],[PR]],'Taux sortant'!$I$9:$S$167,COLUMN(),0),"") -> 6.22 | G1074: =IFERROR(VLOOKUP(Tableau2[[#This Row],[PR]],'Taux sortant'!$I$9:$S$167,COLUMN(),0),"") -> 5.23 | H1074: =IFERROR(VLOOKUP(Tableau2[[#This Row],[PR]],'Taux sortant'!$I$9:$S$167,COLUMN(),0),"") -> 4.43 | I1074: =IFERROR(VLOOKUP(Tableau2[[#This Row],[PR]],'Taux sortant'!$I$9:$S$167,COLUMN(),0),"") -> 3.8 | J1074: =IFERROR(VLOOKUP(Tableau2[[#This Row],[PR]],'Taux sortant'!$I$9:$S$167,COLUMN(),0),"") -> 0 | ... L1074: =IFERROR(VLOOKUP(Tableau2[[#This Row],[PR]],'Taux sortant'!$I$9:$S$167,COLUMN(),0),"")
A1075: CARP | B1075: ARNPRIOR | C1075: =IFERROR(VLOOKUP(Tableau2[[#This Row],[PR]],'Taux sortant'!$I$9:$S$167,COLUMN(),0),"") -> 18.93 | D1075: =IFERROR(VLOOKUP(Tableau2[[#This Row],[PR]],'Taux sortant'!$I$9:$S$167,COLUMN(),0),"") -> 14.7 | E1075: =IFERROR(VLOOKUP(Tableau2[[#This Row],[PR]],'Taux sortant'!$I$9:$S$167,COLUMN(),0),"") -> 10.55 | F1075: =IFERROR(VLOOKUP(Tableau2[[#This Row],[PR]],'Taux sortant'!$I$9:$S$167,COLUMN(),0),"") -> 8.69 | G1075: =IFERROR(VLOOKUP(Tableau2[[#This Row],[PR]],'Taux sortant'!$I$9:$S$167,COLUMN(),0),"") -> 6.98 | H1075: =IFERROR(VLOOKUP(Tableau2[[#This Row],[PR]],'Taux sortant'!$I$9:$S$167,COLUMN(),0),"") -> 5.4 | I1075: =IFERROR(VLOOKUP(Tableau2[[#This Row],[PR]],'Taux sortant'!$I$9:$S$167,COLUMN(),0),"") -> 4.87 | J1075: =IFERROR(VLOOKUP(Tableau2[[#This Row],[PR]],'Taux sortant'!$I$9:$S$167,COLUMN(),0),"") -> 0 | ... L1075: =IFERROR(VLOOKUP(Tableau2[[#This Row],[PR]],'Taux sortant'!$I$9:$S$167,COLUMN(),0),"")
A1076: CARROLLS CORNER | B1076: ELMSDALE, STEWIACKE | C1076: =IFERROR(VLOOKUP(Tableau2[[#This Row],[PR]],'Taux sortant'!$I$9:$S$167,COLUMN(),0),"") | D1076: =IFERROR(VLOOKUP(Tableau2[[#This Row],[PR]],'Taux sortant'!$I$9:$S$167,COLUMN(),0),"") | E1076: =IFERROR(VLOOKUP(Tableau2[[#This Row],[PR]],'Taux sortant'!$I$9:$S$167,COLUMN(),0),"") | F1076: =IFERROR(VLOOKUP(Tableau2[[#This Row],[PR]],'Taux sortant'!$I$9:$S$167,COLUMN(),0),"") | G1076: =IFERROR(VLOOKUP(Tableau2[[#This Row],[PR]],'Taux sortant'!$I$9:$S$167,COLUMN(),0),"") | H1076: =IFERROR(VLOOKUP(Tableau2[[#This Row],[PR]],'Taux sortant'!$I$9:$S$167,COLUMN(),0),"") | I1076: =IFERROR(VLOOKUP(Tableau2[[#This Row],[PR]],'Taux sortant'!$I$9:$S$167,COLUMN(),0),"") | J1076: =IFERROR(VLOOKUP(Tableau2[[#This Row],[PR]],'Taux sortant'!$I$9:$S$167,COLUMN(),0),"") | ... L1076: =IFERROR(VLOOKUP(Tableau2[[#This Row],[PR]],'Taux sortant'!$I$9:$S$167,COLUMN(),0),"")
A1077: CARROLLS CROSSING | B1077: DOAKTOWN | C1077: =IFERROR(VLOOKUP(Tableau2[[#This Row],[PR]],'Taux sortant'!$I$9:$S$167,COLUMN(),0),"") -> 15.12 | D1077: =IFERROR(VLOOKUP(Tableau2[[#This Row],[PR]],'Taux sortant'!$I$9:$S$167,COLUMN(),0),"") -> 12.61 | E1077: =IFERROR(VLOOKUP(Tableau2[[#This Row],[PR]],'Taux sortant'!$I$9:$S$167,COLUMN(),0),"") -> 9.72 | F1077: =IFERROR(VLOOKUP(Tableau2[[#This Row],[PR]],'Taux sortant'!$I$9:$S$167,COLUMN(),0),"") -> 8.27 | G1077: =IFERROR(VLOOKUP(Tableau2[[#This Row],[PR]],'Taux sortant'!$I$9:$S$167,COLUMN(),0),"") -> 7.1 | H1077: =IFERROR(VLOOKUP(Tableau2[[#This Row],[PR]],'Taux sortant'!$I$9:$S$167,COLUMN(),0),"") -> 6.12 | I1077: =IFERROR(VLOOKUP(Tableau2[[#This Row],[PR]],'Taux sortant'!$I$9:$S$167,COLUMN(),0),"") -> 5.33 | J1077: =IFERROR(VLOOKUP(Tableau2[[#This Row],[PR]],'Taux sortant'!$I$9:$S$167,COLUMN(),0),"") -> 0 | ... L1077: =IFERROR(VLOOKUP(Tableau2[[#This Row],[PR]],'Taux sortant'!$I$9:$S$167,COLUMN(),0),"")
A1078: CARRS BROOK | B1078: TATAMAGOUCHE | C1078: =IFERROR(VLOOKUP(Tableau2[[#This Row],[PR]],'Taux sortant'!$I$9:$S$167,COLUMN(),0),"") -> 16.93 | D1078: =IFERROR(VLOOKUP(Tableau2[[#This Row],[PR]],'Taux sortant'!$I$9:$S$167,COLUMN(),0),"") -> 14.32 | E1078: =IFERROR(VLOOKUP(Tableau2[[#This Row],[PR]],'Taux sortant'!$I$9:$S$167,COLUMN(),0),"") -> 11.27 | F1078: =IFERROR(VLOOKUP(Tableau2[[#This Row],[PR]],'Taux sortant'!$I$9:$S$167,COLUMN(),0),"") -> 9.77 | G1078: =IFERROR(VLOOKUP(Tableau2[[#This Row],[PR]],'Taux sortant'!$I$9:$S$167,COLUMN(),0),"") -> 8.41 | H1078: =IFERROR(VLOOKUP(Tableau2[[#This Row],[PR]],'Taux sortant'!$I$9:$S$167,COLUMN(),0),"") -> 7.25 | I1078: =IFERROR(VLOOKUP(Tableau2[[#This Row],[PR]],'Taux sortant'!$I$9:$S$167,COLUMN(),0),"") -> 6.31 | J1078: =IFERROR(VLOOKUP(Tableau2[[#This Row],[PR]],'Taux sortant'!$I$9:$S$167,COLUMN(),0),"") -> 0 | ... L1078: =IFERROR(VLOOKUP(Tableau2[[#This Row],[PR]],'Taux sortant'!$I$9:$S$167,COLUMN(),0),"")
A1079: CARRYING PLACE | B1079: BELLEVILLE | C1079: =IFERROR(VLOOKUP(Tableau2[[#This Row],[PR]],'Taux sortant'!$I$9:$S$167,COLUMN(),0),"") -> 30.77 | D1079: =IFERROR(VLOOKUP(Tableau2[[#This Row],[PR]],'Taux sortant'!$I$9:$S$167,COLUMN(),0),"") -> 22.76 | E1079: =IFERROR(VLOOKUP(Tableau2[[#This Row],[PR]],'Taux sortant'!$I$9:$S$167,COLUMN(),0),"") -> 16.43 | F1079: =IFERROR(VLOOKUP(Tableau2[[#This Row],[PR]],'Taux sortant'!$I$9:$S$167,COLUMN(),0),"") -> 12.46 | G1079: =IFERROR(VLOOKUP(Tableau2[[#This Row],[PR]],'Taux sortant'!$I$9:$S$167,COLUMN(),0),"") -> 7.96 | H1079: =IFERROR(VLOOKUP(Tableau2[[#This Row],[PR]],'Taux sortant'!$I$9:$S$167,COLUMN(),0),"") -> 5.83 | I1079: =IFERROR(VLOOKUP(Tableau2[[#This Row],[PR]],'Taux sortant'!$I$9:$S$167,COLUMN(),0),"") -> 4.59 | J1079: =IFERROR(VLOOKUP(Tableau2[[#This Row],[PR]],'Taux sortant'!$I$9:$S$167,COLUMN(),0),"") -> 0 | ... L1079: =IFERROR(VLOOKUP(Tableau2[[#This Row],[PR]],'Taux sortant'!$I$9:$S$167,COLUMN(),0),"")
A1080: CARSONVILLE | B1080: SUSSEX | C1080: =IFERROR(VLOOKUP(Tableau2[[#This Row],[PR]],'Taux sortant'!$I$9:$S$167,COLUMN(),0),"") -> 15.5 | D1080: =IFERROR(VLOOKUP(Tableau2[[#This Row],[PR]],'Taux sortant'!$I$9:$S$167,COLUMN(),0),"") -> 12.99 | E1080: =IFERROR(VLOOKUP(Tableau2[[#This Row],[PR]],'Taux sortant'!$I$9:$S$167,COLUMN(),0),"") -> 10.07 | F1080: =IFERROR(VLOOKUP(Tableau2[[#This Row],[PR]],'Taux sortant'!$I$9:$S$167,COLUMN(),0),"") -> 8.6 | G1080: =IFERROR(VLOOKUP(Tableau2[[#This Row],[PR]],'Taux sortant'!$I$9:$S$167,COLUMN(),0),"") -> 7.36 | H1080: =IFERROR(VLOOKUP(Tableau2[[#This Row],[PR]],'Taux sortant'!$I$9:$S$167,COLUMN(),0),"") -> 6.34 | I1080: =IFERROR(VLOOKUP(Tableau2[[#This Row],[PR]],'Taux sortant'!$I$9:$S$167,COLUMN(),0),"") -> 5.51 | J1080: =IFERROR(VLOOKUP(Tableau2[[#This Row],[PR]],'Taux sortant'!$I$9:$S$167,COLUMN(),0),"") -> 0 | ... L1080: =IFERROR(VLOOKUP(Tableau2[[#This Row],[PR]],'Taux sortant'!$I$9:$S$167,COLUMN(),0),"")
A1081: CARTERS COVE | B1081: TWILLINGATE, GAMBO | C1081: =IFERROR(VLOOKUP(Tableau2[[#This Row],[PR]],'Taux sortant'!$I$9:$S$167,COLUMN(),0),"") | D1081: =IFERROR(VLOOKUP(Tableau2[[#This Row],[PR]],'Taux sortant'!$I$9:$S$167,COLUMN(),0),"") | E1081: =IFERROR(VLOOKUP(Tableau2[[#This Row],[PR]],'Taux sortant'!$I$9:$S$167,COLUMN(),0),"") | F1081: =IFERROR(VLOOKUP(Tableau2[[#This Row],[PR]],'Taux sortant'!$I$9:$S$167,COLUMN(),0),"") | G1081: =IFERROR(VLOOKUP(Tableau2[[#This Row],[PR]],'Taux sortant'!$I$9:$S$167,COLUMN(),0),"") | H1081: =IFERROR(VLOOKUP(Tableau2[[#This Row],[PR]],'Taux sortant'!$I$9:$S$167,COLUMN(),0),"") | I1081: =IFERROR(VLOOKUP(Tableau2[[#This Row],[PR]],'Taux sortant'!$I$9:$S$167,COLUMN(),0),"") | J1081: =IFERROR(VLOOKUP(Tableau2[[#This Row],[PR]],'Taux sortant'!$I$9:$S$167,COLUMN(),0),"") | ... L1081: =IFERROR(VLOOKUP(Tableau2[[#This Row],[PR]],'Taux sortant'!$I$9:$S$167,COLUMN(),0),"")
A1082: CARTIER | B1082: WINNIPEG* | C1082: =IFERROR(VLOOKUP(Tableau2[[#This Row],[PR]],'Taux sortant'!$I$9:$S$167,COLUMN(),0),"") | D1082: =IFERROR(VLOOKUP(Tableau2[[#This Row],[PR]],'Taux sortant'!$I$9:$S$167,COLUMN(),0),"") | E1082: =IFERROR(VLOOKUP(Tableau2[[#This Row],[PR]],'Taux sortant'!$I$9:$S$167,COLUMN(),0),"") | F1082: =IFERROR(VLOOKUP(Tableau2[[#This Row],[PR]],'Taux sortant'!$I$9:$S$167,COLUMN(),0),"") | G1082: =IFERROR(VLOOKUP(Tableau2[[#This Row],[PR]],'Taux sortant'!$I$9:$S$167,COLUMN(),0),"") | H1082: =IFERROR(VLOOKUP(Tableau2[[#This Row],[PR]],'Taux sortant'!$I$9:$S$167,COLUMN(),0),"") | I1082: =IFERROR(VLOOKUP(Tableau2[[#This Row],[PR]],'Taux sortant'!$I$9:$S$167,COLUMN(),0),"") | J1082: =IFERROR(VLOOKUP(Tableau2[[#This Row],[PR]],'Taux sortant'!$I$9:$S$167,COLUMN(),0),"") | ... L1082: =IFERROR(VLOOKUP(Tableau2[[#This Row],[PR]],'Taux sortant'!$I$9:$S$167,COLUMN(),0),"")
A1083: CARTIER | B1083: SUDBURY | C1083: =IFERROR(VLOOKUP(Tableau2[[#This Row],[PR]],'Taux sortant'!$I$9:$S$167,COLUMN(),0),"") -> 28.13 | D1083: =IFERROR(VLOOKUP(Tableau2[[#This Row],[PR]],'Taux sortant'!$I$9:$S$167,COLUMN(),0),"") -> 22.97 | E1083: =IFERROR(VLOOKUP(Tableau2[[#This Row],[PR]],'Taux sortant'!$I$9:$S$167,COLUMN(),0),"") -> 17.19 | F1083: =IFERROR(VLOOKUP(Tableau2[[#This Row],[PR]],'Taux sortant'!$I$9:$S$167,COLUMN(),0),"") -> 13.88 | G1083: =IFERROR(VLOOKUP(Tableau2[[#This Row],[PR]],'Taux sortant'!$I$9:$S$167,COLUMN(),0),"") -> 10.89 | H1083: =IFERROR(VLOOKUP(Tableau2[[#This Row],[PR]],'Taux sortant'!$I$9:$S$167,COLUMN(),0),"") -> 7.86 | I1083: =IFERROR(VLOOKUP(Tableau2[[#This Row],[PR]],'Taux sortant'!$I$9:$S$167,COLUMN(),0),"") -> 7.14 | J1083: =IFERROR(VLOOKUP(Tableau2[[#This Row],[PR]],'Taux sortant'!$I$9:$S$167,COLUMN(),0),"") -> 0 | ... L1083: =IFERROR(VLOOKUP(Tableau2[[#This Row],[PR]],'Taux sortant'!$I$9:$S$167,COLUMN(),0),"")
A1084: CARTIERVILLE | B1084: MONTREAL | C1084: =IFERROR(VLOOKUP(Tableau2[[#This Row],[PR]],'Taux sortant'!$I$9:$S$167,COLUMN(),0),"") -> 8.85 | D1084: =IFERROR(VLOOKUP(Tableau2[[#This Row],[PR]],'Taux sortant'!$I$9:$S$167,COLUMN(),0),"") -> 6.89 | E1084: =IFERROR(VLOOKUP(Tableau2[[#This Row],[PR]],'Taux sortant'!$I$9:$S$167,COLUMN(),0),"") -> 4.7 | F1084: =IFERROR(VLOOKUP(Tableau2[[#This Row],[PR]],'Taux sortant'!$I$9:$S$167,COLUMN(),0),"") -> 3.63 | G1084: =IFERROR(VLOOKUP(Tableau2[[#This Row],[PR]],'Taux sortant'!$I$9:$S$167,COLUMN(),0),"") -> 2.93 | H1084: =IFERROR(VLOOKUP(Tableau2[[#This Row],[PR]],'Taux sortant'!$I$9:$S$167,COLUMN(),0),"") -> 2.49 | I1084: =IFERROR(VLOOKUP(Tableau2[[#This Row],[PR]],'Taux sortant'!$I$9:$S$167,COLUMN(),0),"") -> 2.21 | J1084: =IFERROR(VLOOKUP(Tableau2[[#This Row],[PR]],'Taux sortant'!$I$9:$S$167,COLUMN(),0),"") -> 0 | ... L1084: =IFERROR(VLOOKUP(Tableau2[[#This Row],[PR]],'Taux sortant'!$I$9:$S$167,COLUMN(),0),"")
... A1252: CLARENCE | B1252: MIDDLETON | C1252: =IFERROR(VLOOKUP(Tableau2[[#This Row],[PR]],'Taux sortant'!$I$9:$S$167,COLUMN(),0),"") -> 18.79 | D1252: =IFERROR(VLOOKUP(Tableau2[[#This Row],[PR]],'Taux sortant'!$I$9:$S$167,COLUMN(),0),"") -> 15.99 | E1252: =IFERROR(VLOOKUP(Tableau2[[#This Row],[PR]],'Taux sortant'!$I$9:$S$167,COLUMN(),0),"") -> 12.7 | F1252: =IFERROR(VLOOKUP(Tableau2[[#This Row],[PR]],'Taux sortant'!$I$9:$S$167,COLUMN(),0),"") -> 11.07 | G1252: =IFERROR(VLOOKUP(Tableau2[[#This Row],[PR]],'Taux sortant'!$I$9:$S$167,COLUMN(),0),"") -> 9.52 | H1252: =IFERROR(VLOOKUP(Tableau2[[#This Row],[PR]],'Taux sortant'!$I$9:$S$167,COLUMN(),0),"") -> 8.1 | I1252: =IFERROR(VLOOKUP(Tableau2[[#This Row],[PR]],'Taux sortant'!$I$9:$S$167,COLUMN(),0),"") -> 6.92 | J1252: =IFERROR(VLOOKUP(Tableau2[[#This Row],[PR]],'Taux sortant'!$I$9:$S$167,COLUMN(),0),"") -> 0 | ... L1252: =IFERROR(VLOOKUP(Tableau2[[#This Row],[PR]],'Taux sortant'!$I$9:$S$167,COLUMN(),0),"")
A1253: CLARENCE CREEK | C1253: =IFERROR(VLOOKUP(Tableau2[[#This Row],[PR]],'Taux sortant'!$I$9:$S$167,COLUMN(),0),"") | D1253: =IFERROR(VLOOKUP(Tableau2[[#This Row],[PR]],'Taux sortant'!$I$9:$S$167,COLUMN(),0),"") | E1253: =IFERROR(VLOOKUP(Tableau2[[#This Row],[PR]],'Taux sortant'!$I$9:$S$167,COLUMN(),0),"") | F1253: =IFERROR(VLOOKUP(Tableau2[[#This Row],[PR]],'Taux sortant'!$I$9:$S$167,COLUMN(),0),"") | G1253: =IFERROR(VLOOKUP(Tableau2[[#This Row],[PR]],'Taux sortant'!$I$9:$S$167,COLUMN(),0),"") | H1253: =IFERROR(VLOOKUP(Tableau2[[#This Row],[PR]],'Taux sortant'!$I$9:$S$167,COLUMN(),0),"") | I1253: =IFERROR(VLOOKUP(Tableau2[[#This Row],[PR]],'Taux sortant'!$I$9:$S$167,COLUMN(),0),"") | J1253: =IFERROR(VLOOKUP(Tableau2[[#This Row],[PR]],'Taux sortant'!$I$9:$S$167,COLUMN(),0),"") | ... L1253: =IFERROR(VLOOKUP(Tableau2[[#This Row],[PR]],'Taux sortant'!$I$9:$S$167,COLUMN(),0),"")
A1254: CLARENCE CREEK | B1254: ARNPRIOR | C1254: =IFERROR(VLOOKUP(Tableau2[[#This Row],[PR]],'Taux sortant'!$I$9:$S$167,COLUMN(),0),"") -> 18.93 | D1254: =IFERROR(VLOOKUP(Tableau2[[#This Row],[PR]],'Taux sortant'!$I$9:$S$167,COLUMN(),0),"") -> 14.7 | E1254: =IFERROR(VLOOKUP(Tableau2[[#This Row],[PR]],'Taux sortant'!$I$9:$S$167,COLUMN(),0),"") -> 10.55 | F1254: =IFERROR(VLOOKUP(Tableau2[[#This Row],[PR]],'Taux sortant'!$I$9:$S$167,COLUMN(),0),"") -> 8.69 | G1254: =IFERROR(VLOOKUP(Tableau2[[#This Row],[PR]],'Taux sortant'!$I$9:$S$167,COLUMN(),0),"") -> 6.98 | H1254: =IFERROR(VLOOKUP(Tableau2[[#This Row],[PR]],'Taux sortant'!$I$9:$S$167,COLUMN(),0),"") -> 5.4 | I1254: =IFERROR(VLOOKUP(Tableau2[[#This Row],[PR]],'Taux sortant'!$I$9:$S$167,COLUMN(),0),"") -> 4.87 | J1254: =IFERROR(VLOOKUP(Tableau2[[#This Row],[PR]],'Taux sortant'!$I$9:$S$167,COLUMN(),0),"") -> 0 | ... L1254: =IFERROR(VLOOKUP(Tableau2[[#This Row],[PR]],'Taux sortant'!$I$9:$S$167,COLUMN(),0),"")
A1255: CLARENCEVILLE | B1255: ST JEAN SUR RICHELIEU | C1255: =IFERROR(VLOOKUP(Tableau2[[#This Row],[PR]],'Taux sortant'!$I$9:$S$167,COLUMN(),0),"") -> 9.59 | D1255: =IFERROR(VLOOKUP(Tableau2[[#This Row],[PR]],'Taux sortant'!$I$9:$S$167,COLUMN(),0),"") -> 7.53 | E1255: =IFERROR(VLOOKUP(Tableau2[[#This Row],[PR]],'Taux sortant'!$I$9:$S$167,COLUMN(),0),"") -> 5.2 | F1255: =IFERROR(VLOOKUP(Tableau2[[#This Row],[PR]],'Taux sortant'!$I$9:$S$167,COLUMN(),0),"") -> 4.08 | G1255: =IFERROR(VLOOKUP(Tableau2[[#This Row],[PR]],'Taux sortant'!$I$9:$S$167,COLUMN(),0),"") -> 3.34 | H1255: =IFERROR(VLOOKUP(Tableau2[[#This Row],[PR]],'Taux sortant'!$I$9:$S$167,COLUMN(),0),"") -> 2.88 | I1255: =IFERROR(VLOOKUP(Tableau2[[#This Row],[PR]],'Taux sortant'!$I$9:$S$167,COLUMN(),0),"") -> 2.59 | J1255: =IFERROR(VLOOKUP(Tableau2[[#This Row],[PR]],'Taux sortant'!$I$9:$S$167,COLUMN(),0),"") -> 0 | ... L1255: =IFERROR(VLOOKUP(Tableau2[[#This Row],[PR]],'Taux sortant'!$I$9:$S$167,COLUMN(),0),"")
A1256: CLARENDON | B1256: SAINT JOHN | C1256: =IFERROR(VLOOKUP(Tableau2[[#This Row],[PR]],'Taux sortant'!$I$9:$S$167,COLUMN(),0),"") -> 14.38 | D1256: =IFERROR(VLOOKUP(Tableau2[[#This Row],[PR]],'Taux sortant'!$I$9:$S$167,COLUMN(),0),"") -> 11.96 | E1256: =IFERROR(VLOOKUP(Tableau2[[#This Row],[PR]],'Taux sortant'!$I$9:$S$167,COLUMN(),0),"") -> 9.12 | F1256: =IFERROR(VLOOKUP(Tableau2[[#This Row],[PR]],'Taux sortant'!$I$9:$S$167,COLUMN(),0),"") -> 7.74 | G1256: =IFERROR(VLOOKUP(Tableau2[[#This Row],[PR]],'Taux sortant'!$I$9:$S$167,COLUMN(),0),"") -> 6.58 | H1256: =IFERROR(VLOOKUP(Tableau2[[#This Row],[PR]],'Taux sortant'!$I$9:$S$167,COLUMN(),0),"") -> 5.57 | I1256: =IFERROR(VLOOKUP(Tableau2[[#This Row],[PR]],'Taux sortant'!$I$9:$S$167,COLUMN(),0),"") -> 4.78 | J1256: =IFERROR(VLOOKUP(Tableau2[[#This Row],[PR]],'Taux sortant'!$I$9:$S$167,COLUMN(),0),"") -> 0 | ... L1256: =IFERROR(VLOOKUP(Tableau2[[#This Row],[PR]],'Taux sortant'!$I$9:$S$167,COLUMN(),0),"")
A1257: CLARENDON STATION | B1257: KINGSTON | C1257: =IFERROR(VLOOKUP(Tableau2[[#This Row],[PR]],'Taux sortant'!$I$9:$S$167,COLUMN(),0),"") -> 17.95 | D1257: =IFERROR(VLOOKUP(Tableau2[[#This Row],[PR]],'Taux sortant'!$I$9:$S$167,COLUMN(),0),"") -> 14.25 | E1257: =IFERROR(VLOOKUP(Tableau2[[#This Row],[PR]],'Taux sortant'!$I$9:$S$167,COLUMN(),0),"") -> 10.85 | F1257: =IFERROR(VLOOKUP(Tableau2[[#This Row],[PR]],'Taux sortant'!$I$9:$S$167,COLUMN(),0),"") -> 8.92 | G1257: =IFERROR(VLOOKUP(Tableau2[[#This Row],[PR]],'Taux sortant'!$I$9:$S$167,COLUMN(),0),"") -> 6.44 | H1257: =IFERROR(VLOOKUP(Tableau2[[#This Row],[PR]],'Taux sortant'!$I$9:$S$167,COLUMN(),0),"") -> 5.07 | I1257: =IFERROR(VLOOKUP(Tableau2[[#This Row],[PR]],'Taux sortant'!$I$9:$S$167,COLUMN(),0),"") -> 4.2 | J1257: =IFERROR(VLOOKUP(Tableau2[[#This Row],[PR]],'Taux sortant'!$I$9:$S$167,COLUMN(),0),"") -> 0 | ... L1257: =IFERROR(VLOOKUP(Tableau2[[#This Row],[PR]],'Taux sortant'!$I$9:$S$167,COLUMN(),0),"")
A1258: CLARENVILLE | B1258: CLARENVILLE, BONAVISTA | C1258: =IFERROR(VLOOKUP(Tableau2[[#This Row],[PR]],'Taux sortant'!$I$9:$S$167,COLUMN(),0),"") | D1258: =IFERROR(VLOOKUP(Tableau2[[#This Row],[PR]],'Taux sortant'!$I$9:$S$167,COLUMN(),0),"") | E1258: =IFERROR(VLOOKUP(Tableau2[[#This Row],[PR]],'Taux sortant'!$I$9:$S$167,COLUMN(),0),"") | F1258: =IFERROR(VLOOKUP(Tableau2[[#This Row],[PR]],'Taux sortant'!$I$9:$S$167,COLUMN(),0),"") | G1258: =IFERROR(VLOOKUP(Tableau2[[#This Row],[PR]],'Taux sortant'!$I$9:$S$167,COLUMN(),0),"") | H1258: =IFERROR(VLOOKUP(Tableau2[[#This Row],[PR]],'Taux sortant'!$I$9:$S$167,COLUMN(),0),"") | I1258: =IFERROR(VLOOKUP(Tableau2[[#This Row],[PR]],'Taux sortant'!$I$9:$S$167,COLUMN(),0),"") | J1258: =IFERROR(VLOOKUP(Tableau2[[#This Row],[PR]],'Taux sortant'!$I$9:$S$167,COLUMN(),0),"") | ... L1258: =IFERROR(VLOOKUP(Tableau2[[#This Row],[PR]],'Taux sortant'!$I$9:$S$167,COLUMN(),0),"")
...

Sheet Taux sortant
A1: =[1]Customer!E8 -> 400000 | B1: =ROUND(AVERAGE([1]Customer!$C$15,[1]Customer!$D$15),0) -> 13 | C1: =IF([1]Customer!H21="F","ENTENTE DE TARIFS ET SERVICES","CONFIDENTIAL") -> CONFIDENTIAL
A2: =[1]Customer!$C$25 -> 0.25 | B2: =[1]Customer!$C$26 -> 30 | C2: =IF([1]Customer!H21="F","CONFIDENTIEL","RATE & SERVICE AGREEMENT") -> RATE & SERVICE AGREEMENT
A3: =[1]Customer!C16 -> 10 | B3: =[1]Customer!D16 -> 15
A4: =[1]Customer!C17 -> 1000 | B4: =[1]Customer!D17 -> 1000 | C4: =IF([1]Customer!H21="F","Numero d'Entente: ","Rate Quote No: ") -> Rate Quote No: | D4: =[1]Customer!C10 -> 33338
A5: =[1]Customer!C18 -> 10 | B5: =[1]Customer!D18 -> 10 | C5: =IF([1]Customer!H21="F","Compte: ","Account: ") -> Account: | D5: =UPPER([1]Customer!C4) -> SANI-MARC INC
C6: Review Date: | D6: =VALUE(CONCATENATE(MID([1]Download!I2,5,2),"/",RIGHT([1]Download!I2,2),"/",LEFT([1]Download!I2,4))) -> #VALUE!
C8: Service | D8: Effective
A9: Item No: | B9: Type: | C9: Type: | D9: Date | E9: Commodity | F9: Dir | G9: Point A | H9: PR | I9: PR2 | J9: =[1]Download!R1 -> Min Amt | K9: =[1]Download!S1 -> 1 | L9: =[1]Download!T1 -> 500 | M9: =[1]Download!U1 -> 1000 | N9: =[1]Download!V1 -> 2000 | O9: =[1]Download!W1 -> 5000 | P9: =[1]Download!X1 -> 10000 | Q9: =[1]Download!Y1 -> 20000 | ... AC9: =[1]Download!AK1 -> 0
A10: =IF(D10=0,0,IF([1]Download!A171="",A9,[1]Download!A171)) -> #VALUE! | B10: =VLOOKUP([1]Download!H171,RT,2,FALSE) -> Rate per CWT | C10: =VLOOKUP([1]Download!E171,ST,2,FALSE) -> Regular | D10: =IF([1]Download!N171=0,0,IF([1]Download!N171=99999999,"99/99/99",VALUE(CONCATENATE(MID([1]Download!N171,5,2),"/",RIGHT([1]Download!N171,2),"/",LEFT([1]Download!N171,4))))) -> #VALUE! | E10: =[1]Download!G171 -> INDUSTRIAL CLEANING PRODUCTS | F10: =IF(D10=0,0,IF([1]Download!C171="",F9,VLOOKUP([1]Download!C171,DIR,2,FALSE))) -> #VALUE! | G10: =IF(D10=0,0,IF([1]Download!B171="",G9,IF([1]Download!J171="7777777",VLOOKUP([1]Download!B171,BasePoint7,2,FALSE),VLOOKUP([1]Download!B171,BasePoint8,2,FALSE)))) -> #VALUE! | H10: =IF([1]Download!J171="7777777",VLOOKUP([1]Download!D171,BasePoint7,2,FALSE),VLOOKUP([1]Download!D171,BasePoint8,2,FALSE)) -> BATHURST, NB | I10: =LEFT(H10,SEARCH(",",H10)-1) -> BATHURST | J10: =[1]Download!R171 -> 43.6 | K10: =[1]Download!S171 -> 14.22 | L10: =[1]Download!T171 -> 11.82 | M10: =[1]Download!U171 -> 9.02 | N10: =[1]Download!V171 -> 7.68 | O10: =[1]Download!W171 -> 6.52 | P10: =[1]Download!X171 -> 5.54 | Q10: =[1]Download!Y171 -> 4.76 | ... AC10: =[1]Download!AK171 -> 0
A11: =IF(D11=0,0,IF([1]Download!A172="",A10,[1]Download!A172)) -> #VALUE! | B11: =VLOOKUP([1]Download!H172,RT,2,FALSE) -> Rate per CWT | C11: =VLOOKUP([1]Download!E172,ST,2,FALSE) -> Regular | D11: =IF([1]Download!N172=0,0,IF([1]Download!N172=99999999,"99/99/99",VALUE(CONCATENATE(MID([1]Download!N172,5,2),"/",RIGHT([1]Download!N172,2),"/",LEFT([1]Download!N172,4))))) -> #VALUE! | E11: =[1]Download!G172 -> INDUSTRIAL CLEANING PRODUCTS | F11: =IF(D11=0,0,IF([1]Download!C172="",F10,VLOOKUP([1]Download!C172,DIR,2,FALSE))) -> #VALUE! | G11: =IF(D11=0,0,IF([1]Download!B172="",G10,IF([1]Download!J172="7777777",VLOOKUP([1]Download!B172,BasePoint7,2,FALSE),VLOOKUP([1]Download!B172,BasePoint8,2,FALSE)))) -> #VALUE! | H11: =IF([1]Download!J172="7777777",VLOOKUP([1]Download!D172,BasePoint7,2,FALSE),VLOOKUP([1]Download!D172,BasePoint8,2,FALSE)) -> CAMPBELLTON, NB | I11: =LEFT(H11,SEARCH(",",H11)-1) -> CAMPBELLTON | J11: =[1]Download!R172 -> 48.1 | K11: =[1]Download!S172 -> 15.9 | L11: =[1]Download!T172 -> 13.36 | M11: =[1]Download!U172 -> 10.43 | N11: =[1]Download!V172 -> 8.97 | O11: =[1]Download!W172 -> 7.72 | P11: =[1]Download!X172 -> 6.68 | Q11: =[1]Download!Y172 -> 5.85 | ... AC11: =[1]Download!AK172 -> 0
A12: =IF(D12=0,0,IF([1]Download!A173="",A11,[1]Download!A173)) -> #VALUE! | B12: =VLOOKUP([1]Download!H173,RT,2,FALSE) -> Rate per CWT | C12: =VLOOKUP([1]Download!E173,ST,2,FALSE) -> Regular | D12: =IF([1]Download!N173=0,0,IF([1]Download!N173=99999999,"99/99/99",VALUE(CONCATENATE(MID([1]Download!N173,5,2),"/",RIGHT([1]Download!N173,2),"/",LEFT([1]Download!N173,4))))) -> #VALUE! | E12: =[1]Download!G173 -> INDUSTRIAL CLEANING PRODUCTS | F12: =IF(D12=0,0,IF([1]Download!C173="",F11,VLOOKUP([1]Download!C173,DIR,2,FALSE))) -> #VALUE! | G12: =IF(D12=0,0,IF([1]Download!B173="",G11,IF([1]Download!J173="7777777",VLOOKUP([1]Download!B173,BasePoint7,2,FALSE),VLOOKUP([1]Download!B173,BasePoint8,2,FALSE)))) -> #VALUE! | H12: =IF([1]Download!J173="7777777",VLOOKUP([1]Download!D173,BasePoint7,2,FALSE),VLOOKUP([1]Download!D173,BasePoint8,2,FALSE)) -> CHIPMAN, NB | I12: =LEFT(H12,SEARCH(",",H12)-1) -> CHIPMAN | J12: =[1]Download!R173 -> 46.15 | K12: =[1]Download!S173 -> 15.12 | L12: =[1]Download!T173 -> 12.61 | M12: =[1]Download!U173 -> 9.72 | N12: =[1]Download!V173 -> 8.27 | O12: =[1]Download!W173 -> 7.1 | P12: =[1]Download!X173 -> 6.12 | Q12: =[1]Download!Y173 -> 5.33 | ... AC12: =[1]Download!AK173 -> 0
A13: =IF(D13=0,0,IF([1]Download!A174="",A12,[1]Download!A174)) -> #VALUE! | B13: =VLOOKUP([1]Download!H174,RT,2,FALSE) -> Rate per CWT | C13: =VLOOKUP([1]Download!E174,ST,2,FALSE) -> Regular | D13: =IF([1]Download!N174=0,0,IF([1]Download!N174=99999999,"99/99/99",VALUE(CONCATENATE(MID([1]Download!N174,5,2),"/",RIGHT([1]Download!N174,2),"/",LEFT([1]Download!N174,4))))) -> #VALUE! | E13: =[1]Download!G174 -> INDUSTRIAL CLEANING PRODUCTS | F13: =IF(D13=0,0,IF([1]Download!C174="",F12,VLOOKUP([1]Download!C174,DIR,2,FALSE))) -> #VALUE! | G13: =IF(D13=0,0,IF([1]Download!B174="",G12,IF([1]Download!J174="7777777",VLOOKUP([1]Download!B174,BasePoint7,2,FALSE),VLOOKUP([1]Download!B174,BasePoint8,2,FALSE)))) -> #VALUE! | H13: =IF([1]Download!J174="7777777",VLOOKUP([1]Download!D174,BasePoint7,2,FALSE),VLOOKUP([1]Download!D174,BasePoint8,2,FALSE)) -> DOAKTOWN, NB | I13: =LEFT(H13,SEARCH(",",H13)-1) -> DOAKTOWN | J13: =[1]Download!R174 -> 46.15 | K13: =[1]Download!S174 -> 15.12 | L13: =[1]Download!T174 -> 12.61 | M13: =[1]Download!U174 -> 9.72 | N13: =[1]Download!V174 -> 8.27 | O13: =[1]Download!W174 -> 7.1 | P13: =[1]Download!X174 -> 6.12 | Q13: =[1]Download!Y174 -> 5.33 | ... AC13: =[1]Download!AK174 -> 0
A14: =IF(D14=0,0,IF([1]Download!A175="",A13,[1]Download!A175)) -> #VALUE! | B14: =VLOOKUP([1]Download!H175,RT,2,FALSE) -> Rate per CWT | C14: =VLOOKUP([1]Download!E175,ST,2,FALSE) -> Regular | D14: =IF([1]Download!N175=0,0,IF([1]Download!N175=99999999,"99/99/99",VALUE(CONCATENATE(MID([1]Download!N175,5,2),"/",RIGHT([1]Download!N175,2),"/",LEFT([1]Download!N175,4))))) -> #VALUE! | E14: =[1]Download!G175 -> INDUSTRIAL CLEANING PRODUCTS | F14: =IF(D14=0,0,IF([1]Download!C175="",F13,VLOOKUP([1]Download!C175,DIR,2,FALSE))) -> #VALUE! | G14: =IF(D14=0,0,IF([1]Download!B175="",G13,IF([1]Download!J175="7777777",VLOOKUP([1]Download!B175,BasePoint7,2,FALSE),VLOOKUP([1]Download!B175,BasePoint8,2,FALSE)))) -> #VALUE! | H14: =IF([1]Download!J175="7777777",VLOOKUP([1]Download!D175,BasePoint7,2,FALSE),VLOOKUP([1]Download!D175,BasePoint8,2,FALSE)) -> EDMUNDSTON, NB | I14: =LEFT(H14,SEARCH(",",H14)-1) -> EDMUNDSTON | J14: =[1]Download!R175 -> 38.4 | K14: =[1]Download!S175 -> 12.34 | L14: =[1]Download!T175 -> 10.06 | M14: =[1]Download!U175 -> 7.45 | N14: =[1]Download!V175 -> 6.22 | O14: =[1]Download!W175 -> 5.23 | P14: =[1]Download!X175 -> 4.43 | Q14: =[1]Download!Y175 -> 3.8 | ... AC14: =[1]Download!AK175 -> 0
A15: =IF(D15=0,0,IF([1]Download!A176="",A14,[1]Download!A176)) -> #VALUE! | B15: =VLOOKUP([1]Download!H176,RT,2,FALSE) -> Rate per CWT | C15: =VLOOKUP([1]Download!E176,ST,2,FALSE) -> Regular | D15: =IF([1]Download!N176=0,0,IF([1]Download!N176=99999999,"99/99/99",VALUE(CONCATENATE(MID([1]Download!N176,5,2),"/",RIGHT([1]Download!N176,2),"/",LEFT([1]Download!N176,4))))) -> #VALUE! | E15: =[1]Download!G176 -> INDUSTRIAL CLEANING PRODUCTS | F15: =IF(D15=0,0,IF([1]Download!C176="",F14,VLOOKUP([1]Download!C176,DIR,2,FALSE))) -> #VALUE! | G15: =IF(D15=0,0,IF([1]Download!B176="",G14,IF([1]Download!J176="7777777",VLOOKUP([1]Download!B176,BasePoint7,2,FALSE),VLOOKUP([1]Download!B176,BasePoint8,2,FALSE)))) -> #VALUE! | H15: =IF([1]Download!J176="7777777",VLOOKUP([1]Download!D176,BasePoint7,2,FALSE),VLOOKUP([1]Download!D176,BasePoint8,2,FALSE)) -> FREDERICTON, NB | I15: =LEFT(H15,SEARCH(",",H15)-1) -> FREDERICTON | J15: =[1]Download!R176 -> 42.95 | K15: =[1]Download!S176 -> 13.98 | L15: =[1]Download!T176 -> 11.58 | M15: =[1]Download!U176 -> 8.78 | N15: =[1]Download!V176 -> 7.44 | O15: =[1]Download!W176 -> 6.29 | P15: =[1]Download!X176 -> 5.35 | Q15: =[1]Download!Y176 -> 4.61 | ... AC15: =[1]Download!AK176 -> 0
A16: =IF(D16=0,0,IF([1]Download!A177="",A15,[1]Download!A177)) -> #VALUE! | B16: =VLOOKUP([1]Download!H177,RT,2,FALSE) -> Rate per CWT | C16: =VLOOKUP([1]Download!E177,ST,2,FALSE) -> Regular | D16: =IF([1]Download!N177=0,0,IF([1]Download!N177=99999999,"99/99/99",VALUE(CONCATENATE(MID([1]Download!N177,5,2),"/",RIGHT([1]Download!N177,2),"/",LEFT([1]Download!N177,4))))) -> #VALUE! | E16: =[1]Download!G177 -> INDUSTRIAL CLEANING PRODUCTS | F16: =IF(D16=0,0,IF([1]Download!C177="",F15,VLOOKUP([1]Download!C177,DIR,2,FALSE))) -> #VALUE! | G16: =IF(D16=0,0,IF([1]Download!B177="",G15,IF([1]Download!J177="7777777",VLOOKUP([1]Download!B177,BasePoint7,2,FALSE),VLOOKUP([1]Download!B177,BasePoint8,2,FALSE)))) -> #VALUE! | H16: =IF([1]Download!J177="7777777",VLOOKUP([1]Download!D177,BasePoint7,2,FALSE),VLOOKUP([1]Download!D177,BasePoint8,2,FALSE)) -> GAGETOWN, NB | I16: =LEFT(H16,SEARCH(",",H16)-1) -> GAGETOWN | J16: =[1]Download!R177 -> 44.55 | K16: =[1]Download!S177 -> 14.55 | L16: =[1]Download!T177 -> 12.11 | M16: =[1]Download!U177 -> 9.24 | N16: =[1]Download!V177 -> 7.86 | O16: =[1]Download!W177 -> 6.7 | P16: =[1]Download!X177 -> 5.73 | Q16: =[1]Download!Y177 -> 4.97 | ... AC16: =[1]Download!AK177 -> 0
A17: =IF(D17=0,0,IF([1]Download!A178="",A16,[1]Download!A178)) -> #VALUE! | B17: =VLOOKUP([1]Download!H178,RT,2,FALSE) -> Rate per CWT | C17: =VLOOKUP([1]Download!E178,ST,2,FALSE) -> Regular | D17: =IF([1]Download!N178=0,0,IF([1]Download!N178=99999999,"99/99/99",VALUE(CONCATENATE(MID([1]Download!N178,5,2),"/",RIGHT([1]Download!N178,2),"/",LEFT([1]Download!N178,4))))) -> #VALUE! | E17: =[1]Download!G178 -> INDUSTRIAL CLEANING PRODUCTS | F17: =IF(D17=0,0,IF([1]Download!C178="",F16,VLOOKUP([1]Download!C178,DIR,2,FALSE))) -> #VALUE! | G17: =IF(D17=0,0,IF([1]Download!B178="",G16,IF([1]Download!J178="7777777",VLOOKUP([1]Download!B178,BasePoint7,2,FALSE),VLOOKUP([1]Download!B178,BasePoint8,2,FALSE)))) -> #VALUE! | H17: =IF([1]Download!J178="7777777",VLOOKUP([1]Download!D178,BasePoint7,2,FALSE),VLOOKUP([1]Download!D178,BasePoint8,2,FALSE)) -> GRAND FALLS, NB | I17: =LEFT(H17,SEARCH(",",H17)-1) -> GRAND FALLS | J17: =[1]Download!R178 -> 40.15 | K17: =[1]Download!S178 -> 12.93 | L17: =[1]Download!T178 -> 10.59 | M17: =[1]Download!U178 -> 7.91 | N17: =[1]Download!V178 -> 6.66 | O17: =[1]Download!W178 -> 5.64 | P17: =[1]Download!X178 -> 4.78 | Q17: =[1]Download!Y178 -> 4.15 | ... AC17: =[1]Download!AK178 -> 0
A18: =IF(D18=0,0,IF([1]Download!A179="",A17,[1]Download!A179)) -> #VALUE! | B18: =VLOOKUP([1]Download!H179,RT,2,FALSE) -> Rate per CWT | C18: =VLOOKUP([1]Download!E179,ST,2,FALSE) -> Regular | D18: =IF([1]Download!N179=0,0,IF([1]Download!N179=99999999,"99/99/99",VALUE(CONCATENATE(MID([1]Download!N179,5,2),"/",RIGHT([1]Download!N179,2),"/",LEFT([1]Download!N179,4))))) -> #VALUE! | E18: =[1]Download!G179 -> INDUSTRIAL CLEANING PRODUCTS | F18: =IF(D18=0,0,IF([1]Download!C179="",F17,VLOOKUP([1]Download!C179,DIR,2,FALSE))) -> #VALUE! | G18: =IF(D18=0,0,IF([1]Download!B179="",G17,IF([1]Download!J179="7777777",VLOOKUP([1]Download!B179,BasePoint7,2,FALSE),VLOOKUP([1]Download!B179,BasePoint8,2,FALSE)))) -> #VALUE! | H18: =IF([1]Download!J179="7777777",VLOOKUP([1]Download!D179,BasePoint7,2,FALSE),VLOOKUP([1]Download!D179,BasePoint8,2,FALSE)) -> KEDGWICK, NB | I18: =LEFT(H18,SEARCH(",",H18)-1) -> KEDGWICK | J18: =[1]Download!R179 -> 43.25 | K18: =[1]Download!S179 -> 14.09 | L18: =[1]Download!T179 -> 11.65 | M18: =[1]Download!U179 -> 8.84 | N18: =[1]Download!V179 -> 7.5 | O18: =[1]Download!W179 -> 6.42 | P18: =[1]Download!X179 -> 5.53 | Q18: =[1]Download!Y179 -> 4.9 | ... AC18: =[1]Download!AK179 -> 0
A19: =IF(D19=0,0,IF([1]Download!A180="",A18,[1]Download!A180)) -> #VALUE! | B19: =VLOOKUP([1]Download!H180,RT,2,FALSE) -> Rate per CWT | C19: =VLOOKUP([1]Download!E180,ST,2,FALSE) -> Regular | D19: =IF([1]Download!N180=0,0,IF([1]Download!N180=99999999,"99/99/99",VALUE(CONCATENATE(MID([1]Download!N180,5,2),"/",RIGHT([1]Download!N180,2),"/",LEFT([1]Download!N180,4))))) -> #VALUE! | E19: =[1]Download!G180 -> INDUSTRIAL CLEANING PRODUCTS | F19: =IF(D19=0,0,IF([1]Download!C180="",F18,VLOOKUP([1]Download!C180,DIR,2,FALSE))) -> #VALUE! | G19: =IF(D19=0,0,IF([1]Download!B180="",G18,IF([1]Download!J180="7777777",VLOOKUP([1]Download!B180,BasePoint7,2,FALSE),VLOOKUP([1]Download!B180,BasePoint8,2,FALSE)))) -> #VALUE! | H19: =IF([1]Download!J180="7777777",VLOOKUP([1]Download!D180,BasePoint7,2,FALSE),VLOOKUP([1]Download!D180,BasePoint8,2,FALSE)) -> MCADAM, NB | I19: =LEFT(H19,SEARCH(",",H19)-1) -> MCADAM | J19: =[1]Download!R180 -> 46.15 | K19: =[1]Download!S180 -> 15.12 | L19: =[1]Download!T180 -> 12.61 | M19: =[1]Download!U180 -> 9.72 | N19: =[1]Download!V180 -> 8.27 | O19: =[1]Download!W180 -> 7.1 | P19: =[1]Download!X180 -> 6.12 | Q19: =[1]Download!Y180 -> 5.33 | ... AC19: =[1]Download!AK180 -> 0
A20: =IF(D20=0,0,IF([1]Download!A181="",A19,[1]Download!A181)) -> #VALUE! | B20: =VLOOKUP([1]Download!H181,RT,2,FALSE) -> Rate per CWT | C20: =VLOOKUP([1]Download!E181,ST,2,FALSE) -> Regular | D20: =IF([1]Download!N181=0,0,IF([1]Download!N181=99999999,"99/99/99",VALUE(CONCATENATE(MID([1]Download!N181,5,2),"/",RIGHT([1]Download!N181,2),"/",LEFT([1]Download!N181,4))))) -> #VALUE! | E20: =[1]Download!G181 -> INDUSTRIAL CLEANING PRODUCTS | F20: =IF(D20=0,0,IF([1]Download!C181="",F19,VLOOKUP([1]Download!C181,DIR,2,FALSE))) -> #VALUE! | G20: =IF(D20=0,0,IF([1]Download!B181="",G19,IF([1]Download!J181="7777777",VLOOKUP([1]Download!B181,BasePoint7,2,FALSE),VLOOKUP([1]Download!B181,BasePoint8,2,FALSE)))) -> #VALUE! | H20: =IF([1]Download!J181="7777777",VLOOKUP([1]Download!D181,BasePoint7,2,FALSE),VLOOKUP([1]Download!D181,BasePoint8,2,FALSE)) -> MIRAMICHI CITY, NB | I20: =LEFT(H20,SEARCH(",",H20)-1) -> MIRAMICHI CITY | J20: =[1]Download!R181 -> 46.7 | K20: =[1]Download!S181 -> 15.34 | L20: =[1]Download!T181 -> 12.85 | M20: =[1]Download!U181 -> 9.94 | N20: =[1]Download!V181 -> 8.54 | O20: =[1]Download!W181 -> 7.34 | P20: =[1]Download!X181 -> 6.29 | Q20: =[1]Download!Y181 -> 5.49 | ... AC20: =[1]Download!AK181 -> 0
A21: =IF(D21=0,0,IF([1]Download!A182="",A20,[1]Download!A182)) -> #VALUE! | B21: =VLOOKUP([1]Download!H182,RT,2,FALSE) -> Rate per CWT | C21: =VLOOKUP([1]Download!E182,ST,2,FALSE) -> Regular | D21: =IF([1]Download!N182=0,0,IF([1]Download!N182=99999999,"99/99/99",VALUE(CONCATENATE(MID([1]Download!N182,5,2),"/",RIGHT([1]Download!N182,2),"/",LEFT([1]Download!N182,4))))) -> #VALUE! | E21: =[1]Download!G182 -> INDUSTRIAL CLEANING PRODUCTS | F21: =IF(D21=0,0,IF([1]Download!C182="",F20,VLOOKUP([1]Download!C182,DIR,2,FALSE))) -> #VALUE! | G21: =IF(D21=0,0,IF([1]Download!B182="",G20,IF([1]Download!J182="7777777",VLOOKUP([1]Download!B182,BasePoint7,2,FALSE),VLOOKUP([1]Download!B182,BasePoint8,2,FALSE)))) -> #VALUE! | H21: =IF([1]Download!J182="7777777",VLOOKUP([1]Download!D182,BasePoint7,2,FALSE),VLOOKUP([1]Download!D182,BasePoint8,2,FALSE)) -> MONCTON, NB | I21: =LEFT(H21,SEARCH(",",H21)-1) -> MONCTON | J21: =[1]Download!R182 -> 43.4 | K21: =[1]Download!S182 -> 14.1 | L21: =[1]Download!T182 -> 11.63 | M21: =[1]Download!U182 -> 8.8 | N21: =[1]Download!V182 -> 7.43 | O21: =[1]Download!W182 -> 6.26 | P21: =[1]Download!X182 -> 5.33 | Q21: =[1]Download!Y182 -> 4.58 | ... AC21: =[1]Download!AK182 -> 0
... A70: =IF(D70=0,0,IF([1]Download!A231="",A69,[1]Download!A231)) -> #VALUE! | B70: =VLOOKUP([1]Download!H231,RT,2,FALSE) -> Rate per CWT | C70: =VLOOKUP([1]Download!E231,ST,2,FALSE) -> Regular | D70: =IF([1]Download!N231=0,0,IF([1]Download!N231=99999999,"99/99/99",VALUE(CONCATENATE(MID([1]Download!N231,5,2),"/",RIGHT([1]Download!N231,2),"/",LEFT([1]Download!N231,4))))) -> #VALUE! | E70: =[1]Download!G231 -> INDUSTRIAL CLEANING PRODUCTS | F70: =IF(D70=0,0,IF([1]Download!C231="",F69,VLOOKUP([1]Download!C231,DIR,2,FALSE))) -> #VALUE! | G70: =IF(D70=0,0,IF([1]Download!B231="",G69,IF([1]Download!J231="7777777",VLOOKUP([1]Download!B231,BasePoint7,2,FALSE),VLOOKUP([1]Download!B231,BasePoint8,2,FALSE)))) -> #VALUE! | H70: =IF([1]Download!J231="7777777",VLOOKUP([1]Download!D231,BasePoint7,2,FALSE),VLOOKUP([1]Download!D231,BasePoint8,2,FALSE)) -> HARBOUR BRETON, NF | I70: =LEFT(H70,SEARCH(",",H70)-1) -> HARBOUR BRETON | J70: =[1]Download!R231 -> 101.85 | K70: =[1]Download!S231 -> 36.44 | L70: =[1]Download!T231 -> 33.2 | M70: =[1]Download!U231 -> 28.06 | N70: =[1]Download!V231 -> 26.17 | O70: =[1]Download!W231 -> 21.8 | P70: =[1]Download!X231 -> 18.88 | Q70: =[1]Download!Y231 -> 15.7 | ... AC70: =[1]Download!AK231 -> 0
A71: =IF(D71=0,0,IF([1]Download!A233="",A70,[1]Download!A233)) -> #VALUE! | B71: =VLOOKUP([1]Download!H233,RT,2,FALSE) -> Rate per CWT | C71: =VLOOKUP([1]Download!E233,ST,2,FALSE) -> Regular | D71: =IF([1]Download!N233=0,0,IF([1]Download!N233=99999999,"99/99/99",VALUE(CONCATENATE(MID([1]Download!N233,5,2),"/",RIGHT([1]Download!N233,2),"/",LEFT([1]Download!N233,4))))) -> #VALUE! | E71: =[1]Download!G233 -> INDUSTRIAL CLEANING PRODUCTS | F71: =IF(D71=0,0,IF([1]Download!C233="",F70,VLOOKUP([1]Download!C233,DIR,2,FALSE))) -> #VALUE! | G71: =IF(D71=0,0,IF([1]Download!B233="",G70,IF([1]Download!J233="7777777",VLOOKUP([1]Download!B233,BasePoint7,2,FALSE),VLOOKUP([1]Download!B233,BasePoint8,2,FALSE)))) -> #VALUE! | H71: =IF([1]Download!J233="7777777",VLOOKUP([1]Download!D233,BasePoint7,2,FALSE),VLOOKUP([1]Download!D233,BasePoint8,2,FALSE)) -> LOURDES, NF | I71: =LEFT(H71,SEARCH(",",H71)-1) -> LOURDES | J71: =[1]Download!R233 -> 81.3 | K71: =[1]Download!S233 -> 27.96 | L71: =[1]Download!T233 -> 24.55 | M71: =[1]Download!U233 -> 20.54 | N71: =[1]Download!V233 -> 18.54 | O71: =[1]Download!W233 -> 16.35 | P71: =[1]Download!X233 -> 14.17 | Q71: =[1]Download!Y233 -> 12.23 | ... AC71: =[1]Download!AK233 -> 0
A72: =IF(D72=0,0,IF([1]Download!A234="",A71,[1]Download!A234)) -> #VALUE! | B72: =VLOOKUP([1]Download!H234,RT,2,FALSE) -> Rate per CWT | C72: =VLOOKUP([1]Download!E234,ST,2,FALSE) -> Regular | D72: =IF([1]Download!N234=0,0,IF([1]Download!N234=99999999,"99/99/99",VALUE(CONCATENATE(MID([1]Download!N234,5,2),"/",RIGHT([1]Download!N234,2),"/",LEFT([1]Download!N234,4))))) -> #VALUE! | E72: =[1]Download!G234 -> INDUSTRIAL CLEANING PRODUCTS | F72: =IF(D72=0,0,IF([1]Download!C234="",F71,VLOOKUP([1]Download!C234,DIR,2,FALSE))) -> #VALUE! | G72: =IF(D72=0,0,IF([1]Download!B234="",G71,IF([1]Download!J234="7777777",VLOOKUP([1]Download!B234,BasePoint7,2,FALSE),VLOOKUP([1]Download!B234,BasePoint8,2,FALSE)))) -> #VALUE! | H72: =IF([1]Download!J234="7777777",VLOOKUP([1]Download!D234,BasePoint7,2,FALSE),VLOOKUP([1]Download!D234,BasePoint8,2,FALSE)) -> MARYSTOWN, NF | I72: =LEFT(H72,SEARCH(",",H72)-1) -> MARYSTOWN | J72: =[1]Download!R234 -> 88.75 | K72: =[1]Download!S234 -> 31.17 | L72: =[1]Download!T234 -> 27.9 | M72: =[1]Download!U234 -> 24.1 | N72: =[1]Download!V234 -> 22.18 | O72: =[1]Download!W234 -> 19.97 | P72: =[1]Download!X234 -> 17.98 | Q72: =[1]Download!Y234 -> 16.45 | ... AC72: =[1]Download!AK234 -> 0
A73: =IF(D73=0,0,IF([1]Download!A235="",A72,[1]Download!A235)) -> #VALUE! | B73: =VLOOKUP([1]Download!H235,RT,2,FALSE) -> Rate per CWT | C73: =VLOOKUP([1]Download!E235,ST,2,FALSE) -> Regular | D73: =IF([1]Download!N235=0,0,IF([1]Download!N235=99999999,"99/99/99",VALUE(CONCATENATE(MID([1]Download!N235,5,2),"/",RIGHT([1]Download!N235,2),"/",LEFT([1]Download!N235,4))))) -> #VALUE! | E73: =[1]Download!G235 -> INDUSTRIAL CLEANING PRODUCTS | F73: =IF(D73=0,0,IF([1]Download!C235="",F72,VLOOKUP([1]Download!C235,DIR,2,FALSE))) -> #VALUE! | G73: =IF(D73=0,0,IF([1]Download!B235="",G72,IF([1]Download!J235="7777777",VLOOKUP([1]Download!B235,BasePoint7,2,FALSE),VLOOKUP([1]Download!B235,BasePoint8,2,FALSE)))) -> #VALUE! | H73: =IF([1]Download!J235="7777777",VLOOKUP([1]Download!D235,BasePoint7,2,FALSE),VLOOKUP([1]Download!D235,BasePoint8,2,FALSE)) -> PLACENTIA, NF | I73: =LEFT(H73,SEARCH(",",H73)-1) -> PLACENTIA | J73: =[1]Download!R235 -> 101.3 | K73: =[1]Download!S235 -> 34.98 | L73: =[1]Download!T235 -> 31.16 | M73: =[1]Download!U235 -> 26.49 | N73: =[1]Download!V235 -> 24.22 | O73: =[1]Download!W235 -> 21.78 | P73: =[1]Download!X235 -> 19.42 | Q73: =[1]Download!Y235 -> 17.87 | ... AC73: =[1]Download!AK235 -> 0
A74: =IF(D74=0,0,IF([1]Download!A236="",A73,[1]Download!A236)) -> #VALUE! | B74: =VLOOKUP([1]Download!H236,RT,2,FALSE) -> Rate per CWT | C74: =VLOOKUP([1]Download!E236,ST,2,FALSE) -> Regular | D74: =IF([1]Download!N236=0,0,IF([1]Download!N236=99999999,"99/99/99",VALUE(CONCATENATE(MID([1]Download!N236,5,2),"/",RIGHT([1]Download!N236,2),"/",LEFT([1]Download!N236,4))))) -> #VALUE! | E74: =[1]Download!G236 -> INDUSTRIAL CLEANING PRODUCTS | F74: =IF(D74=0,0,IF([1]Download!C236="",F73,VLOOKUP([1]Download!C236,DIR,2,FALSE))) -> #VALUE! | G74: =IF(D74=0,0,IF([1]Download!B236="",G73,IF([1]Download!J236="7777777",VLOOKUP([1]Download!B236,BasePoint7,2,FALSE),VLOOKUP([1]Download!B236,BasePoint8,2,FALSE)))) -> #VALUE! | H74: =IF([1]Download!J236="7777777",VLOOKUP([1]Download!D236,BasePoint7,2,FALSE),VLOOKUP([1]Download!D236,BasePoint8,2,FALSE)) -> PORT AU CHOIX, NF | I74: =LEFT(H74,SEARCH(",",H74)-1) -> PORT AU CHOIX | J74: =[1]Download!R236 -> 105.5 | K74: =[1]Download!S236 -> 34.56 | L74: =[1]Download!T236 -> 30.52 | M74: =[1]Download!U236 -> 26.32 | N74: =[1]Download!V236 -> 23.84 | O74: =[1]Download!W236 -> 21.18 | P74: =[1]Download!X236 -> 17.91 | Q74: =[1]Download!Y236 -> 15.17 | ... AC74: =[1]Download!AK236 -> 0
A75: =IF(D75=0,0,IF([1]Download!A237="",A74,[1]Download!A237)) -> #VALUE! | B75: =VLOOKUP([1]Download!H237,RT,2,FALSE) -> Rate per CWT | C75: =VLOOKUP([1]Download!E237,ST,2,FALSE) -> Regular | D75: =IF([1]Download!N237=0,0,IF([1]Download!N237=99999999,"99/99/99",VALUE(CONCATENATE(MID([1]Download!N237,5,2),"/",RIGHT([1]Download!N237,2),"/",LEFT([1]Download!N237,4))))) -> #VALUE! | E75: =[1]Download!G237 -> INDUSTRIAL CLEANING PRODUCTS | F75: =IF(D75=0,0,IF([1]Download!C237="",F74,VLOOKUP([1]Download!C237,DIR,2,FALSE))) -> #VALUE! | G75: =IF(D75=0,0,IF([1]Download!B237="",G74,IF([1]Download!J237="7777777",VLOOKUP([1]Download!B237,BasePoint7,2,FALSE),VLOOKUP([1]Download!B237,BasePoint8,2,FALSE)))) -> #VALUE! | H75: =IF([1]Download!J237="7777777",VLOOKUP([1]Download!D237,BasePoint7,2,FALSE),VLOOKUP([1]Download!D237,BasePoint8,2,FALSE)) -> PORT AUX BASQUES, NF | I75: =LEFT(H75,SEARCH(",",H75)-1) -> PORT AUX BASQUES | J75: =[1]Download!R237 -> 77.15 | K75: =[1]Download!S237 -> 26.39 | L75: =[1]Download!T237 -> 23 | M75: =[1]Download!U237 -> 19.08 | N75: =[1]Download!V237 -> 17.13 | O75: =[1]Download!W237 -> 14.96 | P75: =[1]Download!X237 -> 12.83 | Q75: =[1]Download!Y237 -> 10.93 | ... AC75: =[1]Download!AK237 -> 0
