Workbook

Sheet Données
A1: Date du concert | B1: Artiste(s) | C1: Projet | D1: Nom de la salle | E1: Région | F1: Ville | G1: Nombre de dates | H1: Jauge | I1: Total HT
A2: 43477.958 | B2: ODOR | C2: ODOR | D2: LE FERRAILLEUR | F2: NANTES | G2: 1 | I2: 200
A3: 43482.958 | B3: GENIAL AU JAPON | C3: GÉNIAL AU JAPON | F3: HEROUVILLE SAINT CLAIR | G3: 1 | I3: 400
A4: 43482.812 | B4: LEOPOLDINE HH | C4: LEOPOLDINE HH | D4: ESPACE ROHAN SALLE JEAN-LOUIS BARRAULT | F4: SAVERNE | G4: 1 | I4: 2500
A5: 43484.812 | B5: SHIKO SHIKO | C5: ULTIMATE BITS BATTLE | D5: LE MOLOCO | E5: Franche-Comté | F5: AUDINCOURT | G5: 1 | I5: 1500
A6: 43489.958 | B6: SHIKO SHIKO | C6: ULTIMATE BITS BATTLE | F6: BESANCON | G6: 1 | I6: 1000 | K6: Groupe | L6: Nombre de représentation en 2019 | M6: Fréquentation Public Totale | N6: Total gain cession
A7: 43489.708 | B7: ELLAH A. THAUN | C7: ELLAH A. THAUN | D7: MAINS D’ŒUVRES | E7: Île-de-France | F7: Saint-Ouen | G7: 1 | I7: 600 | K7: Gablé Comicolor | L7: =COUNTIF(B2:B85, "GABLE") -> 15 | M7: =SUMIF($B$2:$B$85,"GABLE",$H$2:$H$85) -> 2363 | N7: =SUMIF($B$2:$B$85,"GABLE",$I$2:$I$85) -> 36141.85
A8: 43490.958 | B8: GENIAL AU JAPON | C8: GÉNIAL AU JAPON | D8: LA SIRENE | F8: LA ROCHELLE | G8: 1 | H8: 504 | I8: 400 | K8: ODOR | L8: =COUNTIF(B2:B85, "ODOR") -> 10 | M8: =SUMIF($B$2:$B$85,"ODOR",$H$2:$H$85) -> 540 | N8: =SUMIF($B$2:$B$85,"ODOR",$I$2:$I$85) -> 4670
A9: 43490.812 | B9: ODOR | C9: ODOR | D9: UBU CLUB | F9: RENNES Cedex | G9: 1 | H9: 350 | I9: 300 | K9: LEOPOLDINE HH | L9: =COUNTIF(B2:B85, "LEOPOLDINE HH") -> 10 | M9: =SUMIF($B$2:$B$85,"LEOPOLDINE HH",$H$2:$H$85) -> 309 | N9: =SUMIF($B$2:$B$85,"LEOPOLDINE HH",$I$2:$I$85) -> 21647.98
A10: 43491.854 | B10: MADAM | C10: MADAM | D10: BAR LE GINKGO | F10: Verdun | G10: 1 | I10: 682.46 | K10: TAXI KEBAB | L10: =COUNTIF(B2:B85, "TAXI KEBAB") -> 9 | M10: =SUMIF($B$2:$B$85,"TAXI KEBAB",$H$2:$H$85) -> 564 | N10: =SUMIF($B$2:$B$85,"TAXI KEBAB",$I$2:$I$85) -> 5476.54
A11: 43492.646 | B11: GABLE | C11: GaBLé CoMiCoLoR uB iWeRKS | F11: BRUZ | G11: 1 | H11: 113 | I11: 1800 | K11: MADAM | L11: =COUNTIF(B2:B85, "MADAM") -> 7 | M11: =SUMIF($B$2:$B$85,"MADAM",$H$2:$H$85) -> 60 | N11: =SUMIF($B$2:$B$85,"MADAM",$I$2:$I$85) -> 7452.59
A12: 43498.583 | B12: GABLE | C12: GaBLé CoMiCoLoR uB iWeRKS | D12: LA POUDRIERE | F12: BELFORT Cedex | G12: 1 | H12: 74 | I12: 1800 | K12: Le Prince Miiaou | L12: =COUNTIF(B2:B85, "LE PRINCE MIIAOU") -> 4 | M12: =SUMIF($B$2:$B$85,"LE PRINCE MIIAOU",$H$2:$H$85) -> 71 | N12: =SUMIF($B$2:$B$85,"LE PRINCE MIIAOU",$I$2:$I$85) -> 4800
A13: 43498.917 | B13: LE PRINCE MIIAOU | C13: LE PRINCE MIIAOU Victoire | D13: LE NOVOMAX | F13: QUIMPER | G13: 1 | I13: 1200 | K13: GENIAL AU JAPON | L13: =COUNTIF(B2:B85, "GENIAL AU JAPON") -> 4 | M13: =SUMIF($B$2:$B$85,"GENIAL AU JAPON",$H$2:$H$85) -> 504 | N13: =SUMIF($B$2:$B$85,"GENIAL AU JAPON",$I$2:$I$85) -> 1384.36
A14: 43499.667 | B14: GABLE | C14: GaBLé CoMiCoLoR uB iWeRKS | D14: GRILLEN | F14: COLMAR | G14: 3 | I14: 4000 | K14: UBB | L14: =COUNTIF(B2:B85, "SHIKO SHIKO") -> 4 | M14: =SUMIF($B$2:$B$85,"SHIKO SHIKO",$H$2:$H$85) -> 40 | N14: =SUMIF($B$2:$B$85,"SHIKO SHIKO",$I$2:$I$85) -> 6050
A15: 43501.958 | B15: ODOR | C15: ODOR | D15: Qu4tre de l’Université d'Angers | F15: ANGERS | G15: 1 | H15: 190 | I15: 500 | K15: THE SLOW SLIDERS | L15: =COUNTIF(B2:B85, "THE SLOW SLIDERS") -> 2 | M15: =SUMIF($B$2:$B$85,"THE SLOW SLIDERS",$H$2:$H$85) -> 152 | N15: =SUMIF($B$2:$B$85,"THE SLOW SLIDERS",$I$2:$I$85) -> 1800
A16: 43501.75 | B16: GABLE | C16: GaBLé CoMiCoLoR uB iWeRKS | D16: L'AUTRE CANAL - GRANDE SALLE | F16: NANCY | G16: 2 | I16: 2000 | K16: CARNIVAL OF SOULS | L16: =COUNTIF(B2:B85, "CARNIVAL OF SOULS") -> 2 | M16: =SUMIF($B$2:$B$85,"CARNIVAL OF SOULS",$H$2:$H$85) -> 30 | N16: =SUMIF($B$2:$B$85,"CARNIVAL OF SOULS",$I$2:$I$85) -> 4357.11
A17: 43503.812 | B17: THE SLOW SLIDERS | C17: THE SLOW SLIDERS | D17: LE CHABADA - Club | F17: ANGERS | G17: 1 | I17: 800 | K17: FUZETA | L17: =COUNTIF(B2:B85, "FUZETA") -> 2 | M17: =SUMIF($B$2:$B$85,"FUZETA",$H$2:$H$85) -> 94 | N17: =SUMIF($B$2:$B$85,"FUZETA",$I$2:$I$85) -> 2100
A18: 43504.958 | B18: MADAM | C18: MADAM | F18: MAUBEC | G18: 1 | H18: 60 | I18: 1000 | K18: AEROBRASIL | L18: =COUNTIF(B2:B85, "AEROBRASIL") -> 1 | M18: =SUMIF($B$2:$B$85,"AEROBRASIL",$H$2:$H$85) -> 0 | N18: =SUMIF($B$2:$B$85,"AEROBRASIL",$I$2:$I$85) -> 700
A19: 43504.542 | B19: GABLE | C19: GaBLé CoMiCoLoR uB iWeRKS | F19: VAUREAL | G19: 2 | H19: 152 | I19: 2700
A20: 43504.833 | B20: THEODORA | C20: THEODORA | D20: LE BRISE-GLACE | F20: Annecy | G20: 1 | H20: 484 | I20: 300
A21: 43511.958 | B21: THE SLOW SLIDERS | C21: THE SLOW SLIDERS | D21: L'AERONEF - CLUB | F21: EURALILLE | G21: 1 | H21: 152 | I21: 1000
A22: 43517.958 | B22: ODOR | C22: ODOR | D22: LA SOUFFLERIE - BARAKASON | F22: Rezé | G22: 1 | I22: 600
A23: 43519.812 | B23: CARNIVAL OF SOULS | C23: CARNIVAL OF SOULS | D23: ESPACE CULTUREL DU CHATEAU DES ROCHERS | E23: Hauts-de-France | F23: NOGENT SUR OISE | G23: 1 | H23: 30 | I23: 3507.11
A24: 43520.604 | B24: GABLE | C24: GaBLé CoMiCoLoR uB iWeRKS | D24: LA GAÎTÉ LYRIQUE - GRANDE SALLE | E24: Île-de-France | F24: Paris | G24: 1 | H24: 148 | I24: 1868.25
A25: 43524.833 | B25: S B R B S | C25: S B R B S | D25: LE CHATO'DO | F25: BLOIS | G25: 1 | H25: 570 | I25: 473.93
A26: 43530.833 | B26: LEOPOLDINE HH | C26: LEOPOLDINE | D26: LE SÉCHOIR | E26: Centre | F26: VERNOUILLET | G26: 2 | I26: 4737
A27: 43531.958 | B27: TAXI KEBAB | C27: TAXI KEBAB | D27: L'ASTROLABE | F27: Orléans | G27: 1 | H27: 169 | I27: 800
A28: 43532.958 | B28: LEOPOLDINE HH | C28: LEOPOLDINE HH | D28: SALLE PIERRE HENON | F28: MABLY | G28: 1 | I28: 1500
A29: 43533.958 | B29: MADAM | C29: MADAM | D29: Salle des fêtes | F29: Accous | G29: 1 | I29: 900.47
A30: 43534.958 | B30: BLACK LILYS | C30: BLACK LILYS | F30: AURILLAC | G30: 1 | I30: 800
A31: 43537.958 | B31: GABLE | C31: GaBLé CoMiCoLoR uB iRWeRKS | D31: LE CAMJI | F31: NIORT | G31: 2 | I31: 2700
A32: 43537.792 | B32: LE PRINCE MIIAOU | C32: LE PRINCE MIIAOU Victoire | D32: PLEIN AIR | E32: Bretagne | F32: CAEN | G32: 1 | I32: 800
A33: 43538.958 | B33: FUZETA | C33: FUZETA | D33: ECHONOVA | F33: SAINT AVE | G33: 1 | I33: 1000
A34: 43538.812 | B34: LEOPOLDINE HH | C34: LEOPOLDINE | D34: Festival Chant'appart | E34: Pays de la Loire | F34: La roche sur yon, Mareuil sur Lay,Le poiré sur Vie,Angles | G34: 4 | I34: 3724
A35: 43539.958 | B35: GABLE | C35: GaBLé CoMiCoLoR uB iRWeRKS | D35: LE 6PAR4 | E35: Pays de la Loire | F35: LAVAL | G35: 2 | H35: 143 | I35: 2700
A36: 43540.729 | B36: AEROBRASIL | C36: AEROBRASIL Lost | D36: PLEIN AIR | E36: Bretagne | F36: CAEN | G36: 1 | I36: 700
A37: 43540.812 | B37: FUZETA | C37: FUZETA | D37: LE 106 | F37: ROUEN | G37: 1 | H37: 94 | I37: 1100
A38: 43541.958 | B38: GABLE | C38: GaBLé CoMiCoLoR uB iWeRKS | F38: Paris | G38: 1 | H38: 60 | I38: 1400
A39: 43543.562 | B39: GABLE | C39: GaBLé CoMiCoLoR uB iWeRKS | D39: LA CLEF | E39: Île-de-France | F39: SAINT-GERMAIN EN LAYE | G39: 2 | H39: 1269 | I39: 2600
A40: 43545.958 | B40: TAXI KEBAB | C40: TAXI KEBAB Chaabi | D40: ESPACE DJANGO | F40: Strasbourg | G40: 1 | I40: 400
...

Sheet Résultats
C1: Trimestre
A2: Année | B2: 2019 | C2: 1 | D2: 2 | E2: 3 | F2: 4
B3: du | C3: =DATE($B$2,3*C2-2,1) -> 43466 | D3: =DATE($B$2,3*D2-2,1) -> 43556 | E3: =DATE($B$2,3*E2-2,1) -> 43647 | F3: =DATE($B$2,3*F2-2,1) -> 43739
B4: au | C4: =EOMONTH(C3,2) -> 43555 | D4: =EOMONTH(D3,2) -> 43646 | E4: =EOMONTH(E3,2) -> 43738 | F4: =EOMONTH(F3,2) -> 43830
B5: AEROBRASIL | C5: =SUMPRODUCT((Données!$A$2:$A$85>=C$3)*(Données!$A$2:$A$85<=C$4)*(Données!$B$2:$B$85=$B5)*(Données!$H$2:$H$85)) -> 0 | D5: =SUMPRODUCT((Données!$A$2:$A$85>=D$3)*(Données!$A$2:$A$85<=D$4)*(Données!$B$2:$B$85=$B5)*(Données!$H$2:$H$85)) -> 0 | E5: =SUMPRODUCT((Données!$A$2:$A$85>=E$3)*(Données!$A$2:$A$85<=E$4)*(Données!$B$2:$B$85=$B5)*(Données!$H$2:$H$85)) -> 0 | F5: =SUMPRODUCT((Données!$A$2:$A$85>=F$3)*(Données!$A$2:$A$85<=F$4)*(Données!$B$2:$B$85=$B5)*(Données!$H$2:$H$85)) -> 0
B6: BLACK LILYS | C6: =SUMPRODUCT((Données!$A$2:$A$85>=C$3)*(Données!$A$2:$A$85<=C$4)*(Données!$B$2:$B$85=$B6)*(Données!$H$2:$H$85)) -> 0 | D6: =SUMPRODUCT((Données!$A$2:$A$85>=D$3)*(Données!$A$2:$A$85<=D$4)*(Données!$B$2:$B$85=$B6)*(Données!$H$2:$H$85)) -> 0 | E6: =SUMPRODUCT((Données!$A$2:$A$85>=E$3)*(Données!$A$2:$A$85<=E$4)*(Données!$B$2:$B$85=$B6)*(Données!$H$2:$H$85)) -> 0 | F6: =SUMPRODUCT((Données!$A$2:$A$85>=F$3)*(Données!$A$2:$A$85<=F$4)*(Données!$B$2:$B$85=$B6)*(Données!$H$2:$H$85)) -> 0
B7: CARNIVAL OF SOULS | C7: =SUMPRODUCT((Données!$A$2:$A$85>=C$3)*(Données!$A$2:$A$85<=C$4)*(Données!$B$2:$B$85=$B7)*(Données!$H$2:$H$85)) -> 30 | D7: =SUMPRODUCT((Données!$A$2:$A$85>=D$3)*(Données!$A$2:$A$85<=D$4)*(Données!$B$2:$B$85=$B7)*(Données!$H$2:$H$85)) -> 0 | E7: =SUMPRODUCT((Données!$A$2:$A$85>=E$3)*(Données!$A$2:$A$85<=E$4)*(Données!$B$2:$B$85=$B7)*(Données!$H$2:$H$85)) -> 0 | F7: =SUMPRODUCT((Données!$A$2:$A$85>=F$3)*(Données!$A$2:$A$85<=F$4)*(Données!$B$2:$B$85=$B7)*(Données!$H$2:$H$85)) -> 0
B8: DUSK TOTEM | C8: =SUMPRODUCT((Données!$A$2:$A$85>=C$3)*(Données!$A$2:$A$85<=C$4)*(Données!$B$2:$B$85=$B8)*(Données!$H$2:$H$85)) -> 0 | D8: =SUMPRODUCT((Données!$A$2:$A$85>=D$3)*(Données!$A$2:$A$85<=D$4)*(Données!$B$2:$B$85=$B8)*(Données!$H$2:$H$85)) -> 0 | E8: =SUMPRODUCT((Données!$A$2:$A$85>=E$3)*(Données!$A$2:$A$85<=E$4)*(Données!$B$2:$B$85=$B8)*(Données!$H$2:$H$85)) -> 0 | F8: =SUMPRODUCT((Données!$A$2:$A$85>=F$3)*(Données!$A$2:$A$85<=F$4)*(Données!$B$2:$B$85=$B8)*(Données!$H$2:$H$85)) -> 0
B9: ELLAH A. THAUN | C9: =SUMPRODUCT((Données!$A$2:$A$85>=C$3)*(Données!$A$2:$A$85<=C$4)*(Données!$B$2:$B$85=$B9)*(Données!$H$2:$H$85)) -> 0 | D9: =SUMPRODUCT((Données!$A$2:$A$85>=D$3)*(Données!$A$2:$A$85<=D$4)*(Données!$B$2:$B$85=$B9)*(Données!$H$2:$H$85)) -> 0 | E9: =SUMPRODUCT((Données!$A$2:$A$85>=E$3)*(Données!$A$2:$A$85<=E$4)*(Données!$B$2:$B$85=$B9)*(Données!$H$2:$H$85)) -> 0 | F9: =SUMPRODUCT((Données!$A$2:$A$85>=F$3)*(Données!$A$2:$A$85<=F$4)*(Données!$B$2:$B$85=$B9)*(Données!$H$2:$H$85)) -> 0
B10: EMILIE ZOE | C10: =SUMPRODUCT((Données!$A$2:$A$85>=C$3)*(Données!$A$2:$A$85<=C$4)*(Données!$B$2:$B$85=$B10)*(Données!$H$2:$H$85)) -> 0 | D10: =SUMPRODUCT((Données!$A$2:$A$85>=D$3)*(Données!$A$2:$A$85<=D$4)*(Données!$B$2:$B$85=$B10)*(Données!$H$2:$H$85)) -> 114 | E10: =SUMPRODUCT((Données!$A$2:$A$85>=E$3)*(Données!$A$2:$A$85<=E$4)*(Données!$B$2:$B$85=$B10)*(Données!$H$2:$H$85)) -> 0 | F10: =SUMPRODUCT((Données!$A$2:$A$85>=F$3)*(Données!$A$2:$A$85<=F$4)*(Données!$B$2:$B$85=$B10)*(Données!$H$2:$H$85)) -> 0
B11: FUZETA | C11: =SUMPRODUCT((Données!$A$2:$A$85>=C$3)*(Données!$A$2:$A$85<=C$4)*(Données!$B$2:$B$85=$B11)*(Données!$H$2:$H$85)) -> 94 | D11: =SUMPRODUCT((Données!$A$2:$A$85>=D$3)*(Données!$A$2:$A$85<=D$4)*(Données!$B$2:$B$85=$B11)*(Données!$H$2:$H$85)) -> 0 | E11: =SUMPRODUCT((Données!$A$2:$A$85>=E$3)*(Données!$A$2:$A$85<=E$4)*(Données!$B$2:$B$85=$B11)*(Données!$H$2:$H$85)) -> 0 | F11: =SUMPRODUCT((Données!$A$2:$A$85>=F$3)*(Données!$A$2:$A$85<=F$4)*(Données!$B$2:$B$85=$B11)*(Données!$H$2:$H$85)) -> 0
B12: GABLE | C12: =SUMPRODUCT((Données!$A$2:$A$85>=C$3)*(Données!$A$2:$A$85<=C$4)*(Données!$B$2:$B$85=$B12)*(Données!$H$2:$H$85)) -> 1959 | D12: =SUMPRODUCT((Données!$A$2:$A$85>=D$3)*(Données!$A$2:$A$85<=D$4)*(Données!$B$2:$B$85=$B12)*(Données!$H$2:$H$85)) -> 404 | E12: =SUMPRODUCT((Données!$A$2:$A$85>=E$3)*(Données!$A$2:$A$85<=E$4)*(Données!$B$2:$B$85=$B12)*(Données!$H$2:$H$85)) -> 0 | F12: =SUMPRODUCT((Données!$A$2:$A$85>=F$3)*(Données!$A$2:$A$85<=F$4)*(Données!$B$2:$B$85=$B12)*(Données!$H$2:$H$85)) -> 0
B13: GENIAL AU JAPON | C13: =SUMPRODUCT((Données!$A$2:$A$85>=C$3)*(Données!$A$2:$A$85<=C$4)*(Données!$B$2:$B$85=$B13)*(Données!$H$2:$H$85)) -> 504 | D13: =SUMPRODUCT((Données!$A$2:$A$85>=D$3)*(Données!$A$2:$A$85<=D$4)*(Données!$B$2:$B$85=$B13)*(Données!$H$2:$H$85)) -> 0 | E13: =SUMPRODUCT((Données!$A$2:$A$85>=E$3)*(Données!$A$2:$A$85<=E$4)*(Données!$B$2:$B$85=$B13)*(Données!$H$2:$H$85)) -> 0 | F13: =SUMPRODUCT((Données!$A$2:$A$85>=F$3)*(Données!$A$2:$A$85<=F$4)*(Données!$B$2:$B$85=$B13)*(Données!$H$2:$H$85)) -> 0
B14: GENOUX VENER | C14: =SUMPRODUCT((Données!$A$2:$A$85>=C$3)*(Données!$A$2:$A$85<=C$4)*(Données!$B$2:$B$85=$B14)*(Données!$H$2:$H$85)) -> 0 | D14: =SUMPRODUCT((Données!$A$2:$A$85>=D$3)*(Données!$A$2:$A$85<=D$4)*(Données!$B$2:$B$85=$B14)*(Données!$H$2:$H$85)) -> 70 | E14: =SUMPRODUCT((Données!$A$2:$A$85>=E$3)*(Données!$A$2:$A$85<=E$4)*(Données!$B$2:$B$85=$B14)*(Données!$H$2:$H$85)) -> 0 | F14: =SUMPRODUCT((Données!$A$2:$A$85>=F$3)*(Données!$A$2:$A$85<=F$4)*(Données!$B$2:$B$85=$B14)*(Données!$H$2:$H$85)) -> 0
B15: LE PRINCE MIIAOU | C15: =SUMPRODUCT((Données!$A$2:$A$85>=C$3)*(Données!$A$2:$A$85<=C$4)*(Données!$B$2:$B$85=$B15)*(Données!$H$2:$H$85)) -> 0 | D15: =SUMPRODUCT((Données!$A$2:$A$85>=D$3)*(Données!$A$2:$A$85<=D$4)*(Données!$B$2:$B$85=$B15)*(Données!$H$2:$H$85)) -> 71 | E15: =SUMPRODUCT((Données!$A$2:$A$85>=E$3)*(Données!$A$2:$A$85<=E$4)*(Données!$B$2:$B$85=$B15)*(Données!$H$2:$H$85)) -> 0 | F15: =SUMPRODUCT((Données!$A$2:$A$85>=F$3)*(Données!$A$2:$A$85<=F$4)*(Données!$B$2:$B$85=$B15)*(Données!$H$2:$H$85)) -> 0
B16: LEOPOLDINE HH | C16: =SUMPRODUCT((Données!$A$2:$A$85>=C$3)*(Données!$A$2:$A$85<=C$4)*(Données!$B$2:$B$85=$B16)*(Données!$H$2:$H$85)) -> 0 | D16: =SUMPRODUCT((Données!$A$2:$A$85>=D$3)*(Données!$A$2:$A$85<=D$4)*(Données!$B$2:$B$85=$B16)*(Données!$H$2:$H$85)) -> 309 | E16: =SUMPRODUCT((Données!$A$2:$A$85>=E$3)*(Données!$A$2:$A$85<=E$4)*(Données!$B$2:$B$85=$B16)*(Données!$H$2:$H$85)) -> 0 | F16: =SUMPRODUCT((Données!$A$2:$A$85>=F$3)*(Données!$A$2:$A$85<=F$4)*(Données!$B$2:$B$85=$B16)*(Données!$H$2:$H$85)) -> 0
... B26: TILÖ | C26: =SUMPRODUCT((Données!$A$2:$A$85>=C$3)*(Données!$A$2:$A$85<=C$4)*(Données!$B$2:$B$85=$B26)*(Données!$H$2:$H$85)) -> 0 | D26: =SUMPRODUCT((Données!$A$2:$A$85>=D$3)*(Données!$A$2:$A$85<=D$4)*(Données!$B$2:$B$85=$B26)*(Données!$H$2:$H$85)) -> 0 | E26: =SUMPRODUCT((Données!$A$2:$A$85>=E$3)*(Données!$A$2:$A$85<=E$4)*(Données!$B$2:$B$85=$B26)*(Données!$H$2:$H$85)) -> 0 | F26: =SUMPRODUCT((Données!$A$2:$A$85>=F$3)*(Données!$A$2:$A$85<=F$4)*(Données!$B$2:$B$85=$B26)*(Données!$H$2:$H$85)) -> 0
