Workbook

Sheet DONNEES
A3: INFORMATIONS POUR LA COMPTABILISATION
C5: col. E | D5: col. F | E5: col. G | F5: col. H
C6: de | D6: à | E6: de | F6: à
B7: PLANTON | C7: 0.33333333 | D7: 0.5 | E7: 0.58333333 | F7: 0.75
B8: Pmob 14-22 | C8: 0.58333333 | D8: 0.91666667
B9: Pmob 22-07 | E9: 0.91666667 | F9: 1
B10: Pmob 22-07 | C10: 0 | D10: 0.29166667
A11: Il faut impérativement transcrire les heures prestées comme dans l'exemple.
A14: ATTENTION : n'oublier pas de mettre le double point entre les heures et les minutes !
A17: Déficit d'heures à reporter vers la période de référence suivante :
A19: Heures supplémentaires à reporter vers la période de référence suivante :
A22: FICHE DE CONGE - Introduisez ici le nombre de jours de congé restant de 2018 :
A25: LES DIFFERENTS CODES A INSCRIRE DANS LA COLONNE D (CODE) DES FEUILLES MENSUELLES
B27: CODE | C27: DESCRIPTION | F27: NBRE Hr
B28: 1 | C28: Jour de congé | F28: 0.31666667
B29: 2 | C29: 1/2 jour de congé | F29: 0.15833333
B30: 3 | C30: Malade | F30: 0.31666667
B31: 4 | C31: AGR | F31: 0.31666667
B32: 5 | C32: Congé syndical | F32: 0.31666667
B33: 6 | C33: 1/2 congé syndical | F33: 0.15833333
B34: 7 | C34: 1/2 jr congé + 1/2 congé syndical | F34: 0.31666667
B35: F | C35: Jours fériés (lu-ve) - Service | F35: 0
B36: FC | C36: Jours fériés (lu-ve) - Congé | F36: 0.31666667
B37: JP | C37: Jour de pont | F37: 0.31666667
B38: L | C38: Jour libre 4/5ème | F38: 0
B39: L1 | C39: Demi-jour libre 4/5ème | F39: 0.15833333

Sheet JAN
B6: Jour | C6: Date | D6: Code | E6: Service | G6: Service | I6: Service | K6: Presté | M6: Norm. Prest. | N6: +/- différence | Q6: FICHE DE CONGE
E7: de | F7: à | G7: de | H7: à | I7: de | J7: à | K7: jour | L7: total
B8: =C8 -> 43466 | C8: 43466 | K8: =IF(Y8="",0,Y8)+IFERROR(VLOOKUP(D8,DONNEES!$B$27:$F$39,5,0),0) -> 0 | L8: =+Y8 -> 0 | M8: 0 | N8: =IF(E8="","",IF(L8>M8,"+","-")) | O8: =IF(E8="",0,IF(L8>M8,L8-M8,M8-L8))+IF(OR(D8="L",D8="F"),K8,0) -> 0 | Q8: Nombre de jours de congé | V8: =+F8-E8 -> 0 | W8: =+H8-G8 -> 0 | X8: =+J8-I8 -> 0 | Y8: =+X8+W8+V8 -> 0
B9: =C9 -> 43467 | C9: 43467 | K9: =IF(Y9="",0,Y9)+IFERROR(VLOOKUP(D9,DONNEES!$B$27:$F$39,5,0),0) -> 0 | L9: =+K9+L8 -> 0 | M9: 0.31666667 | N9: =IF(E9="","",IF(L9>M9,"+","-")) | O9: =IF(E9="",0,IF(L9>M9,L9-M9,M9-L9))+IF(OR(D9="L",D9="F"),K9,0) -> 0 | V9: =+F9-E9 -> 0 | W9: =+H9-G9 -> 0 | X9: =+J9-I9 -> 0 | Y9: =+X9+W9+V9 -> 0
B10: =C10 -> 43468 | C10: 43468 | K10: =IF(Y10="",0,Y10)+IFERROR(VLOOKUP(D10,DONNEES!$B$27:$F$39,5,0),0) -> 0 | L10: =+K10+L9 -> 0 | M10: =+M9+0.316666666666667 -> 0.63333333 | N10: =IF(E10="","",IF(L10>M10,"+","-")) | O10: =IF(E10="",0,IF(L10>M10,L10-M10,M10-L10))+IF(OR(D10="L",D10="F"),K10,0) -> 0 | Q10: Jours de congé consommé sur le mois | V10: =+F10-E10 -> 0 | W10: =+H10-G10 -> 0 | X10: =+J10-I10 -> 0 | Y10: =+X10+W10+V10 -> 0
B11: =C11 -> 43469 | C11: 43469 | K11: =IF(Y11="",0,Y11)+IFERROR(VLOOKUP(D11,DONNEES!$B$27:$F$39,5,0),0) -> 0 | L11: =+K11+L10 -> 0 | M11: =+M10+0.316666666666667 -> 0.95 | N11: =IF(E11="","",IF(L11>M11,"+","-")) | O11: =IF(E11="",0,IF(L11>M11,L11-M11,M11-L11))+IF(OR(D11="L",D11="F"),K11,0) -> 0 | V11: =+F11-E11 -> 0 | W11: =+H11-G11 -> 0 | X11: =+J11-I11 -> 0 | Y11: =+X11+W11+V11 -> 0
B12: =C12 -> 43470 | C12: 43470 | K12: =IF(Y12="",0,Y12)+IFERROR(VLOOKUP(D12,DONNEES!$B$27:$F$39,5,0),0) -> 0 | L12: =+K12+L11 -> 0 | M12: 0.95 | N12: =IF(E12="","",IF(L12>M12,"+","-")) | O12: =IF(E12="",0,IF(L12>M12,L12-M12,M12-L12))+IF(OR(D12="L",D12="F"),K12,0) -> 0 | V12: =+F12-E12 -> 0 | W12: =+H12-G12 -> 0 | X12: =+J12-I12 -> 0 | Y12: =+X12+W12+V12 -> 0
B13: =C13 -> 43471 | C13: 43471 | K13: =IF(Y13="",0,Y13)+IFERROR(VLOOKUP(D13,DONNEES!$B$27:$F$39,5,0),0) -> 0 | L13: =+K13+L12 -> 0 | M13: 0.95 | N13: =IF(E13="","",IF(L13>M13,"+","-")) | O13: =IF(E13="",0,IF(L13>M13,L13-M13,M13-L13))+IF(OR(D13="L",D13="F"),K13,0) -> 0 | Q13: Jour(s) de congé restant(s) | V13: =+F13-E13 -> 0 | W13: =+H13-G13 -> 0 | X13: =+J13-I13 -> 0 | Y13: =+X13+W13+V13 -> 0
B14: =C14 -> 43472 | C14: 43472 | K14: =IF(Y14="",0,Y14)+IFERROR(VLOOKUP(D14,DONNEES!$B$27:$F$39,5,0),0) -> 0 | L14: =+K14+L13 -> 0 | M14: =+M13+0.316666666666667 -> 1.2666667 | N14: =IF(E14="","",IF(L14>M14,"+","-")) | O14: =IF(E14="",0,IF(L14>M14,L14-M14,M14-L14))+IF(OR(D14="L",D14="F"),K14,0) -> 0 | V14: =+F14-E14 -> 0 | W14: =+H14-G14 -> 0 | X14: =+J14-I14 -> 0 | Y14: =+X14+W14+V14 -> 0
B15: =C15 -> 43473 | C15: 43473 | K15: =IF(Y15="",0,Y15)+IFERROR(VLOOKUP(D15,DONNEES!$B$27:$F$39,5,0),0) -> 0 | L15: =+K15+L14 -> 0 | M15: =+M14+0.316666666666667 -> 1.5833333 | N15: =IF(E15="","",IF(L15>M15,"+","-")) | O15: =IF(E15="",0,IF(L15>M15,L15-M15,M15-L15))+IF(OR(D15="L",D15="F"),K15,0) -> 0 | V15: =+F15-E15 -> 0 | W15: =+H15-G15 -> 0 | X15: =+J15-I15 -> 0 | Y15: =+X15+W15+V15 -> 0
B16: =C16 -> 43474 | C16: 43474 | K16: =IF(Y16="",0,Y16)+IFERROR(VLOOKUP(D16,DONNEES!$B$27:$F$39,5,0),0) -> 0 | L16: =+K16+L15 -> 0 | M16: =+M15+0.316666666666667 -> 1.9 | N16: =IF(E16="","",IF(L16>M16,"+","-")) | O16: =IF(E16="",0,IF(L16>M16,L16-M16,M16-L16))+IF(OR(D16="L",D16="F"),K16,0) -> 0 | V16: =+F16-E16 -> 0 | W16: =+H16-G16 -> 0 | X16: =+J16-I16 -> 0 | Y16: =+X16+W16+V16 -> 0
B17: =C17 -> 43475 | C17: 43475 | K17: =IF(Y17="",0,Y17)+IFERROR(VLOOKUP(D17,DONNEES!$B$27:$F$39,5,0),0) -> 0 | L17: =+K17+L16 -> 0 | M17: =+M16+0.316666666666667 -> 2.2166667 | N17: =IF(E17="","",IF(L17>M17,"+","-")) | O17: =IF(E17="",0,IF(L17>M17,L17-M17,M17-L17))+IF(OR(D17="L",D17="F"),K17,0) -> 0 | V17: =+F17-E17 -> 0 | W17: =+H17-G17 -> 0 | X17: =+J17-I17 -> 0 | Y17: =+X17+W17+V17 -> 0
B18: =C18 -> 43476 | C18: 43476 | K18: =IF(Y18="",0,Y18)+IFERROR(VLOOKUP(D18,DONNEES!$B$27:$F$39,5,0),0) -> 0 | L18: =+K18+L17 -> 0 | M18: =+M17+0.316666666666667 -> 2.5333333 | N18: =IF(E18="","",IF(L18>M18,"+","-")) | O18: =IF(E18="",0,IF(L18>M18,L18-M18,M18-L18))+IF(OR(D18="L",D18="F"),K18,0) -> 0 | V18: =+F18-E18 -> 0 | W18: =+H18-G18 -> 0 | X18: =+J18-I18 -> 0 | Y18: =+X18+W18+V18 -> 0
B19: =C19 -> 43477 | C19: 43477 | K19: =IF(Y19="",0,Y19)+IFERROR(VLOOKUP(D19,DONNEES!$B$27:$F$39,5,0),0) -> 0 | L19: =+K19+L18 -> 0 | M19: 2.5333333 | N19: =IF(E19="","",IF(L19>M19,"+","-")) | O19: =IF(E19="",0,IF(L19>M19,L19-M19,M19-L19))+IF(OR(D19="L",D19="F"),K19,0) -> 0 | V19: =+F19-E19 -> 0 | W19: =+H19-G19 -> 0 | X19: =+J19-I19 -> 0 | Y19: =+X19+W19+V19 -> 0
B20: =C20 -> 43478 | C20: 43478 | K20: =IF(Y20="",0,Y20)+IFERROR(VLOOKUP(D20,DONNEES!$B$27:$F$39,5,0),0) -> 0 | L20: =+K20+L19 -> 0 | M20: 2.5333333 | N20: =IF(E20="","",IF(L20>M20,"+","-")) | O20: =IF(E20="",0,IF(L20>M20,L20-M20,M20-L20))+IF(OR(D20="L",D20="F"),K20,0) -> 0 | V20: =+F20-E20 -> 0 | W20: =+H20-G20 -> 0 | X20: =+J20-I20 -> 0 | Y20: =+X20+W20+V20 -> 0
B21: =C21 -> 43479 | C21: 43479 | K21: =IF(Y21="",0,Y21)+IFERROR(VLOOKUP(D21,DONNEES!$B$27:$F$39,5,0),0) -> 0 | L21: =+K21+L20 -> 0 | M21: =+M20+0.316666666666667 -> 2.85 | N21: =IF(E21="","",IF(L21>M21,"+","-")) | O21: =IF(E21="",0,IF(L21>M21,L21-M21,M21-L21))+IF(OR(D21="L",D21="F"),K21,0) -> 0 | V21: =+F21-E21 -> 0 | W21: =+H21-G21 -> 0 | X21: =+J21-I21 -> 0 | Y21: =+X21+W21+V21 -> 0
B22: =C22 -> 43480 | C22: 43480 | K22: =IF(Y22="",0,Y22)+IFERROR(VLOOKUP(D22,DONNEES!$B$27:$F$39,5,0),0) -> 0 | L22: =+K22+L21 -> 0 | M22: =+M21+0.316666666666667 -> 3.1666667 | N22: =IF(E22="","",IF(L22>M22,"+","-")) | O22: =IF(E22="",0,IF(L22>M22,L22-M22,M22-L22))+IF(OR(D22="L",D22="F"),K22,0) -> 0 | V22: =+F22-E22 -> 0 | W22: =+H22-G22 -> 0 | X22: =+J22-I22 -> 0 | Y22: =+X22+W22+V22 -> 0
B23: =C23 -> 43481 | C23: 43481 | K23: =IF(Y23="",0,Y23)+IFERROR(VLOOKUP(D23,DONNEES!$B$27:$F$39,5,0),0) -> 0 | L23: =+K23+L22 -> 0 | M23: =+M22+0.316666666666667 -> 3.4833333 | N23: =IF(E23="","",IF(L23>M23,"+","-")) | O23: =IF(E23="",0,IF(L23>M23,L23-M23,M23-L23))+IF(OR(D23="L",D23="F"),K23,0) -> 0 | V23: =+F23-E23 -> 0 | W23: =+H23-G23 -> 0 | X23: =+J23-I23 -> 0 | Y23: =+X23+W23+V23 -> 0
B24: =C24 -> 43482 | C24: 43482 | K24: =IF(Y24="",0,Y24)+IFERROR(VLOOKUP(D24,DONNEES!$B$27:$F$39,5,0),0) -> 0 | L24: =+K24+L23 -> 0 | M24: =+M23+0.316666666666667 -> 3.8 | N24: =IF(E24="","",IF(L24>M24,"+","-")) | O24: =IF(E24="",0,IF(L24>M24,L24-M24,M24-L24))+IF(OR(D24="L",D24="F"),K24,0) -> 0 | V24: =+F24-E24 -> 0 | W24: =+H24-G24 -> 0 | X24: =+J24-I24 -> 0 | Y24: =+X24+W24+V24 -> 0
B25: =C25 -> 43483 | C25: 43483 | K25: =IF(Y25="",0,Y25)+IFERROR(VLOOKUP(D25,DONNEES!$B$27:$F$39,5,0),0) -> 0 | L25: =+K25+L24 -> 0 | M25: =+M24+0.316666666666667 -> 4.1166667 | N25: =IF(E25="","",IF(L25>M25,"+","-")) | O25: =IF(E25="",0,IF(L25>M25,L25-M25,M25-L25))+IF(OR(D25="L",D25="F"),K25,0) -> 0 | V25: =+F25-E25 -> 0 | W25: =+H25-G25 -> 0 | X25: =+J25-I25 -> 0 | Y25: =+X25+W25+V25 -> 0
B26: =C26 -> 43484 | C26: 43484 | K26: =IF(Y26="",0,Y26)+IFERROR(VLOOKUP(D26,DONNEES!$B$27:$F$39,5,0),0) -> 0 | L26: =+K26+L25 -> 0 | M26: 4.1166667 | N26: =IF(E26="","",IF(L26>M26,"+","-")) | O26: =IF(E26="",0,IF(L26>M26,L26-M26,M26-L26))+IF(OR(D26="L",D26="F"),K26,0) -> 0 | V26: =+F26-E26 -> 0 | W26: =+H26-G26 -> 0 | X26: =+J26-I26 -> 0 | Y26: =+X26+W26+V26 -> 0
B27: =C27 -> 43485 | C27: 43485 | K27: =IF(Y27="",0,Y27)+IFERROR(VLOOKUP(D27,DONNEES!$B$27:$F$39,5,0),0) -> 0 | L27: =+K27+L26 -> 0 | M27: 4.1166667 | N27: =IF(E27="","",IF(L27>M27,"+","-")) | O27: =IF(E27="",0,IF(L27>M27,L27-M27,M27-L27))+IF(OR(D27="L",D27="F"),K27,0) -> 0 | V27: =+F27-E27 -> 0 | W27: =+H27-G27 -> 0 | X27: =+J27-I27 -> 0 | Y27: =+X27+W27+V27 -> 0
B28: =C28 -> 43486 | C28: 43486 | K28: =IF(Y28="",0,Y28)+IFERROR(VLOOKUP(D28,DONNEES!$B$27:$F$39,5,0),0) -> 0 | L28: =+K28+L27 -> 0 | M28: =+M27+0.316666666666667 -> 4.4333333 | N28: =IF(E28="","",IF(L28>M28,"+","-")) | O28: =IF(E28="",0,IF(L28>M28,L28-M28,M28-L28))+IF(OR(D28="L",D28="F"),K28,0) -> 0 | V28: =+F28-E28 -> 0 | W28: =+H28-G28 -> 0 | X28: =+J28-I28 -> 0 | Y28: =+X28+W28+V28 -> 0
B29: =C29 -> 43487 | C29: 43487 | K29: =IF(Y29="",0,Y29)+IFERROR(VLOOKUP(D29,DONNEES!$B$27:$F$39,5,0),0) -> 0 | L29: =+K29+L28 -> 0 | M29: =+M28+0.316666666666667 -> 4.75 | N29: =IF(E29="","",IF(L29>M29,"+","-")) | O29: =IF(E29="",0,IF(L29>M29,L29-M29,M29-L29))+IF(OR(D29="L",D29="F"),K29,0) -> 0 | V29: =+F29-E29 -> 0 | W29: =+H29-G29 -> 0 | X29: =+J29-I29 -> 0 | Y29: =+X29+W29+V29 -> 0
B30: =C30 -> 43488 | C30: 43488 | K30: =IF(Y30="",0,Y30)+IFERROR(VLOOKUP(D30,DONNEES!$B$27:$F$39,5,0),0) -> 0 | L30: =+K30+L29 -> 0 | M30: =+M29+0.316666666666667 -> 5.0666667 | N30: =IF(E30="","",IF(L30>M30,"+","-")) | O30: =IF(E30="",0,IF(L30>M30,L30-M30,M30-L30))+IF(OR(D30="L",D30="F"),K30,0) -> 0 | V30: =+F30-E30 -> 0 | W30: =+H30-G30 -> 0 | X30: =+J30-I30 -> 0 | Y30: =+X30+W30+V30 -> 0
B31: =C31 -> 43489 | C31: 43489 | K31: =IF(Y31="",0,Y31)+IFERROR(VLOOKUP(D31,DONNEES!$B$27:$F$39,5,0),0) -> 0 | L31: =+K31+L30 -> 0 | M31: =+M30+0.316666666666667 -> 5.3833333 | N31: =IF(E31="","",IF(L31>M31,"+","-")) | O31: =IF(E31="",0,IF(L31>M31,L31-M31,M31-L31))+IF(OR(D31="L",D31="F"),K31,0) -> 0 | V31: =+F31-E31 -> 0 | W31: =+H31-G31 -> 0 | X31: =+J31-I31 -> 0 | Y31: =+X31+W31+V31 -> 0
B32: =C32 -> 43490 | C32: 43490 | K32: =IF(Y32="",0,Y32)+IFERROR(VLOOKUP(D32,DONNEES!$B$27:$F$39,5,0),0) -> 0 | L32: =+K32+L31 -> 0 | M32: =+M31+0.316666666666667 -> 5.7 | N32: =IF(E32="","",IF(L32>M32,"+","-")) | O32: =IF(E32="",0,IF(L32>M32,L32-M32,M32-L32))+IF(OR(D32="L",D32="F"),K32,0) -> 0 | V32: =+F32-E32 -> 0 | W32: =+H32-G32 -> 0 | X32: =+J32-I32 -> 0 | Y32: =+X32+W32+V32 -> 0
B33: =C33 -> 43491 | C33: 43491 | K33: =IF(Y33="",0,Y33)+IFERROR(VLOOKUP(D33,DONNEES!$B$27:$F$39,5,0),0) -> 0 | L33: =+K33+L32 -> 0 | M33: 5.7 | N33: =IF(E33="","",IF(L33>M33,"+","-")) | O33: =IF(E33="",0,IF(L33>M33,L33-M33,M33-L33))+IF(OR(D33="L",D33="F"),K33,0) -> 0 | V33: =+F33-E33 -> 0 | W33: =+H33-G33 -> 0 | X33: =+J33-I33 -> 0 | Y33: =+X33+W33+V33 -> 0
B34: =C34 -> 43492 | C34: 43492 | K34: =IF(Y34="",0,Y34)+IFERROR(VLOOKUP(D34,DONNEES!$B$27:$F$39,5,0),0) -> 0 | L34: =+K34+L33 -> 0 | M34: 5.7 | N34: =IF(E34="","",IF(L34>M34,"+","-")) | O34: =IF(E34="",0,IF(L34>M34,L34-M34,M34-L34))+IF(OR(D34="L",D34="F"),K34,0) -> 0 | V34: =+F34-E34 -> 0 | W34: =+H34-G34 -> 0 | X34: =+J34-I34 -> 0 | Y34: =+X34+W34+V34 -> 0
B35: =C35 -> 43493 | C35: 43493 | K35: =IF(Y35="",0,Y35)+IFERROR(VLOOKUP(D35,DONNEES!$B$27:$F$39,5,0),0) -> 0 | L35: =+K35+L34 -> 0 | M35: =+M34+0.316666666666667 -> 6.0166667 | N35: =IF(E35="","",IF(L35>M35,"+","-")) | O35: =IF(E35="",0,IF(L35>M35,L35-M35,M35-L35))+IF(OR(D35="L",D35="F"),K35,0) -> 0 | V35: =+F35-E35 -> 0 | W35: =+H35-G35 -> 0 | X35: =+J35-I35 -> 0 | Y35: =+X35+W35+V35 -> 0
B36: =C36 -> 43494 | C36: 43494 | K36: =IF(Y36="",0,Y36)+IFERROR(VLOOKUP(D36,DONNEES!$B$27:$F$39,5,0),0) -> 0 | L36: =+K36+L35 -> 0 | M36: =+M35+0.316666666666667 -> 6.3333333 | N36: =IF(E36="","",IF(L36>M36,"+","-")) | O36: =IF(E36="",0,IF(L36>M36,L36-M36,M36-L36))+IF(OR(D36="L",D36="F"),K36,0) -> 0 | V36: =+F36-E36 -> 0 | W36: =+H36-G36 -> 0 | X36: =+J36-I36 -> 0 | Y36: =+X36+W36+V36 -> 0
B37: =C37 -> 43495 | C37: 43495 | K37: =IF(Y37="",0,Y37)+IFERROR(VLOOKUP(D37,DONNEES!$B$27:$F$39,5,0),0) -> 0 | L37: =+K37+L36 -> 0 | M37: =+M36+0.316666666666667 -> 6.65 | N37: =IF(E37="","",IF(L37>M37,"+","-")) | O37: =IF(E37="",0,IF(L37>M37,L37-M37,M37-L37))+IF(OR(D37="L",D37="F"),K37,0) -> 0 | V37: =+F37-E37 -> 0 | W37: =+H37-G37 -> 0 | X37: =+J37-I37 -> 0 | Y37: =+X37+W37+V37 -> 0
B38: =C38 -> 43496 | C38: 43496 | K38: =IF(Y38="",0,Y38)+IFERROR(VLOOKUP(D38,DONNEES!$B$27:$F$39,5,0),0) -> 0 | L38: =+K38+L37 -> 0 | M38: =+M37+0.316666666666667 -> 6.9666667 | N38: =IF(E38="","",IF(L38>M38,"+","-")) | O38: =IF(E38="",0,IF(L38>M38,L38-M38,M38-L38))+IF(OR(D38="L",D38="F"),K38,0) -> 0 | V38: =+F38-E38 -> 0 | W38: =+H38-G38 -> 0 | X38: =+J38-I38 -> 0 | Y38: =+X38+W38+V38 -> 0
