Workbook

Sheet Feuil1
AW4: 1 | AX4: 11 | AY4: 21 | AZ4: 31
AW5: 2 | AX5: 12 | AY5: 22 | AZ5: 32
AW6: 3 | AX6: 13 | AY6: 23 | AZ6: 33
AW7: 4 | AX7: 14 | AY7: 24 | AZ7: 34
AW8: 5 | AX8: 15 | AY8: 25 | AZ8: 35
AW9: 6 | AX9: 16 | AY9: 26 | AZ9: 36
AW10: 7 | AX10: 17 | AY10: 27 | AZ10: 37
AW11: 8 | AX11: 18 | AY11: 28 | AZ11: 38
AW12: 9 | AX12: 19 | AY12: 29 | AZ12: 39
AW13: 10 | AX13: 20 | AY13: 30 | AZ13: 40

Sheet Feuil2
A1: =OFFSET(Feuil1!$AW$4,INT((ROW()-1)/4),MOD(ROW()-1,4)) -> 1
A2: =OFFSET(Feuil1!$AW$4,INT((ROW()-1)/4),MOD(ROW()-1,4)) -> 11
A3: =OFFSET(Feuil1!$AW$4,INT((ROW()-1)/4),MOD(ROW()-1,4)) -> 21
A4: =OFFSET(Feuil1!$AW$4,INT((ROW()-1)/4),MOD(ROW()-1,4)) -> 31
A5: =OFFSET(Feuil1!$AW$4,INT((ROW()-1)/4),MOD(ROW()-1,4)) -> 2
A6: =OFFSET(Feuil1!$AW$4,INT((ROW()-1)/4),MOD(ROW()-1,4)) -> 12
A7: =OFFSET(Feuil1!$AW$4,INT((ROW()-1)/4),MOD(ROW()-1,4)) -> 22
A8: =OFFSET(Feuil1!$AW$4,INT((ROW()-1)/4),MOD(ROW()-1,4)) -> 32
A9: =OFFSET(Feuil1!$AW$4,INT((ROW()-1)/4),MOD(ROW()-1,4)) -> 3
A10: =OFFSET(Feuil1!$AW$4,INT((ROW()-1)/4),MOD(ROW()-1,4)) -> 13
A11: =OFFSET(Feuil1!$AW$4,INT((ROW()-1)/4),MOD(ROW()-1,4)) -> 23
A12: =OFFSET(Feuil1!$AW$4,INT((ROW()-1)/4),MOD(ROW()-1,4)) -> 33
... A40: =OFFSET(Feuil1!$AW$4,INT((ROW()-1)/4),MOD(ROW()-1,4)) -> 40
