Workbook
Name TAB: JAN_16!$A$1:$AA$35

Sheet JAN_16
A1: JANVIER (2016)
C2: VE | D2: SA | E2: DI | F2: LU | G2: MA | H2: ME | I2: JE | J2: VE | K2: SA | L2: DI | M2: LU | N2: MA | O2: ME | P2: JE | Q2: VE | R2: SA | S2: DI | T2: LU | U2: MA | V2: ME | W2: JE | X2: VE | Y2: SA | Z2: DI | AA2: LU | AB2: MA | AC2: ME | AD2: JE | AE2: VE | AF2: SA | AG2: DI | AH2: RTT ACQUIS
C3: 1 | D3: 2 | E3: 3 | F3: 4 | G3: 5 | H3: 6 | I3: 7 | J3: 8 | K3: 9 | L3: 10 | M3: 11 | N3: 12 | O3: 13 | P3: 14 | Q3: 15 | R3: 16 | S3: 17 | T3: 18 | U3: 19 | V3: 20 | W3: 21 | X3: 22 | Y3: 23 | Z3: 24 | AA3: 25 | AB3: 26 | AC3: 27 | AD3: 28 | AE3: 29 | AF3: 30 | AG3: 31
A4: CLOTILDE | B4: M | C4: FERIE | D4: WE | E4: WE | K4: WE | L4: WE | R4: WE | S4: WE | Y4: WE | Z4: WE | AA4: ENF MAL 1/3 | AF4: WE | AG4: WE | AH4: 1
B5: A | C5: FERIE | D5: WE | E5: WE | K5: WE | L5: WE | R5: WE | S5: WE | Y5: WE | Z5: WE | AC5: 1/2 [01] | AF5: WE | AG5: WE
A6: FANNY | B6: M | C6: FERIE | D6: WE | E6: WE | K6: WE | L6: WE | R6: WE | S6: WE | U6: 1/2 [05] | Y6: WE | Z6: WE | AF6: WE | AG6: WE | AH6: 1
B7: A | C7: FERIE | D7: WE | E7: WE | K7: WE | L7: WE | R7: WE | S7: WE | Y7: WE | Z7: WE | AF7: WE | AG7: WE
A8: CELINE | B8: M | C8: FERIE | D8: WE | E8: WE | K8: WE | L8: WE | M8: 1 [01] | N8: COURS | R8: WE | S8: WE | Y8: WE | Z8: WE | AF8: WE | AG8: WE | AH8: 1
B9: A | C9: FERIE | D9: WE | E9: WE | K9: WE | L9: WE | R9: WE | S9: WE | Y9: WE | Z9: WE | AF9: WE | AG9: WE
A10: MELANIE | B10: M | C10: FERIE | D10: WE | E10: WE | K10: WE | L10: WE | Q10: 1 [11] | R10: WE | S10: WE | Y10: WE | Z10: WE | AE10: COURS | AF10: WE | AG10: WE | AH10: 1
B11: A | C11: FERIE | D11: WE | E11: WE | K11: WE | L11: WE | R11: WE | S11: WE | Y11: WE | Z11: WE | AF11: WE | AG11: WE
A12: SANDRINE | B12: M | C12: FERIE | D12: WE | E12: WE | J12: COURS | K12: WE | L12: WE | P12: COURS | Q12: COURS | R12: WE | S12: WE | X12: COURS | Y12: WE | Z12: WE | AE12: COURS | AF12: WE | AG12: WE | AH12: 1
B13: A | C13: FERIE | D13: WE | E13: WE | K13: WE | L13: WE | R13: WE | S13: WE | Y13: WE | Z13: WE | AF13: WE | AG13: WE
A14: PASCALE | B14: M | C14: FERIE | D14: WE | E14: WE | K14: WE | L14: WE | R14: WE | S14: WE | T14: 1 [12] | Y14: WE | Z14: WE | AF14: WE | AG14: WE | AH14: 1
B15: A | C15: FERIE | D15: WE | E15: WE | K15: WE | L15: WE | R15: WE | S15: WE | Y15: WE | Z15: WE | AF15: WE | AG15: WE
A16: MARYLENE | B16: M | C16: FERIE | D16: WE | E16: WE | K16: WE | L16: WE | R16: WE | S16: WE | Y16: WE | Z16: WE | AF16: WE | AG16: WE | AH16: 0
B17: A | C17: FERIE | D17: WE | E17: WE | K17: WE | L17: WE | R17: WE | S17: WE | Y17: WE | Z17: WE | AF17: WE | AG17: WE
A18: PEDRO | B18: M | C18: FERIE | D18: WE | E18: WE | K18: WE | L18: WE | N18: 1/2 [05] | R18: WE | S18: WE | Y18: WE | Z18: WE | AF18: WE | AG18: WE | AH18: 1
B19: A | C19: FERIE | D19: WE | E19: WE | K19: WE | L19: WE | N19: 1/2 [07] | R19: WE | S19: WE | Y19: WE | Z19: WE | AF19: WE | AG19: WE
A20: ELODIE | B20: M | C20: FERIE | D20: WE | E20: WE | K20: WE | L20: WE | R20: WE | S20: WE | Y20: WE | Z20: WE | AE20: 1 [08] | AF20: WE | AG20: WE | AH20: 1
B21: A | C21: FERIE | D21: WE | E21: WE | K21: WE | L21: WE | R21: WE | S21: WE | Y21: WE | Z21: WE | AD21: 1/2 [07] | AF21: WE | AG21: WE
A22: KATY | B22: M | C22: FERIE | D22: WE | E22: WE | K22: WE | L22: WE | R22: WE | S22: WE | Y22: WE | Z22: WE | AF22: WE | AG22: WE | AH22: 1
B23: A | C23: FERIE | D23: WE | E23: WE | K23: WE | L23: WE | R23: WE | S23: WE | Y23: WE | Z23: WE | AF23: WE | AG23: WE
A24: LAURENCE | B24: M | C24: FERIE | D24: WE | E24: WE | K24: WE | L24: WE | R24: WE | S24: WE | U24: CONGES | Y24: WE | Z24: WE | AF24: WE | AG24: WE | AH24: 0
B25: A | C25: FERIE | D25: WE | E25: WE | K25: WE | L25: WE | R25: WE | S25: WE | Y25: WE | Z25: WE | AF25: WE | AG25: WE
C26: OK | F26: OK | G26: OK | H26: OK | I26: OK | J26: OK | M26: OK | N26: OK | O26: OK | P26: OK | Q26: OK | T26: OK | U26: OK | V26: OK | W26: OK | X26: OK | AA26: OK | AB26: OK | AC26: OK | AD26: OK | AE26: OK
E29: RTT
E30: MALADIE
E31: CONGES
E32: CONGES S/S
E33: ENFANT MAL
E34: COURS
E35: PRESENCE

Sheet FEV_16
A1: FEVRIER (2016)
C2: LU | D2: MA | E2: ME | F2: JE | G2: VE | H2: SA | I2: DI | J2: LU | K2: MA | L2: ME | M2: JE | N2: VE | O2: SA | P2: DI | Q2: LU | R2: MA | S2: ME | T2: JE | U2: VE | V2: SA | W2: DI | X2: LU | Y2: MA | Z2: ME | AA2: JE | AB2: VE | AC2: SA | AD2: DI | AE2: LU | AF2: RTT ACQUIS
C3: 1 | D3: 2 | E3: 3 | F3: 4 | G3: 5 | H3: 6 | I3: 7 | J3: 8 | K3: 9 | L3: 10 | M3: 11 | N3: 12 | O3: 13 | P3: 14 | Q3: 15 | R3: 16 | S3: 17 | T3: 18 | U3: 19 | V3: 20 | W3: 21 | X3: 22 | Y3: 23 | Z3: 24 | AA3: 25 | AB3: 26 | AC3: 27 | AD3: 28 | AE3: 29
A4: CLOTILDE | B4: M | H4: WE | I4: WE | O4: WE | P4: WE | V4: WE | W4: WE | AC4: WE | AD4: WE | AE4: CONGES | AF4: 1
B5: A | H5: WE | I5: WE | L5: 1/2 [01] | O5: WE | P5: WE | V5: WE | W5: WE | AB5: CONGES | AC5: WE | AD5: WE
A6: FANNY | B6: M | G6: COURS | H6: WE | I6: WE | O6: WE | P6: WE | U6: COURS | V6: WE | W6: WE | AB6: COURS | AC6: WE | AD6: WE | AF6: 1
B7: A | H7: WE | I7: WE | O7: WE | P7: WE | V7: WE | W7: WE | AC7: WE | AD7: WE
A8: CELINE | B8: M | H8: WE | I8: WE | O8: WE | P8: WE | V8: WE | W8: WE | AC8: WE | AD8: WE | AF8: 1
B9: A | H9: WE | I9: WE | O9: WE | P9: WE | V9: WE | W9: WE | AC9: WE | AD9: WE
A10: MELANIE | B10: M | H10: WE | I10: WE | J10: COURS | O10: WE | P10: WE | Q10: COURS | V10: WE | W10: WE | X10: COURS | AC10: WE | AD10: WE | AE10: COURS | AF10: 1
B11: A | H11: WE | I11: WE | O11: WE | P11: WE | V11: WE | W11: WE | AC11: WE | AD11: WE
A12: SANDRINE | B12: M | G12: COURS | H12: WE | I12: WE | N12: COURS | O12: WE | P12: WE | U12: COURS | V12: WE | W12: WE | AB12: COURS | AC12: WE | AD12: WE | AF12: 1
B13: A | C13: 1/2 [01] | H13: WE | I13: WE | O13: WE | P13: WE | V13: WE | W13: WE | AC13: WE | AD13: WE
A14: PASCALE | B14: M | G14: 1 [01] | H14: WE | I14: WE | N14: 1 [02] | O14: WE | P14: WE | V14: WE | W14: WE | AC14: WE | AD14: WE | AF14: 1
B15: A | H15: WE | I15: WE | O15: WE | P15: WE | V15: WE | W15: WE | AC15: WE | AD15: WE
A16: MARYLENE | B16: M | H16: WE | I16: WE | O16: WE | P16: WE | V16: WE | W16: WE | AC16: WE | AD16: WE | AF16: 0
B17: A | H17: WE | I17: WE | O17: WE | P17: WE | V17: WE | W17: WE | AC17: WE | AD17: WE
A18: PEDRO | B18: M | C18: 1 [08] | D18: 1 [09] | H18: WE | I18: WE | O18: WE | P18: WE | V18: WE | W18: WE | AB18: 1 [10] | AC18: WE | AD18: WE | AE18: 1 [11] | AF18: 1
B19: A | H19: WE | I19: WE | O19: WE | P19: WE | V19: WE | W19: WE | AC19: WE | AD19: WE
A20: ELODIE | B20: M | C20: CONGES | D20: CONGES | E20: CONGES | F20: CONGES | G20: CONGES | H20: WE | I20: WE | J20: CONGES | K20: CONGES | L20: CONGES | M20: CONGES | N20: CONGES | O20: WE | P20: WE | V20: WE | W20: WE | AC20: WE | AD20: WE | AF20: 1
B21: A | C21: CONGES | D21: CONGES | E21: CONGES | F21: CONGES | G21: CONGES | H21: WE | I21: WE | J21: CONGES | K21: CONGES | L21: CONGES | M21: CONGES | O21: WE | P21: WE | V21: WE | W21: WE | AC21: WE | AD21: WE
A22: KATY | B22: M | G22: ENF MAL 0,5/3 | H22: WE | I22: WE | O22: WE | P22: WE | S22: ENF MAL 0,5/3 | U22: ENF MAL 0,5/3 | V22: WE | W22: WE | X22: CONGES | Y22: CONGES | Z22: CONGES | AA22: CONGES | AB22: CONGES | AC22: WE | AD22: WE | AF22: 1
B23: A | H23: WE | I23: WE | O23: WE | P23: WE | V23: WE | W23: WE | X23: CONGES | Y23: CONGES | Z23: CONGES | AA23: CONGES | AB23: CONGES | AC23: WE | AD23: WE
A24: LAURENCE | B24: M | H24: WE | I24: WE | O24: WE | P24: WE | V24: WE | W24: WE | AB24: CONGES | AC24: WE | AD24: WE | AE24: CONGES | AF24: 0
B25: A | H25: WE | I25: WE | O25: WE | P25: WE | V25: WE | W25: WE | AB25: CONGES | AC25: WE | AD25: WE | AE25: CONGES
C26: OK | D26: OK | E26: OK | F26: OK | G26: OK | J26: OK | K26: OK | L26: OK | M26: OK | N26: OK | Q26: OK | R26: OK | S26: OK | T26: OK | U26: OK | X26: OK | Y26: OK | Z26: OK | AA26: OK | AB26: OK | AE26: OK
E29: RTT
E30: MALADIE
E31: CONGES
E32: CONGES S/S
E33: ENFANT MAL
E34: COURS
E35: PRESENCE ETUDE

Sheet SOLDE
B2: SOLDE CONGES
B3: JAN_16 | D3: FEV_16 | F3: MAR_16 | H3: AVR_16 | J3: MAI | L3: JUIN | N3: JUILLET | P3: AOUT | R3: SEPTEMBRE | T3: OCTOBRE | V3: NOVEMBRE | X3: DECEMBRE
B4: RTT | C4: CONGES | D4: RTT | E4: CONGES | F4: RTT | G4: CONGES | H4: RTT | I4: CONGES | J4: RTT | K4: CONGES | L4: RTT | M4: CONGES | N4: RTT | O4: CONGES | P4: RTT | Q4: CONGES | R4: RTT | S4: CONGES | T4: RTT | U4: CONGES | V4: RTT | W4: CONGES | X4: RTT | Y4: CONGES
A5: CLOTILDE | C5: =COUNTIF(JAN_16!$C4:$AG5,"CONGES")/2 -> 0 | E5: =COUNTIF(FEV_16!$C4:$AG5,"CONGES")/2 -> 1
A7: FANNY | C7: =COUNTIF(JAN_16!$C6:$AG7,"CONGES")/2 -> 0 | E7: =COUNTIF(FEV_16!$C6:$AG7,"CONGES")/2 -> 0
A9: CELINE | C9: =COUNTIF(JAN_16!$C8:$AG9,"CONGES")/2 -> 0 | E9: =COUNTIF(FEV_16!$C8:$AG9,"CONGES")/2 -> 0
A11: MELANIE | C11: =COUNTIF(JAN_16!$C10:$AG11,"CONGES")/2 -> 0 | E11: =COUNTIF(FEV_16!$C10:$AG11,"CONGES")/2 -> 0
A13: SANDRINE | C13: =COUNTIF(JAN_16!$C12:$AG13,"CONGES")/2 -> 0 | E13: =COUNTIF(FEV_16!$C12:$AG13,"CONGES")/2 -> 0
A15: PASCALE | C15: =COUNTIF(JAN_16!$C14:$AG15,"CONGES")/2 -> 0 | E15: =COUNTIF(FEV_16!$C14:$AG15,"CONGES")/2 -> 0
A17: MARYLENE | C17: =COUNTIF(JAN_16!$C16:$AG17,"CONGES")/2 -> 0 | E17: =COUNTIF(FEV_16!$C16:$AG17,"CONGES")/2 -> 0
A19: PEDRO | C19: =COUNTIF(JAN_16!$C18:$AG19,"CONGES")/2 -> 0 | E19: =COUNTIF(FEV_16!$C18:$AG19,"CONGES")/2 -> 0
A21: ELODIE | C21: =COUNTIF(JAN_16!$C20:$AG21,"CONGES")/2 -> 0 | E21: =COUNTIF(FEV_16!$C20:$AG21,"CONGES")/2 -> 9.5
A23: KATY | C23: =COUNTIF(JAN_16!$C22:$AG23,"CONGES")/2 -> 0 | E23: =COUNTIF(FEV_16!$C22:$AG23,"CONGES")/2 -> 5
A25: LAURENCE | C25: =COUNTIF(JAN_16!$C24:$AG25,"CONGES")/2 -> 0.5 | E25: =COUNTIF(FEV_16!$C24:$AG25,"CONGES")/2 -> 2
