Workbook

Sheet Feuil1
A3: Somme de Total | B3: Étiquettes de colonnes
A4: Étiquettes de lignes | B4: 2016 | C4: 2017 | D4: 2018 | E4: Total général
A5: janv | C5: 2.43 | D5: 5.54 | E5: 7.97
A6: févr | C6: 4.4 | D6: 29.62 | E6: 34.02
A7: mars | D7: 88.2 | E7: 88.2
A8: avr | C8: 1.76 | D8: 29.21 | E8: 30.97
A9: mai | D9: 37.82 | E9: 37.82
A10: juin | C10: 10.86 | E10: 10.86
A11: juil | C11: 63.9 | E11: 63.9
A12: août | C12: 1.68 | E12: 1.68
A13: sept | B13: 6.23 | C13: 26.77 | E13: 33
A14: nov | C14: 218.31 | E14: 218.31
A15: déc | C15: 24.73 | E15: 24.73
A16: Total général | B16: 6.23 | C16: 354.84 | D16: 190.39 | E16: 551.46
B20: SOMME COMMANDES
A21: 43101 | B21: =SUMPRODUCT((Tableau1[Total])*(MONTH(Tableau1[Date commande])=MONTH(A21))) -> 7.97
A22: 43132 | B22: =SUMPRODUCT((Tableau1[Total])*(MONTH(Tableau1[Date commande])=MONTH(A22))) -> 34.02
A23: 43160 | B23: =SUMPRODUCT((Tableau1[Total])*(MONTH(Tableau1[Date commande])=MONTH(A23))) -> 88.2
A24: 43191 | B24: =SUMPRODUCT((Tableau1[Total])*(MONTH(Tableau1[Date commande])=MONTH(A24))) -> 30.97
A25: 43221 | B25: =SUMPRODUCT((Tableau1[Total])*(MONTH(Tableau1[Date commande])=MONTH(A25))) -> 37.82
A26: 43252 | B26: =SUMPRODUCT((Tableau1[Total])*(MONTH(Tableau1[Date commande])=MONTH(A26))) -> 10.86
A27: 43282 | B27: =SUMPRODUCT((Tableau1[Total])*(MONTH(Tableau1[Date commande])=MONTH(A27))) -> 63.9
A28: 43313 | B28: =SUMPRODUCT((Tableau1[Total])*(MONTH(Tableau1[Date commande])=MONTH(A28))) -> 1.68
A29: 43344 | B29: =SUMPRODUCT((Tableau1[Total])*(MONTH(Tableau1[Date commande])=MONTH(A29))) -> 33
A30: 43374 | B30: =SUMPRODUCT((Tableau1[Total])*(MONTH(Tableau1[Date commande])=MONTH(A30))) -> 0
A31: 43405 | B31: =SUMPRODUCT((Tableau1[Total])*(MONTH(Tableau1[Date commande])=MONTH(A31))) -> 218.31
A32: 43435 | B32: =SUMPRODUCT((Tableau1[Total])*(MONTH(Tableau1[Date commande])=MONTH(A32))) -> 24.73

Sheet Commandes
A1: n° commande | B1: Date commande | C1: Objet | D1: Catégorie | E1: Pièces/Lot | F1: Quantité | G1: P.U. | H1: Prix | I1: Port | J1: Total | K1: Expédition | L1: n° colis | M1: date livraison | N1: note | O1: jours
A2: Commande 001 | B2: 42633 | C2: Objet n°1 | D2: 👕 👖 Vêtements et Accessoires | E2: 1 | F2: 1 | G2: 6.23 | H2: =Tableau1[P.U.]*Tableau1[Quantité] -> 6.23 | I2: 0 | J2: =Tableau1[Port]+Tableau1[Prix] -> 6.23 | L2: Colis 001 | M2: =Tableau1[[#This Row],[Date commande]]+42 -> 42675
A3: Commande 002 | B3: 42741 | C3: Objet n°2 | D3: 🚗 🏍 Auto Moto | E3: 1 | F3: 1 | G3: 2.43 | H3: =Tableau1[P.U.]*Tableau1[Quantité] -> 2.43 | I3: 0 | J3: =Tableau1[Port]+Tableau1[Prix] -> 2.43 | L3: Colis 002 | M3: =Tableau1[[#This Row],[Date commande]]+42 -> 42783
A4: Commande 003 | B4: 42791 | C4: Objet n°3 | D4: 🏠 Maison et Jardin | E4: 2 | F4: 2 | G4: 2.2 | H4: =Tableau1[P.U.]*Tableau1[Quantité] -> 4.4 | I4: 0 | J4: =Tableau1[Port]+Tableau1[Prix] -> 4.4 | L4: Colis 003 | M4: =Tableau1[[#This Row],[Date commande]]+42 -> 42833
A5: Commande 004 | B5: 42840 | C5: Objet n°4 | D5: 👕 👖 Vêtements et Accessoires | E5: 2 | F5: 1 | G5: 1.76 | H5: =Tableau1[P.U.]*Tableau1[Quantité] -> 1.76 | I5: 0 | J5: =Tableau1[Port]+Tableau1[Prix] -> 1.76 | L5: Colis 004 | M5: =Tableau1[[#This Row],[Date commande]]+42 -> 42882
A6: Commande 005 | B6: 42898 | C6: Objet n°5 | D6: 🚗 🏍 Auto Moto | E6: 2 | F6: 1 | G6: 2.89 | H6: =Tableau1[P.U.]*Tableau1[Quantité] -> 2.89 | I6: 0 | J6: =Tableau1[Port]+Tableau1[Prix] -> 2.89 | L6: Colis 005 | M6: =Tableau1[[#This Row],[Date commande]]+42 -> 42940
A7: Commande 006 | B7: 42913 | C7: Objet n°6 | D7: 🚗 🏍 Auto Moto | E7: 1 | F7: 1 | G7: 6.39 | H7: =Tableau1[P.U.]*Tableau1[Quantité] -> 6.39 | I7: 0 | J7: =Tableau1[Port]+Tableau1[Prix] -> 6.39 | L7: Colis 006 | M7: =Tableau1[[#This Row],[Date commande]]+42 -> 42955
A8: Commande 007 | B8: 42913 | C8: Objet n°7 | D8: 👕 👖 Vêtements et Accessoires | E8: 2 | F8: 1 | G8: 1.58 | H8: =Tableau1[P.U.]*Tableau1[Quantité] -> 1.58 | I8: 0 | J8: =Tableau1[Port]+Tableau1[Prix] -> 1.58 | L8: Colis 007 | M8: =Tableau1[[#This Row],[Date commande]]+42 -> 42955
A9: Commande 008 | B9: 42917 | C9: Objet n°8 | D9: 🚗 🏍 Auto Moto | E9: 1 | F9: 1 | G9: 8.79 | H9: =Tableau1[P.U.]*Tableau1[Quantité] -> 8.79 | I9: 0 | J9: =Tableau1[Port]+Tableau1[Prix] -> 8.79 | L9: Colis 008 | M9: =Tableau1[[#This Row],[Date commande]]+42 -> 42959
A10: Commande 009 | B10: 42919 | C10: Objet n°9 | D10: 🚗 🏍 Auto Moto | E10: 1 | F10: 1 | G10: 1.46 | H10: =Tableau1[P.U.]*Tableau1[Quantité] -> 1.46 | I10: 0 | J10: =Tableau1[Port]+Tableau1[Prix] -> 1.46 | L10: Colis 009 | M10: =Tableau1[[#This Row],[Date commande]]+42 -> 42961
A11: Commande 010 | B11: 42920 | C11: Objet n°10 | D11: 👕 👖 Vêtements et Accessoires | E11: 1 | F11: 1 | G11: 1.93 | H11: =Tableau1[P.U.]*Tableau1[Quantité] -> 1.93 | I11: 0 | J11: =Tableau1[Port]+Tableau1[Prix] -> 1.93 | L11: Colis 010 | M11: =Tableau1[[#This Row],[Date commande]]+42 -> 42962
A12: Commande 011 | B12: 42927 | C12: Objet n°11 | D12: 🚗 🏍 Auto Moto | E12: 1 | F12: 1 | G12: 1.27 | H12: =Tableau1[P.U.]*Tableau1[Quantité] -> 1.27 | I12: 0 | J12: =Tableau1[Port]+Tableau1[Prix] -> 1.27 | L12: Colis 011 | M12: =Tableau1[[#This Row],[Date commande]]+42 -> 42969
A13: Commande 012 | B13: 42935 | C13: Objet n°12 | D13: 🚗 🏍 Auto Moto | E13: 1 | F13: 1 | G13: 19.05 | H13: =Tableau1[P.U.]*Tableau1[Quantité] -> 19.05 | I13: 0 | J13: =Tableau1[Port]+Tableau1[Prix] -> 19.05 | L13: Colis 012 | M13: =Tableau1[[#This Row],[Date commande]]+42 -> 42977
... A22: Commande 021 | B22: 42996 | C22: Objet n°21 | D22: 💄 💊 Beauté et Santé | E22: 1 | F22: 2 | G22: 2.13 | H22: =Tableau1[P.U.]*Tableau1[Quantité] -> 4.26 | I22: 0 | J22: =Tableau1[Port]+Tableau1[Prix] -> 4.26 | L22: Colis 021 | M22: =Tableau1[[#This Row],[Date commande]]+42 -> 43038
A23: Commande 022 | B23: 42996 | C23: Objet n°22 | D23: 🚼 🍼 Bébé | E23: 1 | F23: 1 | G23: 2.47 | H23: =Tableau1[P.U.]*Tableau1[Quantité] -> 2.47 | I23: =8.4-(4.26+2.47) -> 1.67 | J23: =Tableau1[Port]+Tableau1[Prix] -> 4.14 | L23: Colis 022 | M23: =Tableau1[[#This Row],[Date commande]]+42 -> 43038
A24: Commande 023 | B24: 43000 | C24: Objet n°23 | D24: 🏠 Maison et Jardin | E24: 1 | F24: 1 | G24: 1.84 | H24: =Tableau1[P.U.]*Tableau1[Quantité] -> 1.84 | I24: 0 | J24: =Tableau1[Port]+Tableau1[Prix] -> 1.84 | L24: Colis 023 | M24: =Tableau1[[#This Row],[Date commande]]+42 -> 43042
A25: Commande 024 | B25: 43001 | C25: Objet n°24 | D25: 🚼 🍼 Bébé | E25: 1 | F25: 1 | G25: 0.01 | H25: =Tableau1[P.U.]*Tableau1[Quantité] -> 0.01 | I25: 0 | J25: =Tableau1[Port]+Tableau1[Prix] -> 0.01 | L25: Colis 024 | M25: =Tableau1[[#This Row],[Date commande]]+42 -> 43043
A26: Commande 025 | B26: 43002 | C26: Objet n°25 | D26: 👕 👖 Vêtements et Accessoires | E26: 1 | F26: 1 | G26: 11.71 | H26: =Tableau1[P.U.]*Tableau1[Quantité] -> 11.71 | I26: 0 | J26: =Tableau1[Port]+Tableau1[Prix] -> 11.71 | L26: Colis 025 | M26: =Tableau1[[#This Row],[Date commande]]+42 -> 43044
A27: Commande 026 | B27: 43008 | C27: Objet n°26 | D27: 👕 👖 Vêtements et Accessoires | E27: 1 | F27: 1 | G27: 3.01 | H27: =Tableau1[P.U.]*Tableau1[Quantité] -> 3.01 | I27: 0 | J27: =Tableau1[Port]+Tableau1[Prix] -> 3.01 | L27: Colis 026 | M27: =Tableau1[[#This Row],[Date commande]]+42 -> 43050
A28: Commande 027 | B28: 43059 | C28: Objet n°27 | D28: 📱 💻 Électronique | E28: 4 | F28: 2 | G28: 2.78 | H28: =Tableau1[P.U.]*Tableau1[Quantité] -> 5.56 | I28: =7.33-Tableau1[[#This Row],[Prix]] -> 1.77 | J28: =Tableau1[Port]+Tableau1[Prix] -> 7.33 | L28: Colis 027 | M28: =Tableau1[[#This Row],[Date commande]]+42 -> 43101
A29: Commande 028 | B29: 43059 | C29: Objet n°28 | D29: 📱 💻 Électronique | E29: 1 | F29: 1 | G29: 0.92 | H29: =Tableau1[P.U.]*Tableau1[Quantité] -> 0.92 | I29: 0 | J29: =Tableau1[Port]+Tableau1[Prix] -> 0.92 | L29: Colis 028 | M29: =Tableau1[[#This Row],[Date commande]]+42 -> 43101
A30: Commande 029 | B30: 43059 | C30: Objet n°29 | D30: 📱 💻 Électronique | E30: 1 | F30: 1 | G30: 1.17 | H30: =Tableau1[P.U.]*Tableau1[Quantité] -> 1.17 | I30: 0 | J30: =Tableau1[Port]+Tableau1[Prix] -> 1.17 | L30: Colis 029 | M30: =Tableau1[[#This Row],[Date commande]]+42 -> 43101
A31: Commande 030 | B31: 43059 | C31: Objet n°30 | D31: 📱 💻 Électronique | E31: 1 | F31: 1 | G31: 164.49 | H31: =Tableau1[P.U.]*Tableau1[Quantité] -> 164.49 | I31: 0 | J31: =Tableau1[Port]+Tableau1[Prix] -> 164.49 | L31: Colis 030 | M31: =Tableau1[[#This Row],[Date commande]]+42 -> 43101
A32: Commande 031 | B32: 43059 | C32: Objet n°31 | D32: 🏀 🎮 🚲 Sports, Loisirs, Jouets | E32: 1 | F32: 1 | G32: 5.85 | H32: =Tableau1[P.U.]*Tableau1[Quantité] -> 5.85 | I32: =7.47-Tableau1[[#This Row],[Prix]] -> 1.62 | J32: =Tableau1[Port]+Tableau1[Prix] -> 7.47 | L32: Colis 031 | M32: =Tableau1[[#This Row],[Date commande]]+42 -> 43101
A33: Commande 032 | B33: 43066 | C33: Objet n°32 | D33: 📱 💻 Électronique | E33: 1 | F33: 2 | G33: 2.24 | H33: =Tableau1[P.U.]*Tableau1[Quantité] -> 4.48 | I33: 1.42 | J33: =Tableau1[Port]+Tableau1[Prix] -> 5.9 | L33: Colis 032 | M33: =Tableau1[[#This Row],[Date commande]]+42 -> 43108
A34: Commande 033 | B34: 43066 | C34: Objet n°33 | D34: 📱 💻 Électronique | E34: 1 | F34: 4 | G34: 2.79 | H34: =Tableau1[P.U.]*Tableau1[Quantité] -> 11.16 | I34: 1.62 | J34: =Tableau1[Port]+Tableau1[Prix] -> 12.78 | L34: Colis 033 | M34: =Tableau1[[#This Row],[Date commande]]+42 -> 43108
A35: Commande 034 | B35: 43066 | C35: Objet n°34 | D35: 📱 💻 Électronique | E35: 1 | F35: 1 | G35: 9.17 | H35: =Tableau1[P.U.]*Tableau1[Quantité] -> 9.17 | I35: 0 | J35: =Tableau1[Port]+Tableau1[Prix] -> 9.17 | L35: Colis 034 | M35: =Tableau1[[#This Row],[Date commande]]+42 -> 43108
A36: Commande 035 | B36: 43066 | C36: Objet n°35 | D36: 📱 💻 Électronique | E36: 4 | F36: 1 | G36: 9.08 | H36: =Tableau1[P.U.]*Tableau1[Quantité] -> 9.08 | I36: 0 | J36: =Tableau1[Port]+Tableau1[Prix] -> 9.08 | L36: Colis 035 | M36: =Tableau1[[#This Row],[Date commande]]+42 -> 43108
A37: Commande 036 | B37: 43096 | C37: Objet n°36 | D37: 🏠 Maison et Jardin | E37: 1 | F37: 1 | G37: 1.11 | H37: =Tableau1[P.U.]*Tableau1[Quantité] -> 1.11 | I37: 0 | J37: =Tableau1[Port]+Tableau1[Prix] -> 1.11 | L37: Colis 036 | M37: =Tableau1[[#This Row],[Date commande]]+42 -> 43138
A38: Commande 037 | B38: 43098 | C38: Objet n°37 | D38: 📱 💻 Électronique | E38: 1 | F38: 1 | G38: 23.62 | H38: =Tableau1[P.U.]*Tableau1[Quantité] -> 23.62 | I38: 0 | J38: =Tableau1[Port]+Tableau1[Prix] -> 23.62 | L38: Colis 037 | M38: =Tableau1[[#This Row],[Date commande]]+42 -> 43140
A39: Commande 038 | B39: 43113 | C39: Objet n°38 | D39: 👕 👖 Vêtements et Accessoires | E39: 40 | F39: 1 | G39: 5.54 | H39: =Tableau1[P.U.]*Tableau1[Quantité] -> 5.54 | I39: 0 | J39: =Tableau1[Port]+Tableau1[Prix] -> 5.54 | K39: 43116 | L39: Colis 038 | M39: 43127 | O39: =Tableau1[[#This Row],[date livraison]]-Tableau1[[#This Row],[Date commande]] -> 14
A40: Commande 039 | B40: 43134 | C40: Objet n°39 | D40: 📱 💻 Électronique | E40: 1 | F40: 1 | G40: 0.57 | H40: =Tableau1[P.U.]*Tableau1[Quantité] -> 0.57 | I40: 0 | J40: =Tableau1[Port]+Tableau1[Prix] -> 0.57 | K40: 43139 | L40: Colis 039 | M40: =Tableau1[[#This Row],[Date commande]]+42 -> 43176
A41: Commande 040 | B41: 43151 | C41: Objet n°40 | D41: 🚗 🏍 Auto Moto | E41: 2 | F41: 1 | G41: 3.23 | H41: =Tableau1[P.U.]*Tableau1[Quantité] -> 3.23 | I41: 0 | J41: =Tableau1[Port]+Tableau1[Prix] -> 3.23 | K41: 43159 | L41: Colis 040 | M41: =Tableau1[[#This Row],[Date commande]]+42 -> 43193
A42: Commande 041 | B42: 43158 | C42: Objet n°41 | D42: 🏀 🎮 🚲 Sports, Loisirs, Jouets | E42: 1 | F42: 1 | G42: 1.36 | H42: =Tableau1[P.U.]*Tableau1[Quantité] -> 1.36 | I42: 0 | J42: =Tableau1[Port]+Tableau1[Prix] -> 1.36 | K42: 43164 | L42: Colis 041 | M42: =Tableau1[[#This Row],[Date commande]]+42 -> 43200
A43: Commande 042 | B43: 43159 | C43: Objet n°42 | D43: 🏀 🎮 🚲 Sports, Loisirs, Jouets | E43: 6 | F43: 1 | G43: 24.46 | H43: =Tableau1[P.U.]*Tableau1[Quantité] -> 24.46 | I43: 0 | J43: =Tableau1[Port]+Tableau1[Prix] -> 24.46 | K43: 43161 | L43: Colis 042 | M43: 43171 | O43: =Tableau1[[#This Row],[date livraison]]-Tableau1[[#This Row],[Date commande]] -> 12
A44: Commande 043 | B44: 43160 | C44: Objet n°43 | D44: 📱 💻 Électronique | E44: 1 | F44: 1 | G44: 0.82 | H44: =Tableau1[P.U.]*Tableau1[Quantité] -> 0.82 | I44: 0 | J44: =Tableau1[Port]+Tableau1[Prix] -> 0.82 | K44: 43163 | L44: Colis 043 | M44: =Tableau1[[#This Row],[Date commande]]+42 -> 43202
A45: Commande 044 | B45: 43166 | C45: Objet n°44 | D45: 🛠 Bricolage | E45: 229 | F45: 1 | G45: 0.01 | H45: =Tableau1[P.U.]*Tableau1[Quantité] -> 0.01 | I45: 0 | J45: =Tableau1[Port]+Tableau1[Prix] -> 0.01 | K45: 43166 | L45: Colis 044 | M45: 43172 | O45: =Tableau1[[#This Row],[date livraison]]-Tableau1[[#This Row],[Date commande]] -> 6
A46: Commande 045 | B46: 43167 | C46: Objet n°45 | D46: 📱 💻 Électronique | E46: 1 | F46: 1 | G46: 14.91 | H46: =Tableau1[P.U.]*Tableau1[Quantité] -> 14.91 | I46: 0 | J46: =Tableau1[Port]+Tableau1[Prix] -> 14.91 | K46: 43169 | L46: Colis 045 | M46: 43178 | O46: =Tableau1[[#This Row],[date livraison]]-Tableau1[[#This Row],[Date commande]] -> 11
A47: Commande 046 | B47: 43167 | C47: Objet n°46 | D47: 📱 💻 Électronique | E47: 1 | F47: 1 | G47: 8.8 | H47: =Tableau1[P.U.]*Tableau1[Quantité] -> 8.8 | I47: 0 | J47: =Tableau1[Port]+Tableau1[Prix] -> 8.8 | K47: 43169 | L47: Colis 046 | M47: 43178 | O47: =Tableau1[[#This Row],[date livraison]]-Tableau1[[#This Row],[Date commande]] -> 11
A48: Commande 047 | B48: 43167 | C48: Objet n°47 | D48: 🏀 🎮 🚲 Sports, Loisirs, Jouets | E48: 6 | F48: 1 | G48: 16.15 | H48: =Tableau1[P.U.]*Tableau1[Quantité] -> 16.15 | I48: 0 | J48: =Tableau1[Port]+Tableau1[Prix] -> 16.15 | K48: 43175 | L48: Colis 047 | M48: 43187 | O48: =Tableau1[[#This Row],[date livraison]]-Tableau1[[#This Row],[Date commande]] -> 20
A49: Commande 048 | B49: 43167 | C49: Objet n°48 | D49: 👕 👖 Vêtements et Accessoires | E49: 1 | F49: 1 | G49: 6.54 | H49: =Tableau1[P.U.]*Tableau1[Quantité] -> 6.54 | I49: 0 | J49: =Tableau1[Port]+Tableau1[Prix] -> 6.54 | K49: 43169 | L49: Colis 048 | M49: 43181 | O49: =Tableau1[[#This Row],[date livraison]]-Tableau1[[#This Row],[Date commande]] -> 14
A50: Commande 049 | B50: 43187 | C50: Objet n°49 | D50: 🚗 🏍 Auto Moto | E50: 1 | F50: 1 | G50: 1.39 | H50: =Tableau1[P.U.]*Tableau1[Quantité] -> 1.39 | I50: 0 | J50: =Tableau1[Port]+Tableau1[Prix] -> 1.39 | K50: 43190 | L50: Colis 049 | M50: 43211 | O50: =Tableau1[[#This Row],[date livraison]]-Tableau1[[#This Row],[Date commande]] -> 24
A51: Commande 050 | B51: 43187 | C51: Objet n°50 | D51: 🚗 🏍 Auto Moto | E51: 1 | F51: 2 | G51: =1.29/2 -> 0.645 | H51: =Tableau1[P.U.]*Tableau1[Quantité] -> 1.29 | I51: 0 | J51: =Tableau1[Port]+Tableau1[Prix] -> 1.29 | K51: 43190 | L51: Colis 050 | M51: 43217 | O51: =Tableau1[[#This Row],[date livraison]]-Tableau1[[#This Row],[Date commande]] -> 30
A52: Commande 051 | B52: 43187 | C52: Objet n°51 | D52: 👜 🎒 Bagages et Sacs | E52: 3 | F52: 1 | G52: 2.32 | H52: =Tableau1[P.U.]*Tableau1[Quantité] -> 2.32 | I52: 0 | J52: =Tableau1[Port]+Tableau1[Prix] -> 2.32 | K52: 43191 | L52: Colis 051 | M52: 43204 | O52: =Tableau1[[#This Row],[date livraison]]-Tableau1[[#This Row],[Date commande]] -> 17
A53: Commande 052 | B53: 43187 | C53: Objet n°52 | D53: 👜 🎒 Bagages et Sacs | E53: 3 | F53: 1 | G53: 2.32 | H53: =Tableau1[P.U.]*Tableau1[Quantité] -> 2.32 | I53: 0 | J53: =Tableau1[Port]+Tableau1[Prix] -> 2.32 | K53: 43191 | L53: Colis 052 | M53: 43204 | O53: =Tableau1[[#This Row],[date livraison]]-Tableau1[[#This Row],[Date commande]] -> 17
A54: Commande 053 | B54: 43187 | C54: Objet n°53 | D54: 💄 💊 Beauté et Santé | E54: 7 | F54: 1 | G54: 6.79 | H54: =Tableau1[P.U.]*Tableau1[Quantité] -> 6.79 | I54: 0 | J54: =Tableau1[Port]+Tableau1[Prix] -> 6.79 | K54: 43192 | L54: Colis 053 | M54: 43204 | O54: =Tableau1[[#This Row],[date livraison]]-Tableau1[[#This Row],[Date commande]] -> 17
A55: Commande 054 | B55: 43187 | C55: Objet n°54 | D55: 👞 Chaussures | E55: 1 | F55: 1 | G55: 1.71 | H55: =Tableau1[P.U.]*Tableau1[Quantité] -> 1.71 | I55: 0 | J55: =Tableau1[Port]+Tableau1[Prix] -> 1.71 | K55: 43193 | L55: Colis 054 | M55: 43211 | O55: =Tableau1[[#This Row],[date livraison]]-Tableau1[[#This Row],[Date commande]] -> 24
A56: Commande 055 | B56: 43187 | C56: Objet n°55 | D56: 👞 Chaussures | E56: 1 | F56: 1 | G56: 0.83 | H56: =Tableau1[P.U.]*Tableau1[Quantité] -> 0.83 | I56: 0 | J56: =Tableau1[Port]+Tableau1[Prix] -> 0.83 | K56: 43191 | L56: Colis 055 | M56: 43211 | O56: =Tableau1[[#This Row],[date livraison]]-Tableau1[[#This Row],[Date commande]] -> 24
A57: Commande 056 | B57: 43187 | C57: Objet n°56 | D57: 📱 💻 Électronique | E57: 1 | F57: 1 | G57: 7.75 | H57: =Tableau1[P.U.]*Tableau1[Quantité] -> 7.75 | I57: 0 | J57: =Tableau1[Port]+Tableau1[Prix] -> 7.75 | K57: 43190 | L57: Colis 056 | M57: 43204 | O57: =Tableau1[[#This Row],[date livraison]]-Tableau1[[#This Row],[Date commande]] -> 17
A58: Commande 057 | B58: 43187 | C58: Objet n°57 | D58: 📱 💻 Électronique | E58: 1 | F58: 2 | G58: =3.34/2 -> 1.67 | H58: =Tableau1[P.U.]*Tableau1[Quantité] -> 3.34 | I58: 0 | J58: =Tableau1[Port]+Tableau1[Prix] -> 3.34 | K58: 43189 | L58: Colis 057 | M58: 43204 | O58: =Tableau1[[#This Row],[date livraison]]-Tableau1[[#This Row],[Date commande]] -> 17
A59: Commande 058 | B59: 43187 | C59: Objet n°58 | D59: 🏠 Maison et Jardin | E59: 1 | F59: 1 | G59: 3.21 | H59: =Tableau1[P.U.]*Tableau1[Quantité] -> 3.21 | I59: 0 | J59: =Tableau1[Port]+Tableau1[Prix] -> 3.21 | K59: 43189 | L59: Colis 058 | M59: 43230 | O59: =Tableau1[[#This Row],[date livraison]]-Tableau1[[#This Row],[Date commande]] -> 43
A60: Commande 059 | B60: 43187 | C60: Objet n°59 | D60: 🏠 Maison et Jardin | E60: 1 | F60: 1 | G60: 0.65 | H60: =Tableau1[P.U.]*Tableau1[Quantité] -> 0.65 | I60: 0 | J60: =Tableau1[Port]+Tableau1[Prix] -> 0.65 | K60: 43191 | L60: Colis 059 | M60: 43217 | O60: =Tableau1[[#This Row],[date livraison]]-Tableau1[[#This Row],[Date commande]] -> 30
A61: Commande 060 | B61: 43187 | C61: Objet n°60 | D61: 👕 👖 Vêtements et Accessoires | E61: 2 | F61: 2 | G61: =9.37/2 -> 4.685 | H61: =Tableau1[P.U.]*Tableau1[Quantité] -> 9.37 | I61: 0 | J61: =Tableau1[Port]+Tableau1[Prix] -> 9.37 | K61: 43187 | L61: Colis 060 | M61: 43204 | O61: =Tableau1[[#This Row],[date livraison]]-Tableau1[[#This Row],[Date commande]] -> 17
A62: Commande 061 | B62: 43193 | C62: Objet n°61 | D62: 🚗 🏍 Auto Moto | E62: 4 | F62: 2 | G62: 0.53 | H62: =Tableau1[P.U.]*Tableau1[Quantité] -> 1.06 | I62: 0 | J62: =Tableau1[Port]+Tableau1[Prix] -> 1.06 | K62: 43198 | L62: Colis 061 | M62: 43217 | O62: =Tableau1[[#This Row],[date livraison]]-Tableau1[[#This Row],[Date commande]] -> 24
A63: Commande 062 | B63: 43193 | C63: Objet n°62 | D63: 🚗 🏍 Auto Moto | E63: 10 | F63: 1 | G63: 1.14 | H63: =Tableau1[P.U.]*Tableau1[Quantité] -> 1.14 | I63: 0 | J63: =Tableau1[Port]+Tableau1[Prix] -> 1.14 | K63: 43195 | L63: Colis 062 | M63: 43224 | O63: =Tableau1[[#This Row],[date livraison]]-Tableau1[[#This Row],[Date commande]] -> 31
A64: Commande 063 | B64: 43193 | C64: Objet n°63 | D64: 🚗 🏍 Auto Moto | E64: 1 | F64: 1 | G64: 4.03 | H64: =Tableau1[P.U.]*Tableau1[Quantité] -> 4.03 | I64: 0 | J64: =Tableau1[Port]+Tableau1[Prix] -> 4.03 | K64: 43201 | L64: Colis 063 | M64: 43227 | O64: =Tableau1[[#This Row],[date livraison]]-Tableau1[[#This Row],[Date commande]] -> 34
A65: Commande 064 | B65: 43193 | C65: Objet n°64 | D65: 📱 💻 Électronique | E65: 1 | F65: 1 | G65: 2.19 | H65: =Tableau1[P.U.]*Tableau1[Quantité] -> 2.19 | I65: 0 | J65: =Tableau1[Port]+Tableau1[Prix] -> 2.19 | K65: 43197 | L65: Colis 064 | M65: 43211 | O65: =Tableau1[[#This Row],[date livraison]]-Tableau1[[#This Row],[Date commande]] -> 18
A66: Commande 065 | B66: 43193 | C66: Objet n°65 | D66: 📱 💻 Électronique | E66: 1 | F66: 1 | G66: 2.78 | H66: =Tableau1[P.U.]*Tableau1[Quantité] -> 2.78 | I66: 0 | J66: =Tableau1[Port]+Tableau1[Prix] -> 2.78 | K66: 43199 | L66: Colis 065 | M66: 43211 | O66: =Tableau1[[#This Row],[date livraison]]-Tableau1[[#This Row],[Date commande]] -> 18
A67: Commande 066 | B67: 43206 | C67: Objet n°66 | D67: 📱 💻 Électronique | E67: 1 | F67: 1 | G67: 3.62 | H67: =Tableau1[P.U.]*Tableau1[Quantité] -> 3.62 | I67: 0 | J67: =Tableau1[Port]+Tableau1[Prix] -> 3.62 | K67: 43212 | L67: Colis 066 | M67: 43217 | O67: =Tableau1[[#This Row],[date livraison]]-Tableau1[[#This Row],[Date commande]] -> 11
A68: Commande 067 | B68: 43209 | C68: Objet n°67 | D68: 📱 💻 Électronique | E68: 1 | F68: 1 | G68: 0.01 | H68: =Tableau1[P.U.]*Tableau1[Quantité] -> 0.01 | I68: 0 | J68: =Tableau1[Port]+Tableau1[Prix] -> 0.01 | K68: 43212 | L68: Colis 067 | M68: 43217 | O68: =Tableau1[[#This Row],[date livraison]]-Tableau1[[#This Row],[Date commande]] -> 8
A69: Commande 068 | B69: 43209 | C69: Objet n°68 | D69: 👕 👖 Vêtements et Accessoires | E69: 2 | F69: 1 | G69: 0.9 | H69: =Tableau1[P.U.]*Tableau1[Quantité] -> 0.9 | I69: 0 | J69: =Tableau1[Port]+Tableau1[Prix] -> 0.9 | K69: 43213 | L69: Colis 068 | M69: 43252 | O69: =Tableau1[[#This Row],[date livraison]]-Tableau1[[#This Row],[Date commande]] -> 43
A70: Commande 069 | B70: 43213 | C70: Objet n°69 | D70: 👜 🎒 Bagages et Sacs | E70: 1 | F70: 3 | G70: 0.92 | H70: =Tableau1[P.U.]*Tableau1[Quantité] -> 2.76 | I70: 0 | J70: =Tableau1[Port]+Tableau1[Prix] -> 2.76 | K70: 43215 | L70: Colis 069 | M70: 43245 | O70: =Tableau1[[#This Row],[date livraison]]-Tableau1[[#This Row],[Date commande]] -> 32
A71: Commande 070 | B71: 43213 | C71: Objet n°70 | D71: 👞 Chaussures | E71: 1 | F71: 1 | G71: 9.52 | H71: =Tableau1[P.U.]*Tableau1[Quantité] -> 9.52 | I71: 1.2 | J71: =Tableau1[Port]+Tableau1[Prix] -> 10.72 | K71: 43216 | L71: Colis 070 | M71: 43229 | O71: =Tableau1[[#This Row],[date livraison]]-Tableau1[[#This Row],[Date commande]] -> 16
A72: Commande 071 | B72: 43224 | C72: Objet n°71 | D72: 👞 Chaussures | E72: 1 | F72: 3 | G72: 0.94 | H72: =Tableau1[P.U.]*Tableau1[Quantité] -> 2.82 | I72: 0 | J72: =Tableau1[Port]+Tableau1[Prix] -> 2.82 | K72: 43226 | L72: Colis 071 | M72: 43239 | O72: =Tableau1[[#This Row],[date livraison]]-Tableau1[[#This Row],[Date commande]] -> 15
A73: Commande 072 | B73: 43224 | C73: Objet n°72 | D73: 👞 Chaussures | E73: 1 | F73: 2 | G73: 1.48 | H73: =Tableau1[P.U.]*Tableau1[Quantité] -> 2.96 | I73: -0.01 | J73: =Tableau1[Port]+Tableau1[Prix] -> 2.95 | K73: 43228 | L73: Colis 072 | O73: =Tableau1[[#This Row],[date livraison]]-Tableau1[[#This Row],[Date commande]] -> -43224
A74: Commande 073 | B74: 43224 | C74: Objet n°73 | D74: 🏠 Maison et Jardin | E74: 1 | F74: 5 | G74: 0.32 | H74: =Tableau1[P.U.]*Tableau1[Quantité] -> 1.6 | I74: -0.03 | J74: =Tableau1[Port]+Tableau1[Prix] -> 1.57 | K74: 43228 | L74: Colis 073 | M74: 43245 | O74: =Tableau1[[#This Row],[date livraison]]-Tableau1[[#This Row],[Date commande]] -> 21
A75: Commande 074 | B75: 43232 | C75: Objet n°74 | D75: ⌚️ 💍 Montres et Bijoux | E75: 1 | F75: 1 | G75: 20.95 | H75: =Tableau1[P.U.]*Tableau1[Quantité] -> 20.95 | I75: 0 | J75: =Tableau1[Port]+Tableau1[Prix] -> 20.95 | K75: 43233 | L75: Colis 074 | M75: 43246 | O75: =Tableau1[[#This Row],[date livraison]]-Tableau1[[#This Row],[Date commande]] -> 14
A76: Commande 075 | B76: 43243 | C76: Objet n°75 | D76: 🚼 🍼 Bébé | E76: 1 | F76: 1 | G76: 0.01 | H76: =Tableau1[P.U.]*Tableau1[Quantité] -> 0.01 | I76: 0 | J76: =Tableau1[Port]+Tableau1[Prix] -> 0.01 | K76: 43245 | L76: Colis 075 | M76: 43260 | O76: =Tableau1[[#This Row],[date livraison]]-Tableau1[[#This Row],[Date commande]] -> 17
A77: Commande 076 | B77: 43243 | C77: Objet n°76 | D77: 📱 💻 Électronique | E77: 1 | F77: 1 | G77: 0.65 | H77: =Tableau1[P.U.]*Tableau1[Quantité] -> 0.65 | I77: 0 | J77: =Tableau1[Port]+Tableau1[Prix] -> 0.65 | K77: 43245 | L77: Colis 076 | M77: 43255 | O77: =Tableau1[[#This Row],[date livraison]]-Tableau1[[#This Row],[Date commande]] -> 12
A78: Commande 077 | B78: 43243 | C78: Objet n°77 | D78: 🏠 Maison et Jardin | E78: 1 | F78: 1 | G78: 8.87 | H78: =Tableau1[P.U.]*Tableau1[Quantité] -> 8.87 | I78: 0 | J78: =Tableau1[Port]+Tableau1[Prix] -> 8.87 | K78: 43245 | L78: Colis 077 | O78: =Tableau1[[#This Row],[date livraison]]-Tableau1[[#This Row],[Date commande]] -> -43243

Sheet Analyse
A2: Catégorie | B2: 💰 Montants | C2: NB cmd | D2: Moyenne | E2: Médiane
A3: =Edition!A2 -> 👕 👖 Vêtements et Accessoires | B3: =SUMIF(Tableau1[[Catégorie]:[Catégorie]],Edition!A2,Tableau1[[Total]:[Total]]) -> 60.78 | C3: =COUNTIF(Tableau1[Catégorie],Analyse!A3) -> 12 | D3: =B3/C3 -> 5.065 | E3: {=MEDIAN(IF(Commandes!D:D=Analyse!A3,Commandes!J:J,""))} -> 4.275
A4: =Edition!A3 -> ⌚️ 💍 Montres et Bijoux | B4: =SUMIF(Tableau1[[Catégorie]:[Catégorie]],Edition!A3,Tableau1[[Total]:[Total]]) -> 20.95 | C4: =COUNTIF(Tableau1[Catégorie],Analyse!A4) -> 1 | D4: =B4/C4 -> 20.95 | E4: {=MEDIAN(IF(Commandes!D:D=Analyse!A4,Commandes!J:J,""))} -> 20.95
A5: =Edition!A4 -> 👞 Chaussures | B5: =SUMIF(Tableau1[[Catégorie]:[Catégorie]],Edition!A4,Tableau1[[Total]:[Total]]) -> 19.03 | C5: =COUNTIF(Tableau1[Catégorie],Analyse!A5) -> 5 | D5: =B5/C5 -> 3.806 | E5: {=MEDIAN(IF(Commandes!D:D=Analyse!A5,Commandes!J:J,""))} -> 2.82
A6: =Edition!A5 -> 👜 🎒 Bagages et Sacs | B6: =SUMIF(Tableau1[[Catégorie]:[Catégorie]],Edition!A5,Tableau1[[Total]:[Total]]) -> 9.2 | C6: =COUNTIF(Tableau1[Catégorie],Analyse!A6) -> 4 | D6: =B6/C6 -> 2.3 | E6: {=MEDIAN(IF(Commandes!D:D=Analyse!A6,Commandes!J:J,""))} -> 2.32
A7: =Edition!A6 -> 💄 💊 Beauté et Santé | B7: =SUMIF(Tableau1[[Catégorie]:[Catégorie]],Edition!A6,Tableau1[[Total]:[Total]]) -> 11.05 | C7: =COUNTIF(Tableau1[Catégorie],Analyse!A7) -> 2 | D7: =B7/C7 -> 5.525 | E7: {=MEDIAN(IF(Commandes!D:D=Analyse!A7,Commandes!J:J,""))} -> 5.525
A8: =Edition!A7 -> 📱 💻 Électronique | B8: =SUMIF(Tableau1[[Catégorie]:[Catégorie]],Edition!A7,Tableau1[[Total]:[Total]]) -> 285.74 | C8: =COUNTIF(Tableau1[Catégorie],Analyse!A8) -> 21 | D8: =B8/C8 -> 13.606667 | E8: {=MEDIAN(IF(Commandes!D:D=Analyse!A8,Commandes!J:J,""))} -> 5.84
A9: =Edition!A8 -> 🛠 Bricolage | B9: =SUMIF(Tableau1[[Catégorie]:[Catégorie]],Edition!A8,Tableau1[[Total]:[Total]]) -> 0.01 | C9: =COUNTIF(Tableau1[Catégorie],Analyse!A9) -> 1 | D9: =B9/C9 -> 0.01 | E9: {=MEDIAN(IF(Commandes!D:D=Analyse!A9,Commandes!J:J,""))} -> 0.01
A10: =Edition!A9 -> 🏠 Maison et Jardin | B10: =SUMIF(Tableau1[[Catégorie]:[Catégorie]],Edition!A9,Tableau1[[Total]:[Total]]) -> 21.65 | C10: =COUNTIF(Tableau1[Catégorie],Analyse!A10) -> 7 | D10: =B10/C10 -> 3.0928571 | E10: {=MEDIAN(IF(Commandes!D:D=Analyse!A10,Commandes!J:J,""))} -> 1.84
A11: =Edition!A10 -> 🏀 🎮 🚲 Sports, Loisirs, Jouets | B11: =SUMIF(Tableau1[[Catégorie]:[Catégorie]],Edition!A10,Tableau1[[Total]:[Total]]) -> 49.44 | C11: =COUNTIF(Tableau1[Catégorie],Analyse!A11) -> 4 | D11: =B11/C11 -> 12.36 | E11: {=MEDIAN(IF(Commandes!D:D=Analyse!A11,Commandes!J:J,""))} -> 11.81
A12: =Edition!A11 -> 🚗 🏍 Auto Moto | B12: =SUMIF(Tableau1[[Catégorie]:[Catégorie]],Edition!A11,Tableau1[[Total]:[Total]]) -> 67.15 | C12: =COUNTIF(Tableau1[Catégorie],Analyse!A12) -> 16 | D12: =B12/C12 -> 4.196875 | E12: {=MEDIAN(IF(Commandes!D:D=Analyse!A12,Commandes!J:J,""))} -> 2.66
A13: =Edition!A12 -> 🚼 🍼 Bébé | B13: =SUMIF(Tableau1[[Catégorie]:[Catégorie]],Edition!A12,Tableau1[[Total]:[Total]]) -> 6.46 | C13: =COUNTIF(Tableau1[Catégorie],Analyse!A13) -> 4 | D13: =B13/C13 -> 1.615 | E13: {=MEDIAN(IF(Commandes!D:D=Analyse!A13,Commandes!J:J,""))} -> 1.155
A14: =Edition!A13 -> 🌀 Rubrique #12 | B14: =SUMIF(Tableau1[[Catégorie]:[Catégorie]],Edition!A13,Tableau1[[Total]:[Total]]) -> 0 | C14: =COUNTIF(Tableau1[Catégorie],Analyse!A14) -> 0 | D14: =B14/C14 -> #DIV/0! | E14: {=MEDIAN(IF(Commandes!D:D=Analyse!A14,Commandes!J:J,""))} -> #NUM!
A15: Total | B15: =SUM(B3:B14) -> 551.46 | C15: =SUM(C3:C14) -> 77 | D15: =B15/C15 -> 7.1618182

Sheet Edition
A1: Catégories
A2: 👕 👖 Vêtements et Accessoires
A3: ⌚️ 💍 Montres et Bijoux
A4: 👞 Chaussures
A5: 👜 🎒 Bagages et Sacs
A6: 💄 💊 Beauté et Santé
A7: 📱 💻 Électronique
A8: 🛠 Bricolage
A9: 🏠 Maison et Jardin
A10: 🏀 🎮 🚲 Sports, Loisirs, Jouets
A11: 🚗 🏍 Auto Moto
A12: 🚼 🍼 Bébé
A13: 🌀 Rubrique #12
