Workbook
Name produits: table!$A$2:$A$147

Sheet Fichier de départ
A1: KALIFRAIS | C1: ENREGISTREMENT
C2: =TODAY() -> 43538 | H2: =8*19+3+4*19 -> 231
A3: Date | B3: Opérateur | C3: CLIENT | D3: N° de BL | E3: CODE | F3: DENOMINATION | G3: LOT | J3: CODE PRODUIT
A4: 42738 | B4: cat | C4: leclerc bailleul | D4: 96037304 | E4: p101 | F4: =IF(E4="","",VLOOKUP(E4,table!A:B,2)) -> P Potj 750 | G4: 72924 | H4: 1 | J4: B000
A5: =IF(E5="","",A4) -> 42738 | B5: =IF(E5="","",B4) -> cat | C5: =IF(E5="","",C4) -> leclerc bailleul | D5: =IF(E5="",0,D4) -> 96037304 | E5: p300 | F5: =IF(E5="","",VLOOKUP(E5,table!A:B,2)) -> P Carbonnade 750 | G5: 73544 | H5: 40 | J5: B301
A6: =IF(E6="","",A5) -> 42738 | B6: =IF(E6="","",B5) -> cat | C6: =IF(E6="","",C5) -> leclerc bailleul | D6: =IF(E6="",0,D5) -> 96037304 | E6: p203 | F6: =IF(E6="","",VLOOKUP(E6,table!A:B,2)) -> cassoulet des flandres | G6: 73541 | H6: 10 | J6: B305
A7: =IF(E7="","",A6) -> 42738 | B7: =IF(E7="","",B6) -> cat | C7: =IF(E7="","",C6) -> leclerc bailleul | D7: =IF(E7="",0,D6) -> 96037304 | E7: p100 | F7: =IF(E7="","",VLOOKUP(E7,table!A:B,2)) -> P potj 400 | G7: 72401 | H7: 20 | J7: B344
A8: =IF(E8="","",A7) -> 42738 | B8: =IF(E8="","",B7) -> cat | C8: =IF(E8="","",C7) -> leclerc bailleul | D8: =IF(E8="",0,D7) -> 96037304 | E8: p502 | F8: =IF(E8="","",VLOOKUP(E8,table!A:B,2)) -> P Pate bière chti 270 g | G8: 73411 | H8: 24 | J8: B502
A9: =IF(E9="","",A8) -> 42738 | B9: =IF(E9="","",B8) -> cat | C9: =IF(E9="","",C8) -> leclerc bailleul | D9: =IF(E9="",0,D8) -> 96037304 | E9: p503 | F9: =IF(E9="","",VLOOKUP(E9,table!A:B,2)) -> P Pâté lapin pruneaux 180 | G9: 72822 | H9: 12 | J9: B556
A10: =IF(E10="","",A9) -> 42738 | B10: =IF(E10="","",B9) -> cat | C10: =IF(E10="","",C9) -> leclerc bailleul | D10: =IF(E10="",0,D9) -> 96037304 | E10: =IF(H10<>0,E9,"") -> p503 | F10: =IF(E10="","",VLOOKUP(E10,table!A:B,2)) -> P Pâté lapin pruneaux 180 | G10: 72821 | H10: 12 | J10: k000
A11: =IF(E11="","",A10) -> 42738 | B11: =IF(E11="","",B10) -> cat | C11: =IF(E11="","",C10) -> leclerc bailleul | D11: =IF(E11="",0,D10) -> 96037304 | E11: p301 | F11: =IF(E11="","",VLOOKUP(E11,table!A:B,2)) -> P Carbo 400 | G11: 73281 | H11: 40 | J11: k100
A12: =IF(E12="","",A11) -> 42738 | B12: =IF(E12="","",B11) -> cat | C12: =IF(E12="","",C11) -> leclerc bailleul | D12: =IF(E12="",0,D11) -> 96037304 | E12: p102 | F12: =IF(E12="","",VLOOKUP(E12,table!A:B,2)) -> P Potj bière chti | G12: 71293 | H12: 10 | J12: k101
A13: =IF(E13="","",A12) -> 42738 | B13: =IF(E13="","",B12) -> cat | C13: =IF(E13="","",C12) -> leclerc bailleul | D13: =IF(E13="",0,D12) -> 96037304 | E13: p105 | F13: =IF(E13="","",VLOOKUP(E13,table!A:B,2)) -> P Pot des 750 | G13: 73034 | H13: 60 | J13: k102
A14: =IF(E14="","",A13) -> 42738 | B14: =IF(E14="","",B13) -> cat | C14: =IF(E14="","",C13) -> leclerc bailleul | D14: =IF(E14="",0,D13) -> 96037304 | E14: =IF(H14<>0,E13,"") -> p105 | F14: =IF(E14="","",VLOOKUP(E14,table!A:B,2)) -> P Pot des 750 | G14: 73032 | H14: 20 | J14: k103
A15: =IF(E15="","",A14) -> 42738 | B15: =IF(E15="","",B14) -> cat | C15: =IF(E15="","",C14) -> leclerc bailleul | D15: =IF(E15="",0,D14) -> 96037304 | E15: p104 | F15: =IF(E15="","",VLOOKUP(E15,table!A:B,2)) -> P Potj des 400 | G15: 73323 | H15: 60 | J15: k105
A16: =IF(E16="","",A15) -> 42738 | B16: =IF(E16="","",B15) -> cat | C16: =IF(E16="","",C15) -> leclerc bailleul | D16: =IF(E16="",0,D15) -> 96037304 | E16: =IF(H16<>0,E15,"") -> p104 | F16: =IF(E16="","",VLOOKUP(E16,table!A:B,2)) -> P Potj des 400 | G16: 73324 | H16: 20 | J16: k133
A17: =IF(E17="","",A16) -> 42738 | B17: =IF(E17="","",B16) -> cat | C17: leclers st laurent blangy | D17: 96037301 | E17: k101 | F17: =IF(E17="","",VLOOKUP(E17,table!A:B,2)) -> K potj 750 | G17: 73071 | H17: 20 | J17: k144
A18: =IF(E18="","",A17) -> 42738 | B18: =IF(E18="","",B17) -> cat | C18: =IF(E18="","",C17) -> leclers st laurent blangy | D18: =IF(E18="",0,D17) -> 96037301 | E18: k100 | F18: =IF(E18="","",VLOOKUP(E18,table!A:B,2)) -> K potj 400 | G18: 73102 | H18: 20 | J18: k200
A19: =IF(E19="","",A18) -> 42738 | B19: =IF(E19="","",B18) -> cat | C19: =IF(E19="","",C18) -> leclers st laurent blangy | D19: =IF(E19="",0,D18) -> 96037301 | E19: k105 | F19: =IF(E19="","",VLOOKUP(E19,table!A:B,2)) -> K potj dess 750 | G19: 72084 | H19: 20 | J19: k201
A20: =IF(E20="","",A19) -> 42738 | B20: =IF(E20="","",B19) -> cat | C20: =IF(E20="","",C19) -> leclers st laurent blangy | D20: =IF(E20="",0,D19) -> 96037301 | E20: k144 | F20: =IF(E20="","",VLOOKUP(E20,table!A:B,2)) -> K potj dess 400 | G20: 72972 | H20: 40 | J20: k202
A21: =IF(E21="","",A20) -> 42738 | B21: =IF(E21="","",B20) -> cat | C21: =IF(E21="","",C20) -> leclers st laurent blangy | D21: =IF(E21="",0,D20) -> 96037301 | E21: k302 | F21: =IF(E21="","",VLOOKUP(E21,table!A:B,2)) -> K carbo 740 | G21: 73561 | H21: 10 | J21: k203
A22: =IF(E22="","",A21) -> 42738 | B22: =IF(E22="","",B21) -> cat | C22: =IF(E22="","",C21) -> leclers st laurent blangy | D22: =IF(E22="",0,D21) -> 96037301 | E22: k300 | F22: =IF(E22="","",VLOOKUP(E22,table!A:B,2)) -> K Carbo 400 | G22: 73422 | H22: 20 | J22: k232
A23: =IF(E23="","",A22) -> 42738 | B23: =IF(E23="","",B22) -> cat | C23: =IF(E23="","",C22) -> leclers st laurent blangy | D23: =IF(E23="",0,D22) -> 96037301 | E23: k502 | F23: =IF(E23="","",VLOOKUP(E23,table!A:B,2)) -> K cassoulet 750 | G23: 73542 | H23: 10 | J23: k300
A24: =IF(E24="","",A23) -> 42738 | B24: =IF(E24="","",B23) -> cat | C24: =IF(E24="","",C23) -> leclers st laurent blangy | D24: =IF(E24="",0,D23) -> 96037301 | E24: k202 | F24: =IF(E24="","",VLOOKUP(E24,table!A:B,2)) -> K coq au vin 750 | G24: 71523 | H24: 20 | J24: k302
A25: =IF(E25="","",A24) -> 42738 | B25: =IF(E25="","",B24) -> cat | C25: =IF(E25="","",C24) -> leclers st laurent blangy | D25: =IF(E25="",0,D24) -> 96037301 | E25: k600 | F25: =IF(E25="","",VLOOKUP(E25,table!A:B,2)) -> K poulet maroilles 750 | G25: 73552 | H25: 10 | J25: k355
A26: =IF(E26="","",A25) -> 42738 | B26: =IF(E26="","",B25) -> cat | C26: leconte | D26: 96037307 | E26: r100 | F26: =IF(E26="","",VLOOKUP(E26,table!A:B,2)) -> E potj 400 | G26: 72282 | H26: 200 | J26: k362
A27: =IF(E27="","",A26) -> 42738 | B27: =IF(E27="","",B26) -> cat | C27: =IF(E27="","",C26) -> leconte | D27: =IF(E27="",0,D26) -> 96037307 | E27: =IF(H27<>0,E26,"") -> r100 | F27: =IF(E27="","",VLOOKUP(E27,table!A:B,2)) -> E potj 400 | G27: 72135 | H27: 140 | J27: k400
A28: =IF(E28="","",A27) -> 42738 | B28: =IF(E28="","",B27) -> cat | C28: =IF(E28="","",C27) -> leconte | D28: =IF(E28="",0,D27) -> 96037307 | E28: =IF(H28<>0,E27,"") -> r100 | F28: =IF(E28="","",VLOOKUP(E28,table!A:B,2)) -> E potj 400 | G28: 72332 | H28: 240 | J28: k501
A29: 42739 | B29: cat | C29: epaux bezu | D29: 96037310 | E29: p203 | F29: =IF(E29="","",VLOOKUP(E29,table!A:B,2)) -> cassoulet des flandres | G29: 73541 | H29: 138 | J29: k502
A30: =IF(E30="","",A29) -> 42739 | B30: =IF(E30="","",B29) -> cat | C30: =IF(E30="","",C29) -> epaux bezu | D30: =IF(E30="",0,D29) -> 96037310 | E30: =IF(H30<>0,E29,"") -> p203 | F30: =IF(E30="","",VLOOKUP(E30,table!A:B,2)) -> cassoulet des flandres | G30: 73556 | H30: 2 | J30: k600
A31: =IF(E31="","",A30) -> 42739 | B31: =IF(E31="","",B30) -> cat | C31: =IF(E31="","",C30) -> epaux bezu | D31: =IF(E31="",0,D30) -> 96037310 | E31: p133 | F31: =IF(E31="","",VLOOKUP(E31,table!A:B,2)) -> P Potj 750 + 33 % | G31: 71042 | H31: 60 | J31: k601
A32: =IF(E32="","",A31) -> 42739 | B32: =IF(E32="","",B31) -> cat | C32: =IF(E32="","",C31) -> epaux bezu | D32: =IF(E32="",0,D31) -> 96037310 | E32: =IF(H32<>0,E31,"") -> p133 | F32: =IF(E32="","",VLOOKUP(E32,table!A:B,2)) -> P Potj 750 + 33 % | G32: 72124 | H32: 30 | J32: k802
A33: =IF(E33="","",A32) -> 42739 | B33: =IF(E33="","",B32) -> cat | C33: =IF(E33="","",C32) -> epaux bezu | D33: =IF(E33="",0,D32) -> 96037310 | E33: =IF(H33<>0,E32,"") -> p133 | F33: =IF(E33="","",VLOOKUP(E33,table!A:B,2)) -> P Potj 750 + 33 % | G33: 72125 | H33: 50 | J33: k803
A34: =IF(E34="","",A33) -> 42739 | B34: =IF(E34="","",B33) -> cat | C34: =IF(E34="","",C33) -> epaux bezu | D34: =IF(E34="",0,D33) -> 96037310 | E34: p300 | F34: =IF(E34="","",VLOOKUP(E34,table!A:B,2)) -> P Carbonnade 750 | G34: 73463 | H34: 39 | J34: k804
A35: =IF(E35="","",A34) -> 42739 | B35: =IF(E35="","",B34) -> cat | C35: =IF(E35="","",C34) -> epaux bezu | D35: =IF(E35="",0,D34) -> 96037310 | E35: =IF(H35<>0,E34,"") -> p300 | F35: =IF(E35="","",VLOOKUP(E35,table!A:B,2)) -> P Carbonnade 750 | G35: 73464 | H35: 160 | J35: k805
A36: =IF(E36="","",A35) -> 42739 | B36: =IF(E36="","",B35) -> cat | C36: =IF(E36="","",C35) -> epaux bezu | D36: =IF(E36="",0,D35) -> 96037310 | E36: =IF(H36<>0,E35,"") -> p300 | F36: =IF(E36="","",VLOOKUP(E36,table!A:B,2)) -> P Carbonnade 750 | G36: 73543 | H36: 49 | J36: k806
A37: =IF(E37="","",A36) -> 42739 | B37: =IF(E37="","",B36) -> cat | C37: =IF(E37="","",C36) -> epaux bezu | D37: =IF(E37="",0,D36) -> 96037310 | E37: =IF(H37<>0,E36,"") -> p300 | F37: =IF(E37="","",VLOOKUP(E37,table!A:B,2)) -> P Carbonnade 750 | G37: 73544 | H37: 102 | J37: k807
A38: =IF(E38="","",A37) -> 42739 | B38: =IF(E38="","",B37) -> cat | C38: particulier | D38: 96039917 | E38: k101 | F38: =IF(E38="","",VLOOKUP(E38,table!A:B,2)) -> K potj 750 | G38: 71914 | H38: 3 | J38: k808
A39: =IF(E39="","",A38) -> 42739 | B39: =IF(E39="","",B38) -> cat | C39: =IF(E39="","",C38) -> particulier | D39: =IF(E39="",0,D38) -> 96039917 | E39: k808 | F39: =IF(E39="","",VLOOKUP(E39,table!A:B,2)) -> K Pâté au maroilles 180 | G39: 70746 | H39: 1 | I39: kdo | J39: k811
A40: =IF(E40="","",A39) -> 42739 | B40: =IF(E40="","",B39) -> cat | C40: fontaine | D40: 96037308 | E40: k102 | F40: =IF(E40="","",VLOOKUP(E40,table!A:B,2)) -> K potj 1000 | G40: 73183 | H40: 10 | J40: k900
A41: =IF(E41="","",A40) -> 42739 | B41: =IF(E41="","",B40) -> cat | C41: inter la gorgue | D41: 96037311 | E41: k133 | F41: =IF(E41="","",VLOOKUP(E41,table!A:B,2)) -> K potj 750 + 33 % | G41: 73062 | H41: 45 | J41: k9005
A42: =IF(E42="","",A41) -> 42739 | B42: =IF(E42="","",B41) -> cat | C42: =IF(E42="","",C41) -> inter la gorgue | D42: =IF(E42="",0,D41) -> 96037311 | E42: =IF(H42<>0,E41,"") -> k133 | F42: =IF(E42="","",VLOOKUP(E42,table!A:B,2)) -> K potj 750 + 33 % | G42: 73061 | H42: 123 | J42: k9012
A43: =IF(E43="","",A42) -> 42739 | B43: =IF(E43="","",B42) -> cat | C43: =IF(E43="","",C42) -> inter la gorgue | D43: =IF(E43="",0,D42) -> 96037311 | E43: k232 | F43: =IF(E43="","",VLOOKUP(E43,table!A:B,2)) -> K désossé 750 G +250 G | G43: 72512 | H43: 168 | J43: kaldi
A44: =IF(E44="","",A43) -> 42739 | B44: =IF(E44="","",B43) -> cat | C44: =IF(E44="","",C43) -> inter la gorgue | D44: =IF(E44="",0,D43) -> 96037311 | E44: k144 | F44: =IF(E44="","",VLOOKUP(E44,table!A:B,2)) -> K potj dess 400 | G44: 72972 | H44: 100 | J44: P100
A45: =IF(E45="","",A44) -> 42739 | B45: =IF(E45="","",B44) -> cat | C45: =IF(E45="","",C44) -> inter la gorgue | D45: =IF(E45="",0,D44) -> 96037311 | E45: =IF(H45<>0,E44,"") -> k144 | F45: =IF(E45="","",VLOOKUP(E45,table!A:B,2)) -> K potj dess 400 | G45: 72971 | H45: 60 | J45: P101
A46: =IF(E46="","",A45) -> 42739 | B46: =IF(E46="","",B45) -> cat | C46: =IF(E46="","",C45) -> inter la gorgue | D46: =IF(E46="",0,D45) -> 96037311 | E46: k100 | F46: =IF(E46="","",VLOOKUP(E46,table!A:B,2)) -> K potj 400 | G46: 73102 | H46: 60 | J46: P102
A47: =IF(E47="","",A46) -> 42739 | B47: =IF(E47="","",B46) -> cat | C47: =IF(E47="","",C46) -> inter la gorgue | D47: =IF(E47="",0,D46) -> 96037311 | E47: =IF(H47<>0,E46,"") -> k100 | F47: =IF(E47="","",VLOOKUP(E47,table!A:B,2)) -> K potj 400 | G47: 73103 | H47: 30 | J47: P103
A48: =IF(E48="","",A47) -> 42739 | B48: =IF(E48="","",B47) -> cat | C48: =IF(E48="","",C47) -> inter la gorgue | D48: =IF(E48="",0,D47) -> 96037311 | E48: =IF(H48<>0,E47,"") -> k100 | F48: =IF(E48="","",VLOOKUP(E48,table!A:B,2)) -> K potj 400 | G48: 73613 | H48: 50 | J48: P104
A49: =IF(E49="","",A48) -> 42739 | B49: =IF(E49="","",B48) -> cat | C49: =IF(E49="","",C48) -> inter la gorgue | D49: =IF(E49="",0,D48) -> 96037311 | E49: k803 | F49: =IF(E49="","",VLOOKUP(E49,table!A:B,2)) -> K Pâté des flandres 180 | G49: 73412 | H49: 24 | J49: P105
A50: =IF(E50="","",A49) -> 42739 | B50: =IF(E50="","",B49) -> cat | C50: =IF(E50="","",C49) -> inter la gorgue | D50: =IF(E50="",0,D49) -> 96037311 | E50: =IF(H50<>0,E49,"") -> k803 | F50: =IF(E50="","",VLOOKUP(E50,table!A:B,2)) -> K Pâté des flandres 180 | G50: 72822 | H50: 12 | J50: P106
A51: =IF(E51="","",A50) -> 42739 | B51: =IF(E51="","",B50) -> cat | C51: =IF(E51="","",C50) -> inter la gorgue | D51: =IF(E51="",0,D50) -> 96037311 | E51: k804 | F51: =IF(E51="","",VLOOKUP(E51,table!A:B,2)) -> K pâté de lapin 180 | G51: 72821 | H51: 48 | J51: P115
A52: =IF(E52="","",A51) -> 42739 | B52: =IF(E52="","",B51) -> cat | C52: =IF(E52="","",C51) -> inter la gorgue | D52: =IF(E52="",0,D51) -> 96037311 | E52: k805 | F52: =IF(E52="","",VLOOKUP(E52,table!A:B,2)) -> K Pâté de campagne fumé 180 | G52: 72983 | H52: 18 | J52: P133
A53: =IF(E53="","",A52) -> 42739 | B53: =IF(E53="","",B52) -> cat | C53: =IF(E53="","",C52) -> inter la gorgue | D53: =IF(E53="",0,D52) -> 96037311 | E53: =IF(H53<>0,E52,"") -> k805 | F53: =IF(E53="","",VLOOKUP(E53,table!A:B,2)) -> K Pâté de campagne fumé 180 | G53: 72413 | H53: 6 | J53: P203
A54: =IF(E54="","",A53) -> 42739 | B54: =IF(E54="","",B53) -> cat | C54: =IF(E54="","",C53) -> inter la gorgue | D54: =IF(E54="",0,D53) -> 96037311 | E54: k806 | F54: =IF(E54="","",VLOOKUP(E54,table!A:B,2)) -> K Pâté de foie de volaille 180 | G54: 71604 | H54: 36 | J54: P233
A55: =IF(E55="","",A54) -> 42739 | B55: =IF(E55="","",B54) -> cat | C55: =IF(E55="","",C54) -> inter la gorgue | D55: =IF(E55="",0,D54) -> 96037311 | E55: k807 | F55: =IF(E55="","",VLOOKUP(E55,table!A:B,2)) -> K Pâté à la bière 180 | G55: 72772 | H55: 36 | J55: P300
A56: =IF(E56="","",A55) -> 42739 | B56: =IF(E56="","",B55) -> cat | C56: =IF(E56="","",C55) -> inter la gorgue | D56: =IF(E56="",0,D55) -> 96037311 | E56: k808 | F56: =IF(E56="","",VLOOKUP(E56,table!A:B,2)) -> K Pâté au maroilles 180 | G56: 71792 | H56: 48 | J56: P301
A57: =IF(E57="","",A56) -> 42739 | B57: =IF(E57="","",B56) -> cat | C57: =IF(E57="","",C56) -> inter la gorgue | D57: =IF(E57="",0,D56) -> 96037311 | E57: k400 | F57: =IF(E57="","",VLOOKUP(E57,table!A:B,2)) -> K petit salé 350 | G57: 70553 | H57: 40 | J57: P502
A58: =IF(E58="","",A57) -> 42739 | B58: =IF(E58="","",B57) -> cat | C58: =IF(E58="","",C57) -> inter la gorgue | D58: =IF(E58="",0,D57) -> 96037311 | E58: k501 | F58: =IF(E58="","",VLOOKUP(E58,table!A:B,2)) -> K cassoulet 380 | G58: 73542 | H58: 60 | J58: P503
A59: =IF(E59="","",A58) -> 42739 | B59: =IF(E59="","",B58) -> cat | C59: =IF(E59="","",C58) -> inter la gorgue | D59: =IF(E59="",0,D58) -> 96037311 | E59: k601 | F59: =IF(E59="","",VLOOKUP(E59,table!A:B,2)) -> K poulet maroilles 400 | G59: 73111 | H59: 40 | J59: P504
A60: =IF(E60="","",A59) -> 42739 | B60: =IF(E60="","",B59) -> cat | C60: =IF(E60="","",C59) -> inter la gorgue | D60: =IF(E60="",0,D59) -> 96037311 | E60: k600 | F60: =IF(E60="","",VLOOKUP(E60,table!A:B,2)) -> K poulet maroilles 750 | G60: 73552 | H60: 40 | J60: P505
A61: =IF(E61="","",A60) -> 42739 | B61: =IF(E61="","",B60) -> cat | C61: =IF(E61="","",C60) -> inter la gorgue | D61: =IF(E61="",0,D60) -> 96037311 | E61: k201 | F61: =IF(E61="","",VLOOKUP(E61,table!A:B,2)) -> K waterzoi 750 | G61: 71941 | H61: 20 | J61: P506
A62: =IF(E62="","",A61) -> 42739 | B62: =IF(E62="","",B61) -> cat | C62: =IF(E62="","",C61) -> inter la gorgue | D62: =IF(E62="",0,D61) -> 96037311 | E62: k802 | F62: =IF(E62="","",VLOOKUP(E62,table!A:B,2)) -> K Beultekaze 180 | G62: 71651 | H62: 24 | J62: P507
A63: =IF(E63="","",A62) -> 42739 | B63: =IF(E63="","",B62) -> cat | C63: auchan calais | D63: 96037312 | E63: p507 | F63: =IF(E63="","",VLOOKUP(E63,table!A:B,2)) -> P Pâté endives 180 G | G63: 73122 | H63: 24 | J63: P508
A64: =IF(E64="","",A63) -> 42739 | B64: =IF(E64="","",B63) -> cat | C64: =IF(E64="","",C63) -> auchan calais | D64: =IF(E64="",0,D63) -> 96037312 | E64: p508 | F64: =IF(E64="","",VLOOKUP(E64,table!A:B,2)) -> P Pâté chicorée 180 G | G64: 71603 | H64: 24 | J64: P513
A65: =IF(E65="","",A64) -> 42739 | B65: =IF(E65="","",B64) -> cat | C65: =IF(E65="","",C64) -> auchan calais | D65: =IF(E65="",0,D64) -> 96037312 | E65: p101 | F65: =IF(E65="","",VLOOKUP(E65,table!A:B,2)) -> P Potj 750 | G65: 73632 | H65: 20 | J65: P516
A66: =IF(E66="","",A65) -> 42739 | B66: =IF(E66="","",B65) -> cat | C66: =IF(E66="","",C65) -> auchan calais | D66: =IF(E66="",0,D65) -> 96037312 | E66: p600 | F66: =IF(E66="","",VLOOKUP(E66,table!A:B,2)) -> P Poulet maroilles 750 | G66: 72153 | H66: 18 | J66: P518
A67: =IF(E67="","",A66) -> 42739 | B67: =IF(E67="","",B66) -> cat | C67: =IF(E67="","",C66) -> auchan calais | D67: =IF(E67="",0,D66) -> 96037312 | E67: =IF(H67<>0,E66,"") -> p600 | F67: =IF(E67="","",VLOOKUP(E67,table!A:B,2)) -> P Poulet maroilles 750 | G67: 71991 | H67: 1 | J67: P600
A68: =IF(E68="","",A67) -> 42739 | B68: =IF(E68="","",B67) -> cat | C68: =IF(E68="","",C67) -> auchan calais | D68: =IF(E68="",0,D67) -> 96037312 | E68: =IF(H68<>0,E67,"") -> p600 | F68: =IF(E68="","",VLOOKUP(E68,table!A:B,2)) -> P Poulet maroilles 750 | G68: 73111 | H68: 1 | J68: P602
A69: =IF(E69="","",A68) -> 42739 | B69: =IF(E69="","",B68) -> cat | C69: =IF(E69="","",C68) -> auchan calais | D69: =IF(E69="",0,D68) -> 96037312 | E69: p102 | F69: =IF(E69="","",VLOOKUP(E69,table!A:B,2)) -> P Potj bière chti | G69: 71172 | H69: 10 | J69: P633
A70: =IF(E70="","",A69) -> 42739 | B70: =IF(E70="","",B69) -> cat | C70: =IF(E70="","",C69) -> auchan calais | D70: =IF(E70="",0,D69) -> 96037312 | E70: =IF(H70<>0,E69,"") -> p102 | F70: =IF(E70="","",VLOOKUP(E70,table!A:B,2)) -> P Potj bière chti | G70: 71171 | H70: 10 | J70: P701
A71: =IF(E71="","",A70) -> 42739 | B71: =IF(E71="","",B70) -> cat | C71: net ferrez | D71: 99999999 | E71: k144 | F71: =IF(E71="","",VLOOKUP(E71,table!A:B,2)) -> K potj dess 400 | G71: 72972 | H71: 12 | J71: R000
A72: =IF(E72="","",A71) -> 42739 | B72: =IF(E72="","",B71) -> cat | C72: net kovrig | D72: 99999999 | E72: k105 | F72: =IF(E72="","",VLOOKUP(E72,table!A:B,2)) -> K potj dess 750 | G72: 73563 | H72: 6 | J72: R001
A73: 42739 | B73: sf | C73: brasserie de l'usine | D73: 96037298 | E73: b344 | F73: =IF(E73="","",VLOOKUP(E73,table!A:B,2)) -> Barquette potj désossé 800 G | G73: 73263 | H73: 24 | J73: R050
A74: 42739 | B74: sf | C74: ayo bar | D74: 96037305 | E74: r601 | F74: =IF(E74="","",VLOOKUP(E74,table!A:B,2)) -> E poulet maroilles 600 g | G74: 73111 | H74: 60 | J74: R099
A75: =IF(E75="","",A74) -> 42739 | B75: =IF(E75="","",B74) -> sf | C75: =IF(E75="","",C74) -> ayo bar | D75: =IF(E75="",0,D74) -> 96037305 | E75: r300 | F75: =IF(E75="","",VLOOKUP(E75,table!A:B,2)) -> E Carbo 400 | G75: 73422 | H75: 36 | J75: R100
A76: =IF(E76="","",A75) -> 42739 | B76: =IF(E76="","",B75) -> sf | C76: =IF(E76="","",C75) -> ayo bar | D76: =IF(E76="",0,D75) -> 96037305 | E76: r900 | F76: =IF(E76="","",VLOOKUP(E76,table!A:B,2)) -> E Tripes flamandes 750 | G76: 73211 | H76: 10 | J76: R101
A77: 42739 | B77: sf | C77: casino shop | D77: 96037300 | E77: k803 | F77: =IF(E77="","",VLOOKUP(E77,table!A:B,2)) -> K Pâté des flandres 180 | G77: 73412 | H77: 12 | J77: R102
A78: =IF(E78="","",A77) -> 42739 | B78: =IF(E78="","",B77) -> sf | C78: =IF(E78="","",C77) -> casino shop | D78: =IF(E78="",0,D77) -> 96037300 | E78: k807 | F78: =IF(E78="","",VLOOKUP(E78,table!A:B,2)) -> K Pâté à la bière 180 | G78: 72772 | H78: 12 | J78: R103
A79: =IF(E79="","",A78) -> 42739 | B79: =IF(E79="","",B78) -> sf | C79: =IF(E79="","",C78) -> casino shop | D79: =IF(E79="",0,D78) -> 96037300 | E79: k808 | F79: =IF(E79="","",VLOOKUP(E79,table!A:B,2)) -> K Pâté au maroilles 180 | G79: 71792 | H79: 12 | J79: R104
A80: =IF(E80="","",A79) -> 42739 | B80: =IF(E80="","",B79) -> sf | C80: =IF(E80="","",C79) -> casino shop | D80: =IF(E80="",0,D79) -> 96037300 | E80: k144 | F80: =IF(E80="","",VLOOKUP(E80,table!A:B,2)) -> K potj dess 400 | G80: 73192 | H80: 10 | J80: R105
A81: =IF(E81="","",A80) -> 42739 | B81: =IF(E81="","",B80) -> sf | C81: =IF(E81="","",C80) -> casino shop | D81: =IF(E81="",0,D80) -> 96037300 | E81: k501 | F81: =IF(E81="","",VLOOKUP(E81,table!A:B,2)) -> K cassoulet 380 | G81: 73543 | H81: 10 | J81: R106
A82: 42739 | B82: sf | C82: canon d'or | D82: 96037299 | E82: r001 | F82: =IF(E82="","",VLOOKUP(E82,table!A:B,2)) -> R potj de la mer 350 | G82: 71441 | H82: 20 | J82: R200
A83: 43105 | B83: on | C83: cm tourcoing | D83: 96037315 | E83: k807 | F83: =IF(E83="","",VLOOKUP(E83,table!A:B,2)) -> K Pâté à la bière 180 | G83: 72772 | H83: 6 | J83: R201
A84: =IF(E84="","",A83) -> 43105 | B84: =IF(E84="","",B83) -> on | C84: =IF(E84="","",C83) -> cm tourcoing | D84: =IF(E84="",0,D83) -> 96037315 | E84: k807 | F84: =IF(E84="","",VLOOKUP(E84,table!A:B,2)) -> K Pâté à la bière 180 | G84: 72412 | H84: 6 | J84: R202
A85: =IF(E85="","",A84) -> 43105 | B85: =IF(E85="","",B84) -> on | C85: =IF(E85="","",C84) -> cm tourcoing | D85: =IF(E85="",0,D84) -> 96037315 | E85: k105 | F85: =IF(E85="","",VLOOKUP(E85,table!A:B,2)) -> K potj dess 750 | G85: 72084 | H85: 10 | J85: R203
A86: =IF(E86="","",A85) -> 43105 | B86: =IF(E86="","",B85) -> on | C86: =IF(E86="","",C85) -> cm tourcoing | D86: =IF(E86="",0,D85) -> 96037315 | E86: k100 | F86: =IF(E86="","",VLOOKUP(E86,table!A:B,2)) -> K potj 400 | G86: 73103 | H86: 20 | J86: R204
A87: =IF(E87="","",A86) -> 43105 | B87: =IF(E87="","",B86) -> on | C87: =IF(E87="","",C86) -> cm tourcoing | D87: =IF(E87="",0,D86) -> 96037315 | E87: k101 | F87: =IF(E87="","",VLOOKUP(E87,table!A:B,2)) -> K potj 750 | G87: 71914 | H87: 10 | J87: R205
A88: =IF(E88="","",A87) -> 43105 | B88: =IF(E88="","",B87) -> on | C88: =IF(E88="","",C87) -> cm tourcoing | D88: =IF(E88="",0,D87) -> 96037315 | E88: k103 | F88: =IF(E88="","",VLOOKUP(E88,table!A:B,2)) -> K potj 3VIA | G88: 73241 | H88: 10 | J88: R300
A89: =IF(E89="","",A88) -> 43105 | B89: =IF(E89="","",B88) -> on | C89: =IF(E89="","",C88) -> cm tourcoing | D89: =IF(E89="",0,D88) -> 96037315 | E89: k600 | F89: =IF(E89="","",VLOOKUP(E89,table!A:B,2)) -> K poulet maroilles 750 | G89: 73552 | H89: 16 | J89: R302
A90: =IF(E90="","",A89) -> 43105 | B90: =IF(E90="","",B89) -> on | C90: =IF(E90="","",C89) -> cm tourcoing | D90: =IF(E90="",0,D89) -> 96037315 | E90: k600 | F90: =IF(E90="","",VLOOKUP(E90,table!A:B,2)) -> K poulet maroilles 750 | G90: 73551 | H90: 4 | J90: R400
A91: =IF(E91="","",A90) -> 43105 | B91: =IF(E91="","",B90) -> on | C91: =IF(E91="","",C90) -> cm tourcoing | D91: =IF(E91="",0,D90) -> 96037315 | E91: k502 | F91: =IF(E91="","",VLOOKUP(E91,table!A:B,2)) -> K cassoulet 750 | G91: 73542 | H91: 20 | J91: R501
A92: =IF(E92="","",A91) -> 43105 | B92: =IF(E92="","",B91) -> on | C92: =IF(E92="","",C91) -> cm tourcoing | D92: =IF(E92="",0,D91) -> 96037315 | E92: k302 | F92: =IF(E92="","",VLOOKUP(E92,table!A:B,2)) -> K carbo 740 | G92: 73561 | H92: 10 | J92: R502
A93: 43105 | B93: =IF(E93="","",B92) -> on | C93: intesomain | D93: 96037317 | E93: k101 | F93: =IF(E93="","",VLOOKUP(E93,table!A:B,2)) -> K potj 750 | G93: 71914 | H93: 50 | J93: R503
A94: =IF(E94="","",A93) -> 43105 | B94: =IF(E94="","",B93) -> on | C94: =IF(E94="","",C93) -> intesomain | D94: =IF(E94="",0,D93) -> 96037317 | E94: k105 | F94: =IF(E94="","",VLOOKUP(E94,table!A:B,2)) -> K potj dess 750 | G94: 72083 | H94: 20 | J94: R600
A95: =IF(E95="","",A94) -> 43105 | B95: =IF(E95="","",B94) -> on | C95: =IF(E95="","",C94) -> intesomain | D95: =IF(E95="",0,D94) -> 96037317 | E95: k105 | F95: =IF(E95="","",VLOOKUP(E95,table!A:B,2)) -> K potj dess 750 | G95: 72084 | H95: 30 | J95: R6000
A96: =IF(E96="","",A95) -> 43105 | B96: =IF(E96="","",B95) -> on | C96: =IF(E96="","",C95) -> intesomain | D96: =IF(E96="",0,D95) -> 96037317 | E96: k103 | F96: =IF(E96="","",VLOOKUP(E96,table!A:B,2)) -> K potj 3VIA | G96: 73241 | H96: 30 | J96: R6010
A97: =IF(E97="","",A96) -> 43105 | B97: =IF(E97="","",B96) -> on | C97: =IF(E97="","",C96) -> intesomain | D97: =IF(E97="",0,D96) -> 96037317 | E97: k600 | F97: =IF(E97="","",VLOOKUP(E97,table!A:B,2)) -> K poulet maroilles 750 | G97: 73551 | H97: 30 | J97: R601
A98: =IF(E98="","",A97) -> 43105 | B98: =IF(E98="","",B97) -> on | C98: =IF(E98="","",C97) -> intesomain | D98: =IF(E98="",0,D97) -> 96037317 | E98: k600 | F98: =IF(E98="","",VLOOKUP(E98,table!A:B,2)) -> K poulet maroilles 750 | G98: 73552 | H98: 10 | J98: R602
A99: =IF(E99="","",A98) -> 43105 | B99: =IF(E99="","",B98) -> on | C99: =IF(E99="","",C98) -> intesomain | D99: =IF(E99="",0,D98) -> 96037317 | E99: k502 | F99: =IF(E99="","",VLOOKUP(E99,table!A:B,2)) -> K cassoulet 750 | G99: 73542 | H99: 40 | J99: R604
A100: =IF(E100="","",A99) -> 43105 | B100: =IF(E100="","",B99) -> on | C100: =IF(E100="","",C99) -> intesomain | D100: =IF(E100="",0,D99) -> 96037317 | E100: k302 | F100: =IF(E100="","",VLOOKUP(E100,table!A:B,2)) -> K carbo 740 | G100: 73561 | H100: 20 | J100: R801
...

Sheet table
A1: CODE PRODUIT | B1: DÉSIGNATION
A2: B000 | B2: Barquette potje de la mer 800 g
A3: B301 | B3: Barquette potj avec os 3,5 K
A4: B305 | B4: Barquette potj désossé 3,5 K
A5: B344 | B5: Barquette potj désossé 800 G
A6: B502 | B6: Barquette pâté bière cthi 800 g
A7: B556 | B7: Barquette anosteke 600 g
A8: k000 | B8: potj de la mer 350G
A9: k100 | B9: K potj 400
A10: k101 | B10: K potj 750
A11: k102 | B11: K potj 1000
A12: k103 | B12: K potj 3VIA
... A137: S154 | B137: Soupe aux carottes 75 cl

Sheet Maquette
C1: ENREGISTREMENT
C2: =TODAY() -> 43538 | H2: =8*19+3+4*19 -> 231
A3: Date | B3: Opérateur | C3: Client | D3: N°BL | E3: scanage | F3: Dénomination | G3: Lot | H3: Quantité | M3: Estaminet
A4: 43535 | B4: MATH | C4: leclerc bailleul | D4: 99999999 | E4: 3434221543171 | F4: =IFERROR(IF(Tableau1[[#This Row],[scanage]]="","En attente de scan",VLOOKUP(Tableau1[[#This Row],[scanage]],GenCode!$A$1:$B$53,2,FALSE)),"Inconu !") -> Cassoulet 380g | G4: =MID(E4,9,10) -> 43171
A5: 43535 | B5: MATH | C5: leclerc bailleul | D5: 99999999 | F5: =IFERROR(IF(Tableau1[[#This Row],[scanage]]="","En attente de scan",VLOOKUP(Tableau1[[#This Row],[scanage]],GenCode!$A$1:$B$53,2,FALSE)),"Inconu !") -> En attente de scan | G5: =MID(E5,9,10)
G6: =MID(E6,9,10)
G7: =MID(E7,9,10)
G10: =MID(E10,9,10)
G11: =MID(E11,9,10)
G12: =MID(E12,9,10)
G13: =MID(E13,9,10)
G14: =MID(E14,9,10)
G15: =MID(E15,9,10)
G16: =MID(E16,9,10)
G17: =MID(E17,9,10)
G18: =MID(E18,9,10)
G19: =MID(E19,9,10)
... G25: =MID(E25,9,10)

Sheet GenCode
A1: Gen code | B1: Produits
B2: Kalifrais
A3: 3434221543218 | B3: Potjevleesch avec os 750g
A4: 3434221543201 | B4: Potjevleesch avec os 380g
A5: 3434221543317 | B5: Potjevleesch avec os 3 viandes
A6: 3434221543164 | B6: Potjevleesch désossé 750g
A7: 3434221543539 | B7: Potjevleesch désossé 380g
A8: 3434221542556 | B8: Potjevleesch désossé à la bière anosteké
A9: 3434221543324 | B9: Carbonade flamande 750g
A10: 3434221543294 | B10: Carbonade flamande 380g
A11: 3434221543515 | B11: Cassoulet 750g
A12: 3434221543171 | B12: Cassoulet 380g
A13: 3434221543560 | B13: Waterzoi 750g
A14: 3434221543263 | B14: Poulet à la bière 750g
... A29: 3434221543591 | B29: Terrine à l'ail
B30: Pierrot
A31: 3434221543874 | B31: Potjevleesch à la bière Ch'ti 750g
A32: 3434221543607 | B32: Potjevleesch avec os 750g
A33: 3434221543799 | B33: Potjevleesch avec os 380g
A34: 3434221543904 | B34: Potjevleesch 3 viandes avec os 750g
A35: 3434221546103 | B35: Potjevleesch désossé à la bière Ch'ti
A36: 3434221543881 | B36: Potjevleesch désossé 750g
A37: 3434221543898 | B37: Potjevleesch désossé 380g
A38: 3434221543638 | B38: Carbonade flamande 750g
A39: 3434221543867 | B39: Carbonade flamande 380g
A40: 3434221543690 | B40: cassoulet des flandres 750g
A41: 3434221546097 | B41: cassoulet des flandres 380g
A42: 3434221543621 | B42: Poulet au maroilles 750g
... A53: 3434221543843 | B53: Terrine au maroilles 180g
