Workbook
Name produits: table!$A$2:$A$147

Sheet Fichier de départ
A1: KALIFRAIS | C1: ENREGISTREMENT
C2: =TODAY() -> 43538 | H2: =8*19+3+4*19 -> 231
A3: Date | B3: Opérateur | C3: CLIENT | D3: N° de BL | E3: CODE | F3: DENOMINATION | G3: LOT | J3: CODE PRODUIT
A4: 42738 | B4: cat | C4: leclerc bailleul | D4: 96037304 | E4: p101 | F4: =IF(E4="","",VLOOKUP(E4,table!A:B,2)) -> P Potj 750 | G4: 72924 | H4: 1 | J4: B000
A5: =IF(E5="","",A4) -> 42738 | B5: =IF(E5="","",B4) -> cat | C5: =IF(E5="","",C4) -> leclerc bailleul | D5: =IF(E5="",0,D4) -> 96037304 | E5: p300 | F5: =IF(E5="","",VLOOKUP(E5,table!A:B,2)) -> P Carbonnade 750 | G5: 73544 | H5: 40 | J5: B301
A6: =IF(E6="","",A5) -> 42738 | B6: =IF(E6="","",B5) -> cat | C6: =IF(E6="","",C5) -> leclerc bailleul | D6: =IF(E6="",0,D5) -> 96037304 | E6: p203 | F6: =IF(E6="","",VLOOKUP(E6,table!A:B,2)) -> cassoulet des flandres | G6: 73541 | H6: 10 | J6: B305
A7: =IF(E7="","",A6) -> 42738 | B7: =IF(E7="","",B6) -> cat | C7: =IF(E7="","",C6) -> leclerc bailleul | D7: =IF(E7="",0,D6) -> 96037304 | E7: p100 | F7: =IF(E7="","",VLOOKUP(E7,table!A:B,2)) -> P potj 400 | G7: 72401 | H7: 20 | J7: B344
A8: =IF(E8="","",A7) -> 42738 | B8: =IF(E8="","",B7) -> cat | C8: =IF(E8="","",C7) -> leclerc bailleul | D8: =IF(E8="",0,D7) -> 96037304 | E8: p502 | F8: =IF(E8="","",VLOOKUP(E8,table!A:B,2)) -> P Pate bière chti 270 g | G8: 73411 | H8: 24 | J8: B502
A9: =IF(E9="","",A8) -> 42738 | B9: =IF(E9="","",B8) -> cat | C9: =IF(E9="","",C8) -> leclerc bailleul | D9: =IF(E9="",0,D8) -> 96037304 | E9: p503 | F9: =IF(E9="","",VLOOKUP(E9,table!A:B,2)) -> P Pâté lapin pruneaux 180 | G9: 72822 | H9: 12 | J9: B556
A10: =IF(E10="","",A9) -> 42738 | B10: =IF(E10="","",B9) -> cat | C10: =IF(E10="","",C9) -> leclerc bailleul | D10: =IF(E10="",0,D9) -> 96037304 | E10: =IF(H10<>0,E9,"") -> p503 | F10: =IF(E10="","",VLOOKUP(E10,table!A:B,2)) -> P Pâté lapin pruneaux 180 | G10: 72821 | H10: 12 | J10: k000
A11: =IF(E11="","",A10) -> 42738 | B11: =IF(E11="","",B10) -> cat | C11: =IF(E11="","",C10) -> leclerc bailleul | D11: =IF(E11="",0,D10) -> 96037304 | E11: p301 | F11: =IF(E11="","",VLOOKUP(E11,table!A:B,2)) -> P Carbo 400 | G11: 73281 | H11: 40 | J11: k100
A12: =IF(E12="","",A11) -> 42738 | B12: =IF(E12="","",B11) -> cat | C12: =IF(E12="","",C11) -> leclerc bailleul | D12: =IF(E12="",0,D11) -> 96037304 | E12: p102 | F12: =IF(E12="","",VLOOKUP(E12,table!A:B,2)) -> P Potj bière chti | G12: 71293 | H12: 10 | J12: k101
A13: =IF(E13="","",A12) -> 42738 | B13: =IF(E13="","",B12) -> cat | C13: =IF(E13="","",C12) -> leclerc bailleul | D13: =IF(E13="",0,D12) -> 96037304 | E13: p105 | F13: =IF(E13="","",VLOOKUP(E13,table!A:B,2)) -> P Pot des 750 | G13: 73034 | H13: 60 | J13: k102
A14: =IF(E14="","",A13) -> 42738 | B14: =IF(E14="","",B13) -> cat | C14: =IF(E14="","",C13) -> leclerc bailleul | D14: =IF(E14="",0,D13) -> 96037304 | E14: =IF(H14<>0,E13,"") -> p105 | F14: =IF(E14="","",VLOOKUP(E14,table!A:B,2)) -> P Pot des 750 | G14: 73032 | H14: 20 | J14: k103
A15: =IF(E15="","",A14) -> 42738 | B15: =IF(E15="","",B14) -> cat | C15: =IF(E15="","",C14) -> leclerc bailleul | D15: =IF(E15="",0,D14) -> 96037304 | E15: p104 | F15: =IF(E15="","",VLOOKUP(E15,table!A:B,2)) -> P Potj des 400 | G15: 73323 | H15: 60 | J15: k105
A16: =IF(E16="","",A15) -> 42738 | B16: =IF(E16="","",B15) -> cat | C16: =IF(E16="","",C15) -> leclerc bailleul | D16: =IF(E16="",0,D15) -> 96037304 | E16: =IF(H16<>0,E15,"") -> p104 | F16: =IF(E16="","",VLOOKUP(E16,table!A:B,2)) -> P Potj des 400 | G16: 73324 | H16: 20 | J16: k133
A17: =IF(E17="","",A16) -> 42738 | B17: =IF(E17="","",B16) -> cat | C17: leclers st laurent blangy | D17: 96037301 | E17: k101 | F17: =IF(E17="","",VLOOKUP(E17,table!A:B,2)) -> K potj 750 | G17: 73071 | H17: 20 | J17: k144
A18: =IF(E18="","",A17) -> 42738 | B18: =IF(E18="","",B17) -> cat | C18: =IF(E18="","",C17) -> leclers st laurent blangy | D18: =IF(E18="",0,D17) -> 96037301 | E18: k100 | F18: =IF(E18="","",VLOOKUP(E18,table!A:B,2)) -> K potj 400 | G18: 73102 | H18: 20 | J18: k200
A19: =IF(E19="","",A18) -> 42738 | B19: =IF(E19="","",B18) -> cat | C19: =IF(E19="","",C18) -> leclers st laurent blangy | D19: =IF(E19="",0,D18) -> 96037301 | E19: k105 | F19: =IF(E19="","",VLOOKUP(E19,table!A:B,2)) -> K potj dess 750 | G19: 72084 | H19: 20 | J19: k201
A20: =IF(E20="","",A19) -> 42738 | B20: =IF(E20="","",B19) -> cat | C20: =IF(E20="","",C19) -> leclers st laurent blangy | D20: =IF(E20="",0,D19) -> 96037301 | E20: k144 | F20: =IF(E20="","",VLOOKUP(E20,table!A:B,2)) -> K potj dess 400 | G20: 72972 | H20: 40 | J20: k202
A21: =IF(E21="","",A20) -> 42738 | B21: =IF(E21="","",B20) -> cat | C21: =IF(E21="","",C20) -> leclers st laurent blangy | D21: =IF(E21="",0,D20) -> 96037301 | E21: k302 | F21: =IF(E21="","",VLOOKUP(E21,table!A:B,2)) -> K carbo 740 | G21: 73561 | H21: 10 | J21: k203
A22: =IF(E22="","",A21) -> 42738 | B22: =IF(E22="","",B21) -> cat | C22: =IF(E22="","",C21) -> leclers st laurent blangy | D22: =IF(E22="",0,D21) -> 96037301 | E22: k300 | F22: =IF(E22="","",VLOOKUP(E22,table!A:B,2)) -> K Carbo 400 | G22: 73422 | H22: 20 | J22: k232
A23: =IF(E23="","",A22) -> 42738 | B23: =IF(E23="","",B22) -> cat | C23: =IF(E23="","",C22) -> leclers st laurent blangy | D23: =IF(E23="",0,D22) -> 96037301 | E23: k502 | F23: =IF(E23="","",VLOOKUP(E23,table!A:B,2)) -> K cassoulet 750 | G23: 73542 | H23: 10 | J23: k300
A24: =IF(E24="","",A23) -> 42738 | B24: =IF(E24="","",B23) -> cat | C24: =IF(E24="","",C23) -> leclers st laurent blangy | D24: =IF(E24="",0,D23) -> 96037301 | E24: k202 | F24: =IF(E24="","",VLOOKUP(E24,table!A:B,2)) -> K coq au vin 750 | G24: 71523 | H24: 20 | J24: k302
A25: =IF(E25="","",A24) -> 42738 | B25: =IF(E25="","",B24) -> cat | C25: =IF(E25="","",C24) -> leclers st laurent blangy | D25: =IF(E25="",0,D24) -> 96037301 | E25: k600 | F25: =IF(E25="","",VLOOKUP(E25,table!A:B,2)) -> K poulet maroilles 750 | G25: 73552 | H25: 10 | J25: k355
A26: =IF(E26="","",A25) -> 42738 | B26: =IF(E26="","",B25) -> cat | C26: leconte | D26: 96037307 | E26: r100 | F26: =IF(E26="","",VLOOKUP(E26,table!A:B,2)) -> E potj 400 | G26: 72282 | H26: 200 | J26: k362
A27: =IF(E27="","",A26) -> 42738 | B27: =IF(E27="","",B26) -> cat | C27: =IF(E27="","",C26) -> leconte | D27: =IF(E27="",0,D26) -> 96037307 | E27: =IF(H27<>0,E26,"") -> r100 | F27: =IF(E27="","",VLOOKUP(E27,table!A:B,2)) -> E potj 400 | G27: 72135 | H27: 140 | J27: k400
A28: =IF(E28="","",A27) -> 42738 | B28: =IF(E28="","",B27) -> cat | C28: =IF(E28="","",C27) -> leconte | D28: =IF(E28="",0,D27) -> 96037307 | E28: =IF(H28<>0,E27,"") -> r100 | F28: =IF(E28="","",VLOOKUP(E28,table!A:B,2)) -> E potj 400 | G28: 72332 | H28: 240 | J28: k501
A29: 42739 | B29: cat | C29: epaux bezu | D29: 96037310 | E29: p203 | F29: =IF(E29="","",VLOOKUP(E29,table!A:B,2)) -> cassoulet des flandres | G29: 73541 | H29: 138 | J29: k502
A30: =IF(E30="","",A29) -> 42739 | B30: =IF(E30="","",B29) -> cat | C30: =IF(E30="","",C29) -> epaux bezu | D30: =IF(E30="",0,D29) -> 96037310 | E30: =IF(H30<>0,E29,"") -> p203 | F30: =IF(E30="","",VLOOKUP(E30,table!A:B,2)) -> cassoulet des flandres | G30: 73556 | H30: 2 | J30: k600
A31: =IF(E31="","",A30) -> 42739 | B31: =IF(E31="","",B30) -> cat | C31: =IF(E31="","",C30) -> epaux bezu | D31: =IF(E31="",0,D30) -> 96037310 | E31: p133 | F31: =IF(E31="","",VLOOKUP(E31,table!A:B,2)) -> P Potj 750 + 33 % | G31: 71042 | H31: 60 | J31: k601
A32: =IF(E32="","",A31) -> 42739 | B32: =IF(E32="","",B31) -> cat | C32: =IF(E32="","",C31) -> epaux bezu | D32: =IF(E32="",0,D31) -> 96037310 | E32: =IF(H32<>0,E31,"") -> p133 | F32: =IF(E32="","",VLOOKUP(E32,table!A:B,2)) -> P Potj 750 + 33 % | G32: 72124 | H32: 30 | J32: k802
A33: =IF(E33="","",A32) -> 42739 | B33: =IF(E33="","",B32) -> cat | C33: =IF(E33="","",C32) -> epaux bezu | D33: =IF(E33="",0,D32) -> 96037310 | E33: =IF(H33<>0,E32,"") -> p133 | F33: =IF(E33="","",VLOOKUP(E33,table!A:B,2)) -> P Potj 750 + 33 % | G33: 72125 | H33: 50 | J33: k803
A34: =IF(E34="","",A33) -> 42739 | B34: =IF(E34="","",B33) -> cat | C34: =IF(E34="","",C33) -> epaux bezu | D34: =IF(E34="",0,D33) -> 96037310 | E34: p300 | F34: =IF(E34="","",VLOOKUP(E34,table!A:B,2)) -> P Carbonnade 750 | G34: 73463 | H34: 39 | J34: k804
A35: =IF(E35="","",A34) -> 42739 | B35: =IF(E35="","",B34) -> cat | C35: =IF(E35="","",C34) -> epaux bezu | D35: =IF(E35="",0,D34) -> 96037310 | E35: =IF(H35<>0,E34,"") -> p300 | F35: =IF(E35="","",VLOOKUP(E35,table!A:B,2)) -> P Carbonnade 750 | G35: 73464 | H35: 160 | J35: k805
A36: =IF(E36="","",A35) -> 42739 | B36: =IF(E36="","",B35) -> cat | C36: =IF(E36="","",C35) -> epaux bezu | D36: =IF(E36="",0,D35) -> 96037310 | E36: =IF(H36<>0,E35,"") -> p300 | F36: =IF(E36="","",VLOOKUP(E36,table!A:B,2)) -> P Carbonnade 750 | G36: 73543 | H36: 49 | J36: k806
A37: =IF(E37="","",A36) -> 42739 | B37: =IF(E37="","",B36) -> cat | C37: =IF(E37="","",C36) -> epaux bezu | D37: =IF(E37="",0,D36) -> 96037310 | E37: =IF(H37<>0,E36,"") -> p300 | F37: =IF(E37="","",VLOOKUP(E37,table!A:B,2)) -> P Carbonnade 750 | G37: 73544 | H37: 102 | J37: k807
A38: =IF(E38="","",A37) -> 42739 | B38: =IF(E38="","",B37) -> cat | C38: particulier | D38: 96039917 | E38: k101 | F38: =IF(E38="","",VLOOKUP(E38,table!A:B,2)) -> K potj 750 | G38: 71914 | H38: 3 | J38: k808
A39: =IF(E39="","",A38) -> 42739 | B39: =IF(E39="","",B38) -> cat | C39: =IF(E39="","",C38) -> particulier | D39: =IF(E39="",0,D38) -> 96039917 | E39: k808 | F39: =IF(E39="","",VLOOKUP(E39,table!A:B,2)) -> K Pâté au maroilles 180 | G39: 70746 | H39: 1 | I39: kdo | J39: k811
A40: =IF(E40="","",A39) -> 42739 | B40: =IF(E40="","",B39) -> cat | C40: fontaine | D40: 96037308 | E40: k102 | F40: =IF(E40="","",VLOOKUP(E40,table!A:B,2)) -> K potj 1000 | G40: 73183 | H40: 10 | J40: k900
...

Sheet table
A1: CODE PRODUIT | B1: DÉSIGNATION
A2: B000 | B2: Barquette potje de la mer 800 g
A3: B301 | B3: Barquette potj avec os 3,5 K
A4: B305 | B4: Barquette potj désossé 3,5 K
A5: B344 | B5: Barquette potj désossé 800 G
A6: B502 | B6: Barquette pâté bière cthi 800 g
A7: B556 | B7: Barquette anosteke 600 g
A8: k000 | B8: potj de la mer 350G
A9: k100 | B9: K potj 400
A10: k101 | B10: K potj 750
A11: k102 | B11: K potj 1000
A12: k103 | B12: K potj 3VIA
... A137: S154 | B137: Soupe aux carottes 75 cl

Sheet Maquette
C1: ENREGISTREMENT
C2: =TODAY() -> 43538 | H2: =8*19+3+4*19 -> 231
A3: Date | B3: Opérateur | C3: Client | D3: N°BL | E3: scanage | F3: Dénomination | G3: Lot | H3: Quantité | M3: Estaminet
A4: 43535 | B4: MATH | C4: leclerc bailleul | D4: 99999999 | E4: 3434221543171 | F4: =IFERROR(IF(Tableau1[[#This Row],[scanage]]="","En attente de scan",VLOOKUP(Tableau1[[#This Row],[scanage]],GenCode!$A$1:$B$53,2,FALSE)),"Inconu !") -> Cassoulet 380g | G4: =MID(E4,9,10) -> 43171
A5: 43535 | B5: MATH | C5: leclerc bailleul | D5: 99999999 | F5: =IFERROR(IF(Tableau1[[#This Row],[scanage]]="","En attente de scan",VLOOKUP(Tableau1[[#This Row],[scanage]],GenCode!$A$1:$B$53,2,FALSE)),"Inconu !") -> En attente de scan | G5: =MID(E5,9,10)
G6: =MID(E6,9,10)
G7: =MID(E7,9,10)
G10: =MID(E10,9,10)
G11: =MID(E11,9,10)
G12: =MID(E12,9,10)
G13: =MID(E13,9,10)
G14: =MID(E14,9,10)
G15: =MID(E15,9,10)
G16: =MID(E16,9,10)
G17: =MID(E17,9,10)
G18: =MID(E18,9,10)
G19: =MID(E19,9,10)
... G25: =MID(E25,9,10)

Sheet GenCode
A1: Gen code | B1: Produits
B2: Kalifrais
A3: 3434221543218 | B3: Potjevleesch avec os 750g
A4: 3434221543201 | B4: Potjevleesch avec os 380g
A5: 3434221543317 | B5: Potjevleesch avec os 3 viandes
A6: 3434221543164 | B6: Potjevleesch désossé 750g
A7: 3434221543539 | B7: Potjevleesch désossé 380g
A8: 3434221542556 | B8: Potjevleesch désossé à la bière anosteké
A9: 3434221543324 | B9: Carbonade flamande 750g
A10: 3434221543294 | B10: Carbonade flamande 380g
A11: 3434221543515 | B11: Cassoulet 750g
A12: 3434221543171 | B12: Cassoulet 380g
A13: 3434221543560 | B13: Waterzoi 750g
A14: 3434221543263 | B14: Poulet à la bière 750g
... A29: 3434221543591 | B29: Terrine à l'ail
B30: Pierrot
A31: 3434221543874 | B31: Potjevleesch à la bière Ch'ti 750g
A32: 3434221543607 | B32: Potjevleesch avec os 750g
A33: 3434221543799 | B33: Potjevleesch avec os 380g
A34: 3434221543904 | B34: Potjevleesch 3 viandes avec os 750g
A35: 3434221546103 | B35: Potjevleesch désossé à la bière Ch'ti
A36: 3434221543881 | B36: Potjevleesch désossé 750g
A37: 3434221543898 | B37: Potjevleesch désossé 380g
A38: 3434221543638 | B38: Carbonade flamande 750g
A39: 3434221543867 | B39: Carbonade flamande 380g
A40: 3434221543690 | B40: cassoulet des flandres 750g
A41: 3434221546097 | B41: cassoulet des flandres 380g
A42: 3434221543621 | B42: Poulet au maroilles 750g
... A53: 3434221543843 | B53: Terrine au maroilles 180g
