Workbook

Sheet nb de permanences
A1: AMT | B1: =COUNTIF('ordre des permanences'!B:B,'nb de permanences'!A1) -> 4
A2: EB | B2: =COUNTIF('ordre des permanences'!B:B,'nb de permanences'!A2) -> 3
A3: JJ | B3: =COUNTIF('ordre des permanences'!B:B,'nb de permanences'!A3) -> 5
A4: KC | B4: =COUNTIF('ordre des permanences'!B:B,'nb de permanences'!A4) -> 2
A5: LEBD | B5: =COUNTIF('ordre des permanences'!B:B,'nb de permanences'!A5) -> 3
A6: NA | B6: =COUNTIF('ordre des permanences'!B:B,'nb de permanences'!A6) -> 6
A7: PF | B7: =COUNTIF('ordre des permanences'!B:B,'nb de permanences'!A7) -> 4
A8: SC | B8: =COUNTIF('ordre des permanences'!B:B,'nb de permanences'!A8) -> 6
A9: SJ | B9: =COUNTIF('ordre des permanences'!B:B,'nb de permanences'!A9) -> 3
A10: VD | B10: =COUNTIF('ordre des permanences'!B:B,'nb de permanences'!A10) -> 3
B11: =SUM(B1:B10) -> 39

Sheet ordre des permanences
A1: =COUNTA(B:B)-1 -> 39 | B1: Personne | C1: Ordre aléatoire | D1: Ligne/100 | E1: Ordre aléatoire + Ligne/100 | G1: ordre chronologique aléatoire des permanences
B2: AMT | C2: =RANDBETWEEN(1,$A$1) -> 3 | D2: =ROW()/100 -> 0.02 | E2: =C2+D2 -> 3.02 | G2: 1 | H2: =SMALL($E$2:$E$40,G2) -> 2.17 | I2: =INDEX(B:B,MATCH(H2,E:E,0)) -> LEBD
B3: AMT | C3: =RANDBETWEEN(1,$A$1) -> 20 | D3: =ROW()/100 -> 0.03 | E3: =C3+D3 -> 20.03 | G3: 2 | H3: =SMALL($E$2:$E$40,G3) -> 3.02 | I3: =INDEX(B:B,MATCH(H3,E:E,0)) -> AMT
B4: AMT | C4: =RANDBETWEEN(1,$A$1) -> 17 | D4: =ROW()/100 -> 0.04 | E4: =C4+D4 -> 17.04 | G4: 3 | H4: =SMALL($E$2:$E$40,G4) -> 6.05 | I4: =INDEX(B:B,MATCH(H4,E:E,0)) -> AMT
B5: AMT | C5: =RANDBETWEEN(1,$A$1) -> 6 | D5: =ROW()/100 -> 0.05 | E5: =C5+D5 -> 6.05 | G5: 4 | H5: =SMALL($E$2:$E$40,G5) -> 7.24 | I5: =INDEX(B:B,MATCH(H5,E:E,0)) -> NA
B6: EB | C6: =RANDBETWEEN(1,$A$1) -> 10 | D6: =ROW()/100 -> 0.06 | E6: =C6+D6 -> 10.06 | G6: 5 | H6: =SMALL($E$2:$E$40,G6) -> 7.31 | I6: =INDEX(B:B,MATCH(H6,E:E,0)) -> SC
B7: EB | C7: =RANDBETWEEN(1,$A$1) -> 39 | D7: =ROW()/100 -> 0.07 | E7: =C7+D7 -> 39.07 | G7: 6 | H7: =SMALL($E$2:$E$40,G7) -> 8.14 | I7: =INDEX(B:B,MATCH(H7,E:E,0)) -> KC
B8: EB | C8: =RANDBETWEEN(1,$A$1) -> 34 | D8: =ROW()/100 -> 0.08 | E8: =C8+D8 -> 34.08 | G8: 7 | H8: =SMALL($E$2:$E$40,G8) -> 9.1 | I8: =INDEX(B:B,MATCH(H8,E:E,0)) -> JJ
B9: JJ | C9: =RANDBETWEEN(1,$A$1) -> 38 | D9: =ROW()/100 -> 0.09 | E9: =C9+D9 -> 38.09 | G9: 8 | H9: =SMALL($E$2:$E$40,G9) -> 10.06 | I9: =INDEX(B:B,MATCH(H9,E:E,0)) -> EB
B10: JJ | C10: =RANDBETWEEN(1,$A$1) -> 9 | D10: =ROW()/100 -> 0.1 | E10: =C10+D10 -> 9.1 | G10: 9 | H10: =SMALL($E$2:$E$40,G10) -> 10.27 | I10: =INDEX(B:B,MATCH(H10,E:E,0)) -> PF
B11: JJ | C11: =RANDBETWEEN(1,$A$1) -> 22 | D11: =ROW()/100 -> 0.11 | E11: =C11+D11 -> 22.11 | G11: 10 | H11: =SMALL($E$2:$E$40,G11) -> 11.29 | I11: =INDEX(B:B,MATCH(H11,E:E,0)) -> SC
B12: JJ | C12: =RANDBETWEEN(1,$A$1) -> 21 | D12: =ROW()/100 -> 0.12 | E12: =C12+D12 -> 21.12 | G12: 11 | H12: =SMALL($E$2:$E$40,G12) -> 12.2 | I12: =INDEX(B:B,MATCH(H12,E:E,0)) -> NA
B13: JJ | C13: =RANDBETWEEN(1,$A$1) -> 25 | D13: =ROW()/100 -> 0.13 | E13: =C13+D13 -> 25.13 | G13: 12 | H13: =SMALL($E$2:$E$40,G13) -> 13.32 | I13: =INDEX(B:B,MATCH(H13,E:E,0)) -> SC
... B40: VD | C40: =RANDBETWEEN(1,$A$1) -> 31 | D40: =ROW()/100 -> 0.4 | E40: =C40+D40 -> 31.4 | G40: 39 | H40: =SMALL($E$2:$E$40,G40) -> 39.07 | I40: =INDEX(B:B,MATCH(H40,E:E,0)) -> EB
