Workbook

Sheet tableau
A1: Nom | B1: Ville | C1: Produit | D1: Couleur | E1: Date de signature | F1: Fournisseur | G1: Date de livraison | H1: Date de pose | I1: Date de paiement | J1: Montant HT | K1: Montant vente
A2: Martin | H2: S38
A3: Dumon | H3: S37
A4: Tartapion | H4: S37
A5: Francois | H5: S38
A6: Arthur | H6: S36
A7: Pascal | H7: S36
A8: Dupon | H8: S36

Sheet calendrier
A1: S36 | B1: S37 | C1: S38 | D1: S39 | E1: S40
A2: {=IFERROR(INDEX(tableau!$A$2:$A$8,SMALL(IF(tableau!$H$2:$H$8=A$1,ROW(tableau!$H$2:$H$8)-1,9^9),ROW()-1)),"")} -> Arthur | B2: {=IFERROR(INDEX(tableau!$A$2:$A$8,SMALL(IF(tableau!$H$2:$H$8=B$1,ROW(tableau!$H$2:$H$8)-1,9^9),ROW()-1)),"")} -> Dumon | C2: {=IFERROR(INDEX(tableau!$A$2:$A$8,SMALL(IF(tableau!$H$2:$H$8=C$1,ROW(tableau!$H$2:$H$8)-1,9^9),ROW()-1)),"")} -> Martin | D2: {=IFERROR(INDEX(tableau!$A$2:$A$8,SMALL(IF(tableau!$H$2:$H$8=D$1,ROW(tableau!$H$2:$H$8)-1,9^9),ROW()-1)),"")} | E2: {=IFERROR(INDEX(tableau!$A$2:$A$8,SMALL(IF(tableau!$H$2:$H$8=E$1,ROW(tableau!$H$2:$H$8)-1,9^9),ROW()-1)),"")}
A3: {=IFERROR(INDEX(tableau!$A$2:$A$8,SMALL(IF(tableau!$H$2:$H$8=A$1,ROW(tableau!$H$2:$H$8)-1,9^9),ROW()-1)),"")} -> Pascal | B3: {=IFERROR(INDEX(tableau!$A$2:$A$8,SMALL(IF(tableau!$H$2:$H$8=B$1,ROW(tableau!$H$2:$H$8)-1,9^9),ROW()-1)),"")} -> Tartapion | C3: {=IFERROR(INDEX(tableau!$A$2:$A$8,SMALL(IF(tableau!$H$2:$H$8=C$1,ROW(tableau!$H$2:$H$8)-1,9^9),ROW()-1)),"")} -> Francois | D3: {=IFERROR(INDEX(tableau!$A$2:$A$8,SMALL(IF(tableau!$H$2:$H$8=D$1,ROW(tableau!$H$2:$H$8)-1,9^9),ROW()-1)),"")} | E3: {=IFERROR(INDEX(tableau!$A$2:$A$8,SMALL(IF(tableau!$H$2:$H$8=E$1,ROW(tableau!$H$2:$H$8)-1,9^9),ROW()-1)),"")}
A4: {=IFERROR(INDEX(tableau!$A$2:$A$8,SMALL(IF(tableau!$H$2:$H$8=A$1,ROW(tableau!$H$2:$H$8)-1,9^9),ROW()-1)),"")} -> Dupon | B4: {=IFERROR(INDEX(tableau!$A$2:$A$8,SMALL(IF(tableau!$H$2:$H$8=B$1,ROW(tableau!$H$2:$H$8)-1,9^9),ROW()-1)),"")} | C4: {=IFERROR(INDEX(tableau!$A$2:$A$8,SMALL(IF(tableau!$H$2:$H$8=C$1,ROW(tableau!$H$2:$H$8)-1,9^9),ROW()-1)),"")} | D4: {=IFERROR(INDEX(tableau!$A$2:$A$8,SMALL(IF(tableau!$H$2:$H$8=D$1,ROW(tableau!$H$2:$H$8)-1,9^9),ROW()-1)),"")} | E4: {=IFERROR(INDEX(tableau!$A$2:$A$8,SMALL(IF(tableau!$H$2:$H$8=E$1,ROW(tableau!$H$2:$H$8)-1,9^9),ROW()-1)),"")}
A5: {=IFERROR(INDEX(tableau!$A$2:$A$8,SMALL(IF(tableau!$H$2:$H$8=A$1,ROW(tableau!$H$2:$H$8)-1,9^9),ROW()-1)),"")} | B5: {=IFERROR(INDEX(tableau!$A$2:$A$8,SMALL(IF(tableau!$H$2:$H$8=B$1,ROW(tableau!$H$2:$H$8)-1,9^9),ROW()-1)),"")} | C5: {=IFERROR(INDEX(tableau!$A$2:$A$8,SMALL(IF(tableau!$H$2:$H$8=C$1,ROW(tableau!$H$2:$H$8)-1,9^9),ROW()-1)),"")} | D5: {=IFERROR(INDEX(tableau!$A$2:$A$8,SMALL(IF(tableau!$H$2:$H$8=D$1,ROW(tableau!$H$2:$H$8)-1,9^9),ROW()-1)),"")} | E5: {=IFERROR(INDEX(tableau!$A$2:$A$8,SMALL(IF(tableau!$H$2:$H$8=E$1,ROW(tableau!$H$2:$H$8)-1,9^9),ROW()-1)),"")}
A6: {=IFERROR(INDEX(tableau!$A$2:$A$8,SMALL(IF(tableau!$H$2:$H$8=A$1,ROW(tableau!$H$2:$H$8)-1,9^9),ROW()-1)),"")} | B6: {=IFERROR(INDEX(tableau!$A$2:$A$8,SMALL(IF(tableau!$H$2:$H$8=B$1,ROW(tableau!$H$2:$H$8)-1,9^9),ROW()-1)),"")} | C6: {=IFERROR(INDEX(tableau!$A$2:$A$8,SMALL(IF(tableau!$H$2:$H$8=C$1,ROW(tableau!$H$2:$H$8)-1,9^9),ROW()-1)),"")} | D6: {=IFERROR(INDEX(tableau!$A$2:$A$8,SMALL(IF(tableau!$H$2:$H$8=D$1,ROW(tableau!$H$2:$H$8)-1,9^9),ROW()-1)),"")} | E6: {=IFERROR(INDEX(tableau!$A$2:$A$8,SMALL(IF(tableau!$H$2:$H$8=E$1,ROW(tableau!$H$2:$H$8)-1,9^9),ROW()-1)),"")}
