Workbook
Name FYMonthStart: '[1]Chiffre d’affaires (ventes)'!$AC$2
Name FYStartYear: '[1]Chiffre d’affaires (ventes)'!$AD$2
Name Nom_Entreprise: '[1]Chiffre d’affaires (ventes)'!$AD$1
Name Titre_Feuille_Calcul: '[1]Chiffre d’affaires (ventes)'!$B$2
Name Titre_Période_Prévisions: '[1]Chiffre d’affaires (ventes)'!$B$1
Name Titre1: [1]!Chiffre_daffaires[[#Headers],[Taux de change ]]
Name Titre2: [1]!CoûtdesVentes[[#Headers],[COÛT DES VENTES]]
Name Titre3: [1]!tblDépenses[[#Headers],[DÉPENSES]]

Sheet Feuille 1 
A1: STRATEGIC INVESTMENT
A3: Evolution des taux de change | C3: 1er Avril 2020 (MOIS EN COURS) | D3: 1 janvier 2020 | E3: 1 janvier 2019 | F3: 1 janvier 2018 | G3: 1 janvier 2017 | H3: 1 janvier 2016 | I3: 1 janvier 2015 | J3: 31 décembre 2008
C4: iNDICE VALEUR ABSOLUE | D4: iNDICE VALEUR ABSOLUE | E4: iNDICE VALEUR ABSOLUE | F4: iNDICE VALEUR ABSOLUE | G4: iNDICE VALEUR ABSOLUE | H4: iNDICE VALEUR ABSOLUE | I4: iNDICE VALEUR ABSOLUE
C5: Variation du Mois | D5: Variation 1er Janv - T (13 Mars ) | E5: Variation 1an + T | G5: Variation 3 ans + T | I5: Variation 5 ans + T | J5: Variation 12 ans + T
A6: EUR/USD | C6: =OFFSET('Feuille 2 '!$A$1,MATCH('Feuille 1 '!$A6,'Feuille 2 '!$A:$A,0)-1,MATCH(EOMONTH(TODAY(),-1)+1,'Feuille 2 '!$4:$4,0)-1) -> X | D6: 1.1216 | E6: 1.1463 | F6: 1.2013 | G6: 1.0521 | H6: 1.0863 | I6: 1.2141 | J6: 1.3917
C7: =OFFSET('Feuille 2 '!$A$1,MATCH('Feuille 1 '!$A6,'Feuille 2 '!$A:$A,0),MATCH(EOMONTH(TODAY(),-1)+1,'Feuille 2 '!$4:$4,0)-1) -> (X/Z) -1 = Y | D7: =(C6/D6)-1 -> #VALUE! | E7: =((D6/E6)*(C6/D6))-1 -> #VALUE! | G7: =((D6/G6)*(C6/D6))-1 -> #VALUE! | I7: =((D6/I6)*(C6/D6))-1 -> #VALUE! | J7: =((D6/J6)*(C6/D6))-1 -> #VALUE!
A8: EUR/GDP | C8: =OFFSET('Feuille 2 '!$A$1,MATCH('Feuille 1 '!$A8,'Feuille 2 '!$A:$A,0)-1,MATCH(EOMONTH(TODAY(),-1)+1,'Feuille 2 '!$4:$4,0)-1) -> 0.8529 | D8: 0.8463 | E8: 0.8995 | F8: 0.8887 | G8: 0.8529 | H8: 0.7375 | I8: 0.84 | J8: 0.9525
C9: =OFFSET('Feuille 2 '!$A$1,MATCH('Feuille 1 '!$A8,'Feuille 2 '!$A:$A,0),MATCH(EOMONTH(TODAY(),-1)+1,'Feuille 2 '!$4:$4,0)-1) -> 0.15647458 | D9: =(C8/D8)-1 -> 0.007798653 | E9: =((D8/E8)*(C8/D8))-1 -> -0.051806559 | G9: =((D8/G8)*(C8/D8))-1 -> 0 | I9: =((D8/I8)*(C8/D8))-1 -> 0.015357143 | J9: =((D8/J8)*(C8/D8))-1 -> -0.10456693
A10: EUR/CHF | C10: =OFFSET('Feuille 2 '!$A$1,MATCH('Feuille 1 '!$A10,'Feuille 2 '!$A:$A,0)-1,MATCH(EOMONTH(TODAY(),-1)+1,'Feuille 2 '!$4:$4,0)-1) -> 1.0721 | D10: 1.0854 | E10: 1.1251 | F10: 1.1704 | G10: 1.0721 | H10: 1.0884 | I10: 1.085 | J10: 1.485
C11: =OFFSET('Feuille 2 '!$A$1,MATCH('Feuille 1 '!$A10,'Feuille 2 '!$A:$A,0),MATCH(EOMONTH(TODAY(),-1)+1,'Feuille 2 '!$4:$4,0)-1) -> 0 | D11: =(C10/D10)-1 -> -0.012253547 | E11: =((D10/E10)*(C10/D10))-1 -> -0.047106924 | G11: =((D10/G10)*(C10/D10))-1 -> 0 | I11: =((D10/I10)*(C10/D10))-1 -> -0.011889401 | J11: =((D10/J10)*(C10/D10))-1 -> -0.27804714
A12: EUR/ILS | C12: =OFFSET('Feuille 2 '!$A$1,MATCH('Feuille 1 '!$A12,'Feuille 2 '!$A:$A,0)-1,MATCH(EOMONTH(TODAY(),-1)+1,'Feuille 2 '!$4:$4,0)-1) -> 4.0524 | D12: 3.877 | E12: 4.2867 | F12: 4.1761 | G12: 4.0524 | H12: 4.238 | I12: 3.875 | J12: 5.266
C13: =OFFSET('Feuille 2 '!$A$1,MATCH('Feuille 1 '!$A12,'Feuille 2 '!$A:$A,0),MATCH(EOMONTH(TODAY(),-1)+1,'Feuille 2 '!$4:$4,0)-1) -> 0 | D13: =(C12/D12)-1 -> 0.045241166 | E13: =((D12/E12)*(C12/D12))-1 -> -0.054657429 | G13: =((D12/G12)*(C12/D12))-1 -> 0 | I13: =((D12/I12)*(C12/D12))-1 -> 0.045780645 | J13: =((D12/J12)*(C12/D12))-1 -> -0.23045955
A14: USD/ILS | C14: =OFFSET('Feuille 2 '!$A$1,MATCH('Feuille 1 '!$A14,'Feuille 2 '!$A:$A,0)-1,MATCH(EOMONTH(TODAY(),-1)+1,'Feuille 2 '!$4:$4,0)-1) -> 3.8519 | D14: 3.4567 | E14: 3.7396 | F14: 3.4763 | G14: 3.8519 | H14: 3.9013 | I14: 3.4566 | J14: 3.7838
C15: =OFFSET('Feuille 2 '!$A$1,MATCH('Feuille 1 '!$A14,'Feuille 2 '!$A:$A,0),MATCH(EOMONTH(TODAY(),-1)+1,'Feuille 2 '!$4:$4,0)-1) -> 0 | D15: =(C14/D14)-1 -> 0.11432869 | E15: =((D14/E14)*(C14/D14))-1 -> 0.03002995 | G15: =((D14/G14)*(C14/D14))-1 -> 0 | I15: =((D14/I14)*(C14/D14))-1 -> 0.11436093 | J15: =((D14/J14)*(C14/D14))-1 -> 0.01799778
A16: EUR/BRL | C16: =OFFSET('Feuille 2 '!$A$1,MATCH('Feuille 1 '!$A16,'Feuille 2 '!$A:$A,0)-1,MATCH(EOMONTH(TODAY(),-1)+1,'Feuille 2 '!$4:$4,0)-1) -> 3.4367 | D16: 4.5066 | E16: 4.4494 | F16: 3.9783 | G16: 3.4367 | H16: 4.3014 | I16: 3.2167 | J16: 3.2436
C17: =OFFSET('Feuille 2 '!$A$1,MATCH('Feuille 1 '!$A16,'Feuille 2 '!$A:$A,0),MATCH(EOMONTH(TODAY(),-1)+1,'Feuille 2 '!$4:$4,0)-1) -> 0 | D17: =(C16/D16)-1 -> -0.23740736 | E17: =((D16/E16)*(C16/D16))-1 -> -0.22760372 | G17: =((D16/G16)*(C16/D16))-1 -> 0 | I17: =((D16/I16)*(C16/D16))-1 -> 0.068393074 | J17: =((D16/J16)*(C16/D16))-1 -> 0.059532618
A18: EUR/CNY | C18: =OFFSET('Feuille 2 '!$A$1,MATCH('Feuille 1 '!$A18,'Feuille 2 '!$A:$A,0)-1,MATCH(EOMONTH(TODAY(),-1)+1,'Feuille 2 '!$4:$4,0)-1) -> 6.94 | D18: 6.96 | E18: 6.86 | F18: 6.49 | G18: 6.94 | H18: 6.56 | I18: 6.21 | J18: 9.4956
C19: =OFFSET('Feuille 2 '!$A$1,MATCH('Feuille 1 '!$A18,'Feuille 2 '!$A:$A,0),MATCH(EOMONTH(TODAY(),-1)+1,'Feuille 2 '!$4:$4,0)-1) -> 0 | D19: =(C18/D18)-1 -> -0.0028735632 | E19: =((D18/E18)*(C18/D18))-1 -> 0.011661808 | G19: =((D18/G18)*(C18/D18))-1 -> 0 | I19: =((D18/I18)*(C18/D18))-1 -> 0.11755233 | J19: =((D18/J18)*(C18/D18))-1 -> -0.26913518
C27: =TEXT(EOMONTH(TODAY(),-1)+1,"j mmmm aaaa") -> 1 avril 2020

Sheet Feuille 2 
B4: 42005 | C4: 43891 | D4: 43922 | E4: 43952 | F4: 43617 | G4: 44013 | H4: 1 aout 2020 …
A6: EUR/USD | B6: 1.2141 | C6: Z | D6: X | H6: …..
D7: (X/Z) -1 = Y
A8: EUR/GDP | B8: 0.84 | C8: 0.7375 | D8: 0.8529
D9: =(D8/C8)-1 -> 0.15647458
A10: EUR/CHF | B10: 1.085 | C10: 1.0884 | D10: 1.0721
A12: EUR/ILS | B12: 3.875 | C12: 4.238 | D12: 4.0524
A14: USD/ILS | B14: 3.4566 | C14: 3.9013 | D14: 3.8519
A16: EUR/BRL | B16: 3.2167 | C16: 4.3014 | D16: 3.4367
A18: EUR/CNY | B18: 6.21 | C18: 6.56 | D18: 6.94

Sheet Taux de Change
A1: STRATEGIC INVESTMENT
A2: Evolution des taux de change
B4: TENDANCE | C4: 42005 | D4: 42370 | E4: 42736 | F4: 43101 | G4: 43466 | H4: 43831 | I4: T (13 MARS) | L4: Variation 1er Janv - 13 Mars | M4: Variation 1 an | N4: Variation 3 ans | O4: Variation 5 ans
A6: EUR/USD | C6: 1.2141 | D6: 1.0863 | E6: 1.0521 | F6: 1.2013 | G6: 1.1463 | H6: 1.1216 | I6: 1.13 | K6: EUR/USD | M6: =((#REF!/#REF!)*(#REF!/#REF!))-1 -> #REF! | N6: =((#REF!/#REF!)*(#REF!/#REF!))-1 -> #REF! | O6: =((#REF!/#REF!)*(#REF!/#REF!))-1 -> #REF!
A8: EUR/GDP | C8: 0.84 | D8: 0.7375 | E8: 0.8529 | F8: 0.8887 | G8: 0.8995 | H8: 0.8463 | I8: 0.88 | K8: EUR/GDP | L8: =(#REF!/#REF!)-1 -> #REF! | M8: =((#REF!/#REF!)*(#REF!/#REF!))-1 -> #REF! | N8: =((#REF!/#REF!)*(#REF!/#REF!))-1 -> #REF! | O8: =((#REF!/#REF!)*(#REF!/#REF!))-1 -> #REF!
A10: EUR/CHF | C10: 1.085 | D10: 1.0884 | E10: 1.0721 | F10: 1.1704 | G10: 1.1251 | H10: 1.0854 | I10: 1.06 | K10: EUR/CHF | L10: =(#REF!/#REF!)-1 -> #REF! | M10: =((#REF!/#REF!)*(#REF!/#REF!))-1 -> #REF! | N10: =((#REF!/#REF!)*(#REF!/#REF!))-1 -> #REF! | O10: =((#REF!/#REF!)*(#REF!/#REF!))-1 -> #REF!
A12: EUR/ILS | C12: 3.875 | D12: 4.238 | E12: 4.0524 | F12: 4.1761 | G12: 4.2867 | H12: 3.877 | I12: 4.12 | K12: EUR/ILS | L12: =(#REF!/#REF!)-1 -> #REF! | M12: =((#REF!/#REF!)*(#REF!/#REF!))-1 -> #REF! | N12: =((#REF!/#REF!)*(#REF!/#REF!))-1 -> #REF! | O12: =((#REF!/#REF!)*(#REF!/#REF!))-1 -> #REF!
A14: USD/ILS | C14: 3.4566 | D14: 3.9013 | E14: 3.8519 | F14: 3.4763 | G14: 3.7396 | H14: 3.4567 | I14: =(I12/I6) -> 3.6460177 | K14: USD/ILS | L14: =(#REF!/#REF!)-1 -> #REF! | M14: =((#REF!/#REF!)*(#REF!/#REF!))-1 -> #REF! | N14: =((#REF!/#REF!)*(#REF!/#REF!))-1 -> #REF! | O14: =((#REF!/#REF!)*(#REF!/#REF!))-1 -> #REF!
A16: EUR/BRL | C16: 3.2167 | D16: 4.3014 | E16: 3.4367 | F16: 3.9783 | G16: 4.4494 | H16: 4.5066 | I16: 5.4804
A18: EUR/CNY | C18: 6.21 | D18: 6.56 | E18: 6.94 | F18: 6.49 | G18: 6.86 | H18: 6.96 | I18: 7.01
A22: Variation des taux de changes
B23: Variation 1er Janv - T (13 Mars ) | C23: Variation 1 an + T | D23: Variation 3 ans + T | E23: Variation 5 ans + T
A25: EUR/USD | B25: =(I6/H6)-1 -> 0.007489301 | C25: =((H6/G6)*(I6/H6))-1 -> -0.014219663 | D25: =((H6/E6)*(I6/H6))-1 -> 0.074042391 | E25: =((H6/C6)*(I6/H6))-1 -> -0.069269418
A27: EUR/GDP | B27: =(I8/H8)-1 -> 0.039820395 | C27: =((H8/G8)*(I8/H8))-1 -> -0.02167871 | D27: =((H8/E8)*(I8/H8))-1 -> 0.031773948 | E27: =((H8/C8)*(I8/H8))-1 -> 0.047619048
A29: EUR/CHF | B29: =(I10/H10)-1 -> -0.023401511 | C29: =((H10/G10)*(I10/H10))-1 -> -0.057861523 | D29: =((H10/E10)*(I10/H10))-1 -> -0.011286261 | E29: =((H10/C10)*(I10/H10))-1 -> -0.023041475
A31: EUR/ILS | B31: =(I12/H12)-1 -> 0.062677328 | C31: =((H12/G12)*(I12/H12))-1 -> -0.038887722 | D31: =((H12/E12)*(I12/H12))-1 -> 0.016681473 | E31: =((H12/C12)*(I12/H12))-1 -> 0.063225806
A33: USD/ILS | B33: =(I14/H14)-1 -> 0.054768334 | C33: =((H14/G14)*(I14/H14))-1 -> -0.025024682 | D33: =((H14/E14)*(I14/H14))-1 -> -0.053449545 | E33: =((H14/C14)*(I14/H14))-1 -> 0.054798848
A35: EUR/BRL | B35: =(I16/H16)-1 -> 0.21608308 | C35: =((H16/G16)*(I16/H16))-1 -> 0.23171664 | D35: =((H16/E16)*(I16/H16))-1 -> 0.5946693 | E35: =((H16/C16)*(I16/H16))-1 -> 0.70373364
A37: USD/YUAN | B37: =(I18/H18)-1 -> 0.007183908 | C37: =((H18/G18)*(I18/H18))-1 -> 0.021865889 | D37: =((H18/E18)*(I18/H18))-1 -> 0.010086455 | E37: =((H18/C18)*(I18/H18))-1 -> 0.12882448

Sheet Matières premières
A1: STRATEGIC INVESTMENT
A2: Evolution des prix des matières premières
B4: TENDANCE | C4: 42005 | D4: 42370 | E4: 42736 | F4: 43101 | G4: 43466 | H4: 43831 | I4: T ( 25 mars )
A6: Pétrole Brent ($/baril) | C6: 57.54 | D6: 37.57 | E6: 56.85 | F6: 66.48 | G6: 54.141 | H6: 66 | I6: 27.587
A8: Once OR | C8: 1172 | D8: 1060 | E8: 1150.9 | F8: 1302.61 | G8: 1282.25 | H8: 1528.649 | I8: 1629.2
A10: Cacao NY ($/tonne) | C10: 2948 | D10: 3145 | E10: 2260 | F10: 1888 | G10: 2394 | H10: 2532 | I10: 2248
A12: SUCRE NY (ct/lb) | C12: 14.24 | D12: 14.6 | E12: 20.54 | F12: 15.32 | G12: 11.71 | H12: 13.31 | I12: 11.41
A14: Ethanol | C14: 1.63 | D14: 1.4 | E14: 1.57 | F14: 1.34 | G14: 1.27 | H14: 1.36 | I14: 0.97
A17: Variation des prix MP
B18: Variation 1er Janv - T (25 Mars ) | C18: Variation 1 an + T | D18: Variation 3 ans + T | E18: Variation 5 ans + T
A20: Pétrole Brent | B20: =(I6/H6)-1 -> -0.58201515 | C20: =((H6/G6)*(I6/H6))-1 -> -0.49046009 | D20: =((H6/E6)*(I6/H6))-1 -> -0.51474055 | E20: =((H6/C6)*(I6/H6))-1 -> -0.52055961
A22: Once OR | B22: =(I8/H8)-1 -> 0.06577769 | C22: =((H8/G8)*(I8/H8))-1 -> 0.27057906 | D22: =((H8/E8)*(I8/H8))-1 -> 0.4155878 | E22: =((H8/C8)*(I8/H8))-1 -> 0.39010239
A24: Cacao NY | B24: =(I10/H10)-1 -> -0.1121643 | C24: =((H10/G10)*(I10/H10))-1 -> -0.060985798 | D24: =((H10/E10)*(I10/H10))-1 -> -0.0053097345 | E24: =((H10/C10)*(I10/H10))-1 -> -0.23744912
A26: SUCRE NY | B26: =(I12/H12)-1 -> -0.14274981 | C26: =((H12/G12)*(I12/H12))-1 -> -0.025619129 | D26: =((H12/E12)*(I12/H12))-1 -> -0.44449854 | E26: =((H12/C12)*(I12/H12))-1 -> -0.19873596
A28: Ethanol | B28: =(I14/H14)-1 -> -0.28676471 | C28: =((H14/G14)*(I14/H14))-1 -> -0.23622047 | D28: =((H14/E14)*(I14/H14))-1 -> -0.38216561 | E28: =((H14/C14)*(I14/H14))-1 -> -0.40490798
