Workbook

Sheet Planning excel
B4: 43466
B5: =PROPER(LEFT(TEXT(B6,"jjj"),1)) -> M | C5: =PROPER(LEFT(TEXT(C6,"jjj"),1)) -> M | D5: =PROPER(LEFT(TEXT(D6,"jjj"),1)) -> J | E5: =PROPER(LEFT(TEXT(E6,"jjj"),1)) -> V | F5: =PROPER(LEFT(TEXT(F6,"jjj"),1)) -> S | G5: =PROPER(LEFT(TEXT(G6,"jjj"),1)) -> D | H5: =PROPER(LEFT(TEXT(H6,"jjj"),1)) -> L | I5: =PROPER(LEFT(TEXT(I6,"jjj"),1)) -> M | ... AF5: =PROPER(LEFT(TEXT(AF6,"jjj"),1)) -> J
B6: =B4 -> 43466 | C6: =B6+1 -> 43467 | D6: =C6+1 -> 43468 | E6: =D6+1 -> 43469 | F6: =E6+1 -> 43470 | G6: =F6+1 -> 43471 | H6: =G6+1 -> 43472 | I6: =H6+1 -> 43473 | J6: =I6+1 -> 43474 | ... AC6: =AB6+1 -> 43493 | AD6: =IF(MONTH(AC6+1)=MONTH(B4),AC6+1,"") -> 43494 | AE6: =IF(MONTH(AC6+2)=MONTH(C4),AC6+2,"") -> 43495 | AF6: =IF(MONTH(AC6+3)=MONTH(D4),AC6+3,"") -> 43496
A7: Agent 1 | B7: =B17&B43 -> JF | C7: =C17&C43 -> S | D7: =D17&D43 | E7: =E17&E43 | F7: =F17&F43 -> WE | G7: =G17&G43 -> WE | H7: =H17&H43 | I7: =I17&I43 | ... AF7: =AF17&AF43 -> A
A8: Agent 2 | B8: =B18&B44 -> JF | C8: =C18&C44 -> M | D8: =D18&D44 | E8: =E18&E44 | F8: =F18&F44 -> WE | G8: =G18&G44 -> WE | H8: =H18&H44 | I8: =I18&I44 | ... AF8: =AF18&AF44
A9: Agent 3 | B9: =B19&B45 -> JF | C9: =C19&C45 | D9: =D19&D45 | E9: =E19&E45 | F9: =F19&F45 -> WE | G9: =G19&G45 -> WE | H9: =H19&H45 | I9: =I19&I45 | ... AF9: =AF19&AF45 -> S
A10: Agent 4 | B10: =B20&B46 -> JF | C10: =C20&C46 | D10: =D20&D46 | E10: =E20&E46 | F10: =F20&F46 -> WE | G10: =G20&G46 -> WE | H10: =H20&H46 -> M | I10: =I20&I46 | ... AF10: =AF20&AF46
A11: Agent 5 | B11: =B21&B47 -> JF | C11: =C21&C47 | D11: =D21&D47 -> S | E11: =E21&E47 -> S | F11: =F21&F47 -> WE | G11: =G21&G47 -> WE | H11: =H21&H47 -> S | I11: =I21&I47 | ... AF11: =AF21&AF47
A12: Agent 6 | B12: =B22&B48 -> JF | C12: =C22&C48 | D12: =D22&D48 -> M | E12: =E22&E48 -> M | F12: =F22&F48 -> WE | G12: =G22&G48 -> WE | H12: =H22&H48 | I12: =I22&I48 -> M | ... AF12: =AF22&AF48 -> M
A13: Agent 7 | B13: =B23&B49 -> JF | C13: =C23&C49 | D13: =D23&D49 | E13: =E23&E49 | F13: =F23&F49 -> WE | G13: =G23&G49 -> WE | H13: =H23&H49 | I13: =I23&I49 -> S | ... AF13: =AF23&AF49
A14: Agent 8 | B14: =B24&B50 -> JF | C14: =C24&C50 | D14: =D24&D50 | E14: =E24&E50 | F14: =F24&F50 -> WE | G14: =G24&G50 -> WE | H14: =H24&H50 | I14: =I24&I50 | ... AF14: =AF24&AF50
A16: JF, WE, A & Choix volontaires =
A17: =A7 -> Agent 1 | B17: =IFERROR(IF(COUNTIF(Fériés!$B$6:$B$18,B$6)=1,"JF",IF(WEEKDAY(B$6,2)>5,"WE","")),"") &IFERROR(LEFT(INDEX(Tableau1[Vacation],MATCH($A17&"|"&B$6*1,Tableau1[Cle],0)),1),"") &IFERROR(IF(OR(WEEKDAY(B$6,2)>5,$AH17=0),"",IF(B$6<=INDEX(Tableau2[Date de Fin],MATCH(B$6,OFFSET(Tableau2[[#Headers],[Date de début]],$AH17,,$AI17-$AH17+1),1)),"A","")),"") -> JF | C17: =IFERROR(IF(COUNTIF(Fériés!$B$6:$B$18,C$6)=1,"JF",IF(WEEKDAY(C$6,2)>5,"WE","")),"") &IFERROR(LEFT(INDEX(Tableau1[Vacation],MATCH($A17&"|"&C$6*1,Tableau1[Cle],0)),1),"") &IFERROR(IF(OR(WEEKDAY(C$6,2)>5,$AH17=0),"",IF(C$6<=INDEX(Tableau2[Date de Fin],MATCH(C$6,OFFSET(Tableau2[[#Headers],[Date de début]],$AH17,,$AI17-$AH17+1),1)),"A","")),"") | D17: =IFERROR(IF(COUNTIF(Fériés!$B$6:$B$18,D$6)=1,"JF",IF(WEEKDAY(D$6,2)>5,"WE","")),"") &IFERROR(LEFT(INDEX(Tableau1[Vacation],MATCH($A17&"|"&D$6*1,Tableau1[Cle],0)),1),"") &IFERROR(IF(OR(WEEKDAY(D$6,2)>5,$AH17=0),"",IF(D$6<=INDEX(Tableau2[Date de Fin],MATCH(D$6,OFFSET(Tableau2[[#Headers],[Date de début]],$AH17,,$AI17-$AH17+1),1)),"A","")),"") | E17: =IFERROR(IF(COUNTIF(Fériés!$B$6:$B$18,E$6)=1,"JF",IF(WEEKDAY(E$6,2)>5,"WE","")),"") &IFERROR(LEFT(INDEX(Tableau1[Vacation],MATCH($A17&"|"&E$6*1,Tableau1[Cle],0)),1),"") &IFERROR(IF(OR(WEEKDAY(E$6,2)>5,$AH17=0),"",IF(E$6<=INDEX(Tableau2[Date de Fin],MATCH(E$6,OFFSET(Tableau2[[#Headers],[Date de début]],$AH17,,$AI17-$AH17+1),1)),"A","")),"") | F17: =IFERROR(IF(COUNTIF(Fériés!$B$6:$B$18,F$6)=1,"JF",IF(WEEKDAY(F$6,2)>5,"WE","")),"") &IFERROR(LEFT(INDEX(Tableau1[Vacation],MATCH($A17&"|"&F$6*1,Tableau1[Cle],0)),1),"") &IFERROR(IF(OR(WEEKDAY(F$6,2)>5,$AH17=0),"",IF(F$6<=INDEX(Tableau2[Date de Fin],MATCH(F$6,OFFSET(Tableau2[[#Headers],[Date de début]],$AH17,,$AI17-$AH17+1),1)),"A","")),"") -> WE | G17: =IFERROR(IF(COUNTIF(Fériés!$B$6:$B$18,G$6)=1,"JF",IF(WEEKDAY(G$6,2)>5,"WE","")),"") &IFERROR(LEFT(INDEX(Tableau1[Vacation],MATCH($A17&"|"&G$6*1,Tableau1[Cle],0)),1),"") &IFERROR(IF(OR(WEEKDAY(G$6,2)>5,$AH17=0),"",IF(G$6<=INDEX(Tableau2[Date de Fin],MATCH(G$6,OFFSET(Tableau2[[#Headers],[Date de début]],$AH17,,$AI17-$AH17+1),1)),"A","")),"") -> WE | H17: =IFERROR(IF(COUNTIF(Fériés!$B$6:$B$18,H$6)=1,"JF",IF(WEEKDAY(H$6,2)>5,"WE","")),"") &IFERROR(LEFT(INDEX(Tableau1[Vacation],MATCH($A17&"|"&H$6*1,Tableau1[Cle],0)),1),"") &IFERROR(IF(OR(WEEKDAY(H$6,2)>5,$AH17=0),"",IF(H$6<=INDEX(Tableau2[Date de Fin],MATCH(H$6,OFFSET(Tableau2[[#Headers],[Date de début]],$AH17,,$AI17-$AH17+1),1)),"A","")),"") | I17: =IFERROR(IF(COUNTIF(Fériés!$B$6:$B$18,I$6)=1,"JF",IF(WEEKDAY(I$6,2)>5,"WE","")),"") &IFERROR(LEFT(INDEX(Tableau1[Vacation],MATCH($A17&"|"&I$6*1,Tableau1[Cle],0)),1),"") &IFERROR(IF(OR(WEEKDAY(I$6,2)>5,$AH17=0),"",IF(I$6<=INDEX(Tableau2[Date de Fin],MATCH(I$6,OFFSET(Tableau2[[#Headers],[Date de début]],$AH17,,$AI17-$AH17+1),1)),"A","")),"") | ... AF17: =IFERROR(IF(COUNTIF(Fériés!$B$6:$B$18,AF$6)=1,"JF",IF(WEEKDAY(AF$6,2)>5,"WE","")),"") &IFERROR(LEFT(INDEX(Tableau1[Vacation],MATCH($A17&"|"&AF$6*1,Tableau1[Cle],0)),1),"") &IFERROR(IF(OR(WEEKDAY(AF$6,2)>5,$AH17=0),"",IF(AF$6<=INDEX(Tableau2[Date de Fin],MATCH(AF$6,OFFSET(Tableau2[[#Headers],[Date de début]],$AH17,,$AI17-$AH17+1),1)),"A","")),"") -> A | AH17: =IFERROR(MATCH(A17,Tableau2[Nom agent],0),0) -> 1 | AI17: =MATCH(A17,Tableau2[Nom agent],1) -> 2
A18: =A8 -> Agent 2 | B18: =IFERROR(IF(COUNTIF(Fériés!$B$6:$B$18,B$6)=1,"JF",IF(WEEKDAY(B$6,2)>5,"WE","")),"") &IFERROR(LEFT(INDEX(Tableau1[Vacation],MATCH($A18&"|"&B$6*1,Tableau1[Cle],0)),1),"") &IFERROR(IF(OR(WEEKDAY(B$6,2)>5,$AH18=0),"",IF(B$6<=INDEX(Tableau2[Date de Fin],MATCH(B$6,OFFSET(Tableau2[[#Headers],[Date de début]],$AH18,,$AI18-$AH18+1),1)),"A","")),"") -> JF | C18: =IFERROR(IF(COUNTIF(Fériés!$B$6:$B$18,C$6)=1,"JF",IF(WEEKDAY(C$6,2)>5,"WE","")),"") &IFERROR(LEFT(INDEX(Tableau1[Vacation],MATCH($A18&"|"&C$6*1,Tableau1[Cle],0)),1),"") &IFERROR(IF(OR(WEEKDAY(C$6,2)>5,$AH18=0),"",IF(C$6<=INDEX(Tableau2[Date de Fin],MATCH(C$6,OFFSET(Tableau2[[#Headers],[Date de début]],$AH18,,$AI18-$AH18+1),1)),"A","")),"") | D18: =IFERROR(IF(COUNTIF(Fériés!$B$6:$B$18,D$6)=1,"JF",IF(WEEKDAY(D$6,2)>5,"WE","")),"") &IFERROR(LEFT(INDEX(Tableau1[Vacation],MATCH($A18&"|"&D$6*1,Tableau1[Cle],0)),1),"") &IFERROR(IF(OR(WEEKDAY(D$6,2)>5,$AH18=0),"",IF(D$6<=INDEX(Tableau2[Date de Fin],MATCH(D$6,OFFSET(Tableau2[[#Headers],[Date de début]],$AH18,,$AI18-$AH18+1),1)),"A","")),"") | E18: =IFERROR(IF(COUNTIF(Fériés!$B$6:$B$18,E$6)=1,"JF",IF(WEEKDAY(E$6,2)>5,"WE","")),"") &IFERROR(LEFT(INDEX(Tableau1[Vacation],MATCH($A18&"|"&E$6*1,Tableau1[Cle],0)),1),"") &IFERROR(IF(OR(WEEKDAY(E$6,2)>5,$AH18=0),"",IF(E$6<=INDEX(Tableau2[Date de Fin],MATCH(E$6,OFFSET(Tableau2[[#Headers],[Date de début]],$AH18,,$AI18-$AH18+1),1)),"A","")),"") | F18: =IFERROR(IF(COUNTIF(Fériés!$B$6:$B$18,F$6)=1,"JF",IF(WEEKDAY(F$6,2)>5,"WE","")),"") &IFERROR(LEFT(INDEX(Tableau1[Vacation],MATCH($A18&"|"&F$6*1,Tableau1[Cle],0)),1),"") &IFERROR(IF(OR(WEEKDAY(F$6,2)>5,$AH18=0),"",IF(F$6<=INDEX(Tableau2[Date de Fin],MATCH(F$6,OFFSET(Tableau2[[#Headers],[Date de début]],$AH18,,$AI18-$AH18+1),1)),"A","")),"") -> WE | G18: =IFERROR(IF(COUNTIF(Fériés!$B$6:$B$18,G$6)=1,"JF",IF(WEEKDAY(G$6,2)>5,"WE","")),"") &IFERROR(LEFT(INDEX(Tableau1[Vacation],MATCH($A18&"|"&G$6*1,Tableau1[Cle],0)),1),"") &IFERROR(IF(OR(WEEKDAY(G$6,2)>5,$AH18=0),"",IF(G$6<=INDEX(Tableau2[Date de Fin],MATCH(G$6,OFFSET(Tableau2[[#Headers],[Date de début]],$AH18,,$AI18-$AH18+1),1)),"A","")),"") -> WE | H18: =IFERROR(IF(COUNTIF(Fériés!$B$6:$B$18,H$6)=1,"JF",IF(WEEKDAY(H$6,2)>5,"WE","")),"") &IFERROR(LEFT(INDEX(Tableau1[Vacation],MATCH($A18&"|"&H$6*1,Tableau1[Cle],0)),1),"") &IFERROR(IF(OR(WEEKDAY(H$6,2)>5,$AH18=0),"",IF(H$6<=INDEX(Tableau2[Date de Fin],MATCH(H$6,OFFSET(Tableau2[[#Headers],[Date de début]],$AH18,,$AI18-$AH18+1),1)),"A","")),"") | I18: =IFERROR(IF(COUNTIF(Fériés!$B$6:$B$18,I$6)=1,"JF",IF(WEEKDAY(I$6,2)>5,"WE","")),"") &IFERROR(LEFT(INDEX(Tableau1[Vacation],MATCH($A18&"|"&I$6*1,Tableau1[Cle],0)),1),"") &IFERROR(IF(OR(WEEKDAY(I$6,2)>5,$AH18=0),"",IF(I$6<=INDEX(Tableau2[Date de Fin],MATCH(I$6,OFFSET(Tableau2[[#Headers],[Date de début]],$AH18,,$AI18-$AH18+1),1)),"A","")),"") | ... AF18: =IFERROR(IF(COUNTIF(Fériés!$B$6:$B$18,AF$6)=1,"JF",IF(WEEKDAY(AF$6,2)>5,"WE","")),"") &IFERROR(LEFT(INDEX(Tableau1[Vacation],MATCH($A18&"|"&AF$6*1,Tableau1[Cle],0)),1),"") &IFERROR(IF(OR(WEEKDAY(AF$6,2)>5,$AH18=0),"",IF(AF$6<=INDEX(Tableau2[Date de Fin],MATCH(AF$6,OFFSET(Tableau2[[#Headers],[Date de début]],$AH18,,$AI18-$AH18+1),1)),"A","")),"") | AH18: =IFERROR(MATCH(A18,Tableau2[Nom agent],0),0) -> 3 | AI18: =MATCH(A18,Tableau2[Nom agent],1) -> 3
A19: =A9 -> Agent 3 | B19: =IFERROR(IF(COUNTIF(Fériés!$B$6:$B$18,B$6)=1,"JF",IF(WEEKDAY(B$6,2)>5,"WE","")),"") &IFERROR(LEFT(INDEX(Tableau1[Vacation],MATCH($A19&"|"&B$6*1,Tableau1[Cle],0)),1),"") &IFERROR(IF(OR(WEEKDAY(B$6,2)>5,$AH19=0),"",IF(B$6<=INDEX(Tableau2[Date de Fin],MATCH(B$6,OFFSET(Tableau2[[#Headers],[Date de début]],$AH19,,$AI19-$AH19+1),1)),"A","")),"") -> JF | C19: =IFERROR(IF(COUNTIF(Fériés!$B$6:$B$18,C$6)=1,"JF",IF(WEEKDAY(C$6,2)>5,"WE","")),"") &IFERROR(LEFT(INDEX(Tableau1[Vacation],MATCH($A19&"|"&C$6*1,Tableau1[Cle],0)),1),"") &IFERROR(IF(OR(WEEKDAY(C$6,2)>5,$AH19=0),"",IF(C$6<=INDEX(Tableau2[Date de Fin],MATCH(C$6,OFFSET(Tableau2[[#Headers],[Date de début]],$AH19,,$AI19-$AH19+1),1)),"A","")),"") | D19: =IFERROR(IF(COUNTIF(Fériés!$B$6:$B$18,D$6)=1,"JF",IF(WEEKDAY(D$6,2)>5,"WE","")),"") &IFERROR(LEFT(INDEX(Tableau1[Vacation],MATCH($A19&"|"&D$6*1,Tableau1[Cle],0)),1),"") &IFERROR(IF(OR(WEEKDAY(D$6,2)>5,$AH19=0),"",IF(D$6<=INDEX(Tableau2[Date de Fin],MATCH(D$6,OFFSET(Tableau2[[#Headers],[Date de début]],$AH19,,$AI19-$AH19+1),1)),"A","")),"") | E19: =IFERROR(IF(COUNTIF(Fériés!$B$6:$B$18,E$6)=1,"JF",IF(WEEKDAY(E$6,2)>5,"WE","")),"") &IFERROR(LEFT(INDEX(Tableau1[Vacation],MATCH($A19&"|"&E$6*1,Tableau1[Cle],0)),1),"") &IFERROR(IF(OR(WEEKDAY(E$6,2)>5,$AH19=0),"",IF(E$6<=INDEX(Tableau2[Date de Fin],MATCH(E$6,OFFSET(Tableau2[[#Headers],[Date de début]],$AH19,,$AI19-$AH19+1),1)),"A","")),"") | F19: =IFERROR(IF(COUNTIF(Fériés!$B$6:$B$18,F$6)=1,"JF",IF(WEEKDAY(F$6,2)>5,"WE","")),"") &IFERROR(LEFT(INDEX(Tableau1[Vacation],MATCH($A19&"|"&F$6*1,Tableau1[Cle],0)),1),"") &IFERROR(IF(OR(WEEKDAY(F$6,2)>5,$AH19=0),"",IF(F$6<=INDEX(Tableau2[Date de Fin],MATCH(F$6,OFFSET(Tableau2[[#Headers],[Date de début]],$AH19,,$AI19-$AH19+1),1)),"A","")),"") -> WE | G19: =IFERROR(IF(COUNTIF(Fériés!$B$6:$B$18,G$6)=1,"JF",IF(WEEKDAY(G$6,2)>5,"WE","")),"") &IFERROR(LEFT(INDEX(Tableau1[Vacation],MATCH($A19&"|"&G$6*1,Tableau1[Cle],0)),1),"") &IFERROR(IF(OR(WEEKDAY(G$6,2)>5,$AH19=0),"",IF(G$6<=INDEX(Tableau2[Date de Fin],MATCH(G$6,OFFSET(Tableau2[[#Headers],[Date de début]],$AH19,,$AI19-$AH19+1),1)),"A","")),"") -> WE | H19: =IFERROR(IF(COUNTIF(Fériés!$B$6:$B$18,H$6)=1,"JF",IF(WEEKDAY(H$6,2)>5,"WE","")),"") &IFERROR(LEFT(INDEX(Tableau1[Vacation],MATCH($A19&"|"&H$6*1,Tableau1[Cle],0)),1),"") &IFERROR(IF(OR(WEEKDAY(H$6,2)>5,$AH19=0),"",IF(H$6<=INDEX(Tableau2[Date de Fin],MATCH(H$6,OFFSET(Tableau2[[#Headers],[Date de début]],$AH19,,$AI19-$AH19+1),1)),"A","")),"") | I19: =IFERROR(IF(COUNTIF(Fériés!$B$6:$B$18,I$6)=1,"JF",IF(WEEKDAY(I$6,2)>5,"WE","")),"") &IFERROR(LEFT(INDEX(Tableau1[Vacation],MATCH($A19&"|"&I$6*1,Tableau1[Cle],0)),1),"") &IFERROR(IF(OR(WEEKDAY(I$6,2)>5,$AH19=0),"",IF(I$6<=INDEX(Tableau2[Date de Fin],MATCH(I$6,OFFSET(Tableau2[[#Headers],[Date de début]],$AH19,,$AI19-$AH19+1),1)),"A","")),"") | ... AF19: =IFERROR(IF(COUNTIF(Fériés!$B$6:$B$18,AF$6)=1,"JF",IF(WEEKDAY(AF$6,2)>5,"WE","")),"") &IFERROR(LEFT(INDEX(Tableau1[Vacation],MATCH($A19&"|"&AF$6*1,Tableau1[Cle],0)),1),"") &IFERROR(IF(OR(WEEKDAY(AF$6,2)>5,$AH19=0),"",IF(AF$6<=INDEX(Tableau2[Date de Fin],MATCH(AF$6,OFFSET(Tableau2[[#Headers],[Date de début]],$AH19,,$AI19-$AH19+1),1)),"A","")),"") | AH19: =IFERROR(MATCH(A19,Tableau2[Nom agent],0),0) -> 0 | AI19: =MATCH(A19,Tableau2[Nom agent],1) -> 3
A20: =A10 -> Agent 4 | B20: =IFERROR(IF(COUNTIF(Fériés!$B$6:$B$18,B$6)=1,"JF",IF(WEEKDAY(B$6,2)>5,"WE","")),"") &IFERROR(LEFT(INDEX(Tableau1[Vacation],MATCH($A20&"|"&B$6*1,Tableau1[Cle],0)),1),"") &IFERROR(IF(OR(WEEKDAY(B$6,2)>5,$AH20=0),"",IF(B$6<=INDEX(Tableau2[Date de Fin],MATCH(B$6,OFFSET(Tableau2[[#Headers],[Date de début]],$AH20,,$AI20-$AH20+1),1)),"A","")),"") -> JF | C20: =IFERROR(IF(COUNTIF(Fériés!$B$6:$B$18,C$6)=1,"JF",IF(WEEKDAY(C$6,2)>5,"WE","")),"") &IFERROR(LEFT(INDEX(Tableau1[Vacation],MATCH($A20&"|"&C$6*1,Tableau1[Cle],0)),1),"") &IFERROR(IF(OR(WEEKDAY(C$6,2)>5,$AH20=0),"",IF(C$6<=INDEX(Tableau2[Date de Fin],MATCH(C$6,OFFSET(Tableau2[[#Headers],[Date de début]],$AH20,,$AI20-$AH20+1),1)),"A","")),"") | D20: =IFERROR(IF(COUNTIF(Fériés!$B$6:$B$18,D$6)=1,"JF",IF(WEEKDAY(D$6,2)>5,"WE","")),"") &IFERROR(LEFT(INDEX(Tableau1[Vacation],MATCH($A20&"|"&D$6*1,Tableau1[Cle],0)),1),"") &IFERROR(IF(OR(WEEKDAY(D$6,2)>5,$AH20=0),"",IF(D$6<=INDEX(Tableau2[Date de Fin],MATCH(D$6,OFFSET(Tableau2[[#Headers],[Date de début]],$AH20,,$AI20-$AH20+1),1)),"A","")),"") | E20: =IFERROR(IF(COUNTIF(Fériés!$B$6:$B$18,E$6)=1,"JF",IF(WEEKDAY(E$6,2)>5,"WE","")),"") &IFERROR(LEFT(INDEX(Tableau1[Vacation],MATCH($A20&"|"&E$6*1,Tableau1[Cle],0)),1),"") &IFERROR(IF(OR(WEEKDAY(E$6,2)>5,$AH20=0),"",IF(E$6<=INDEX(Tableau2[Date de Fin],MATCH(E$6,OFFSET(Tableau2[[#Headers],[Date de début]],$AH20,,$AI20-$AH20+1),1)),"A","")),"") | F20: =IFERROR(IF(COUNTIF(Fériés!$B$6:$B$18,F$6)=1,"JF",IF(WEEKDAY(F$6,2)>5,"WE","")),"") &IFERROR(LEFT(INDEX(Tableau1[Vacation],MATCH($A20&"|"&F$6*1,Tableau1[Cle],0)),1),"") &IFERROR(IF(OR(WEEKDAY(F$6,2)>5,$AH20=0),"",IF(F$6<=INDEX(Tableau2[Date de Fin],MATCH(F$6,OFFSET(Tableau2[[#Headers],[Date de début]],$AH20,,$AI20-$AH20+1),1)),"A","")),"") -> WE | G20: =IFERROR(IF(COUNTIF(Fériés!$B$6:$B$18,G$6)=1,"JF",IF(WEEKDAY(G$6,2)>5,"WE","")),"") &IFERROR(LEFT(INDEX(Tableau1[Vacation],MATCH($A20&"|"&G$6*1,Tableau1[Cle],0)),1),"") &IFERROR(IF(OR(WEEKDAY(G$6,2)>5,$AH20=0),"",IF(G$6<=INDEX(Tableau2[Date de Fin],MATCH(G$6,OFFSET(Tableau2[[#Headers],[Date de début]],$AH20,,$AI20-$AH20+1),1)),"A","")),"") -> WE | H20: =IFERROR(IF(COUNTIF(Fériés!$B$6:$B$18,H$6)=1,"JF",IF(WEEKDAY(H$6,2)>5,"WE","")),"") &IFERROR(LEFT(INDEX(Tableau1[Vacation],MATCH($A20&"|"&H$6*1,Tableau1[Cle],0)),1),"") &IFERROR(IF(OR(WEEKDAY(H$6,2)>5,$AH20=0),"",IF(H$6<=INDEX(Tableau2[Date de Fin],MATCH(H$6,OFFSET(Tableau2[[#Headers],[Date de début]],$AH20,,$AI20-$AH20+1),1)),"A","")),"") | I20: =IFERROR(IF(COUNTIF(Fériés!$B$6:$B$18,I$6)=1,"JF",IF(WEEKDAY(I$6,2)>5,"WE","")),"") &IFERROR(LEFT(INDEX(Tableau1[Vacation],MATCH($A20&"|"&I$6*1,Tableau1[Cle],0)),1),"") &IFERROR(IF(OR(WEEKDAY(I$6,2)>5,$AH20=0),"",IF(I$6<=INDEX(Tableau2[Date de Fin],MATCH(I$6,OFFSET(Tableau2[[#Headers],[Date de début]],$AH20,,$AI20-$AH20+1),1)),"A","")),"") | ... AF20: =IFERROR(IF(COUNTIF(Fériés!$B$6:$B$18,AF$6)=1,"JF",IF(WEEKDAY(AF$6,2)>5,"WE","")),"") &IFERROR(LEFT(INDEX(Tableau1[Vacation],MATCH($A20&"|"&AF$6*1,Tableau1[Cle],0)),1),"") &IFERROR(IF(OR(WEEKDAY(AF$6,2)>5,$AH20=0),"",IF(AF$6<=INDEX(Tableau2[Date de Fin],MATCH(AF$6,OFFSET(Tableau2[[#Headers],[Date de début]],$AH20,,$AI20-$AH20+1),1)),"A","")),"") | AH20: =IFERROR(MATCH(A20,Tableau2[Nom agent],0),0) -> 0 | AI20: =MATCH(A20,Tableau2[Nom agent],1) -> 3
A21: =A11 -> Agent 5 | B21: =IFERROR(IF(COUNTIF(Fériés!$B$6:$B$18,B$6)=1,"JF",IF(WEEKDAY(B$6,2)>5,"WE","")),"") &IFERROR(LEFT(INDEX(Tableau1[Vacation],MATCH($A21&"|"&B$6*1,Tableau1[Cle],0)),1),"") &IFERROR(IF(OR(WEEKDAY(B$6,2)>5,$AH21=0),"",IF(B$6<=INDEX(Tableau2[Date de Fin],MATCH(B$6,OFFSET(Tableau2[[#Headers],[Date de début]],$AH21,,$AI21-$AH21+1),1)),"A","")),"") -> JF | C21: =IFERROR(IF(COUNTIF(Fériés!$B$6:$B$18,C$6)=1,"JF",IF(WEEKDAY(C$6,2)>5,"WE","")),"") &IFERROR(LEFT(INDEX(Tableau1[Vacation],MATCH($A21&"|"&C$6*1,Tableau1[Cle],0)),1),"") &IFERROR(IF(OR(WEEKDAY(C$6,2)>5,$AH21=0),"",IF(C$6<=INDEX(Tableau2[Date de Fin],MATCH(C$6,OFFSET(Tableau2[[#Headers],[Date de début]],$AH21,,$AI21-$AH21+1),1)),"A","")),"") | D21: =IFERROR(IF(COUNTIF(Fériés!$B$6:$B$18,D$6)=1,"JF",IF(WEEKDAY(D$6,2)>5,"WE","")),"") &IFERROR(LEFT(INDEX(Tableau1[Vacation],MATCH($A21&"|"&D$6*1,Tableau1[Cle],0)),1),"") &IFERROR(IF(OR(WEEKDAY(D$6,2)>5,$AH21=0),"",IF(D$6<=INDEX(Tableau2[Date de Fin],MATCH(D$6,OFFSET(Tableau2[[#Headers],[Date de début]],$AH21,,$AI21-$AH21+1),1)),"A","")),"") | E21: =IFERROR(IF(COUNTIF(Fériés!$B$6:$B$18,E$6)=1,"JF",IF(WEEKDAY(E$6,2)>5,"WE","")),"") &IFERROR(LEFT(INDEX(Tableau1[Vacation],MATCH($A21&"|"&E$6*1,Tableau1[Cle],0)),1),"") &IFERROR(IF(OR(WEEKDAY(E$6,2)>5,$AH21=0),"",IF(E$6<=INDEX(Tableau2[Date de Fin],MATCH(E$6,OFFSET(Tableau2[[#Headers],[Date de début]],$AH21,,$AI21-$AH21+1),1)),"A","")),"") | F21: =IFERROR(IF(COUNTIF(Fériés!$B$6:$B$18,F$6)=1,"JF",IF(WEEKDAY(F$6,2)>5,"WE","")),"") &IFERROR(LEFT(INDEX(Tableau1[Vacation],MATCH($A21&"|"&F$6*1,Tableau1[Cle],0)),1),"") &IFERROR(IF(OR(WEEKDAY(F$6,2)>5,$AH21=0),"",IF(F$6<=INDEX(Tableau2[Date de Fin],MATCH(F$6,OFFSET(Tableau2[[#Headers],[Date de début]],$AH21,,$AI21-$AH21+1),1)),"A","")),"") -> WE | G21: =IFERROR(IF(COUNTIF(Fériés!$B$6:$B$18,G$6)=1,"JF",IF(WEEKDAY(G$6,2)>5,"WE","")),"") &IFERROR(LEFT(INDEX(Tableau1[Vacation],MATCH($A21&"|"&G$6*1,Tableau1[Cle],0)),1),"") &IFERROR(IF(OR(WEEKDAY(G$6,2)>5,$AH21=0),"",IF(G$6<=INDEX(Tableau2[Date de Fin],MATCH(G$6,OFFSET(Tableau2[[#Headers],[Date de début]],$AH21,,$AI21-$AH21+1),1)),"A","")),"") -> WE | H21: =IFERROR(IF(COUNTIF(Fériés!$B$6:$B$18,H$6)=1,"JF",IF(WEEKDAY(H$6,2)>5,"WE","")),"") &IFERROR(LEFT(INDEX(Tableau1[Vacation],MATCH($A21&"|"&H$6*1,Tableau1[Cle],0)),1),"") &IFERROR(IF(OR(WEEKDAY(H$6,2)>5,$AH21=0),"",IF(H$6<=INDEX(Tableau2[Date de Fin],MATCH(H$6,OFFSET(Tableau2[[#Headers],[Date de début]],$AH21,,$AI21-$AH21+1),1)),"A","")),"") | I21: =IFERROR(IF(COUNTIF(Fériés!$B$6:$B$18,I$6)=1,"JF",IF(WEEKDAY(I$6,2)>5,"WE","")),"") &IFERROR(LEFT(INDEX(Tableau1[Vacation],MATCH($A21&"|"&I$6*1,Tableau1[Cle],0)),1),"") &IFERROR(IF(OR(WEEKDAY(I$6,2)>5,$AH21=0),"",IF(I$6<=INDEX(Tableau2[Date de Fin],MATCH(I$6,OFFSET(Tableau2[[#Headers],[Date de début]],$AH21,,$AI21-$AH21+1),1)),"A","")),"") | ... AF21: =IFERROR(IF(COUNTIF(Fériés!$B$6:$B$18,AF$6)=1,"JF",IF(WEEKDAY(AF$6,2)>5,"WE","")),"") &IFERROR(LEFT(INDEX(Tableau1[Vacation],MATCH($A21&"|"&AF$6*1,Tableau1[Cle],0)),1),"") &IFERROR(IF(OR(WEEKDAY(AF$6,2)>5,$AH21=0),"",IF(AF$6<=INDEX(Tableau2[Date de Fin],MATCH(AF$6,OFFSET(Tableau2[[#Headers],[Date de début]],$AH21,,$AI21-$AH21+1),1)),"A","")),"") | AH21: =IFERROR(MATCH(A21,Tableau2[Nom agent],0),0) -> 0 | AI21: =MATCH(A21,Tableau2[Nom agent],1) -> 3
A22: =A12 -> Agent 6 | B22: =IFERROR(IF(COUNTIF(Fériés!$B$6:$B$18,B$6)=1,"JF",IF(WEEKDAY(B$6,2)>5,"WE","")),"") &IFERROR(LEFT(INDEX(Tableau1[Vacation],MATCH($A22&"|"&B$6*1,Tableau1[Cle],0)),1),"") &IFERROR(IF(OR(WEEKDAY(B$6,2)>5,$AH22=0),"",IF(B$6<=INDEX(Tableau2[Date de Fin],MATCH(B$6,OFFSET(Tableau2[[#Headers],[Date de début]],$AH22,,$AI22-$AH22+1),1)),"A","")),"") -> JF | C22: =IFERROR(IF(COUNTIF(Fériés!$B$6:$B$18,C$6)=1,"JF",IF(WEEKDAY(C$6,2)>5,"WE","")),"") &IFERROR(LEFT(INDEX(Tableau1[Vacation],MATCH($A22&"|"&C$6*1,Tableau1[Cle],0)),1),"") &IFERROR(IF(OR(WEEKDAY(C$6,2)>5,$AH22=0),"",IF(C$6<=INDEX(Tableau2[Date de Fin],MATCH(C$6,OFFSET(Tableau2[[#Headers],[Date de début]],$AH22,,$AI22-$AH22+1),1)),"A","")),"") | D22: =IFERROR(IF(COUNTIF(Fériés!$B$6:$B$18,D$6)=1,"JF",IF(WEEKDAY(D$6,2)>5,"WE","")),"") &IFERROR(LEFT(INDEX(Tableau1[Vacation],MATCH($A22&"|"&D$6*1,Tableau1[Cle],0)),1),"") &IFERROR(IF(OR(WEEKDAY(D$6,2)>5,$AH22=0),"",IF(D$6<=INDEX(Tableau2[Date de Fin],MATCH(D$6,OFFSET(Tableau2[[#Headers],[Date de début]],$AH22,,$AI22-$AH22+1),1)),"A","")),"") | E22: =IFERROR(IF(COUNTIF(Fériés!$B$6:$B$18,E$6)=1,"JF",IF(WEEKDAY(E$6,2)>5,"WE","")),"") &IFERROR(LEFT(INDEX(Tableau1[Vacation],MATCH($A22&"|"&E$6*1,Tableau1[Cle],0)),1),"") &IFERROR(IF(OR(WEEKDAY(E$6,2)>5,$AH22=0),"",IF(E$6<=INDEX(Tableau2[Date de Fin],MATCH(E$6,OFFSET(Tableau2[[#Headers],[Date de début]],$AH22,,$AI22-$AH22+1),1)),"A","")),"") | F22: =IFERROR(IF(COUNTIF(Fériés!$B$6:$B$18,F$6)=1,"JF",IF(WEEKDAY(F$6,2)>5,"WE","")),"") &IFERROR(LEFT(INDEX(Tableau1[Vacation],MATCH($A22&"|"&F$6*1,Tableau1[Cle],0)),1),"") &IFERROR(IF(OR(WEEKDAY(F$6,2)>5,$AH22=0),"",IF(F$6<=INDEX(Tableau2[Date de Fin],MATCH(F$6,OFFSET(Tableau2[[#Headers],[Date de début]],$AH22,,$AI22-$AH22+1),1)),"A","")),"") -> WE | G22: =IFERROR(IF(COUNTIF(Fériés!$B$6:$B$18,G$6)=1,"JF",IF(WEEKDAY(G$6,2)>5,"WE","")),"") &IFERROR(LEFT(INDEX(Tableau1[Vacation],MATCH($A22&"|"&G$6*1,Tableau1[Cle],0)),1),"") &IFERROR(IF(OR(WEEKDAY(G$6,2)>5,$AH22=0),"",IF(G$6<=INDEX(Tableau2[Date de Fin],MATCH(G$6,OFFSET(Tableau2[[#Headers],[Date de début]],$AH22,,$AI22-$AH22+1),1)),"A","")),"") -> WE | H22: =IFERROR(IF(COUNTIF(Fériés!$B$6:$B$18,H$6)=1,"JF",IF(WEEKDAY(H$6,2)>5,"WE","")),"") &IFERROR(LEFT(INDEX(Tableau1[Vacation],MATCH($A22&"|"&H$6*1,Tableau1[Cle],0)),1),"") &IFERROR(IF(OR(WEEKDAY(H$6,2)>5,$AH22=0),"",IF(H$6<=INDEX(Tableau2[Date de Fin],MATCH(H$6,OFFSET(Tableau2[[#Headers],[Date de début]],$AH22,,$AI22-$AH22+1),1)),"A","")),"") | I22: =IFERROR(IF(COUNTIF(Fériés!$B$6:$B$18,I$6)=1,"JF",IF(WEEKDAY(I$6,2)>5,"WE","")),"") &IFERROR(LEFT(INDEX(Tableau1[Vacation],MATCH($A22&"|"&I$6*1,Tableau1[Cle],0)),1),"") &IFERROR(IF(OR(WEEKDAY(I$6,2)>5,$AH22=0),"",IF(I$6<=INDEX(Tableau2[Date de Fin],MATCH(I$6,OFFSET(Tableau2[[#Headers],[Date de début]],$AH22,,$AI22-$AH22+1),1)),"A","")),"") | ... AF22: =IFERROR(IF(COUNTIF(Fériés!$B$6:$B$18,AF$6)=1,"JF",IF(WEEKDAY(AF$6,2)>5,"WE","")),"") &IFERROR(LEFT(INDEX(Tableau1[Vacation],MATCH($A22&"|"&AF$6*1,Tableau1[Cle],0)),1),"") &IFERROR(IF(OR(WEEKDAY(AF$6,2)>5,$AH22=0),"",IF(AF$6<=INDEX(Tableau2[Date de Fin],MATCH(AF$6,OFFSET(Tableau2[[#Headers],[Date de début]],$AH22,,$AI22-$AH22+1),1)),"A","")),"") | AH22: =IFERROR(MATCH(A22,Tableau2[Nom agent],0),0) -> 0 | AI22: =MATCH(A22,Tableau2[Nom agent],1) -> 3
A23: =A13 -> Agent 7 | B23: =IFERROR(IF(COUNTIF(Fériés!$B$6:$B$18,B$6)=1,"JF",IF(WEEKDAY(B$6,2)>5,"WE","")),"") &IFERROR(LEFT(INDEX(Tableau1[Vacation],MATCH($A23&"|"&B$6*1,Tableau1[Cle],0)),1),"") &IFERROR(IF(OR(WEEKDAY(B$6,2)>5,$AH23=0),"",IF(B$6<=INDEX(Tableau2[Date de Fin],MATCH(B$6,OFFSET(Tableau2[[#Headers],[Date de début]],$AH23,,$AI23-$AH23+1),1)),"A","")),"") -> JF | C23: =IFERROR(IF(COUNTIF(Fériés!$B$6:$B$18,C$6)=1,"JF",IF(WEEKDAY(C$6,2)>5,"WE","")),"") &IFERROR(LEFT(INDEX(Tableau1[Vacation],MATCH($A23&"|"&C$6*1,Tableau1[Cle],0)),1),"") &IFERROR(IF(OR(WEEKDAY(C$6,2)>5,$AH23=0),"",IF(C$6<=INDEX(Tableau2[Date de Fin],MATCH(C$6,OFFSET(Tableau2[[#Headers],[Date de début]],$AH23,,$AI23-$AH23+1),1)),"A","")),"") | D23: =IFERROR(IF(COUNTIF(Fériés!$B$6:$B$18,D$6)=1,"JF",IF(WEEKDAY(D$6,2)>5,"WE","")),"") &IFERROR(LEFT(INDEX(Tableau1[Vacation],MATCH($A23&"|"&D$6*1,Tableau1[Cle],0)),1),"") &IFERROR(IF(OR(WEEKDAY(D$6,2)>5,$AH23=0),"",IF(D$6<=INDEX(Tableau2[Date de Fin],MATCH(D$6,OFFSET(Tableau2[[#Headers],[Date de début]],$AH23,,$AI23-$AH23+1),1)),"A","")),"") | E23: =IFERROR(IF(COUNTIF(Fériés!$B$6:$B$18,E$6)=1,"JF",IF(WEEKDAY(E$6,2)>5,"WE","")),"") &IFERROR(LEFT(INDEX(Tableau1[Vacation],MATCH($A23&"|"&E$6*1,Tableau1[Cle],0)),1),"") &IFERROR(IF(OR(WEEKDAY(E$6,2)>5,$AH23=0),"",IF(E$6<=INDEX(Tableau2[Date de Fin],MATCH(E$6,OFFSET(Tableau2[[#Headers],[Date de début]],$AH23,,$AI23-$AH23+1),1)),"A","")),"") | F23: =IFERROR(IF(COUNTIF(Fériés!$B$6:$B$18,F$6)=1,"JF",IF(WEEKDAY(F$6,2)>5,"WE","")),"") &IFERROR(LEFT(INDEX(Tableau1[Vacation],MATCH($A23&"|"&F$6*1,Tableau1[Cle],0)),1),"") &IFERROR(IF(OR(WEEKDAY(F$6,2)>5,$AH23=0),"",IF(F$6<=INDEX(Tableau2[Date de Fin],MATCH(F$6,OFFSET(Tableau2[[#Headers],[Date de début]],$AH23,,$AI23-$AH23+1),1)),"A","")),"") -> WE | G23: =IFERROR(IF(COUNTIF(Fériés!$B$6:$B$18,G$6)=1,"JF",IF(WEEKDAY(G$6,2)>5,"WE","")),"") &IFERROR(LEFT(INDEX(Tableau1[Vacation],MATCH($A23&"|"&G$6*1,Tableau1[Cle],0)),1),"") &IFERROR(IF(OR(WEEKDAY(G$6,2)>5,$AH23=0),"",IF(G$6<=INDEX(Tableau2[Date de Fin],MATCH(G$6,OFFSET(Tableau2[[#Headers],[Date de début]],$AH23,,$AI23-$AH23+1),1)),"A","")),"") -> WE | H23: =IFERROR(IF(COUNTIF(Fériés!$B$6:$B$18,H$6)=1,"JF",IF(WEEKDAY(H$6,2)>5,"WE","")),"") &IFERROR(LEFT(INDEX(Tableau1[Vacation],MATCH($A23&"|"&H$6*1,Tableau1[Cle],0)),1),"") &IFERROR(IF(OR(WEEKDAY(H$6,2)>5,$AH23=0),"",IF(H$6<=INDEX(Tableau2[Date de Fin],MATCH(H$6,OFFSET(Tableau2[[#Headers],[Date de début]],$AH23,,$AI23-$AH23+1),1)),"A","")),"") | I23: =IFERROR(IF(COUNTIF(Fériés!$B$6:$B$18,I$6)=1,"JF",IF(WEEKDAY(I$6,2)>5,"WE","")),"") &IFERROR(LEFT(INDEX(Tableau1[Vacation],MATCH($A23&"|"&I$6*1,Tableau1[Cle],0)),1),"") &IFERROR(IF(OR(WEEKDAY(I$6,2)>5,$AH23=0),"",IF(I$6<=INDEX(Tableau2[Date de Fin],MATCH(I$6,OFFSET(Tableau2[[#Headers],[Date de début]],$AH23,,$AI23-$AH23+1),1)),"A","")),"") | ... AF23: =IFERROR(IF(COUNTIF(Fériés!$B$6:$B$18,AF$6)=1,"JF",IF(WEEKDAY(AF$6,2)>5,"WE","")),"") &IFERROR(LEFT(INDEX(Tableau1[Vacation],MATCH($A23&"|"&AF$6*1,Tableau1[Cle],0)),1),"") &IFERROR(IF(OR(WEEKDAY(AF$6,2)>5,$AH23=0),"",IF(AF$6<=INDEX(Tableau2[Date de Fin],MATCH(AF$6,OFFSET(Tableau2[[#Headers],[Date de début]],$AH23,,$AI23-$AH23+1),1)),"A","")),"") | AH23: =IFERROR(MATCH(A23,Tableau2[Nom agent],0),0) -> 0 | AI23: =MATCH(A23,Tableau2[Nom agent],1) -> 3
A24: =A14 -> Agent 8 | B24: =IFERROR(IF(COUNTIF(Fériés!$B$6:$B$18,B$6)=1,"JF",IF(WEEKDAY(B$6,2)>5,"WE","")),"") &IFERROR(LEFT(INDEX(Tableau1[Vacation],MATCH($A24&"|"&B$6*1,Tableau1[Cle],0)),1),"") &IFERROR(IF(OR(WEEKDAY(B$6,2)>5,$AH24=0),"",IF(B$6<=INDEX(Tableau2[Date de Fin],MATCH(B$6,OFFSET(Tableau2[[#Headers],[Date de début]],$AH24,,$AI24-$AH24+1),1)),"A","")),"") -> JF | C24: =IFERROR(IF(COUNTIF(Fériés!$B$6:$B$18,C$6)=1,"JF",IF(WEEKDAY(C$6,2)>5,"WE","")),"") &IFERROR(LEFT(INDEX(Tableau1[Vacation],MATCH($A24&"|"&C$6*1,Tableau1[Cle],0)),1),"") &IFERROR(IF(OR(WEEKDAY(C$6,2)>5,$AH24=0),"",IF(C$6<=INDEX(Tableau2[Date de Fin],MATCH(C$6,OFFSET(Tableau2[[#Headers],[Date de début]],$AH24,,$AI24-$AH24+1),1)),"A","")),"") | D24: =IFERROR(IF(COUNTIF(Fériés!$B$6:$B$18,D$6)=1,"JF",IF(WEEKDAY(D$6,2)>5,"WE","")),"") &IFERROR(LEFT(INDEX(Tableau1[Vacation],MATCH($A24&"|"&D$6*1,Tableau1[Cle],0)),1),"") &IFERROR(IF(OR(WEEKDAY(D$6,2)>5,$AH24=0),"",IF(D$6<=INDEX(Tableau2[Date de Fin],MATCH(D$6,OFFSET(Tableau2[[#Headers],[Date de début]],$AH24,,$AI24-$AH24+1),1)),"A","")),"") | E24: =IFERROR(IF(COUNTIF(Fériés!$B$6:$B$18,E$6)=1,"JF",IF(WEEKDAY(E$6,2)>5,"WE","")),"") &IFERROR(LEFT(INDEX(Tableau1[Vacation],MATCH($A24&"|"&E$6*1,Tableau1[Cle],0)),1),"") &IFERROR(IF(OR(WEEKDAY(E$6,2)>5,$AH24=0),"",IF(E$6<=INDEX(Tableau2[Date de Fin],MATCH(E$6,OFFSET(Tableau2[[#Headers],[Date de début]],$AH24,,$AI24-$AH24+1),1)),"A","")),"") | F24: =IFERROR(IF(COUNTIF(Fériés!$B$6:$B$18,F$6)=1,"JF",IF(WEEKDAY(F$6,2)>5,"WE","")),"") &IFERROR(LEFT(INDEX(Tableau1[Vacation],MATCH($A24&"|"&F$6*1,Tableau1[Cle],0)),1),"") &IFERROR(IF(OR(WEEKDAY(F$6,2)>5,$AH24=0),"",IF(F$6<=INDEX(Tableau2[Date de Fin],MATCH(F$6,OFFSET(Tableau2[[#Headers],[Date de début]],$AH24,,$AI24-$AH24+1),1)),"A","")),"") -> WE | G24: =IFERROR(IF(COUNTIF(Fériés!$B$6:$B$18,G$6)=1,"JF",IF(WEEKDAY(G$6,2)>5,"WE","")),"") &IFERROR(LEFT(INDEX(Tableau1[Vacation],MATCH($A24&"|"&G$6*1,Tableau1[Cle],0)),1),"") &IFERROR(IF(OR(WEEKDAY(G$6,2)>5,$AH24=0),"",IF(G$6<=INDEX(Tableau2[Date de Fin],MATCH(G$6,OFFSET(Tableau2[[#Headers],[Date de début]],$AH24,,$AI24-$AH24+1),1)),"A","")),"") -> WE | H24: =IFERROR(IF(COUNTIF(Fériés!$B$6:$B$18,H$6)=1,"JF",IF(WEEKDAY(H$6,2)>5,"WE","")),"") &IFERROR(LEFT(INDEX(Tableau1[Vacation],MATCH($A24&"|"&H$6*1,Tableau1[Cle],0)),1),"") &IFERROR(IF(OR(WEEKDAY(H$6,2)>5,$AH24=0),"",IF(H$6<=INDEX(Tableau2[Date de Fin],MATCH(H$6,OFFSET(Tableau2[[#Headers],[Date de début]],$AH24,,$AI24-$AH24+1),1)),"A","")),"") | I24: =IFERROR(IF(COUNTIF(Fériés!$B$6:$B$18,I$6)=1,"JF",IF(WEEKDAY(I$6,2)>5,"WE","")),"") &IFERROR(LEFT(INDEX(Tableau1[Vacation],MATCH($A24&"|"&I$6*1,Tableau1[Cle],0)),1),"") &IFERROR(IF(OR(WEEKDAY(I$6,2)>5,$AH24=0),"",IF(I$6<=INDEX(Tableau2[Date de Fin],MATCH(I$6,OFFSET(Tableau2[[#Headers],[Date de début]],$AH24,,$AI24-$AH24+1),1)),"A","")),"") | ... AF24: =IFERROR(IF(COUNTIF(Fériés!$B$6:$B$18,AF$6)=1,"JF",IF(WEEKDAY(AF$6,2)>5,"WE","")),"") &IFERROR(LEFT(INDEX(Tableau1[Vacation],MATCH($A24&"|"&AF$6*1,Tableau1[Cle],0)),1),"") &IFERROR(IF(OR(WEEKDAY(AF$6,2)>5,$AH24=0),"",IF(AF$6<=INDEX(Tableau2[Date de Fin],MATCH(AF$6,OFFSET(Tableau2[[#Headers],[Date de début]],$AH24,,$AI24-$AH24+1),1)),"A","")),"") | AH24: =IFERROR(MATCH(A24,Tableau2[Nom agent],0),0) -> 0 | AI24: =MATCH(A24,Tableau2[Nom agent],1) -> 3
A26: M | B26: =COUNTIF(B$17:B$24,$A26) -> 0 | C26: =COUNTIF(C$17:C$24,$A26) -> 0 | D26: =COUNTIF(D$17:D$24,$A26) -> 0 | E26: =COUNTIF(E$17:E$24,$A26) -> 0 | F26: =COUNTIF(F$17:F$24,$A26) -> 0 | G26: =COUNTIF(G$17:G$24,$A26) -> 0 | H26: =COUNTIF(H$17:H$24,$A26) -> 0 | I26: =COUNTIF(I$17:I$24,$A26) -> 0 | ... AF26: =COUNTIF(AF$17:AF$24,$A26) -> 0
A27: S | B27: =COUNTIF(B$17:B$24,$A27) -> 0 | C27: =COUNTIF(C$17:C$24,$A27) -> 0 | D27: =COUNTIF(D$17:D$24,$A27) -> 0 | E27: =COUNTIF(E$17:E$24,$A27) -> 0 | F27: =COUNTIF(F$17:F$24,$A27) -> 0 | G27: =COUNTIF(G$17:G$24,$A27) -> 0 | H27: =COUNTIF(H$17:H$24,$A27) -> 0 | I27: =COUNTIF(I$17:I$24,$A27) -> 0 | ... AF27: =COUNTIF(AF$17:AF$24,$A27) -> 0
A29: Choix aléatoires =
A30: =A7 -> Agent 1 | B30: =IF(B17="",RANDBETWEEN(1,9)+(ROW()-ROW($A$29))/10,0) -> 0 | C30: =IF(C17="",RANDBETWEEN(1,9)+(ROW()-ROW($A$29))/10,0) -> 9.1 | D30: =IF(D17="",RANDBETWEEN(1,9)+(ROW()-ROW($A$29))/10,0) -> 1.1 | E30: =IF(E17="",RANDBETWEEN(1,9)+(ROW()-ROW($A$29))/10,0) -> 5.1 | F30: =IF(F17="",RANDBETWEEN(1,9)+(ROW()-ROW($A$29))/10,0) -> 0 | G30: =IF(G17="",RANDBETWEEN(1,9)+(ROW()-ROW($A$29))/10,0) -> 0 | H30: =IF(H17="",RANDBETWEEN(1,9)+(ROW()-ROW($A$29))/10,0) -> 1.1 | I30: =IF(I17="",RANDBETWEEN(1,9)+(ROW()-ROW($A$29))/10,0) -> 3.1 | ... AF30: =IF(AF17="",RANDBETWEEN(1,9)+(ROW()-ROW($A$29))/10,0) -> 0
A31: =A8 -> Agent 2 | B31: =IF(B18="",RANDBETWEEN(1,9)+(ROW()-ROW($A$29))/10,0) -> 0 | C31: =IF(C18="",RANDBETWEEN(1,9)+(ROW()-ROW($A$29))/10,0) -> 7.2 | D31: =IF(D18="",RANDBETWEEN(1,9)+(ROW()-ROW($A$29))/10,0) -> 5.2 | E31: =IF(E18="",RANDBETWEEN(1,9)+(ROW()-ROW($A$29))/10,0) -> 7.2 | F31: =IF(F18="",RANDBETWEEN(1,9)+(ROW()-ROW($A$29))/10,0) -> 0 | G31: =IF(G18="",RANDBETWEEN(1,9)+(ROW()-ROW($A$29))/10,0) -> 0 | H31: =IF(H18="",RANDBETWEEN(1,9)+(ROW()-ROW($A$29))/10,0) -> 4.2 | I31: =IF(I18="",RANDBETWEEN(1,9)+(ROW()-ROW($A$29))/10,0) -> 2.2 | ... AF31: =IF(AF18="",RANDBETWEEN(1,9)+(ROW()-ROW($A$29))/10,0) -> 2.2
A32: =A9 -> Agent 3 | B32: =IF(B19="",RANDBETWEEN(1,9)+(ROW()-ROW($A$29))/10,0) -> 0 | C32: =IF(C19="",RANDBETWEEN(1,9)+(ROW()-ROW($A$29))/10,0) -> 6.3 | D32: =IF(D19="",RANDBETWEEN(1,9)+(ROW()-ROW($A$29))/10,0) -> 3.3 | E32: =IF(E19="",RANDBETWEEN(1,9)+(ROW()-ROW($A$29))/10,0) -> 7.3 | F32: =IF(F19="",RANDBETWEEN(1,9)+(ROW()-ROW($A$29))/10,0) -> 0 | G32: =IF(G19="",RANDBETWEEN(1,9)+(ROW()-ROW($A$29))/10,0) -> 0 | H32: =IF(H19="",RANDBETWEEN(1,9)+(ROW()-ROW($A$29))/10,0) -> 2.3 | I32: =IF(I19="",RANDBETWEEN(1,9)+(ROW()-ROW($A$29))/10,0) -> 5.3 | ... AF32: =IF(AF19="",RANDBETWEEN(1,9)+(ROW()-ROW($A$29))/10,0) -> 9.3
A33: =A10 -> Agent 4 | B33: =IF(B20="",RANDBETWEEN(1,9)+(ROW()-ROW($A$29))/10,0) -> 0 | C33: =IF(C20="",RANDBETWEEN(1,9)+(ROW()-ROW($A$29))/10,0) -> 6.4 | D33: =IF(D20="",RANDBETWEEN(1,9)+(ROW()-ROW($A$29))/10,0) -> 1.4 | E33: =IF(E20="",RANDBETWEEN(1,9)+(ROW()-ROW($A$29))/10,0) -> 7.4 | F33: =IF(F20="",RANDBETWEEN(1,9)+(ROW()-ROW($A$29))/10,0) -> 0 | G33: =IF(G20="",RANDBETWEEN(1,9)+(ROW()-ROW($A$29))/10,0) -> 0 | H33: =IF(H20="",RANDBETWEEN(1,9)+(ROW()-ROW($A$29))/10,0) -> 8.4 | I33: =IF(I20="",RANDBETWEEN(1,9)+(ROW()-ROW($A$29))/10,0) -> 4.4 | ... AF33: =IF(AF20="",RANDBETWEEN(1,9)+(ROW()-ROW($A$29))/10,0) -> 1.4
A34: =A11 -> Agent 5 | B34: =IF(B21="",RANDBETWEEN(1,9)+(ROW()-ROW($A$29))/10,0) -> 0 | C34: =IF(C21="",RANDBETWEEN(1,9)+(ROW()-ROW($A$29))/10,0) -> 5.5 | D34: =IF(D21="",RANDBETWEEN(1,9)+(ROW()-ROW($A$29))/10,0) -> 8.5 | E34: =IF(E21="",RANDBETWEEN(1,9)+(ROW()-ROW($A$29))/10,0) -> 9.5 | F34: =IF(F21="",RANDBETWEEN(1,9)+(ROW()-ROW($A$29))/10,0) -> 0 | G34: =IF(G21="",RANDBETWEEN(1,9)+(ROW()-ROW($A$29))/10,0) -> 0 | H34: =IF(H21="",RANDBETWEEN(1,9)+(ROW()-ROW($A$29))/10,0) -> 8.5 | I34: =IF(I21="",RANDBETWEEN(1,9)+(ROW()-ROW($A$29))/10,0) -> 6.5 | ... AF34: =IF(AF21="",RANDBETWEEN(1,9)+(ROW()-ROW($A$29))/10,0) -> 5.5
A35: =A12 -> Agent 6 | B35: =IF(B22="",RANDBETWEEN(1,9)+(ROW()-ROW($A$29))/10,0) -> 0 | C35: =IF(C22="",RANDBETWEEN(1,9)+(ROW()-ROW($A$29))/10,0) -> 1.6 | D35: =IF(D22="",RANDBETWEEN(1,9)+(ROW()-ROW($A$29))/10,0) -> 8.6 | E35: =IF(E22="",RANDBETWEEN(1,9)+(ROW()-ROW($A$29))/10,0) -> 9.6 | F35: =IF(F22="",RANDBETWEEN(1,9)+(ROW()-ROW($A$29))/10,0) -> 0 | G35: =IF(G22="",RANDBETWEEN(1,9)+(ROW()-ROW($A$29))/10,0) -> 0 | H35: =IF(H22="",RANDBETWEEN(1,9)+(ROW()-ROW($A$29))/10,0) -> 5.6 | I35: =IF(I22="",RANDBETWEEN(1,9)+(ROW()-ROW($A$29))/10,0) -> 6.6 | ... AF35: =IF(AF22="",RANDBETWEEN(1,9)+(ROW()-ROW($A$29))/10,0) -> 6.6
A36: =A13 -> Agent 7 | B36: =IF(B23="",RANDBETWEEN(1,9)+(ROW()-ROW($A$29))/10,0) -> 0 | C36: =IF(C23="",RANDBETWEEN(1,9)+(ROW()-ROW($A$29))/10,0) -> 5.7 | D36: =IF(D23="",RANDBETWEEN(1,9)+(ROW()-ROW($A$29))/10,0) -> 7.7 | E36: =IF(E23="",RANDBETWEEN(1,9)+(ROW()-ROW($A$29))/10,0) -> 4.7 | F36: =IF(F23="",RANDBETWEEN(1,9)+(ROW()-ROW($A$29))/10,0) -> 0 | G36: =IF(G23="",RANDBETWEEN(1,9)+(ROW()-ROW($A$29))/10,0) -> 0 | H36: =IF(H23="",RANDBETWEEN(1,9)+(ROW()-ROW($A$29))/10,0) -> 3.7 | I36: =IF(I23="",RANDBETWEEN(1,9)+(ROW()-ROW($A$29))/10,0) -> 6.7 | ... AF36: =IF(AF23="",RANDBETWEEN(1,9)+(ROW()-ROW($A$29))/10,0) -> 4.7
A37: =A14 -> Agent 8 | B37: =IF(B24="",RANDBETWEEN(1,9)+(ROW()-ROW($A$29))/10,0) -> 0 | C37: =IF(C24="",RANDBETWEEN(1,9)+(ROW()-ROW($A$29))/10,0) -> 2.8 | D37: =IF(D24="",RANDBETWEEN(1,9)+(ROW()-ROW($A$29))/10,0) -> 5.8 | E37: =IF(E24="",RANDBETWEEN(1,9)+(ROW()-ROW($A$29))/10,0) -> 2.8 | F37: =IF(F24="",RANDBETWEEN(1,9)+(ROW()-ROW($A$29))/10,0) -> 0 | G37: =IF(G24="",RANDBETWEEN(1,9)+(ROW()-ROW($A$29))/10,0) -> 0 | H37: =IF(H24="",RANDBETWEEN(1,9)+(ROW()-ROW($A$29))/10,0) -> 6.8 | I37: =IF(I24="",RANDBETWEEN(1,9)+(ROW()-ROW($A$29))/10,0) -> 5.8 | ... AF37: =IF(AF24="",RANDBETWEEN(1,9)+(ROW()-ROW($A$29))/10,0) -> 2.8
A39: Affectation M/S = | B39: =RANDBETWEEN(1,2) -> 2 | C39: =RANDBETWEEN(1,2) -> 2 | D39: =RANDBETWEEN(1,2) -> 1 | E39: =RANDBETWEEN(1,2) -> 1 | F39: =RANDBETWEEN(1,2) -> 1 | G39: =RANDBETWEEN(1,2) -> 1 | H39: =RANDBETWEEN(1,2) -> 2 | I39: =RANDBETWEEN(1,2) -> 2 | ... AF39: =RANDBETWEEN(1,2) -> 2
A40: M | B40: =ROUND(MOD(LARGE(B$30:B$37,B39),1)*10,0) -> 0 | C40: =ROUND(MOD(LARGE(C$30:C$37,C39),1)*10,0) -> 2 | D40: =ROUND(MOD(LARGE(D$30:D$37,D39),1)*10,0) -> 6 | E40: =ROUND(MOD(LARGE(E$30:E$37,E39),1)*10,0) -> 6 | F40: =ROUND(MOD(LARGE(F$30:F$37,F39),1)*10,0) -> 0 | G40: =ROUND(MOD(LARGE(G$30:G$37,G39),1)*10,0) -> 0 | H40: =ROUND(MOD(LARGE(H$30:H$37,H39),1)*10,0) -> 4 | I40: =ROUND(MOD(LARGE(I$30:I$37,I39),1)*10,0) -> 6 | ... AF40: =ROUND(MOD(LARGE(AF$30:AF$37,AF39),1)*10,0) -> 6
A41: S | B41: =ROUND(MOD(LARGE(B$30:B$37,MOD(B39,2)+1),1)*10,0) -> 0 | C41: =ROUND(MOD(LARGE(C$30:C$37,MOD(C39,2)+1),1)*10,0) -> 1 | D41: =ROUND(MOD(LARGE(D$30:D$37,MOD(D39,2)+1),1)*10,0) -> 5 | E41: =ROUND(MOD(LARGE(E$30:E$37,MOD(E39,2)+1),1)*10,0) -> 5 | F41: =ROUND(MOD(LARGE(F$30:F$37,MOD(F39,2)+1),1)*10,0) -> 0 | G41: =ROUND(MOD(LARGE(G$30:G$37,MOD(G39,2)+1),1)*10,0) -> 0 | H41: =ROUND(MOD(LARGE(H$30:H$37,MOD(H39,2)+1),1)*10,0) -> 5 | I41: =ROUND(MOD(LARGE(I$30:I$37,MOD(I39,2)+1),1)*10,0) -> 7 | ... AF41: =ROUND(MOD(LARGE(AF$30:AF$37,MOD(AF39,2)+1),1)*10,0) -> 3
A42: Résultat M/S =
A43: =A7 -> Agent 1 | B43: =IF(AND(B$26=0,(ROW()-ROW($A$42))=B$40),"M","") &IF(AND(B$27=0,(ROW()-ROW($A$42))=B$41),"S","") | C43: =IF(AND(C$26=0,(ROW()-ROW($A$42))=C$40),"M","") &IF(AND(C$27=0,(ROW()-ROW($A$42))=C$41),"S","") -> S | D43: =IF(AND(D$26=0,(ROW()-ROW($A$42))=D$40),"M","") &IF(AND(D$27=0,(ROW()-ROW($A$42))=D$41),"S","") | E43: =IF(AND(E$26=0,(ROW()-ROW($A$42))=E$40),"M","") &IF(AND(E$27=0,(ROW()-ROW($A$42))=E$41),"S","") | F43: =IF(AND(F$26=0,(ROW()-ROW($A$42))=F$40),"M","") &IF(AND(F$27=0,(ROW()-ROW($A$42))=F$41),"S","") | G43: =IF(AND(G$26=0,(ROW()-ROW($A$42))=G$40),"M","") &IF(AND(G$27=0,(ROW()-ROW($A$42))=G$41),"S","") | H43: =IF(AND(H$26=0,(ROW()-ROW($A$42))=H$40),"M","") &IF(AND(H$27=0,(ROW()-ROW($A$42))=H$41),"S","") | I43: =IF(AND(I$26=0,(ROW()-ROW($A$42))=I$40),"M","") &IF(AND(I$27=0,(ROW()-ROW($A$42))=I$41),"S","") | ... AF43: =IF(AND(AF$26=0,(ROW()-ROW($A$42))=AF$40),"M","") &IF(AND(AF$27=0,(ROW()-ROW($A$42))=AF$41),"S","")
A44: =A8 -> Agent 2 | B44: =IF(AND(B$26=0,(ROW()-ROW($A$42))=B$40),"M","") &IF(AND(B$27=0,(ROW()-ROW($A$42))=B$41),"S","") | C44: =IF(AND(C$26=0,(ROW()-ROW($A$42))=C$40),"M","") &IF(AND(C$27=0,(ROW()-ROW($A$42))=C$41),"S","") -> M | D44: =IF(AND(D$26=0,(ROW()-ROW($A$42))=D$40),"M","") &IF(AND(D$27=0,(ROW()-ROW($A$42))=D$41),"S","") | E44: =IF(AND(E$26=0,(ROW()-ROW($A$42))=E$40),"M","") &IF(AND(E$27=0,(ROW()-ROW($A$42))=E$41),"S","") | F44: =IF(AND(F$26=0,(ROW()-ROW($A$42))=F$40),"M","") &IF(AND(F$27=0,(ROW()-ROW($A$42))=F$41),"S","") | G44: =IF(AND(G$26=0,(ROW()-ROW($A$42))=G$40),"M","") &IF(AND(G$27=0,(ROW()-ROW($A$42))=G$41),"S","") | H44: =IF(AND(H$26=0,(ROW()-ROW($A$42))=H$40),"M","") &IF(AND(H$27=0,(ROW()-ROW($A$42))=H$41),"S","") | I44: =IF(AND(I$26=0,(ROW()-ROW($A$42))=I$40),"M","") &IF(AND(I$27=0,(ROW()-ROW($A$42))=I$41),"S","") | ... AF44: =IF(AND(AF$26=0,(ROW()-ROW($A$42))=AF$40),"M","") &IF(AND(AF$27=0,(ROW()-ROW($A$42))=AF$41),"S","")
A45: =A9 -> Agent 3 | B45: =IF(AND(B$26=0,(ROW()-ROW($A$42))=B$40),"M","") &IF(AND(B$27=0,(ROW()-ROW($A$42))=B$41),"S","") | C45: =IF(AND(C$26=0,(ROW()-ROW($A$42))=C$40),"M","") &IF(AND(C$27=0,(ROW()-ROW($A$42))=C$41),"S","") | D45: =IF(AND(D$26=0,(ROW()-ROW($A$42))=D$40),"M","") &IF(AND(D$27=0,(ROW()-ROW($A$42))=D$41),"S","") | E45: =IF(AND(E$26=0,(ROW()-ROW($A$42))=E$40),"M","") &IF(AND(E$27=0,(ROW()-ROW($A$42))=E$41),"S","") | F45: =IF(AND(F$26=0,(ROW()-ROW($A$42))=F$40),"M","") &IF(AND(F$27=0,(ROW()-ROW($A$42))=F$41),"S","") | G45: =IF(AND(G$26=0,(ROW()-ROW($A$42))=G$40),"M","") &IF(AND(G$27=0,(ROW()-ROW($A$42))=G$41),"S","") | H45: =IF(AND(H$26=0,(ROW()-ROW($A$42))=H$40),"M","") &IF(AND(H$27=0,(ROW()-ROW($A$42))=H$41),"S","") | I45: =IF(AND(I$26=0,(ROW()-ROW($A$42))=I$40),"M","") &IF(AND(I$27=0,(ROW()-ROW($A$42))=I$41),"S","") | ... AF45: =IF(AND(AF$26=0,(ROW()-ROW($A$42))=AF$40),"M","") &IF(AND(AF$27=0,(ROW()-ROW($A$42))=AF$41),"S","") -> S
A46: =A10 -> Agent 4 | B46: =IF(AND(B$26=0,(ROW()-ROW($A$42))=B$40),"M","") &IF(AND(B$27=0,(ROW()-ROW($A$42))=B$41),"S","") | C46: =IF(AND(C$26=0,(ROW()-ROW($A$42))=C$40),"M","") &IF(AND(C$27=0,(ROW()-ROW($A$42))=C$41),"S","") | D46: =IF(AND(D$26=0,(ROW()-ROW($A$42))=D$40),"M","") &IF(AND(D$27=0,(ROW()-ROW($A$42))=D$41),"S","") | E46: =IF(AND(E$26=0,(ROW()-ROW($A$42))=E$40),"M","") &IF(AND(E$27=0,(ROW()-ROW($A$42))=E$41),"S","") | F46: =IF(AND(F$26=0,(ROW()-ROW($A$42))=F$40),"M","") &IF(AND(F$27=0,(ROW()-ROW($A$42))=F$41),"S","") | G46: =IF(AND(G$26=0,(ROW()-ROW($A$42))=G$40),"M","") &IF(AND(G$27=0,(ROW()-ROW($A$42))=G$41),"S","") | H46: =IF(AND(H$26=0,(ROW()-ROW($A$42))=H$40),"M","") &IF(AND(H$27=0,(ROW()-ROW($A$42))=H$41),"S","") -> M | I46: =IF(AND(I$26=0,(ROW()-ROW($A$42))=I$40),"M","") &IF(AND(I$27=0,(ROW()-ROW($A$42))=I$41),"S","") | ... AF46: =IF(AND(AF$26=0,(ROW()-ROW($A$42))=AF$40),"M","") &IF(AND(AF$27=0,(ROW()-ROW($A$42))=AF$41),"S","")
A47: =A11 -> Agent 5 | B47: =IF(AND(B$26=0,(ROW()-ROW($A$42))=B$40),"M","") &IF(AND(B$27=0,(ROW()-ROW($A$42))=B$41),"S","") | C47: =IF(AND(C$26=0,(ROW()-ROW($A$42))=C$40),"M","") &IF(AND(C$27=0,(ROW()-ROW($A$42))=C$41),"S","") | D47: =IF(AND(D$26=0,(ROW()-ROW($A$42))=D$40),"M","") &IF(AND(D$27=0,(ROW()-ROW($A$42))=D$41),"S","") -> S | E47: =IF(AND(E$26=0,(ROW()-ROW($A$42))=E$40),"M","") &IF(AND(E$27=0,(ROW()-ROW($A$42))=E$41),"S","") -> S | F47: =IF(AND(F$26=0,(ROW()-ROW($A$42))=F$40),"M","") &IF(AND(F$27=0,(ROW()-ROW($A$42))=F$41),"S","") | G47: =IF(AND(G$26=0,(ROW()-ROW($A$42))=G$40),"M","") &IF(AND(G$27=0,(ROW()-ROW($A$42))=G$41),"S","") | H47: =IF(AND(H$26=0,(ROW()-ROW($A$42))=H$40),"M","") &IF(AND(H$27=0,(ROW()-ROW($A$42))=H$41),"S","") -> S | I47: =IF(AND(I$26=0,(ROW()-ROW($A$42))=I$40),"M","") &IF(AND(I$27=0,(ROW()-ROW($A$42))=I$41),"S","") | ... AF47: =IF(AND(AF$26=0,(ROW()-ROW($A$42))=AF$40),"M","") &IF(AND(AF$27=0,(ROW()-ROW($A$42))=AF$41),"S","")
A48: =A12 -> Agent 6 | B48: =IF(AND(B$26=0,(ROW()-ROW($A$42))=B$40),"M","") &IF(AND(B$27=0,(ROW()-ROW($A$42))=B$41),"S","") | C48: =IF(AND(C$26=0,(ROW()-ROW($A$42))=C$40),"M","") &IF(AND(C$27=0,(ROW()-ROW($A$42))=C$41),"S","") | D48: =IF(AND(D$26=0,(ROW()-ROW($A$42))=D$40),"M","") &IF(AND(D$27=0,(ROW()-ROW($A$42))=D$41),"S","") -> M | E48: =IF(AND(E$26=0,(ROW()-ROW($A$42))=E$40),"M","") &IF(AND(E$27=0,(ROW()-ROW($A$42))=E$41),"S","") -> M | F48: =IF(AND(F$26=0,(ROW()-ROW($A$42))=F$40),"M","") &IF(AND(F$27=0,(ROW()-ROW($A$42))=F$41),"S","") | G48: =IF(AND(G$26=0,(ROW()-ROW($A$42))=G$40),"M","") &IF(AND(G$27=0,(ROW()-ROW($A$42))=G$41),"S","") | H48: =IF(AND(H$26=0,(ROW()-ROW($A$42))=H$40),"M","") &IF(AND(H$27=0,(ROW()-ROW($A$42))=H$41),"S","") | I48: =IF(AND(I$26=0,(ROW()-ROW($A$42))=I$40),"M","") &IF(AND(I$27=0,(ROW()-ROW($A$42))=I$41),"S","") -> M | ... AF48: =IF(AND(AF$26=0,(ROW()-ROW($A$42))=AF$40),"M","") &IF(AND(AF$27=0,(ROW()-ROW($A$42))=AF$41),"S","") -> M
A49: =A13 -> Agent 7 | B49: =IF(AND(B$26=0,(ROW()-ROW($A$42))=B$40),"M","") &IF(AND(B$27=0,(ROW()-ROW($A$42))=B$41),"S","") | C49: =IF(AND(C$26=0,(ROW()-ROW($A$42))=C$40),"M","") &IF(AND(C$27=0,(ROW()-ROW($A$42))=C$41),"S","") | D49: =IF(AND(D$26=0,(ROW()-ROW($A$42))=D$40),"M","") &IF(AND(D$27=0,(ROW()-ROW($A$42))=D$41),"S","") | E49: =IF(AND(E$26=0,(ROW()-ROW($A$42))=E$40),"M","") &IF(AND(E$27=0,(ROW()-ROW($A$42))=E$41),"S","") | F49: =IF(AND(F$26=0,(ROW()-ROW($A$42))=F$40),"M","") &IF(AND(F$27=0,(ROW()-ROW($A$42))=F$41),"S","") | G49: =IF(AND(G$26=0,(ROW()-ROW($A$42))=G$40),"M","") &IF(AND(G$27=0,(ROW()-ROW($A$42))=G$41),"S","") | H49: =IF(AND(H$26=0,(ROW()-ROW($A$42))=H$40),"M","") &IF(AND(H$27=0,(ROW()-ROW($A$42))=H$41),"S","") | I49: =IF(AND(I$26=0,(ROW()-ROW($A$42))=I$40),"M","") &IF(AND(I$27=0,(ROW()-ROW($A$42))=I$41),"S","") -> S | ... AF49: =IF(AND(AF$26=0,(ROW()-ROW($A$42))=AF$40),"M","") &IF(AND(AF$27=0,(ROW()-ROW($A$42))=AF$41),"S","")
A50: =A14 -> Agent 8 | B50: =IF(AND(B$26=0,(ROW()-ROW($A$42))=B$40),"M","") &IF(AND(B$27=0,(ROW()-ROW($A$42))=B$41),"S","") | C50: =IF(AND(C$26=0,(ROW()-ROW($A$42))=C$40),"M","") &IF(AND(C$27=0,(ROW()-ROW($A$42))=C$41),"S","") | D50: =IF(AND(D$26=0,(ROW()-ROW($A$42))=D$40),"M","") &IF(AND(D$27=0,(ROW()-ROW($A$42))=D$41),"S","") | E50: =IF(AND(E$26=0,(ROW()-ROW($A$42))=E$40),"M","") &IF(AND(E$27=0,(ROW()-ROW($A$42))=E$41),"S","") | F50: =IF(AND(F$26=0,(ROW()-ROW($A$42))=F$40),"M","") &IF(AND(F$27=0,(ROW()-ROW($A$42))=F$41),"S","") | G50: =IF(AND(G$26=0,(ROW()-ROW($A$42))=G$40),"M","") &IF(AND(G$27=0,(ROW()-ROW($A$42))=G$41),"S","") | H50: =IF(AND(H$26=0,(ROW()-ROW($A$42))=H$40),"M","") &IF(AND(H$27=0,(ROW()-ROW($A$42))=H$41),"S","") | I50: =IF(AND(I$26=0,(ROW()-ROW($A$42))=I$40),"M","") &IF(AND(I$27=0,(ROW()-ROW($A$42))=I$41),"S","") | ... AF50: =IF(AND(AF$26=0,(ROW()-ROW($A$42))=AF$40),"M","") &IF(AND(AF$27=0,(ROW()-ROW($A$42))=AF$41),"S","")

Sheet Absences
A1: Nom agent | B1: Date de début | C1: Date de Fin
A2: Agent 1 | B2: 43480 | C2: 43481
A3: Agent 1 | B3: 43484 | C3: 43527
A4: Agent 2 | B4: 43479 | C4: 43481

Sheet Volontariat
A1: Nom agent | B1: Date | C1: Vacation | D1: Cle
A2: Agent 3 | B2: 43475 | C2: MATIN | D2: =Tableau1[[#This Row],[Nom agent]]&"|"&Tableau1[[#This Row],[Date]]*1 -> Agent 3|43475
A3: Agent 4 | B3: 43476 | C3: SOIR | D3: =Tableau1[[#This Row],[Nom agent]]&"|"&Tableau1[[#This Row],[Date]]*1 -> Agent 4|43476

Sheet Fériés
A2: Année
A3: 2019
A5: Jours fériés | B5: date
A6: 1er jour année | B6: =DATE($A$3,1,1) -> 43466
A7: Pâques | B7: =FLOOR(DAY(MINUTE($A$3/38)/2+56)&"/5/"&$A$3,7)-34 -> 43576
A8: Lundi Pâques | B8: =B7+1 -> 43577
A9: Fête du travail | B9: =DATE($A$3,5,1) -> 43586
A10: Armistice 39/45 | B10: =DATE($A$3,5,8) -> 43593
A11: Ascension | B11: =B7+39 -> 43615
A12: Pentecôte | B12: =B7+49 -> 43625
A13: Lundi Pentecôte | B13: =B7+50 -> 43626
A14: Fête Nationale | B14: =DATE($A$3,7,14) -> 43660
A15: Assomption | B15: =DATE($A$3,8,15) -> 43692
A16: Toussain | B16: =DATE($A$3,11,1) -> 43770
A17: Armistice 14/18 | B17: =DATE($A$3,11,11) -> 43780
A18: Noël | B18: =DATE($A$3,12,25) -> 43824
