Workbook

Sheet Base
A1: Dossier | B1: Etat | C1: Date réception | D1: Date de reprise attendue | E1: Livraison | F1: retard | G1: Contrôle calcul
A2: FC2020-080135 | B2: livré | C2: 43943 | D2: 43972 | E2: 43971 | F2: =IF(WORKDAY.INTL(D2-1,1,"0000001",liste!$A$1:$A$10)=E2,0,IF(E2="", NETWORKDAYS.INTL(WORKDAY.INTL(D2-1,1,"0000001",liste!$A$1:$A$10),TODAY(),"0000001",liste!$A$1:$A$10)+IF(WORKDAY.INTL(D2-1,1,"0000001",liste!$A$1:$A$10)<TODAY(),-1,1), NETWORKDAYS.INTL(WORKDAY.INTL(D2-1,1,"0000001",liste!$A$1:$A$10),E2,"0000001",liste!$A$1:$A$10)+IF(WORKDAY.INTL(D2-1,1,"0000001",liste!$A$1:$A$10)<E2,-1,1))) -> -1
A3: FC2020-080135 | B3: livré | C3: 43943 | D3: 43972 | E3: 43972 | F3: =IF(WORKDAY.INTL(D3-1,1,"0000001",liste!$A$1:$A$10)=E3,0,IF(E3="", NETWORKDAYS.INTL(WORKDAY.INTL(D3-1,1,"0000001",liste!$A$1:$A$10),TODAY(),"0000001",liste!$A$1:$A$10)+IF(WORKDAY.INTL(D3-1,1,"0000001",liste!$A$1:$A$10)<TODAY(),-1,1), NETWORKDAYS.INTL(WORKDAY.INTL(D3-1,1,"0000001",liste!$A$1:$A$10),E3,"0000001",liste!$A$1:$A$10)+IF(WORKDAY.INTL(D3-1,1,"0000001",liste!$A$1:$A$10)<E3,-1,1))) -> 0
A4: FC2020-080135 | B4: livré | C4: 43943 | D4: 43972 | E4: 43973 | F4: =IF(WORKDAY.INTL(D4-1,1,"0000001",liste!$A$1:$A$10)=E4,0,IF(E4="", NETWORKDAYS.INTL(WORKDAY.INTL(D4-1,1,"0000001",liste!$A$1:$A$10),TODAY(),"0000001",liste!$A$1:$A$10)+IF(WORKDAY.INTL(D4-1,1,"0000001",liste!$A$1:$A$10)<TODAY(),-1,1), NETWORKDAYS.INTL(WORKDAY.INTL(D4-1,1,"0000001",liste!$A$1:$A$10),E4,"0000001",liste!$A$1:$A$10)+IF(WORKDAY.INTL(D4-1,1,"0000001",liste!$A$1:$A$10)<E4,-1,1))) -> 0
A5: FC2020-080136 | B5: en cours | C5: 43943 | D5: 43992 | F5: =IF(WORKDAY.INTL(D5-1,1,"0000001",liste!$A$1:$A$10)=E5,0,IF(E5="", NETWORKDAYS.INTL(WORKDAY.INTL(D5-1,1,"0000001",liste!$A$1:$A$10),TODAY(),"0000001",liste!$A$1:$A$10)+IF(WORKDAY.INTL(D5-1,1,"0000001",liste!$A$1:$A$10)<TODAY(),-1,1), NETWORKDAYS.INTL(WORKDAY.INTL(D5-1,1,"0000001",liste!$A$1:$A$10),E5,"0000001",liste!$A$1:$A$10)+IF(WORKDAY.INTL(D5-1,1,"0000001",liste!$A$1:$A$10)<E5,-1,1))) -> 11
A6: FC2020-080137 | B6: en cours | C6: 43943 | D6: 44015 | F6: =IF(WORKDAY.INTL(D6-1,1,"0000001",liste!$A$1:$A$10)=E6,0,IF(E6="", NETWORKDAYS.INTL(WORKDAY.INTL(D6-1,1,"0000001",liste!$A$1:$A$10),TODAY(),"0000001",liste!$A$1:$A$10)+IF(WORKDAY.INTL(D6-1,1,"0000001",liste!$A$1:$A$10)<TODAY(),-1,1), NETWORKDAYS.INTL(WORKDAY.INTL(D6-1,1,"0000001",liste!$A$1:$A$10),E6,"0000001",liste!$A$1:$A$10)+IF(WORKDAY.INTL(D6-1,1,"0000001",liste!$A$1:$A$10)<E6,-1,1))) -> -9

Sheet exemple correction de date
B2: 43952 | C2: =WORKDAY.INTL(B2-1,1,"0000001",liste!$A$1:$A$10) -> 43953 | D2: =IF(C2=B2,"","correction") -> correction
B3: 43953 | C3: =WORKDAY.INTL(B3-1,1,"0000001",liste!$A$1:$A$10) -> 43953 | D3: =IF(C3=B3,"","correction")
B4: 43954 | C4: =WORKDAY.INTL(B4-1,1,"0000001",liste!$A$1:$A$10) -> 43955 | D4: =IF(C4=B4,"","correction") -> correction
B5: 43955 | C5: =WORKDAY.INTL(B5-1,1,"0000001",liste!$A$1:$A$10) -> 43955 | D5: =IF(C5=B5,"","correction")
B6: 43956 | C6: =WORKDAY.INTL(B6-1,1,"0000001",liste!$A$1:$A$10) -> 43956 | D6: =IF(C6=B6,"","correction")
B7: 43957 | C7: =WORKDAY.INTL(B7-1,1,"0000001",liste!$A$1:$A$10) -> 43957 | D7: =IF(C7=B7,"","correction")
B8: 43958 | C8: =WORKDAY.INTL(B8-1,1,"0000001",liste!$A$1:$A$10) -> 43958 | D8: =IF(C8=B8,"","correction")
B9: 43959 | C9: =WORKDAY.INTL(B9-1,1,"0000001",liste!$A$1:$A$10) -> 43960 | D9: =IF(C9=B9,"","correction") -> correction
B10: 43960 | C10: =WORKDAY.INTL(B10-1,1,"0000001",liste!$A$1:$A$10) -> 43960 | D10: =IF(C10=B10,"","correction")
B11: 43961 | C11: =WORKDAY.INTL(B11-1,1,"0000001",liste!$A$1:$A$10) -> 43962 | D11: =IF(C11=B11,"","correction") -> correction
B12: 43962 | C12: =WORKDAY.INTL(B12-1,1,"0000001",liste!$A$1:$A$10) -> 43962 | D12: =IF(C12=B12,"","correction")
B13: 43963 | C13: =WORKDAY.INTL(B13-1,1,"0000001",liste!$A$1:$A$10) -> 43963 | D13: =IF(C13=B13,"","correction")
... B32: 43982 | C32: =WORKDAY.INTL(B32-1,1,"0000001",liste!$A$1:$A$10) -> 43984 | D32: =IF(C32=B32,"","correction") -> correction

Sheet liste
A1: 43831
A2: 43934
A3: 43952
A4: 43959
A5: 43972
A6: 43983
A7: 44026
A8: 44058
A9: 44136
A10: 44190
