Workbook

Sheet Récap
A1: =RIGHT(CELL("nomfichier",A1),LEN(CELL("nomfichier",A1))-FIND("]",CELL("nomfichier",A1))) -> Récap | B1: =MID(CELL("filename",A1),FIND("[",CELL("filename",A1)),SUM(FIND({"[";"]"},CELL("filename",A1))*{-1;1})+1) -> [recap onglets et valeurs.xlsx]
C4: C4 | D4: C5 | E4: C6 | F4: C7
B5: Elève | C5: Mathématiques | D5: Fraçais | E5: Philosophie | F5: Informatique | G5: Lien
B6: =Cloé!A1 -> Cloé | C6: =INDIRECT("'"&TabRecap[[#This Row],[Elève]]&"'!"&C$4) -> A | D6: =INDIRECT("'"&TabRecap[[#This Row],[Elève]]&"'!"&D$4) -> B | E6: =INDIRECT("'"&TabRecap[[#This Row],[Elève]]&"'!"&E$4) -> A | F6: =INDIRECT("'"&TabRecap[[#This Row],[Elève]]&"'!"&F$4) -> C | G6: =HYPERLINK($B$1&"'"&TabRecap[[#This Row],[Elève]]&"'!A1","rejoindre feuille … "&TabRecap[[#This Row],[Elève]]) -> rejoindre feuille … Cloé
B7: =Kevin!A1 -> Kevin | C7: =INDIRECT("'"&TabRecap[[#This Row],[Elève]]&"'!"&C$4) -> B | D7: =INDIRECT("'"&TabRecap[[#This Row],[Elève]]&"'!"&D$4) -> B | E7: =INDIRECT("'"&TabRecap[[#This Row],[Elève]]&"'!"&E$4) -> E | F7: =INDIRECT("'"&TabRecap[[#This Row],[Elève]]&"'!"&F$4) -> A | G7: =HYPERLINK($B$1&"'"&TabRecap[[#This Row],[Elève]]&"'!A1","rejoindre feuille … "&TabRecap[[#This Row],[Elève]]) -> rejoindre feuille … Kevin
B8: =Charles!A1 -> Charles | C8: =INDIRECT("'"&TabRecap[[#This Row],[Elève]]&"'!"&C$4) -> B | D8: =INDIRECT("'"&TabRecap[[#This Row],[Elève]]&"'!"&D$4) -> C | E8: =INDIRECT("'"&TabRecap[[#This Row],[Elève]]&"'!"&E$4) -> B | F8: =INDIRECT("'"&TabRecap[[#This Row],[Elève]]&"'!"&F$4) -> D | G8: =HYPERLINK($B$1&"'"&TabRecap[[#This Row],[Elève]]&"'!A1","rejoindre feuille … "&TabRecap[[#This Row],[Elève]]) -> rejoindre feuille … Charles
B9: =Katia!A1 -> Katia | C9: =INDIRECT("'"&TabRecap[[#This Row],[Elève]]&"'!"&C$4) -> E | D9: =INDIRECT("'"&TabRecap[[#This Row],[Elève]]&"'!"&D$4) -> A | E9: =INDIRECT("'"&TabRecap[[#This Row],[Elève]]&"'!"&E$4) -> A | F9: =INDIRECT("'"&TabRecap[[#This Row],[Elève]]&"'!"&F$4) -> E | G9: =HYPERLINK($B$1&"'"&TabRecap[[#This Row],[Elève]]&"'!A1","rejoindre feuille … "&TabRecap[[#This Row],[Elève]]) -> rejoindre feuille … Katia

Sheet Cloé
A1: =RIGHT(CELL("nomfichier",A1),LEN(CELL("nomfichier",A1))-FIND("]",CELL("nomfichier",A1))) -> Cloé | B1: =HYPERLINK(Récap!B1&Récap!A1&"!A1",Récap!A1) -> Récap
B3: Matière | C3: Note | D3: Commentaire
B4: Mathématiques | C4: A
B5: Fraçais | C5: B
B6: Philosophie | C6: A
B7: Informatique | C7: C

Sheet Kevin
A1: =RIGHT(CELL("nomfichier",A1),LEN(CELL("nomfichier",A1))-FIND("]",CELL("nomfichier",A1))) -> Kevin | B1: =HYPERLINK(Récap!B1&Récap!A1&"!A1",Récap!A1) -> Récap
B3: Matière | C3: Note | D3: Commentaire
B4: Mathématiques | C4: B
B5: Fraçais | C5: B
B6: Philosophie | C6: E
B7: Informatique | C7: A

Sheet Charles
A1: =RIGHT(CELL("nomfichier",A1),LEN(CELL("nomfichier",A1))-FIND("]",CELL("nomfichier",A1))) -> Charles | B1: =HYPERLINK(Récap!B1&Récap!A1&"!A1",Récap!A1) -> Récap
B3: Matière | C3: Note | D3: Commentaire
B4: Mathématiques | C4: B
B5: Fraçais | C5: C
B6: Philosophie | C6: B
B7: Informatique | C7: D

Sheet Katia
A1: =RIGHT(CELL("nomfichier",A1),LEN(CELL("nomfichier",A1))-FIND("]",CELL("nomfichier",A1))) -> Katia | B1: =HYPERLINK(Récap!B1&Récap!A1&"!A1",Récap!A1) -> Récap
B3: Matière | C3: Note | D3: Commentaire
B4: Mathématiques | C4: E
B5: Fraçais | C5: A
B6: Philosophie | C6: A
B7: Informatique | C7: E
