Workbook

Sheet data
A1: =COUNTA(C:C) -> 120 | B1: =RANDBETWEEN(1,$A$1)+ROW()/($A$1+1) -> 82.008264 | C1: PI | D1: JS | E1: AZ
B2: =RANDBETWEEN(1,$A$1)+ROW()/($A$1+1) -> 102.01653 | C2: BI | D2: VD | E2: IV
B3: =RANDBETWEEN(1,$A$1)+ROW()/($A$1+1) -> 39.024793 | C3: IU | D3: KD | E3: WB
B4: =RANDBETWEEN(1,$A$1)+ROW()/($A$1+1) -> 26.033058 | C4: RQ | D4: AI | E4: WT
B5: =RANDBETWEEN(1,$A$1)+ROW()/($A$1+1) -> 23.041322 | C5: FA | D5: YG | E5: ZE
B6: =RANDBETWEEN(1,$A$1)+ROW()/($A$1+1) -> 98.049587 | C6: BZ | D6: VB | E6: XX
B7: =RANDBETWEEN(1,$A$1)+ROW()/($A$1+1) -> 103.05785 | C7: NC | D7: CQ | E7: @K
B8: =RANDBETWEEN(1,$A$1)+ROW()/($A$1+1) -> 19.066116 | C8: JC | D8: FH | E8: H@
B9: =RANDBETWEEN(1,$A$1)+ROW()/($A$1+1) -> 63.07438 | C9: LB | D9: XN | E9: KR
B10: =RANDBETWEEN(1,$A$1)+ROW()/($A$1+1) -> 65.082645 | C10: VH | D10: EV | E10: PB
B11: =RANDBETWEEN(1,$A$1)+ROW()/($A$1+1) -> 9.0909091 | C11: TL | D11: OJ | E11: BI
B12: =RANDBETWEEN(1,$A$1)+ROW()/($A$1+1) -> 61.099174 | C12: MH | D12: SA | E12: ZU
B13: =RANDBETWEEN(1,$A$1)+ROW()/($A$1+1) -> 1.107438 | C13: LR | D13: GF | E13: CZ
... B120: =RANDBETWEEN(1,$A$1)+ROW()/($A$1+1) -> 115.99174 | C120: UR | D120: SI | E120: XK

Sheet extrait aléaltoire
A1: =MATCH(SMALL(data!B:B,ROW()),data!B:B,0) -> 13 | B1: =INDEX(data!C:C,$A1) -> LR | C1: =INDEX(data!D:D,'extrait aléaltoire'!$A1) -> GF | D1: =INDEX(data!E:E,'extrait aléaltoire'!$A1) -> CZ
A2: =MATCH(SMALL(data!B:B,ROW()),data!B:B,0) -> 46 | B2: =INDEX(data!C:C,'extrait aléaltoire'!$A2) -> KY | C2: =INDEX(data!D:D,'extrait aléaltoire'!$A2) -> H@ | D2: =INDEX(data!E:E,'extrait aléaltoire'!$A2) -> IA
A3: =MATCH(SMALL(data!B:B,ROW()),data!B:B,0) -> 97 | B3: =INDEX(data!C:C,'extrait aléaltoire'!$A3) -> @R | C3: =INDEX(data!D:D,'extrait aléaltoire'!$A3) -> ZR | D3: =INDEX(data!E:E,'extrait aléaltoire'!$A3) -> WV
A4: =MATCH(SMALL(data!B:B,ROW()),data!B:B,0) -> 69 | B4: =INDEX(data!C:C,'extrait aléaltoire'!$A4) -> SL | C4: =INDEX(data!D:D,'extrait aléaltoire'!$A4) -> MY | D4: =INDEX(data!E:E,'extrait aléaltoire'!$A4) -> WL
A5: =MATCH(SMALL(data!B:B,ROW()),data!B:B,0) -> 108 | B5: =INDEX(data!C:C,'extrait aléaltoire'!$A5) -> LK | C5: =INDEX(data!D:D,'extrait aléaltoire'!$A5) -> HN | D5: =INDEX(data!E:E,'extrait aléaltoire'!$A5) -> JZ
A6: =MATCH(SMALL(data!B:B,ROW()),data!B:B,0) -> 118 | B6: =INDEX(data!C:C,'extrait aléaltoire'!$A6) -> MD | C6: =INDEX(data!D:D,'extrait aléaltoire'!$A6) -> HN | D6: =INDEX(data!E:E,'extrait aléaltoire'!$A6) -> XC
A7: =MATCH(SMALL(data!B:B,ROW()),data!B:B,0) -> 11 | B7: =INDEX(data!C:C,'extrait aléaltoire'!$A7) -> TL | C7: =INDEX(data!D:D,'extrait aléaltoire'!$A7) -> OJ | D7: =INDEX(data!E:E,'extrait aléaltoire'!$A7) -> BI
A8: =MATCH(SMALL(data!B:B,ROW()),data!B:B,0) -> 32 | B8: =INDEX(data!C:C,'extrait aléaltoire'!$A8) -> ZN | C8: =INDEX(data!D:D,'extrait aléaltoire'!$A8) -> FJ | D8: =INDEX(data!E:E,'extrait aléaltoire'!$A8) -> SC
A9: =MATCH(SMALL(data!B:B,ROW()),data!B:B,0) -> 41 | B9: =INDEX(data!C:C,'extrait aléaltoire'!$A9) -> WM | C9: =INDEX(data!D:D,'extrait aléaltoire'!$A9) -> HY | D9: =INDEX(data!E:E,'extrait aléaltoire'!$A9) -> NP
A10: =MATCH(SMALL(data!B:B,ROW()),data!B:B,0) -> 52 | B10: =INDEX(data!C:C,'extrait aléaltoire'!$A10) -> PM | C10: =INDEX(data!D:D,'extrait aléaltoire'!$A10) -> CE | D10: =INDEX(data!E:E,'extrait aléaltoire'!$A10) -> WD
A11: =MATCH(SMALL(data!B:B,ROW()),data!B:B,0) -> 29 | B11: =INDEX(data!C:C,'extrait aléaltoire'!$A11) -> DI | C11: =INDEX(data!D:D,'extrait aléaltoire'!$A11) -> ZK | D11: =INDEX(data!E:E,'extrait aléaltoire'!$A11) -> BM
A12: =MATCH(SMALL(data!B:B,ROW()),data!B:B,0) -> 49 | B12: =INDEX(data!C:C,'extrait aléaltoire'!$A12) -> YA | C12: =INDEX(data!D:D,'extrait aléaltoire'!$A12) -> UV | D12: =INDEX(data!E:E,'extrait aléaltoire'!$A12) -> DK
A13: =MATCH(SMALL(data!B:B,ROW()),data!B:B,0) -> 119 | B13: =INDEX(data!C:C,'extrait aléaltoire'!$A13) -> IK | C13: =INDEX(data!D:D,'extrait aléaltoire'!$A13) -> XC | D13: =INDEX(data!E:E,'extrait aléaltoire'!$A13) -> @Q
... A120: =MATCH(SMALL(data!B:B,ROW()),data!B:B,0) -> 107 | B120: =INDEX(data!C:C,'extrait aléaltoire'!$A120) -> EM | C120: =INDEX(data!D:D,'extrait aléaltoire'!$A120) -> QQ | D120: =INDEX(data!E:E,'extrait aléaltoire'!$A120) -> ON
