Workbook

Sheet RECAP
B3: Onglet | C3: B5 | D3: Moyenne
B4: =Feuil1!$A$1 -> Feuil1 | C4: =INDIRECT("'"&Recap[[#This Row],[Onglet]]&"'!"&Recap[[#Headers],[B5]]) -> 94.19332 | D4: =AVERAGE(C$4:C4) -> 94.19332
B5: =Feuil2!$A$1 -> Feuil2 | C5: =INDIRECT("'"&Recap[[#This Row],[Onglet]]&"'!"&Recap[[#Headers],[B5]]) -> 65.87781 | D5: =AVERAGE(C$4:C5) -> 80.035565
B6: =TOTO!$A$1 -> TOTO | C6: =INDIRECT("'"&Recap[[#This Row],[Onglet]]&"'!"&Recap[[#Headers],[B5]]) -> 2.1630797 | D6: =AVERAGE(C$4:C6) -> 54.07807
B7: =Feuil4!$A$1 -> Feuil4 | C7: =INDIRECT("'"&Recap[[#This Row],[Onglet]]&"'!"&Recap[[#Headers],[B5]]) -> 70.467866 | D7: =AVERAGE(C$4:C7) -> 58.175519
B8: =Feuil5!$A$1 -> Feuil5 | C8: =INDIRECT("'"&Recap[[#This Row],[Onglet]]&"'!"&Recap[[#Headers],[B5]]) -> 24.188564 | D8: =AVERAGE(C$4:C8) -> 51.378128
B9: =Feuil6!$A$1 -> Feuil6 | C9: =INDIRECT("'"&Recap[[#This Row],[Onglet]]&"'!"&Recap[[#Headers],[B5]]) -> 67.552887 | D9: =AVERAGE(C$4:C9) -> 54.073921
B10: =Feuil7!$A$1 -> Feuil7 | C10: =INDIRECT("'"&Recap[[#This Row],[Onglet]]&"'!"&Recap[[#Headers],[B5]]) -> 60.440347 | D10: =AVERAGE(C$4:C10) -> 54.98341
B11: =Feuil8!$A$1 -> Feuil8 | C11: =INDIRECT("'"&Recap[[#This Row],[Onglet]]&"'!"&Recap[[#Headers],[B5]]) -> 17.75664 | D11: =AVERAGE(C$4:C11) -> 50.330064

Sheet Feuil1
A1: =RIGHT(CELL("nomfichier",A1),LEN(CELL("nomfichier",A1))-FIND("]",CELL("nomfichier",A1))) -> Feuil1
E4: Moyenne
B5: =RAND()*100 -> 94.19332 | E5: =VLOOKUP(A1,Recap[],2,0) -> 94.19332

Sheet Feuil2
A1: =RIGHT(CELL("nomfichier",A1),LEN(CELL("nomfichier",A1))-FIND("]",CELL("nomfichier",A1))) -> Feuil2
E4: Moyenne
B5: =RAND()*100 -> 65.87781 | E5: =VLOOKUP(A1,Recap[],2,0) -> 65.87781

Sheet TOTO
A1: =RIGHT(CELL("nomfichier",A1),LEN(CELL("nomfichier",A1))-FIND("]",CELL("nomfichier",A1))) -> TOTO
E4: Moyenne
B5: =RAND()*100 -> 2.1630797 | E5: =VLOOKUP(A1,Recap[],2,0) -> 2.1630797

Sheet Feuil4
A1: =RIGHT(CELL("nomfichier",A1),LEN(CELL("nomfichier",A1))-FIND("]",CELL("nomfichier",A1))) -> Feuil4
E4: Moyenne
B5: =RAND()*100 -> 70.467866 | E5: =VLOOKUP(A1,Recap[],2,0) -> 70.467866

Sheet Feuil5
A1: =RIGHT(CELL("nomfichier",A1),LEN(CELL("nomfichier",A1))-FIND("]",CELL("nomfichier",A1))) -> Feuil5
E4: Moyenne
B5: =RAND()*100 -> 24.188564 | E5: =VLOOKUP(A1,Recap[],2,0) -> 24.188564

Sheet Feuil6
A1: =RIGHT(CELL("nomfichier",A1),LEN(CELL("nomfichier",A1))-FIND("]",CELL("nomfichier",A1))) -> Feuil6
E4: Moyenne
B5: =RAND()*100 -> 67.552887 | E5: =VLOOKUP(A1,Recap[],2,0) -> 67.552887

Sheet Feuil7
A1: =RIGHT(CELL("nomfichier",A1),LEN(CELL("nomfichier",A1))-FIND("]",CELL("nomfichier",A1))) -> Feuil7
E4: Moyenne
B5: =RAND()*100 -> 60.440347 | E5: =VLOOKUP(A1,Recap[],2,0) -> 60.440347

Sheet Feuil8
A1: =RIGHT(CELL("nomfichier",A1),LEN(CELL("nomfichier",A1))-FIND("]",CELL("nomfichier",A1))) -> Feuil8
E4: Moyenne
B5: =RAND()*100 -> 17.75664 | E5: =VLOOKUP(A1,Recap[],2,0) -> 17.75664
