Workbook
Name jour: parametres!$B$6:$H$6
Name mois: parametres!$B$2:$M$2
Name semaine: parametres!$B$5:$G$5

Sheet saisie
A1: Année | B1: 2016
A2: Mois
A3: Semaine
A4: Jour

Sheet parametres
B1: 1 | C1: 2 | D1: 3 | E1: 4 | F1: 5 | G1: 6 | H1: 7 | I1: 8 | J1: 9 | K1: 10 | L1: 11 | M1: 12
A2: validation des mois | B2: =DATE(saisie!$B$1,B1,1) -> 42370 | C2: =DATE(saisie!$B$1,C1,1) -> 42401 | D2: =DATE(saisie!$B$1,D1,1) -> 42430 | E2: =DATE(saisie!$B$1,E1,1) -> 42461 | F2: =DATE(saisie!$B$1,F1,1) -> 42491 | G2: =DATE(saisie!$B$1,G1,1) -> 42522 | H2: =DATE(saisie!$B$1,H1,1) -> 42552 | I2: =DATE(saisie!$B$1,I1,1) -> 42583 | ... M2: =DATE(saisie!$B$1,M1,1) -> 42705
A3: commence semaine : | B3: =INT(MOD(INT((DATE(saisie!$B$1,B1,1)-2)/7)+3/5,52+5/28))+1 -> 53 | C3: =INT(MOD(INT((DATE(saisie!$B$1,C1,1)-2)/7)+3/5,52+5/28))+1 -> 5 | D3: =INT(MOD(INT((DATE(saisie!$B$1,D1,1)-2)/7)+3/5,52+5/28))+1 -> 9 | E3: =INT(MOD(INT((DATE(saisie!$B$1,E1,1)-2)/7)+3/5,52+5/28))+1 -> 13 | F3: =INT(MOD(INT((DATE(saisie!$B$1,F1,1)-2)/7)+3/5,52+5/28))+1 -> 17 | G3: =INT(MOD(INT((DATE(saisie!$B$1,G1,1)-2)/7)+3/5,52+5/28))+1 -> 22 | H3: =INT(MOD(INT((DATE(saisie!$B$1,H1,1)-2)/7)+3/5,52+5/28))+1 -> 26 | I3: =INT(MOD(INT((DATE(saisie!$B$1,I1,1)-2)/7)+3/5,52+5/28))+1 -> 31 | ... M3: =INT(MOD(INT((DATE(saisie!$B$1,M1,1)-2)/7)+3/5,52+5/28))+1 -> 48
A4: finit semaine : | B4: =INT(MOD(INT((DATE(saisie!$B$1,B1+1,0)-2)/7)+3/5,52+5/28))+1 -> 4 | C4: =INT(MOD(INT((DATE(saisie!$B$1,C1+1,0)-2)/7)+3/5,52+5/28))+1 -> 9 | D4: =INT(MOD(INT((DATE(saisie!$B$1,D1+1,0)-2)/7)+3/5,52+5/28))+1 -> 13 | E4: =INT(MOD(INT((DATE(saisie!$B$1,E1+1,0)-2)/7)+3/5,52+5/28))+1 -> 17 | F4: =INT(MOD(INT((DATE(saisie!$B$1,F1+1,0)-2)/7)+3/5,52+5/28))+1 -> 22 | G4: =INT(MOD(INT((DATE(saisie!$B$1,G1+1,0)-2)/7)+3/5,52+5/28))+1 -> 26 | H4: =INT(MOD(INT((DATE(saisie!$B$1,H1+1,0)-2)/7)+3/5,52+5/28))+1 -> 30 | I4: =INT(MOD(INT((DATE(saisie!$B$1,I1+1,0)-2)/7)+3/5,52+5/28))+1 -> 35 | ... M4: =INT(MOD(INT((DATE(saisie!$B$1,M1+1,0)-2)/7)+3/5,52+5/28))+1 -> 52
A5: validation des semaines | B5: =IF(MONTH(saisie!$B$2+(B1-1)*7)=MONTH(saisie!$B$2),INT(MOD(INT((saisie!$B$2+(B1-1)*7-2)/7)+3/5,52+5/28))+1,"") -> 52 | C5: =IF(MONTH(saisie!$B$2+(C1-1)*7)=MONTH(saisie!$B$2),INT(MOD(INT((saisie!$B$2+(C1-1)*7-2)/7)+3/5,52+5/28))+1,"") -> 1 | D5: =IF(MONTH(saisie!$B$2+(D1-1)*7)=MONTH(saisie!$B$2),INT(MOD(INT((saisie!$B$2+(D1-1)*7-2)/7)+3/5,52+5/28))+1,"") -> 2 | E5: =IF(MONTH(saisie!$B$2+(E1-1)*7)=MONTH(saisie!$B$2),INT(MOD(INT((saisie!$B$2+(E1-1)*7-2)/7)+3/5,52+5/28))+1,"") -> 3 | F5: =IF(MONTH(saisie!$B$2+(F1-1)*7)=MONTH(saisie!$B$2),INT(MOD(INT((saisie!$B$2+(F1-1)*7-2)/7)+3/5,52+5/28))+1,"") -> 4 | G5: =IF(MONTH(saisie!$B$2+(G1-1)*7)=MONTH(saisie!$B$2),INT(MOD(INT((saisie!$B$2+(G1-1)*7-2)/7)+3/5,52+5/28))+1,"")
A6: validation des jours | B6: =IF(MONTH(saisie!$B$2-WEEKDAY(saisie!$B$2,2)+1+7*(saisie!$B$3-(INT(MOD(INT(((saisie!$B$2-WEEKDAY(saisie!$B$2,2)+1)-2)/7)+3/5,52+5/28))+1))+B1-1)=MONTH(saisie!$B$2),saisie!$B$2-WEEKDAY(saisie!$B$2,2)+1+7*(saisie!$B$3-(INT(MOD(INT(((saisie!$B$2-WEEKDAY(saisie!$B$2,2)+1)-2)/7)+3/5,52+5/28))+1))+B1-1,"") -> #NUM! | C6: =IF(MONTH(saisie!$B$2-WEEKDAY(saisie!$B$2,2)+1+7*(saisie!$B$3-(INT(MOD(INT(((saisie!$B$2-WEEKDAY(saisie!$B$2,2)+1)-2)/7)+3/5,52+5/28))+1))+C1-1)=MONTH(saisie!$B$2),saisie!$B$2-WEEKDAY(saisie!$B$2,2)+1+7*(saisie!$B$3-(INT(MOD(INT(((saisie!$B$2-WEEKDAY(saisie!$B$2,2)+1)-2)/7)+3/5,52+5/28))+1))+C1-1,"") -> #NUM! | D6: =IF(MONTH(saisie!$B$2-WEEKDAY(saisie!$B$2,2)+1+7*(saisie!$B$3-(INT(MOD(INT(((saisie!$B$2-WEEKDAY(saisie!$B$2,2)+1)-2)/7)+3/5,52+5/28))+1))+D1-1)=MONTH(saisie!$B$2),saisie!$B$2-WEEKDAY(saisie!$B$2,2)+1+7*(saisie!$B$3-(INT(MOD(INT(((saisie!$B$2-WEEKDAY(saisie!$B$2,2)+1)-2)/7)+3/5,52+5/28))+1))+D1-1,"") -> #NUM! | E6: =IF(MONTH(saisie!$B$2-WEEKDAY(saisie!$B$2,2)+1+7*(saisie!$B$3-(INT(MOD(INT(((saisie!$B$2-WEEKDAY(saisie!$B$2,2)+1)-2)/7)+3/5,52+5/28))+1))+E1-1)=MONTH(saisie!$B$2),saisie!$B$2-WEEKDAY(saisie!$B$2,2)+1+7*(saisie!$B$3-(INT(MOD(INT(((saisie!$B$2-WEEKDAY(saisie!$B$2,2)+1)-2)/7)+3/5,52+5/28))+1))+E1-1,"") -> #NUM! | F6: =IF(MONTH(saisie!$B$2-WEEKDAY(saisie!$B$2,2)+1+7*(saisie!$B$3-(INT(MOD(INT(((saisie!$B$2-WEEKDAY(saisie!$B$2,2)+1)-2)/7)+3/5,52+5/28))+1))+F1-1)=MONTH(saisie!$B$2),saisie!$B$2-WEEKDAY(saisie!$B$2,2)+1+7*(saisie!$B$3-(INT(MOD(INT(((saisie!$B$2-WEEKDAY(saisie!$B$2,2)+1)-2)/7)+3/5,52+5/28))+1))+F1-1,"") -> #NUM! | G6: =IF(MONTH(saisie!$B$2-WEEKDAY(saisie!$B$2,2)+1+7*(saisie!$B$3-(INT(MOD(INT(((saisie!$B$2-WEEKDAY(saisie!$B$2,2)+1)-2)/7)+3/5,52+5/28))+1))+G1-1)=MONTH(saisie!$B$2),saisie!$B$2-WEEKDAY(saisie!$B$2,2)+1+7*(saisie!$B$3-(INT(MOD(INT(((saisie!$B$2-WEEKDAY(saisie!$B$2,2)+1)-2)/7)+3/5,52+5/28))+1))+G1-1,"") -> #NUM! | H6: =IF(MONTH(saisie!$B$2-WEEKDAY(saisie!$B$2,2)+1+7*(saisie!$B$3-(INT(MOD(INT(((saisie!$B$2-WEEKDAY(saisie!$B$2,2)+1)-2)/7)+3/5,52+5/28))+1))+H1-1)=MONTH(saisie!$B$2),saisie!$B$2-WEEKDAY(saisie!$B$2,2)+1+7*(saisie!$B$3-(INT(MOD(INT(((saisie!$B$2-WEEKDAY(saisie!$B$2,2)+1)-2)/7)+3/5,52+5/28))+1))+H1-1,"") -> #NUM!
