Workbook

Sheet PREPARATION
A1: Liste de préparation
A3: Référence produit | B3: Référence interne | C3: Quantité
A4: ='LISTE 1'!A2 -> Article 1 | B4: ='LISTE 1'!B2 -> ART1 | C4: ='LISTE 1'!C2 -> 0
A5: ='LISTE 1'!A3 -> Article 2 | B5: ='LISTE 1'!B3 -> ART2 | C5: ='LISTE 1'!C3 -> 8
A6: ='LISTE 1'!A4 -> Article 3 | B6: ='LISTE 1'!B4 -> ART3 | C6: ='LISTE 1'!C4 -> 0
A7: ='LISTE 1'!A5 -> 0 | B7: ='LISTE 1'!B5 -> 0 | C7: ='LISTE 1'!C5 -> 0
A8: ='LISTE 1'!A6 -> 0 | B8: ='LISTE 1'!B6 -> 0 | C8: ='LISTE 1'!C6 -> 0
A9: ='LISTE 1'!A7 -> 0 | B9: ='LISTE 1'!B7 -> 0 | C9: ='LISTE 1'!C7 -> 0
A10: ='LISTE 1'!A8 -> 0 | B10: ='LISTE 1'!B8 -> 0 | C10: ='LISTE 1'!C8 -> 0
A11: ='LISTE 1'!A9 -> 0 | B11: ='LISTE 1'!B9 -> 0 | C11: ='LISTE 1'!C9 -> 0
A12: ='LISTE 1'!A10 -> 0 | B12: ='LISTE 1'!B10 -> 0 | C12: ='LISTE 1'!C10 -> 0
A13: ='LISTE 1'!A11 -> 0 | B13: ='LISTE 1'!B11 -> 0 | C13: ='LISTE 1'!C11 -> 0
A14: ='LISTE 1'!A12 -> 0 | B14: ='LISTE 1'!B12 -> 0 | C14: ='LISTE 1'!C12 -> 0
A15: ='LISTE 1'!A13 -> 0 | B15: ='LISTE 1'!B13 -> 0 | C15: ='LISTE 1'!C13 -> 0
A16: ='LISTE 2'!A2 -> Article A | B16: ='LISTE 2'!B2 -> ARTA | C16: ='LISTE 2'!C2 -> 2
A17: ='LISTE 2'!A3 -> Article B | B17: ='LISTE 2'!B3 -> ARTB | C17: ='LISTE 2'!C3 -> 0
A18: ='LISTE 2'!A4 -> Article C | B18: ='LISTE 2'!B4 -> ARTC | C18: ='LISTE 2'!C4 -> 4
A19: ='LISTE 2'!A5 -> 0 | B19: ='LISTE 2'!B5 -> 0 | C19: ='LISTE 2'!C5 -> 0
A20: ='LISTE 2'!A6 -> 0 | B20: ='LISTE 2'!B6 -> 0 | C20: ='LISTE 2'!C6 -> 0
A21: ='LISTE 2'!A7 -> 0 | B21: ='LISTE 2'!B7 -> 0 | C21: ='LISTE 2'!C7 -> 0
A22: ='LISTE 2'!A8 -> 0 | B22: ='LISTE 2'!B8 -> 0 | C22: ='LISTE 2'!C8 -> 0
A23: ='LISTE 2'!A9 -> 0 | B23: ='LISTE 2'!B9 -> 0 | C23: ='LISTE 2'!C9 -> 0
A24: ='LISTE 2'!A10 -> 0 | B24: ='LISTE 2'!B10 -> 0 | C24: ='LISTE 2'!C10 -> 0
A25: ='LISTE 2'!A11 -> 0 | B25: ='LISTE 2'!B11 -> 0 | C25: ='LISTE 2'!C11 -> 0
A26: ='LISTE 2'!A12 -> 0 | B26: ='LISTE 2'!B12 -> 0 | C26: ='LISTE 2'!C12 -> 0
A27: ='LISTE 2'!A13 -> 0 | B27: ='LISTE 2'!B13 -> 0 | C27: ='LISTE 2'!C13 -> 0
A28: ='LISTE 3'!A2 -> Article 007 | B28: ='LISTE 3'!B2 -> ART007 | C28: ='LISTE 3'!C2 -> 7
A29: ='LISTE 3'!A3 -> Article 008 | B29: ='LISTE 3'!B3 -> ART008 | C29: ='LISTE 3'!C3 -> 0
A30: ='LISTE 3'!A4 -> 0 | B30: ='LISTE 3'!B4 -> 0 | C30: ='LISTE 3'!C4 -> 0
A31: ='LISTE 3'!A5 -> 0 | B31: ='LISTE 3'!B5 -> 0 | C31: ='LISTE 3'!C5 -> 0
A32: ='LISTE 3'!A6 -> 0 | B32: ='LISTE 3'!B6 -> 0 | C32: ='LISTE 3'!C6 -> 0
A33: ='LISTE 3'!A7 -> 0 | B33: ='LISTE 3'!B7 -> 0 | C33: ='LISTE 3'!C7 -> 0
A34: ='LISTE 3'!A8 -> 0 | B34: ='LISTE 3'!B8 -> 0 | C34: ='LISTE 3'!C8 -> 0
A35: ='LISTE 3'!A9 -> 0 | B35: ='LISTE 3'!B9 -> 0 | C35: ='LISTE 3'!C9 -> 0
A36: ='LISTE 3'!A10 -> 0 | B36: ='LISTE 3'!B10 -> 0 | C36: ='LISTE 3'!C10 -> 0
A37: ='LISTE 3'!A11 -> 0 | B37: ='LISTE 3'!B11 -> 0 | C37: ='LISTE 3'!C11 -> 0
A38: ='LISTE 3'!A12 -> 0 | B38: ='LISTE 3'!B12 -> 0 | C38: ='LISTE 3'!C12 -> 0
A39: ='LISTE 3'!A13 -> 0 | B39: ='LISTE 3'!B13 -> 0 | C39: ='LISTE 3'!C13 -> 0

Sheet LISTE 1
A1: Référence produit | B1: Référence interne | C1: Quantité
A2: Article 1 | B2: ART1
A3: Article 2 | B3: ART2 | C3: 8
A4: Article 3 | B4: ART3

Sheet LISTE 2
A1: Référence produit | B1: Référence interne | C1: Quantité
A2: Article A | B2: ARTA | C2: 2
A3: Article B | B3: ARTB
A4: Article C | B4: ARTC | C4: 4

Sheet LISTE 3
A1: Référence produit | B1: Référence interne | C1: Quantité
A2: Article 007 | B2: ART007 | C2: 7
A3: Article 008 | B3: ART008
