Workbook

Sheet solution1
A1: =INDIRECT("'b)'!C"&(61+35*(COLUMN()-1))) -> C61 | B1: =INDIRECT("'b)'!C"&(61+35*(COLUMN()-1))) -> C96 | C1: =INDIRECT("'b)'!C"&(61+35*(COLUMN()-1))) -> C131 | D1: =INDIRECT("'b)'!C"&(61+35*(COLUMN()-1))) -> C166 | E1: =INDIRECT("'b)'!C"&(61+35*(COLUMN()-1))) -> C201 | F1: =INDIRECT("'b)'!C"&(61+35*(COLUMN()-1))) -> C236 | G1: =INDIRECT("'b)'!C"&(61+35*(COLUMN()-1))) -> C271 | H1: =INDIRECT("'b)'!C"&(61+35*(COLUMN()-1))) -> C306 | I1: =INDIRECT("'b)'!C"&(61+35*(COLUMN()-1))) -> C341

Sheet solution2 Nad
A1: =OFFSET('b)'!$C$61,35*COLUMN(A1)-35,) -> C61 | B1: =OFFSET('b)'!$C$61,35*COLUMN(B1)-35,) -> C96 | C1: =OFFSET('b)'!$C$61,35*COLUMN(C1)-35,) -> C131 | D1: =OFFSET('b)'!$C$61,35*COLUMN(D1)-35,) -> C166 | E1: =OFFSET('b)'!$C$61,35*COLUMN(E1)-35,) -> C201 | F1: =OFFSET('b)'!$C$61,35*COLUMN(F1)-35,) -> C236 | G1: =OFFSET('b)'!$C$61,35*COLUMN(G1)-35,) -> C271 | H1: =OFFSET('b)'!$C$61,35*COLUMN(H1)-35,) -> C306

Sheet solution3
A1: =INDEX('b)'!$C:$C,61+35*(COLUMN()-1),1) -> C61 | B1: =INDEX('b)'!$C:$C,61+35*(COLUMN()-1),1) -> C96 | C1: =INDEX('b)'!$C:$C,61+35*(COLUMN()-1),1) -> C131 | D1: =INDEX('b)'!$C:$C,61+35*(COLUMN()-1),1) -> C166 | E1: =INDEX('b)'!$C:$C,61+35*(COLUMN()-1),1) -> C201 | F1: =INDEX('b)'!$C:$C,61+35*(COLUMN()-1),1) -> C236 | G1: =INDEX('b)'!$C:$C,61+35*(COLUMN()-1),1) -> C271 | H1: =INDEX('b)'!$C:$C,61+35*(COLUMN()-1),1) -> C306

Sheet b)
C1: ="C"&ROW() -> C1
C2: ="C"&ROW() -> C2
C3: ="C"&ROW() -> C3
C4: ="C"&ROW() -> C4
C5: ="C"&ROW() -> C5
C6: ="C"&ROW() -> C6
C7: ="C"&ROW() -> C7
C8: ="C"&ROW() -> C8
C9: ="C"&ROW() -> C9
C10: ="C"&ROW() -> C10
C11: ="C"&ROW() -> C11
C12: ="C"&ROW() -> C12
... C377: ="C"&ROW() -> C377
