Workbook

Sheet Ce que j'ai
B2: Informations Clients | G2: Liste Encaissements
B3: N° FAC | C3: DATE | D3: CLIENT | E3: MONTANT | G3: DATE 1 | H3: MOY 1 | I3: MONT 1 | J3: DATE 2 | K3: MOY 2 | L3: MONT 2 | M3: DATE 3 | N3: MOY 3 | O3: MONT 3 | P3: DATE 4 | Q3: MOY 4 | R3: MONT 4 | S3: DATE 5 | T3: MOY 5 | U3: MONT 5
B4: F001 | C4: 43466 | D4: Client 1 | E4: 12 | G4: Date P1 | H4: Moy P1 | I4: 4 | J4: Date P2 | K4: Moy P2 | L4: 4 | M4: Date P3 | N4: Moy P3 | O4: 4
B5: F002 | C5: 43498 | D5: Client 2 | E5: 32 | G5: Date P1 | H5: Moy P1 | I5: 32
B6: F003 | C6: 43527 | D6: Client 3 | E6: 75 | G6: Date P1 | H6: Moy P1 | I6: 5 | J6: Date P2 | K6: Moy P2 | L6: 10 | M6: Date P5 | N6: Moy P5 | O6: 15 | P6: Date P5 | Q6: Moy P5 | R6: 20 | S6: Date P5 | T6: Moy P5 | U6: 25
B7: F004 | C7: 43559 | D7: Client 4 | E7: 100 | G7: Date P1 | H7: Moy P1 | I7: 50 | J7: Date P2 | K7: Moy P2 | L7: 50
B8: F005 | C8: 43590 | D8: Client 5 | E8: 2000 | G8: Date P1 | H8: Moy P1 | I8: 500 | J8: Date P2 | K8: Moy P2 | L8: 250 | M8: Date P5 | N8: Moy P5 | O8: 250 | P8: Date P5 | Q8: Moy P5 | R8: 1000

Sheet Ce que je veux  (Prob 1)
B2: Informations Clients | G2: Liste Encaissements
B3: N° FAC | C3: DATE | D3: CLIENT | E3: MONTANT | G3: DATE | H3: MOY | I3: MONT

Sheet Ce que je veux  (Prob 2 Simple)
B2: Informations Clients | G2: Liste Encaissements
B3: N° FAC | C3: DATE | D3: CLIENT | E3: MONTANT | G3: DATE | H3: MOY | I3: MONT
B4: =OFFSET('Ce que j''ai'!B$4,INT((ROW()-4)/5),) -> F001 | C4: =OFFSET('Ce que j''ai'!C$4,INT((ROW()-4)/5),) -> 43466 | D4: =OFFSET('Ce que j''ai'!D$4,INT((ROW()-4)/5),) -> Client 1 | E4: =OFFSET('Ce que j''ai'!E$4,INT((ROW()-4)/5),) -> 12 | G4: =OFFSET('Ce que j''ai'!G$4,INT((ROW()-4)/5),MOD(ROW()-4,5)*3) -> Date P1 | H4: =OFFSET('Ce que j''ai'!H$4,INT((ROW()-4)/5),MOD(ROW()-4,5)*3) -> Moy P1 | I4: =OFFSET('Ce que j''ai'!I$4,INT((ROW()-4)/5),MOD(ROW()-4,5)*3) -> 4
B5: =OFFSET('Ce que j''ai'!B$4,INT((ROW()-4)/5),) -> F001 | C5: =OFFSET('Ce que j''ai'!C$4,INT((ROW()-4)/5),) -> 43466 | D5: =OFFSET('Ce que j''ai'!D$4,INT((ROW()-4)/5),) -> Client 1 | E5: =OFFSET('Ce que j''ai'!E$4,INT((ROW()-4)/5),) -> 12 | G5: =OFFSET('Ce que j''ai'!G$4,INT((ROW()-4)/5),MOD(ROW()-4,5)*3) -> Date P2 | H5: =OFFSET('Ce que j''ai'!H$4,INT((ROW()-4)/5),MOD(ROW()-4,5)*3) -> Moy P2 | I5: =OFFSET('Ce que j''ai'!I$4,INT((ROW()-4)/5),MOD(ROW()-4,5)*3) -> 4
B6: =OFFSET('Ce que j''ai'!B$4,INT((ROW()-4)/5),) -> F001 | C6: =OFFSET('Ce que j''ai'!C$4,INT((ROW()-4)/5),) -> 43466 | D6: =OFFSET('Ce que j''ai'!D$4,INT((ROW()-4)/5),) -> Client 1 | E6: =OFFSET('Ce que j''ai'!E$4,INT((ROW()-4)/5),) -> 12 | G6: =OFFSET('Ce que j''ai'!G$4,INT((ROW()-4)/5),MOD(ROW()-4,5)*3) -> Date P3 | H6: =OFFSET('Ce que j''ai'!H$4,INT((ROW()-4)/5),MOD(ROW()-4,5)*3) -> Moy P3 | I6: =OFFSET('Ce que j''ai'!I$4,INT((ROW()-4)/5),MOD(ROW()-4,5)*3) -> 4
B7: =OFFSET('Ce que j''ai'!B$4,INT((ROW()-4)/5),) -> F001 | C7: =OFFSET('Ce que j''ai'!C$4,INT((ROW()-4)/5),) -> 43466 | D7: =OFFSET('Ce que j''ai'!D$4,INT((ROW()-4)/5),) -> Client 1 | E7: =OFFSET('Ce que j''ai'!E$4,INT((ROW()-4)/5),) -> 12 | G7: =OFFSET('Ce que j''ai'!G$4,INT((ROW()-4)/5),MOD(ROW()-4,5)*3) -> 0 | H7: =OFFSET('Ce que j''ai'!H$4,INT((ROW()-4)/5),MOD(ROW()-4,5)*3) -> 0 | I7: =OFFSET('Ce que j''ai'!I$4,INT((ROW()-4)/5),MOD(ROW()-4,5)*3) -> 0
B8: =OFFSET('Ce que j''ai'!B$4,INT((ROW()-4)/5),) -> F001 | C8: =OFFSET('Ce que j''ai'!C$4,INT((ROW()-4)/5),) -> 43466 | D8: =OFFSET('Ce que j''ai'!D$4,INT((ROW()-4)/5),) -> Client 1 | E8: =OFFSET('Ce que j''ai'!E$4,INT((ROW()-4)/5),) -> 12 | G8: =OFFSET('Ce que j''ai'!G$4,INT((ROW()-4)/5),MOD(ROW()-4,5)*3) -> 0 | H8: =OFFSET('Ce que j''ai'!H$4,INT((ROW()-4)/5),MOD(ROW()-4,5)*3) -> 0 | I8: =OFFSET('Ce que j''ai'!I$4,INT((ROW()-4)/5),MOD(ROW()-4,5)*3) -> 0
B9: =OFFSET('Ce que j''ai'!B$4,INT((ROW()-4)/5),) -> F002 | C9: =OFFSET('Ce que j''ai'!C$4,INT((ROW()-4)/5),) -> 43498 | D9: =OFFSET('Ce que j''ai'!D$4,INT((ROW()-4)/5),) -> Client 2 | E9: =OFFSET('Ce que j''ai'!E$4,INT((ROW()-4)/5),) -> 32 | G9: =OFFSET('Ce que j''ai'!G$4,INT((ROW()-4)/5),MOD(ROW()-4,5)*3) -> Date P1 | H9: =OFFSET('Ce que j''ai'!H$4,INT((ROW()-4)/5),MOD(ROW()-4,5)*3) -> Moy P1 | I9: =OFFSET('Ce que j''ai'!I$4,INT((ROW()-4)/5),MOD(ROW()-4,5)*3) -> 32
B10: =OFFSET('Ce que j''ai'!B$4,INT((ROW()-4)/5),) -> F002 | C10: =OFFSET('Ce que j''ai'!C$4,INT((ROW()-4)/5),) -> 43498 | D10: =OFFSET('Ce que j''ai'!D$4,INT((ROW()-4)/5),) -> Client 2 | E10: =OFFSET('Ce que j''ai'!E$4,INT((ROW()-4)/5),) -> 32 | G10: =OFFSET('Ce que j''ai'!G$4,INT((ROW()-4)/5),MOD(ROW()-4,5)*3) -> 0 | H10: =OFFSET('Ce que j''ai'!H$4,INT((ROW()-4)/5),MOD(ROW()-4,5)*3) -> 0 | I10: =OFFSET('Ce que j''ai'!I$4,INT((ROW()-4)/5),MOD(ROW()-4,5)*3) -> 0
B11: =OFFSET('Ce que j''ai'!B$4,INT((ROW()-4)/5),) -> F002 | C11: =OFFSET('Ce que j''ai'!C$4,INT((ROW()-4)/5),) -> 43498 | D11: =OFFSET('Ce que j''ai'!D$4,INT((ROW()-4)/5),) -> Client 2 | E11: =OFFSET('Ce que j''ai'!E$4,INT((ROW()-4)/5),) -> 32 | G11: =OFFSET('Ce que j''ai'!G$4,INT((ROW()-4)/5),MOD(ROW()-4,5)*3) -> 0 | H11: =OFFSET('Ce que j''ai'!H$4,INT((ROW()-4)/5),MOD(ROW()-4,5)*3) -> 0 | I11: =OFFSET('Ce que j''ai'!I$4,INT((ROW()-4)/5),MOD(ROW()-4,5)*3) -> 0
B12: =OFFSET('Ce que j''ai'!B$4,INT((ROW()-4)/5),) -> F002 | C12: =OFFSET('Ce que j''ai'!C$4,INT((ROW()-4)/5),) -> 43498 | D12: =OFFSET('Ce que j''ai'!D$4,INT((ROW()-4)/5),) -> Client 2 | E12: =OFFSET('Ce que j''ai'!E$4,INT((ROW()-4)/5),) -> 32 | G12: =OFFSET('Ce que j''ai'!G$4,INT((ROW()-4)/5),MOD(ROW()-4,5)*3) -> 0 | H12: =OFFSET('Ce que j''ai'!H$4,INT((ROW()-4)/5),MOD(ROW()-4,5)*3) -> 0 | I12: =OFFSET('Ce que j''ai'!I$4,INT((ROW()-4)/5),MOD(ROW()-4,5)*3) -> 0
B13: =OFFSET('Ce que j''ai'!B$4,INT((ROW()-4)/5),) -> F002 | C13: =OFFSET('Ce que j''ai'!C$4,INT((ROW()-4)/5),) -> 43498 | D13: =OFFSET('Ce que j''ai'!D$4,INT((ROW()-4)/5),) -> Client 2 | E13: =OFFSET('Ce que j''ai'!E$4,INT((ROW()-4)/5),) -> 32 | G13: =OFFSET('Ce que j''ai'!G$4,INT((ROW()-4)/5),MOD(ROW()-4,5)*3) -> 0 | H13: =OFFSET('Ce que j''ai'!H$4,INT((ROW()-4)/5),MOD(ROW()-4,5)*3) -> 0 | I13: =OFFSET('Ce que j''ai'!I$4,INT((ROW()-4)/5),MOD(ROW()-4,5)*3) -> 0
B14: =OFFSET('Ce que j''ai'!B$4,INT((ROW()-4)/5),) -> F003 | C14: =OFFSET('Ce que j''ai'!C$4,INT((ROW()-4)/5),) -> 43527 | D14: =OFFSET('Ce que j''ai'!D$4,INT((ROW()-4)/5),) -> Client 3 | E14: =OFFSET('Ce que j''ai'!E$4,INT((ROW()-4)/5),) -> 75 | G14: =OFFSET('Ce que j''ai'!G$4,INT((ROW()-4)/5),MOD(ROW()-4,5)*3) -> Date P1 | H14: =OFFSET('Ce que j''ai'!H$4,INT((ROW()-4)/5),MOD(ROW()-4,5)*3) -> Moy P1 | I14: =OFFSET('Ce que j''ai'!I$4,INT((ROW()-4)/5),MOD(ROW()-4,5)*3) -> 5
B15: =OFFSET('Ce que j''ai'!B$4,INT((ROW()-4)/5),) -> F003 | C15: =OFFSET('Ce que j''ai'!C$4,INT((ROW()-4)/5),) -> 43527 | D15: =OFFSET('Ce que j''ai'!D$4,INT((ROW()-4)/5),) -> Client 3 | E15: =OFFSET('Ce que j''ai'!E$4,INT((ROW()-4)/5),) -> 75 | G15: =OFFSET('Ce que j''ai'!G$4,INT((ROW()-4)/5),MOD(ROW()-4,5)*3) -> Date P2 | H15: =OFFSET('Ce que j''ai'!H$4,INT((ROW()-4)/5),MOD(ROW()-4,5)*3) -> Moy P2 | I15: =OFFSET('Ce que j''ai'!I$4,INT((ROW()-4)/5),MOD(ROW()-4,5)*3) -> 10
... B35: =OFFSET('Ce que j''ai'!B$4,INT((ROW()-4)/5),) -> 0 | C35: =OFFSET('Ce que j''ai'!C$4,INT((ROW()-4)/5),) -> 0 | D35: =OFFSET('Ce que j''ai'!D$4,INT((ROW()-4)/5),) -> 0 | E35: =OFFSET('Ce que j''ai'!E$4,INT((ROW()-4)/5),) -> 0 | G35: =OFFSET('Ce que j''ai'!G$4,INT((ROW()-4)/5),MOD(ROW()-4,5)*3) -> 0 | H35: =OFFSET('Ce que j''ai'!H$4,INT((ROW()-4)/5),MOD(ROW()-4,5)*3) -> 0 | I35: =OFFSET('Ce que j''ai'!I$4,INT((ROW()-4)/5),MOD(ROW()-4,5)*3) -> 0
