Workbook
Name _JF: Paramétres!$J$1:$J$60

Sheet Production amont
A1: N° Série | B1: Désignation | C1: Création FS | D1: Objectif (45j) | E1: Prévision Injection (2j)+2 | F1: Date réelle Injection | G1: Prévision Assemblage (1j)+3 | H1: Date réelle Assemblage | I1: Prévision Enrobage première couche (1j)+4 | J1: Date réelle Enrobage première couche | K1: Prévision Enrobage (12j)+16 | L1: Date réelle Enrobage | M1: Prévison Decirage des carapaces (1j;_JF)+17 | N1: Date réelle Decirage des carapaces | O1: Prévision Cuisson des carapaces (1j;_JF)+18 | P1: Date réelle Cuisson des carapaces | Q1: Prévision Lavage et Emmaillotage (1j;_JF)+19 | R1: Date réelle Lavage et Emmaillotage | S1: Prévision amont | T1: Réalisé fin amont | U1: Atelier en cours
A2: 01AA604 | B2: Ecope 1B | C2: 43674 | D2: =WORKDAY(C2,45) -> 43735 | E2: =WORKDAY(C2,2,_JF) -> 43676 | G2: =WORKDAY(E2,1,_JF) -> 43677 | I2: =WORKDAY(G2,1,_JF) -> 43678 | K2: =WORKDAY(I2,12,_JF) -> 43697 | M2: =WORKDAY(K2,1,_JF) -> 43698 | O2: =WORKDAY(M2,1,_JF) -> 43699 | Q2: =WORKDAY(O2,1,_JF) -> 43700 | S2: =WORKDAY(Q2,0) -> 43700 | T2: 43702 | U2: Assemblage
A3: 01AA605 | B3: Ecope 1B | C3: 43675 | D3: =WORKDAY(C3,45) -> 43738 | E3: =WORKDAY(C3,2,_JF) -> 43677 | G3: =WORKDAY(E3,1,_JF) -> 43678 | I3: =WORKDAY(G3,1,_JF) -> 43679 | K3: =WORKDAY(I3,12,_JF) -> 43698 | M3: =WORKDAY(K3,1,_JF) -> 43699 | O3: =WORKDAY(M3,1,_JF) -> 43700 | Q3: =WORKDAY(O3,1,_JF) -> 43703 | S3: =WORKDAY(Q3,0) -> 43703 | T3: 43703 | U3: Lavage et Emmaillotage
A4: 01AA606 | B4: Ecope 1B | C4: 43676 | D4: =WORKDAY(C4,45) -> 43739 | E4: =WORKDAY(C4,2,_JF) -> 43678 | G4: =WORKDAY(E4,1,_JF) -> 43679 | I4: =WORKDAY(G4,1,_JF) -> 43682 | K4: =WORKDAY(I4,12,_JF) -> 43699 | M4: =WORKDAY(K4,1,_JF) -> 43700 | O4: =WORKDAY(M4,1,_JF) -> 43703 | Q4: =WORKDAY(O4,1,_JF) -> 43704 | S4: =WORKDAY(Q4,0) -> 43704 | T4: 43704 | U4: Lavage et Emmaillotage
A5: 01AA607 | B5: Ecope 1B | C5: 43677 | D5: =WORKDAY(C5,45) -> 43740 | E5: =WORKDAY(C5,2,_JF) -> 43679 | G5: =WORKDAY(E5,1,_JF) -> 43682 | I5: =WORKDAY(G5,1,_JF) -> 43683 | K5: =WORKDAY(I5,12,_JF) -> 43700 | M5: =WORKDAY(K5,1,_JF) -> 43703 | O5: =WORKDAY(M5,1,_JF) -> 43704 | Q5: =WORKDAY(O5,1,_JF) -> 43705 | S5: =WORKDAY(Q5,0) -> 43705 | T5: 43705 | U5: Lavage et Emmaillotage
A6: 01AA608 | B6: Ecope 1B | C6: 43678 | D6: =WORKDAY(C6,45) -> 43741 | E6: =WORKDAY(C6,2,_JF) -> 43682 | G6: =WORKDAY(E6,1,_JF) -> 43683 | I6: =WORKDAY(G6,1,_JF) -> 43684 | K6: =WORKDAY(I6,12,_JF) -> 43703 | M6: =WORKDAY(K6,1,_JF) -> 43704 | O6: =WORKDAY(M6,1,_JF) -> 43705 | Q6: =WORKDAY(O6,1,_JF) -> 43706 | S6: =WORKDAY(Q6,0) -> 43706 | T6: 43706 | U6: Lavage et Emmaillotage
A7: 01AA609 | B7: Ecope 1B | C7: 43679 | D7: =WORKDAY(C7,45) -> 43742 | E7: =WORKDAY(C7,2,_JF) -> 43683 | G7: =WORKDAY(E7,1,_JF) -> 43684 | I7: =WORKDAY(G7,1,_JF) -> 43685 | K7: =WORKDAY(I7,12,_JF) -> 43704 | M7: =WORKDAY(K7,1,_JF) -> 43705 | O7: =WORKDAY(M7,1,_JF) -> 43706 | Q7: =WORKDAY(O7,1,_JF) -> 43707 | S7: =WORKDAY(Q7,0) -> 43707 | T7: 43707 | U7: Lavage et Emmaillotage
A8: 01AA610 | B8: Ecope 1B | C8: 43680 | D8: =WORKDAY(C8,45) -> 43742 | E8: =WORKDAY(C8,2,_JF) -> 43683 | G8: =WORKDAY(E8,1,_JF) -> 43684 | I8: =WORKDAY(G8,1,_JF) -> 43685 | K8: =WORKDAY(I8,12,_JF) -> 43704 | M8: =WORKDAY(K8,1,_JF) -> 43705 | O8: =WORKDAY(M8,1,_JF) -> 43706 | Q8: =WORKDAY(O8,1,_JF) -> 43707 | S8: =WORKDAY(Q8,0) -> 43707 | T8: 43708 | U8: Lavage et Emmaillotage
A9: 01AA611 | B9: Ecope 1B | C9: 43681 | D9: =WORKDAY(C9,45) -> 43742 | E9: =WORKDAY(C9,2,_JF) -> 43683 | G9: =WORKDAY(E9,1,_JF) -> 43684 | I9: =WORKDAY(G9,1,_JF) -> 43685 | K9: =WORKDAY(I9,12,_JF) -> 43704 | M9: =WORKDAY(K9,1,_JF) -> 43705 | O9: =WORKDAY(M9,1,_JF) -> 43706 | Q9: =WORKDAY(O9,1,_JF) -> 43707 | S9: =WORKDAY(Q9,0) -> 43707 | T9: 43709 | U9: Lavage et Emmaillotage
A10: 01AA612 | B10: Ecope 1B | C10: 43682 | D10: =WORKDAY(C10,45) -> 43745 | E10: =WORKDAY(C10,2,_JF) -> 43684 | G10: =WORKDAY(E10,1,_JF) -> 43685 | I10: =WORKDAY(G10,1,_JF) -> 43686 | K10: =WORKDAY(I10,12,_JF) -> 43705 | M10: =WORKDAY(K10,1,_JF) -> 43706 | O10: =WORKDAY(M10,1,_JF) -> 43707 | Q10: =WORKDAY(O10,1,_JF) -> 43710 | S10: =WORKDAY(Q10,0) -> 43710 | T10: 43710 | U10: Lavage et Emmaillotage
A11: 01AA613 | B11: Ecope 1B | C11: 43683 | D11: =WORKDAY(C11,45) -> 43746 | E11: =WORKDAY(C11,2,_JF) -> 43685 | G11: =WORKDAY(E11,1,_JF) -> 43686 | I11: =WORKDAY(G11,1,_JF) -> 43689 | K11: =WORKDAY(I11,12,_JF) -> 43706 | M11: =WORKDAY(K11,1,_JF) -> 43707 | O11: =WORKDAY(M11,1,_JF) -> 43710 | Q11: =WORKDAY(O11,1,_JF) -> 43711 | S11: =WORKDAY(Q11,0) -> 43711 | T11: 43711 | U11: Lavage et Emmaillotage
A12: 01AA614 | B12: Ecope 1B | C12: 43684 | D12: =WORKDAY(C12,45) -> 43747 | E12: =WORKDAY(C12,2,_JF) -> 43686 | G12: =WORKDAY(E12,1,_JF) -> 43689 | I12: =WORKDAY(G12,1,_JF) -> 43690 | K12: =WORKDAY(I12,12,_JF) -> 43707 | M12: =WORKDAY(K12,1,_JF) -> 43710 | O12: =WORKDAY(M12,1,_JF) -> 43711 | Q12: =WORKDAY(O12,1,_JF) -> 43712 | S12: =WORKDAY(Q12,0) -> 43712 | T12: 43712 | U12: Lavage et Emmaillotage
A13: 01AA615 | B13: Ecope 1B | C13: 43685 | D13: =WORKDAY(C13,45) -> 43748 | E13: =WORKDAY(C13,2,_JF) -> 43689 | G13: =WORKDAY(E13,1,_JF) -> 43690 | I13: =WORKDAY(G13,1,_JF) -> 43691 | K13: =WORKDAY(I13,12,_JF) -> 43710 | M13: =WORKDAY(K13,1,_JF) -> 43711 | O13: =WORKDAY(M13,1,_JF) -> 43712 | Q13: =WORKDAY(O13,1,_JF) -> 43713 | S13: =WORKDAY(Q13,0) -> 43713 | T13: 43713 | U13: Lavage et Emmaillotage
... A47: 01AA649 | B47: Ecope 1B | C47: 43719 | D47: =WORKDAY(C47,45) -> 43782 | E47: =WORKDAY(C47,2,_JF) -> 43721 | G47: =WORKDAY(E47,1,_JF) -> 43724 | I47: =WORKDAY(G47,1,_JF) -> 43725 | K47: =WORKDAY(I47,12,_JF) -> 43741 | M47: =WORKDAY(K47,1,_JF) -> 43742 | O47: =WORKDAY(M47,1,_JF) -> 43745 | Q47: =WORKDAY(O47,1,_JF) -> 43746 | S47: =WORKDAY(Q47,0) -> 43746 | T47: 43747 | U47: Injection
A48: 01AA650 | B48: Ecope 1B | C48: 43720 | D48: =WORKDAY(C48,45) -> 43783 | E48: =WORKDAY(C48,2,_JF) -> 43724 | G48: =WORKDAY(E48,1,_JF) -> 43725 | I48: =WORKDAY(G48,1,_JF) -> 43726 | K48: =WORKDAY(I48,12,_JF) -> 43742 | M48: =WORKDAY(K48,1,_JF) -> 43745 | O48: =WORKDAY(M48,1,_JF) -> 43746 | Q48: =WORKDAY(O48,1,_JF) -> 43747 | S48: =WORKDAY(Q48,0) -> 43747 | T48: 43748
A49: 01AA651 | B49: Ecope 1B | C49: 43721 | D49: =WORKDAY(C49,45) -> 43784 | E49: =WORKDAY(C49,2,_JF) -> 43725 | G49: =WORKDAY(E49,1,_JF) -> 43726 | I49: =WORKDAY(G49,1,_JF) -> 43727 | K49: =WORKDAY(I49,12,_JF) -> 43745 | M49: =WORKDAY(K49,1,_JF) -> 43746 | O49: =WORKDAY(M49,1,_JF) -> 43747 | Q49: =WORKDAY(O49,1,_JF) -> 43748 | S49: =WORKDAY(Q49,0) -> 43748 | T49: 43749
A50: 01AA652 | B50: Ecope 1B | C50: 43722 | D50: =WORKDAY(C50,45) -> 43784 | E50: =WORKDAY(C50,2,_JF) -> 43725 | G50: =WORKDAY(E50,1,_JF) -> 43726 | I50: =WORKDAY(G50,1,_JF) -> 43727 | K50: =WORKDAY(I50,12,_JF) -> 43745 | M50: =WORKDAY(K50,1,_JF) -> 43746 | O50: =WORKDAY(M50,1,_JF) -> 43747 | Q50: =WORKDAY(O50,1,_JF) -> 43748 | S50: =WORKDAY(Q50,0) -> 43748 | T50: 43750
A51: 01AA653 | B51: Ecope 1B | C51: 43723 | D51: =WORKDAY(C51,45) -> 43784 | E51: =WORKDAY(C51,2,_JF) -> 43725 | G51: =WORKDAY(E51,1,_JF) -> 43726 | I51: =WORKDAY(G51,1,_JF) -> 43727 | K51: =WORKDAY(I51,12,_JF) -> 43745 | M51: =WORKDAY(K51,1,_JF) -> 43746 | O51: =WORKDAY(M51,1,_JF) -> 43747 | Q51: =WORKDAY(O51,1,_JF) -> 43748 | S51: =WORKDAY(Q51,0) -> 43748 | T51: 43751
A52: 01AA654 | B52: Ecope 1B | C52: 43724 | D52: =WORKDAY(C52,45) -> 43787 | E52: =WORKDAY(C52,2,_JF) -> 43726 | G52: =WORKDAY(E52,1,_JF) -> 43727 | I52: =WORKDAY(G52,1,_JF) -> 43728 | K52: =WORKDAY(I52,12,_JF) -> 43746 | M52: =WORKDAY(K52,1,_JF) -> 43747 | O52: =WORKDAY(M52,1,_JF) -> 43748 | Q52: =WORKDAY(O52,1,_JF) -> 43749 | S52: =WORKDAY(Q52,0) -> 43749 | T52: 43752
A53: 01AA655 | B53: Ecope 1B | C53: 43725 | D53: =WORKDAY(C53,45) -> 43788 | E53: =WORKDAY(C53,2,_JF) -> 43727 | G53: =WORKDAY(E53,1,_JF) -> 43728 | I53: =WORKDAY(G53,1,_JF) -> 43731 | K53: =WORKDAY(I53,12,_JF) -> 43747 | M53: =WORKDAY(K53,1,_JF) -> 43748 | O53: =WORKDAY(M53,1,_JF) -> 43749 | Q53: =WORKDAY(O53,1,_JF) -> 43752 | S53: =WORKDAY(Q53,0) -> 43752 | T53: 43753
A54: 01AA656 | B54: Ecope 1B | C54: 43726 | D54: =WORKDAY(C54,45) -> 43789 | E54: =WORKDAY(C54,2,_JF) -> 43728 | G54: =WORKDAY(E54,1,_JF) -> 43731 | I54: =WORKDAY(G54,1,_JF) -> 43732 | K54: =WORKDAY(I54,12,_JF) -> 43748 | M54: =WORKDAY(K54,1,_JF) -> 43749 | O54: =WORKDAY(M54,1,_JF) -> 43752 | Q54: =WORKDAY(O54,1,_JF) -> 43753 | S54: =WORKDAY(Q54,0) -> 43753 | T54: 43754
A55: 01AA657 | B55: Ecope 1B | C55: 43727 | D55: =WORKDAY(C55,45) -> 43790 | E55: =WORKDAY(C55,2,_JF) -> 43731 | G55: =WORKDAY(E55,1,_JF) -> 43732 | I55: =WORKDAY(G55,1,_JF) -> 43733 | K55: =WORKDAY(I55,12,_JF) -> 43749 | M55: =WORKDAY(K55,1,_JF) -> 43752 | O55: =WORKDAY(M55,1,_JF) -> 43753 | Q55: =WORKDAY(O55,1,_JF) -> 43754 | S55: =WORKDAY(Q55,0) -> 43754 | T55: 43755
A56: 01AA658 | B56: Ecope 1B | C56: 43728 | D56: =WORKDAY(C56,45) -> 43791 | E56: =WORKDAY(C56,2,_JF) -> 43732 | G56: =WORKDAY(E56,1,_JF) -> 43733 | I56: =WORKDAY(G56,1,_JF) -> 43734 | K56: =WORKDAY(I56,12,_JF) -> 43752 | M56: =WORKDAY(K56,1,_JF) -> 43753 | O56: =WORKDAY(M56,1,_JF) -> 43754 | Q56: =WORKDAY(O56,1,_JF) -> 43755 | S56: =WORKDAY(Q56,0) -> 43755 | T56: 43756
A57: 01AA659 | B57: Ecope 1B | C57: 43729 | D57: =WORKDAY(C57,45) -> 43791 | E57: =WORKDAY(C57,2,_JF) -> 43732 | G57: =WORKDAY(E57,1,_JF) -> 43733 | I57: =WORKDAY(G57,1,_JF) -> 43734 | K57: =WORKDAY(I57,12,_JF) -> 43752 | M57: =WORKDAY(K57,1,_JF) -> 43753 | O57: =WORKDAY(M57,1,_JF) -> 43754 | Q57: =WORKDAY(O57,1,_JF) -> 43755 | S57: =WORKDAY(Q57,0) -> 43755 | T57: 43757
A58: 01AA660 | B58: Ecope 1B | C58: 43730 | D58: =WORKDAY(C58,45) -> 43791 | E58: =WORKDAY(C58,2,_JF) -> 43732 | G58: =WORKDAY(E58,1,_JF) -> 43733 | I58: =WORKDAY(G58,1,_JF) -> 43734 | K58: =WORKDAY(I58,12,_JF) -> 43752 | M58: =WORKDAY(K58,1,_JF) -> 43753 | O58: =WORKDAY(M58,1,_JF) -> 43754 | Q58: =WORKDAY(O58,1,_JF) -> 43755 | S58: =WORKDAY(Q58,0) -> 43755 | T58: 43758
A59: 01AA661 | B59: Ecope 1B | C59: 43731 | D59: =WORKDAY(C59,45) -> 43794 | E59: =WORKDAY(C59,2,_JF) -> 43733 | G59: =WORKDAY(E59,1,_JF) -> 43734 | I59: =WORKDAY(G59,1,_JF) -> 43735 | K59: =WORKDAY(I59,12,_JF) -> 43753 | M59: =WORKDAY(K59,1,_JF) -> 43754 | O59: =WORKDAY(M59,1,_JF) -> 43755 | Q59: =WORKDAY(O59,1,_JF) -> 43756 | S59: =WORKDAY(Q59,0) -> 43756 | T59: 43759
... A67: 01AA669 | B67: Ecope 1B | C67: 43739 | D67: =WORKDAY(C67,45) -> 43802 | E67: =WORKDAY(C67,2,_JF) -> 43741 | G67: =WORKDAY(E67,1,_JF) -> 43742 | I67: =WORKDAY(G67,1,_JF) -> 43745 | K67: =WORKDAY(I67,12,_JF) -> 43761 | M67: =WORKDAY(K67,1,_JF) -> 43762 | O67: =WORKDAY(M67,1,_JF) -> 43763 | Q67: =WORKDAY(O67,1,_JF) -> 43766 | S67: =WORKDAY(Q67,0) -> 43766 | T67: 43767

Sheet Production aval
A1: ='Production amont'!A:A -> N° Série | B1: ='Production amont'!B:B -> Désignation | C1: ='Récapitulatif délais'!E1 -> Réalisé fin amont | D1: Prévision sortie amont | E1: Prévision Préchauffage et coulée (2j;_JF) +21 | F1: Date réel Préchauffage et coulée | G1: Prévision Décochage (1j;_JF) +22 | H1: Date réelle Préchauffage et coulée | I1: Prévision Décochage (1j;_JF) +23 | J1: Date réelle Décochage | K1: Prévision Dégrappage (0,5j;_JF) +23,5 | L1: Date réelle Dégrappage | M1: Prévision Sablage Mesh 46 (0,5j;_JF) +24 | N1: Date réelle Sablage Mesh 46 | O1: Prévision CIC et contrôle (2j;_JF) +26 | P1: Date réelle CIC et contrôle | Q1: Prévision Tronçonnage des attaques (1j;_JF) +27 | R1: Date réelle Tronçonnage des attaques | S1: Prévision Ebarbage des attaques (1j;_JF) +28 | T1: Date réelle Ebarbage des attaques | U1: Prévision Sablage Mesh 90/120 (0,5j;_JF) +28,5> | V1: Date réelle Sablage Mesh 90/120 | W1: Prévision Contrôle des épaisseurs 1 <(0,5j;_JF) +29 | X1: Date réelle Contrôle des épaisseurs 1 | Y1: Prévision Usinage chimique (0,5j;_JF) +29,5> | Z1: Date réelle Usinage chimique | AA1: Prévision Contrôle des épaisseurs 2 ><(0,5j;_JF) +30 | AB1: Date réelle Contrôle des épaisseurs 2 | AC1: Prévision Sablage léger (0,5j;_JF) +30,5> | AD1: Date réelle Sablage léger | AE1: Prévision Ressuage <1 (0,5j;_JF) +31 | AF1: Date réelle Ressuage 1 | AG1: Prévision Contrôle visuel (0,5j;_JF) +31,5> | AH1: Date réelle Contrôle visuel | AI1: Prévision Ragréage <(0,5j;_JF) +32 | AJ1: Date réelle Ragréage | AK1: Prévision Radiographie (1j;_JF) +33 | AL1: Date réelle Radiographie | AM1: Prévision Cycle SR ASR RSR (1j;_JF) +34 | AN1: Date réelle Cycle SR ASR RSR | AO1: Prévision Attaque chimique 1 (0,5j;_JF) +34,5> | AP1: Date réelle Attaque chimique 1 | AQ1: Prévision Ressuage <2 (1j;_JF) +35,5 | AR1: Date réelle Ressuage 2 | AS1: Prévision Contrôle 3D avant TTH (0,5j;_JF) +36 > | AT1: Date réelle Contrôle 3D avant TTH | AU1: Prévision Traitement TTH (3j;_JF) +39 | AV1: Date réelle Traitement TTH | AW1: Prévision Attaque chimique 2 (0,5j;_JF) <+39,5 | AX1: Date réelle Attaque chimique 2 | AY1: Prévision Ressuage 3 (1j;_JF) +40,5 | AZ1: Date réelle Ressuage 3 | BA1: Prévision Contôle 3D (0,5j;_JF) +41> | BB1: Date réelle Contôle 3D | BC1: Prévision Usinage et ébavurage (0,5j;_JF) <+41,5 | BD1: Date réelle Usinage et ébavurage | BE1: Prévision Contôle 3D après usinage (0,5j;_JF) +42> | BF1: Date réelle Contôle 3D après usinage | BG1: Prévision Attaque chimique 3 (0,5j;_JF) <+42,5 | BH1: Date réelle Attaque chimique 3 | BI1: Prévision Ressuage final (1j;_JF) +43,5 | BJ1: Date réelle Ressuage final | BK1: Prévision Radiographie finale (0,5j;_JF) + 44 > | BL1: Date réelle Radiographie finale | BM1: Prévision Contrôle visuel final (0,5j;_JF) <+44,5 | BN1: Date réelle Contrôle visuel final | BO1: Prévision sortie aval | BP1: Réalisé sortie aval | BQ1: Atelier en cours | BR1: Etat de la pièce
A2: ='Production amont'!A:A -> 01AA604 | B2: ='Production amont'!B:B -> Ecope 1B | C2: =VLOOKUP(A2,'Production amont'!A:T,20,0) -> 43702 | D2: =VLOOKUP(A2,'Production amont'!A:T,19,0) -> 43700 | E2: =WORKDAY(D2,2,_JF) -> 43704 | G2: =WORKDAY(E2,1,_JF) -> 43705 | I2: =WORKDAY(G2,1,_JF) -> 43706 | K2: =WORKDAY(I2,1,_JF) -> 43707 | M2: =WORKDAY(K2,0,_JF) -> 43707 | O2: =WORKDAY(M2,2,_JF) -> 43711 | Q2: =WORKDAY(O2,1,_JF) -> 43712 | S2: =WORKDAY(Q2,1,_JF) -> 43713 | U2: =WORKDAY(S2,1,_JF) -> 43714 | W2: =WORKDAY(U2,0,_JF) -> 43714 | Y2: =WORKDAY(W2,1,_JF) -> 43717 | AA2: =WORKDAY(Y2,0,_JF) -> 43717 | AC2: =WORKDAY(AA2,1,_JF) -> 43718 | AE2: =WORKDAY(AC2,0,_JF) -> 43718 | AG2: =WORKDAY(AE2,1,_JF) -> 43719 | AI2: =WORKDAY(AG2,0,_JF) -> 43719 | AK2: =WORKDAY(AI2,1,_JF) -> 43720 | AM2: =WORKDAY(AK2,1,_JF) -> 43721 | AO2: =WORKDAY(AM2,1,_JF) -> 43724 | AQ2: =WORKDAY(AO2,0,_JF) -> 43724 | AS2: =WORKDAY(AQ2,1,_JF) -> 43725 | AU2: =WORKDAY(AS2,3,_JF) -> 43728 | AW2: =WORKDAY(AU2,0,_JF) -> 43728 | AY2: =WORKDAY(AW2,1,_JF) -> 43731 | BA2: =WORKDAY(AY2,1,_JF) -> 43732 | BC2: =WORKDAY(BA2,0,_JF) -> 43732 | BE2: =WORKDAY(BC2,1,_JF) -> 43733 | BG2: =WORKDAY(BE2,0,_JF) -> 43733 | BI2: =WORKDAY(BG2,1,_JF) -> 43734 | BK2: =WORKDAY(BI2,1,_JF) -> 43735 | BM2: =WORKDAY(BK2,0,_JF) -> 43735 | BO2: =WORKDAY(BM2,1) -> 43738 | BP2: 43737 | BQ2: Contrôle visuel final | BR2: En cours
A3: ='Production amont'!A:A -> 01AA605 | B3: ='Production amont'!B:B -> Ecope 1B | C3: =VLOOKUP(A3,'Production amont'!A:T,20,0) -> 43703 | D3: =VLOOKUP(A3,'Production amont'!A:T,19,0) -> 43703 | E3: =WORKDAY(D3,2,_JF) -> 43705 | G3: =WORKDAY(E3,1,_JF) -> 43706 | I3: =WORKDAY(G3,1,_JF) -> 43707 | K3: =WORKDAY(I3,1,_JF) -> 43710 | M3: =WORKDAY(K3,0,_JF) -> 43710 | O3: =WORKDAY(M3,2,_JF) -> 43712 | Q3: =WORKDAY(O3,1,_JF) -> 43713 | S3: =WORKDAY(Q3,1,_JF) -> 43714 | U3: =WORKDAY(S3,1,_JF) -> 43717 | W3: =WORKDAY(U3,0,_JF) -> 43717 | Y3: =WORKDAY(W3,1,_JF) -> 43718 | AA3: =WORKDAY(Y3,0,_JF) -> 43718 | AC3: =WORKDAY(AA3,1,_JF) -> 43719 | AE3: =WORKDAY(AC3,0,_JF) -> 43719 | AG3: =WORKDAY(AE3,1,_JF) -> 43720 | AI3: =WORKDAY(AG3,0,_JF) -> 43720 | AK3: =WORKDAY(AI3,1,_JF) -> 43721 | AM3: =WORKDAY(AK3,1,_JF) -> 43724 | AO3: =WORKDAY(AM3,1,_JF) -> 43725 | AQ3: =WORKDAY(AO3,0,_JF) -> 43725 | AS3: =WORKDAY(AQ3,1,_JF) -> 43726 | AU3: =WORKDAY(AS3,3,_JF) -> 43731 | AW3: =WORKDAY(AU3,0,_JF) -> 43731 | AY3: =WORKDAY(AW3,1,_JF) -> 43732 | BA3: =WORKDAY(AY3,1,_JF) -> 43733 | BC3: =WORKDAY(BA3,0,_JF) -> 43733 | BE3: =WORKDAY(BC3,1,_JF) -> 43734 | BG3: =WORKDAY(BE3,0,_JF) -> 43734 | BI3: =WORKDAY(BG3,1,_JF) -> 43735 | BK3: =WORKDAY(BI3,1,_JF) -> 43738 | BM3: =WORKDAY(BK3,0,_JF) -> 43738 | BO3: =WORKDAY(BM3,1) -> 43739 | BP3: 43740 | BQ3: Contrôle visuel final | BR3: En cours
A4: ='Production amont'!A:A -> 01AA606 | B4: ='Production amont'!B:B -> Ecope 1B | C4: =VLOOKUP(A4,'Production amont'!A:T,20,0) -> 43704 | D4: =VLOOKUP(A4,'Production amont'!A:T,19,0) -> 43704 | E4: =WORKDAY(D4,2,_JF) -> 43706 | G4: =WORKDAY(E4,1,_JF) -> 43707 | I4: =WORKDAY(G4,1,_JF) -> 43710 | K4: =WORKDAY(I4,1,_JF) -> 43711 | M4: =WORKDAY(K4,0,_JF) -> 43711 | O4: =WORKDAY(M4,2,_JF) -> 43713 | Q4: =WORKDAY(O4,1,_JF) -> 43714 | S4: =WORKDAY(Q4,1,_JF) -> 43717 | U4: =WORKDAY(S4,1,_JF) -> 43718 | W4: =WORKDAY(U4,0,_JF) -> 43718 | Y4: =WORKDAY(W4,1,_JF) -> 43719 | AA4: =WORKDAY(Y4,0,_JF) -> 43719 | AC4: =WORKDAY(AA4,1,_JF) -> 43720 | AE4: =WORKDAY(AC4,0,_JF) -> 43720 | AG4: =WORKDAY(AE4,1,_JF) -> 43721 | AI4: =WORKDAY(AG4,0,_JF) -> 43721 | AK4: =WORKDAY(AI4,1,_JF) -> 43724 | AM4: =WORKDAY(AK4,1,_JF) -> 43725 | AO4: =WORKDAY(AM4,1,_JF) -> 43726 | AQ4: =WORKDAY(AO4,0,_JF) -> 43726 | AS4: =WORKDAY(AQ4,1,_JF) -> 43727 | AU4: =WORKDAY(AS4,3,_JF) -> 43732 | AW4: =WORKDAY(AU4,0,_JF) -> 43732 | AY4: =WORKDAY(AW4,1,_JF) -> 43733 | BA4: =WORKDAY(AY4,1,_JF) -> 43734 | BC4: =WORKDAY(BA4,0,_JF) -> 43734 | BE4: =WORKDAY(BC4,1,_JF) -> 43735 | BG4: =WORKDAY(BE4,0,_JF) -> 43735 | BI4: =WORKDAY(BG4,1,_JF) -> 43738 | BK4: =WORKDAY(BI4,1,_JF) -> 43739 | BM4: =WORKDAY(BK4,0,_JF) -> 43739 | BO4: =WORKDAY(BM4,1) -> 43740 | BQ4: Contrôle visuel final | BR4: En cours
A5: ='Production amont'!A:A -> 01AA607 | B5: ='Production amont'!B:B -> Ecope 1B | C5: =VLOOKUP(A5,'Production amont'!A:T,20,0) -> 43705 | D5: =VLOOKUP(A5,'Production amont'!A:T,19,0) -> 43705 | E5: =WORKDAY(D5,2,_JF) -> 43707 | G5: =WORKDAY(E5,1,_JF) -> 43710 | I5: =WORKDAY(G5,1,_JF) -> 43711 | K5: =WORKDAY(I5,1,_JF) -> 43712 | M5: =WORKDAY(K5,0,_JF) -> 43712 | O5: =WORKDAY(M5,2,_JF) -> 43714 | Q5: =WORKDAY(O5,1,_JF) -> 43717 | S5: =WORKDAY(Q5,1,_JF) -> 43718 | U5: =WORKDAY(S5,1,_JF) -> 43719 | W5: =WORKDAY(U5,0,_JF) -> 43719 | Y5: =WORKDAY(W5,1,_JF) -> 43720 | AA5: =WORKDAY(Y5,0,_JF) -> 43720 | AC5: =WORKDAY(AA5,1,_JF) -> 43721 | AE5: =WORKDAY(AC5,0,_JF) -> 43721 | AG5: =WORKDAY(AE5,1,_JF) -> 43724 | AI5: =WORKDAY(AG5,0,_JF) -> 43724 | AK5: =WORKDAY(AI5,1,_JF) -> 43725 | AM5: =WORKDAY(AK5,1,_JF) -> 43726 | AO5: =WORKDAY(AM5,1,_JF) -> 43727 | AQ5: =WORKDAY(AO5,0,_JF) -> 43727 | AS5: =WORKDAY(AQ5,1,_JF) -> 43728 | AU5: =WORKDAY(AS5,3,_JF) -> 43733 | AW5: =WORKDAY(AU5,0,_JF) -> 43733 | AY5: =WORKDAY(AW5,1,_JF) -> 43734 | BA5: =WORKDAY(AY5,1,_JF) -> 43735 | BC5: =WORKDAY(BA5,0,_JF) -> 43735 | BE5: =WORKDAY(BC5,1,_JF) -> 43738 | BG5: =WORKDAY(BE5,0,_JF) -> 43738 | BI5: =WORKDAY(BG5,1,_JF) -> 43739 | BK5: =WORKDAY(BI5,1,_JF) -> 43740 | BM5: =WORKDAY(BK5,0,_JF) -> 43740 | BO5: =WORKDAY(BM5,1) -> 43741 | BQ5: Contrôle visuel final | BR5: En cours
A6: ='Production amont'!A:A -> 01AA608 | B6: ='Production amont'!B:B -> Ecope 1B | C6: =VLOOKUP(A6,'Production amont'!A:T,20,0) -> 43706 | D6: =VLOOKUP(A6,'Production amont'!A:T,19,0) -> 43706 | E6: =WORKDAY(D6,2,_JF) -> 43710 | G6: =WORKDAY(E6,1,_JF) -> 43711 | I6: =WORKDAY(G6,1,_JF) -> 43712 | K6: =WORKDAY(I6,1,_JF) -> 43713 | M6: =WORKDAY(K6,0,_JF) -> 43713 | O6: =WORKDAY(M6,2,_JF) -> 43717 | Q6: =WORKDAY(O6,1,_JF) -> 43718 | S6: =WORKDAY(Q6,1,_JF) -> 43719 | U6: =WORKDAY(S6,1,_JF) -> 43720 | W6: =WORKDAY(U6,0,_JF) -> 43720 | Y6: =WORKDAY(W6,1,_JF) -> 43721 | AA6: =WORKDAY(Y6,0,_JF) -> 43721 | AC6: =WORKDAY(AA6,1,_JF) -> 43724 | AE6: =WORKDAY(AC6,0,_JF) -> 43724 | AG6: =WORKDAY(AE6,1,_JF) -> 43725 | AI6: =WORKDAY(AG6,0,_JF) -> 43725 | AK6: =WORKDAY(AI6,1,_JF) -> 43726 | AM6: =WORKDAY(AK6,1,_JF) -> 43727 | AO6: =WORKDAY(AM6,1,_JF) -> 43728 | AQ6: =WORKDAY(AO6,0,_JF) -> 43728 | AS6: =WORKDAY(AQ6,1,_JF) -> 43731 | AU6: =WORKDAY(AS6,3,_JF) -> 43734 | AW6: =WORKDAY(AU6,0,_JF) -> 43734 | AY6: =WORKDAY(AW6,1,_JF) -> 43735 | BA6: =WORKDAY(AY6,1,_JF) -> 43738 | BC6: =WORKDAY(BA6,0,_JF) -> 43738 | BE6: =WORKDAY(BC6,1,_JF) -> 43739 | BG6: =WORKDAY(BE6,0,_JF) -> 43739 | BI6: =WORKDAY(BG6,1,_JF) -> 43740 | BK6: =WORKDAY(BI6,1,_JF) -> 43741 | BM6: =WORKDAY(BK6,0,_JF) -> 43741 | BO6: =WORKDAY(BM6,1) -> 43742 | BQ6: Radiographie finale | BR6: En cours
A7: ='Production amont'!A:A -> 01AA609 | B7: ='Production amont'!B:B -> Ecope 1B | C7: =VLOOKUP(A7,'Production amont'!A:T,20,0) -> 43707 | D7: =VLOOKUP(A7,'Production amont'!A:T,19,0) -> 43707 | E7: =WORKDAY(D7,2,_JF) -> 43711 | G7: =WORKDAY(E7,1,_JF) -> 43712 | I7: =WORKDAY(G7,1,_JF) -> 43713 | K7: =WORKDAY(I7,1,_JF) -> 43714 | M7: =WORKDAY(K7,0,_JF) -> 43714 | O7: =WORKDAY(M7,2,_JF) -> 43718 | Q7: =WORKDAY(O7,1,_JF) -> 43719 | S7: =WORKDAY(Q7,1,_JF) -> 43720 | U7: =WORKDAY(S7,1,_JF) -> 43721 | W7: =WORKDAY(U7,0,_JF) -> 43721 | Y7: =WORKDAY(W7,1,_JF) -> 43724 | AA7: =WORKDAY(Y7,0,_JF) -> 43724 | AC7: =WORKDAY(AA7,1,_JF) -> 43725 | AE7: =WORKDAY(AC7,0,_JF) -> 43725 | AG7: =WORKDAY(AE7,1,_JF) -> 43726 | AI7: =WORKDAY(AG7,0,_JF) -> 43726 | AK7: =WORKDAY(AI7,1,_JF) -> 43727 | AM7: =WORKDAY(AK7,1,_JF) -> 43728 | AO7: =WORKDAY(AM7,1,_JF) -> 43731 | AQ7: =WORKDAY(AO7,0,_JF) -> 43731 | AS7: =WORKDAY(AQ7,1,_JF) -> 43732 | AU7: =WORKDAY(AS7,3,_JF) -> 43735 | AW7: =WORKDAY(AU7,0,_JF) -> 43735 | AY7: =WORKDAY(AW7,1,_JF) -> 43738 | BA7: =WORKDAY(AY7,1,_JF) -> 43739 | BC7: =WORKDAY(BA7,0,_JF) -> 43739 | BE7: =WORKDAY(BC7,1,_JF) -> 43740 | BG7: =WORKDAY(BE7,0,_JF) -> 43740 | BI7: =WORKDAY(BG7,1,_JF) -> 43741 | BK7: =WORKDAY(BI7,1,_JF) -> 43742 | BM7: =WORKDAY(BK7,0,_JF) -> 43742 | BO7: =WORKDAY(BM7,1) -> 43745 | BQ7: Préchauffage et coulée | BR7: En cours
A8: ='Production amont'!A:A -> 01AA610 | B8: ='Production amont'!B:B -> Ecope 1B | C8: =VLOOKUP(A8,'Production amont'!A:T,20,0) -> 43708 | D8: =VLOOKUP(A8,'Production amont'!A:T,19,0) -> 43707 | E8: =WORKDAY(D8,2,_JF) -> 43711 | G8: =WORKDAY(E8,1,_JF) -> 43712 | I8: =WORKDAY(G8,1,_JF) -> 43713 | K8: =WORKDAY(I8,1,_JF) -> 43714 | M8: =WORKDAY(K8,0,_JF) -> 43714 | O8: =WORKDAY(M8,2,_JF) -> 43718 | Q8: =WORKDAY(O8,1,_JF) -> 43719 | S8: =WORKDAY(Q8,1,_JF) -> 43720 | U8: =WORKDAY(S8,1,_JF) -> 43721 | W8: =WORKDAY(U8,0,_JF) -> 43721 | Y8: =WORKDAY(W8,1,_JF) -> 43724 | AA8: =WORKDAY(Y8,0,_JF) -> 43724 | AC8: =WORKDAY(AA8,1,_JF) -> 43725 | AE8: =WORKDAY(AC8,0,_JF) -> 43725 | AG8: =WORKDAY(AE8,1,_JF) -> 43726 | AI8: =WORKDAY(AG8,0,_JF) -> 43726 | AK8: =WORKDAY(AI8,1,_JF) -> 43727 | AM8: =WORKDAY(AK8,1,_JF) -> 43728 | AO8: =WORKDAY(AM8,1,_JF) -> 43731 | AQ8: =WORKDAY(AO8,0,_JF) -> 43731 | AS8: =WORKDAY(AQ8,1,_JF) -> 43732 | AU8: =WORKDAY(AS8,3,_JF) -> 43735 | AW8: =WORKDAY(AU8,0,_JF) -> 43735 | AY8: =WORKDAY(AW8,1,_JF) -> 43738 | BA8: =WORKDAY(AY8,1,_JF) -> 43739 | BC8: =WORKDAY(BA8,0,_JF) -> 43739 | BE8: =WORKDAY(BC8,1,_JF) -> 43740 | BG8: =WORKDAY(BE8,0,_JF) -> 43740 | BI8: =WORKDAY(BG8,1,_JF) -> 43741 | BK8: =WORKDAY(BI8,1,_JF) -> 43742 | BM8: =WORKDAY(BK8,0,_JF) -> 43742 | BO8: =WORKDAY(BM8,1) -> 43745 | BQ8: Préchauffage et coulée | BR8: En cours
A9: ='Production amont'!A:A -> 01AA611 | B9: ='Production amont'!B:B -> Ecope 1B | C9: =VLOOKUP(A9,'Production amont'!A:T,20,0) -> 43709 | D9: =VLOOKUP(A9,'Production amont'!A:T,19,0) -> 43707 | E9: =WORKDAY(D9,2,_JF) -> 43711 | G9: =WORKDAY(E9,1,_JF) -> 43712 | I9: =WORKDAY(G9,1,_JF) -> 43713 | K9: =WORKDAY(I9,1,_JF) -> 43714 | M9: =WORKDAY(K9,0,_JF) -> 43714 | O9: =WORKDAY(M9,2,_JF) -> 43718 | Q9: =WORKDAY(O9,1,_JF) -> 43719 | S9: =WORKDAY(Q9,1,_JF) -> 43720 | U9: =WORKDAY(S9,1,_JF) -> 43721 | W9: =WORKDAY(U9,0,_JF) -> 43721 | Y9: =WORKDAY(W9,1,_JF) -> 43724 | AA9: =WORKDAY(Y9,0,_JF) -> 43724 | AC9: =WORKDAY(AA9,1,_JF) -> 43725 | AE9: =WORKDAY(AC9,0,_JF) -> 43725 | AG9: =WORKDAY(AE9,1,_JF) -> 43726 | AI9: =WORKDAY(AG9,0,_JF) -> 43726 | AK9: =WORKDAY(AI9,1,_JF) -> 43727 | AM9: =WORKDAY(AK9,1,_JF) -> 43728 | AO9: =WORKDAY(AM9,1,_JF) -> 43731 | AQ9: =WORKDAY(AO9,0,_JF) -> 43731 | AS9: =WORKDAY(AQ9,1,_JF) -> 43732 | AU9: =WORKDAY(AS9,3,_JF) -> 43735 | AW9: =WORKDAY(AU9,0,_JF) -> 43735 | AY9: =WORKDAY(AW9,1,_JF) -> 43738 | BA9: =WORKDAY(AY9,1,_JF) -> 43739 | BC9: =WORKDAY(BA9,0,_JF) -> 43739 | BE9: =WORKDAY(BC9,1,_JF) -> 43740 | BG9: =WORKDAY(BE9,0,_JF) -> 43740 | BI9: =WORKDAY(BG9,1,_JF) -> 43741 | BK9: =WORKDAY(BI9,1,_JF) -> 43742 | BM9: =WORKDAY(BK9,0,_JF) -> 43742 | BO9: =WORKDAY(BM9,1) -> 43745 | BQ9: Préchauffage et coulée | BR9: En cours
A10: ='Production amont'!A:A -> 01AA612 | B10: ='Production amont'!B:B -> Ecope 1B | C10: =VLOOKUP(A10,'Production amont'!A:T,20,0) -> 43710 | D10: =VLOOKUP(A10,'Production amont'!A:T,19,0) -> 43710 | E10: =WORKDAY(D10,2,_JF) -> 43712 | G10: =WORKDAY(E10,1,_JF) -> 43713 | I10: =WORKDAY(G10,1,_JF) -> 43714 | K10: =WORKDAY(I10,1,_JF) -> 43717 | M10: =WORKDAY(K10,0,_JF) -> 43717 | O10: =WORKDAY(M10,2,_JF) -> 43719 | Q10: =WORKDAY(O10,1,_JF) -> 43720 | S10: =WORKDAY(Q10,1,_JF) -> 43721 | U10: =WORKDAY(S10,1,_JF) -> 43724 | W10: =WORKDAY(U10,0,_JF) -> 43724 | Y10: =WORKDAY(W10,1,_JF) -> 43725 | AA10: =WORKDAY(Y10,0,_JF) -> 43725 | AC10: =WORKDAY(AA10,1,_JF) -> 43726 | AE10: =WORKDAY(AC10,0,_JF) -> 43726 | AG10: =WORKDAY(AE10,1,_JF) -> 43727 | AI10: =WORKDAY(AG10,0,_JF) -> 43727 | AK10: =WORKDAY(AI10,1,_JF) -> 43728 | AM10: =WORKDAY(AK10,1,_JF) -> 43731 | AO10: =WORKDAY(AM10,1,_JF) -> 43732 | AQ10: =WORKDAY(AO10,0,_JF) -> 43732 | AS10: =WORKDAY(AQ10,1,_JF) -> 43733 | AU10: =WORKDAY(AS10,3,_JF) -> 43738 | AW10: =WORKDAY(AU10,0,_JF) -> 43738 | AY10: =WORKDAY(AW10,1,_JF) -> 43739 | BA10: =WORKDAY(AY10,1,_JF) -> 43740 | BC10: =WORKDAY(BA10,0,_JF) -> 43740 | BE10: =WORKDAY(BC10,1,_JF) -> 43741 | BG10: =WORKDAY(BE10,0,_JF) -> 43741 | BI10: =WORKDAY(BG10,1,_JF) -> 43742 | BK10: =WORKDAY(BI10,1,_JF) -> 43745 | BM10: =WORKDAY(BK10,0,_JF) -> 43745 | BO10: =WORKDAY(BM10,1) -> 43746 | BQ10: Préchauffage et coulée | BR10: En cours
A11: ='Production amont'!A:A -> 01AA613 | B11: ='Production amont'!B:B -> Ecope 1B | C11: =VLOOKUP(A11,'Production amont'!A:T,20,0) -> 43711 | D11: =VLOOKUP(A11,'Production amont'!A:T,19,0) -> 43711 | E11: =WORKDAY(D11,2,_JF) -> 43713 | G11: =WORKDAY(E11,1,_JF) -> 43714 | I11: =WORKDAY(G11,1,_JF) -> 43717 | K11: =WORKDAY(I11,1,_JF) -> 43718 | M11: =WORKDAY(K11,0,_JF) -> 43718 | O11: =WORKDAY(M11,2,_JF) -> 43720 | Q11: =WORKDAY(O11,1,_JF) -> 43721 | S11: =WORKDAY(Q11,1,_JF) -> 43724 | U11: =WORKDAY(S11,1,_JF) -> 43725 | W11: =WORKDAY(U11,0,_JF) -> 43725 | Y11: =WORKDAY(W11,1,_JF) -> 43726 | AA11: =WORKDAY(Y11,0,_JF) -> 43726 | AC11: =WORKDAY(AA11,1,_JF) -> 43727 | AE11: =WORKDAY(AC11,0,_JF) -> 43727 | AG11: =WORKDAY(AE11,1,_JF) -> 43728 | AI11: =WORKDAY(AG11,0,_JF) -> 43728 | AK11: =WORKDAY(AI11,1,_JF) -> 43731 | AM11: =WORKDAY(AK11,1,_JF) -> 43732 | AO11: =WORKDAY(AM11,1,_JF) -> 43733 | AQ11: =WORKDAY(AO11,0,_JF) -> 43733 | AS11: =WORKDAY(AQ11,1,_JF) -> 43734 | AU11: =WORKDAY(AS11,3,_JF) -> 43739 | AW11: =WORKDAY(AU11,0,_JF) -> 43739 | AY11: =WORKDAY(AW11,1,_JF) -> 43740 | BA11: =WORKDAY(AY11,1,_JF) -> 43741 | BC11: =WORKDAY(BA11,0,_JF) -> 43741 | BE11: =WORKDAY(BC11,1,_JF) -> 43742 | BG11: =WORKDAY(BE11,0,_JF) -> 43742 | BI11: =WORKDAY(BG11,1,_JF) -> 43745 | BK11: =WORKDAY(BI11,1,_JF) -> 43746 | BM11: =WORKDAY(BK11,0,_JF) -> 43746 | BO11: =WORKDAY(BM11,1) -> 43747 | BQ11: Préchauffage et coulée | BR11: En cours
A12: ='Production amont'!A:A -> 01AA614 | B12: ='Production amont'!B:B -> Ecope 1B | C12: =VLOOKUP(A12,'Production amont'!A:T,20,0) -> 43712 | D12: =VLOOKUP(A12,'Production amont'!A:T,19,0) -> 43712 | E12: =WORKDAY(D12,2,_JF) -> 43714 | G12: =WORKDAY(E12,1,_JF) -> 43717 | I12: =WORKDAY(G12,1,_JF) -> 43718 | K12: =WORKDAY(I12,1,_JF) -> 43719 | M12: =WORKDAY(K12,0,_JF) -> 43719 | O12: =WORKDAY(M12,2,_JF) -> 43721 | Q12: =WORKDAY(O12,1,_JF) -> 43724 | S12: =WORKDAY(Q12,1,_JF) -> 43725 | U12: =WORKDAY(S12,1,_JF) -> 43726 | W12: =WORKDAY(U12,0,_JF) -> 43726 | Y12: =WORKDAY(W12,1,_JF) -> 43727 | AA12: =WORKDAY(Y12,0,_JF) -> 43727 | AC12: =WORKDAY(AA12,1,_JF) -> 43728 | AE12: =WORKDAY(AC12,0,_JF) -> 43728 | AG12: =WORKDAY(AE12,1,_JF) -> 43731 | AI12: =WORKDAY(AG12,0,_JF) -> 43731 | AK12: =WORKDAY(AI12,1,_JF) -> 43732 | AM12: =WORKDAY(AK12,1,_JF) -> 43733 | AO12: =WORKDAY(AM12,1,_JF) -> 43734 | AQ12: =WORKDAY(AO12,0,_JF) -> 43734 | AS12: =WORKDAY(AQ12,1,_JF) -> 43735 | AU12: =WORKDAY(AS12,3,_JF) -> 43740 | AW12: =WORKDAY(AU12,0,_JF) -> 43740 | AY12: =WORKDAY(AW12,1,_JF) -> 43741 | BA12: =WORKDAY(AY12,1,_JF) -> 43742 | BC12: =WORKDAY(BA12,0,_JF) -> 43742 | BE12: =WORKDAY(BC12,1,_JF) -> 43745 | BG12: =WORKDAY(BE12,0,_JF) -> 43745 | BI12: =WORKDAY(BG12,1,_JF) -> 43746 | BK12: =WORKDAY(BI12,1,_JF) -> 43747 | BM12: =WORKDAY(BK12,0,_JF) -> 43747 | BO12: =WORKDAY(BM12,1) -> 43748 | BQ12: Préchauffage et coulée | BR12: En cours
A13: ='Production amont'!A:A -> 01AA615 | B13: ='Production amont'!B:B -> Ecope 1B | C13: =VLOOKUP(A13,'Production amont'!A:T,20,0) -> 43713 | D13: =VLOOKUP(A13,'Production amont'!A:T,19,0) -> 43713 | E13: =WORKDAY(D13,2,_JF) -> 43717 | G13: =WORKDAY(E13,1,_JF) -> 43718 | I13: =WORKDAY(G13,1,_JF) -> 43719 | K13: =WORKDAY(I13,1,_JF) -> 43720 | M13: =WORKDAY(K13,0,_JF) -> 43720 | O13: =WORKDAY(M13,2,_JF) -> 43724 | Q13: =WORKDAY(O13,1,_JF) -> 43725 | S13: =WORKDAY(Q13,1,_JF) -> 43726 | U13: =WORKDAY(S13,1,_JF) -> 43727 | W13: =WORKDAY(U13,0,_JF) -> 43727 | Y13: =WORKDAY(W13,1,_JF) -> 43728 | AA13: =WORKDAY(Y13,0,_JF) -> 43728 | AC13: =WORKDAY(AA13,1,_JF) -> 43731 | AE13: =WORKDAY(AC13,0,_JF) -> 43731 | AG13: =WORKDAY(AE13,1,_JF) -> 43732 | AI13: =WORKDAY(AG13,0,_JF) -> 43732 | AK13: =WORKDAY(AI13,1,_JF) -> 43733 | AM13: =WORKDAY(AK13,1,_JF) -> 43734 | AO13: =WORKDAY(AM13,1,_JF) -> 43735 | AQ13: =WORKDAY(AO13,0,_JF) -> 43735 | AS13: =WORKDAY(AQ13,1,_JF) -> 43738 | AU13: =WORKDAY(AS13,3,_JF) -> 43741 | AW13: =WORKDAY(AU13,0,_JF) -> 43741 | AY13: =WORKDAY(AW13,1,_JF) -> 43742 | BA13: =WORKDAY(AY13,1,_JF) -> 43745 | BC13: =WORKDAY(BA13,0,_JF) -> 43745 | BE13: =WORKDAY(BC13,1,_JF) -> 43746 | BG13: =WORKDAY(BE13,0,_JF) -> 43746 | BI13: =WORKDAY(BG13,1,_JF) -> 43747 | BK13: =WORKDAY(BI13,1,_JF) -> 43748 | BM13: =WORKDAY(BK13,0,_JF) -> 43748 | BO13: =WORKDAY(BM13,1) -> 43749 | BQ13: Préchauffage et coulée | BR13: En cours
A14: ='Production amont'!A:A -> 01AA616 | B14: ='Production amont'!B:B -> Ecope 1B | C14: =VLOOKUP(A14,'Production amont'!A:T,20,0) -> 43714 | D14: =VLOOKUP(A14,'Production amont'!A:T,19,0) -> 43714 | E14: =WORKDAY(D14,2,_JF) -> 43718 | G14: =WORKDAY(E14,1,_JF) -> 43719 | I14: =WORKDAY(G14,1,_JF) -> 43720 | K14: =WORKDAY(I14,1,_JF) -> 43721 | M14: =WORKDAY(K14,0,_JF) -> 43721 | O14: =WORKDAY(M14,2,_JF) -> 43725 | Q14: =WORKDAY(O14,1,_JF) -> 43726 | S14: =WORKDAY(Q14,1,_JF) -> 43727 | U14: =WORKDAY(S14,1,_JF) -> 43728 | W14: =WORKDAY(U14,0,_JF) -> 43728 | Y14: =WORKDAY(W14,1,_JF) -> 43731 | AA14: =WORKDAY(Y14,0,_JF) -> 43731 | AC14: =WORKDAY(AA14,1,_JF) -> 43732 | AE14: =WORKDAY(AC14,0,_JF) -> 43732 | AG14: =WORKDAY(AE14,1,_JF) -> 43733 | AI14: =WORKDAY(AG14,0,_JF) -> 43733 | AK14: =WORKDAY(AI14,1,_JF) -> 43734 | AM14: =WORKDAY(AK14,1,_JF) -> 43735 | AO14: =WORKDAY(AM14,1,_JF) -> 43738 | AQ14: =WORKDAY(AO14,0,_JF) -> 43738 | AS14: =WORKDAY(AQ14,1,_JF) -> 43739 | AU14: =WORKDAY(AS14,3,_JF) -> 43742 | AW14: =WORKDAY(AU14,0,_JF) -> 43742 | AY14: =WORKDAY(AW14,1,_JF) -> 43745 | BA14: =WORKDAY(AY14,1,_JF) -> 43746 | BC14: =WORKDAY(BA14,0,_JF) -> 43746 | BE14: =WORKDAY(BC14,1,_JF) -> 43747 | BG14: =WORKDAY(BE14,0,_JF) -> 43747 | BI14: =WORKDAY(BG14,1,_JF) -> 43748 | BK14: =WORKDAY(BI14,1,_JF) -> 43749 | BM14: =WORKDAY(BK14,0,_JF) -> 43749 | BO14: =WORKDAY(BM14,1) -> 43752 | BQ14: Préchauffage et coulée | BR14: En cours
A15: ='Production amont'!A:A -> 01AA617 | B15: ='Production amont'!B:B -> Ecope 1B | C15: =VLOOKUP(A15,'Production amont'!A:T,20,0) -> 43715 | D15: =VLOOKUP(A15,'Production amont'!A:T,19,0) -> 43714 | E15: =WORKDAY(D15,2,_JF) -> 43718 | G15: =WORKDAY(E15,1,_JF) -> 43719 | I15: =WORKDAY(G15,1,_JF) -> 43720 | K15: =WORKDAY(I15,1,_JF) -> 43721 | M15: =WORKDAY(K15,0,_JF) -> 43721 | O15: =WORKDAY(M15,2,_JF) -> 43725 | Q15: =WORKDAY(O15,1,_JF) -> 43726 | S15: =WORKDAY(Q15,1,_JF) -> 43727 | U15: =WORKDAY(S15,1,_JF) -> 43728 | W15: =WORKDAY(U15,0,_JF) -> 43728 | Y15: =WORKDAY(W15,1,_JF) -> 43731 | AA15: =WORKDAY(Y15,0,_JF) -> 43731 | AC15: =WORKDAY(AA15,1,_JF) -> 43732 | AE15: =WORKDAY(AC15,0,_JF) -> 43732 | AG15: =WORKDAY(AE15,1,_JF) -> 43733 | AI15: =WORKDAY(AG15,0,_JF) -> 43733 | AK15: =WORKDAY(AI15,1,_JF) -> 43734 | AM15: =WORKDAY(AK15,1,_JF) -> 43735 | AO15: =WORKDAY(AM15,1,_JF) -> 43738 | AQ15: =WORKDAY(AO15,0,_JF) -> 43738 | AS15: =WORKDAY(AQ15,1,_JF) -> 43739 | AU15: =WORKDAY(AS15,3,_JF) -> 43742 | AW15: =WORKDAY(AU15,0,_JF) -> 43742 | AY15: =WORKDAY(AW15,1,_JF) -> 43745 | BA15: =WORKDAY(AY15,1,_JF) -> 43746 | BC15: =WORKDAY(BA15,0,_JF) -> 43746 | BE15: =WORKDAY(BC15,1,_JF) -> 43747 | BG15: =WORKDAY(BE15,0,_JF) -> 43747 | BI15: =WORKDAY(BG15,1,_JF) -> 43748 | BK15: =WORKDAY(BI15,1,_JF) -> 43749 | BM15: =WORKDAY(BK15,0,_JF) -> 43749 | BO15: =WORKDAY(BM15,1) -> 43752 | BQ15: Préchauffage et coulée | BR15: En cours
... A67: ='Production amont'!A:A -> 01AA669 | B67: ='Production amont'!B:B -> Ecope 1B | C67: =VLOOKUP(A67,'Production amont'!A:T,20,0) -> 43767 | D67: =VLOOKUP(A67,'Production amont'!A:T,19,0) -> 43766 | E67: =WORKDAY(D67,2,_JF) -> 43768 | G67: =WORKDAY(E67,1,_JF) -> 43769 | I67: =WORKDAY(G67,1,_JF) -> 43773 | K67: =WORKDAY(I67,1,_JF) -> 43774 | M67: =WORKDAY(K67,0,_JF) -> 43774 | O67: =WORKDAY(M67,2,_JF) -> 43776 | Q67: =WORKDAY(O67,1,_JF) -> 43777 | S67: =WORKDAY(Q67,1,_JF) -> 43781 | U67: =WORKDAY(S67,1,_JF) -> 43782 | W67: =WORKDAY(U67,0,_JF) -> 43782 | Y67: =WORKDAY(W67,1,_JF) -> 43783 | AA67: =WORKDAY(Y67,0,_JF) -> 43783 | AC67: =WORKDAY(AA67,1,_JF) -> 43784 | AE67: =WORKDAY(AC67,0,_JF) -> 43784 | AG67: =WORKDAY(AE67,1,_JF) -> 43787 | AI67: =WORKDAY(AG67,0,_JF) -> 43787 | AK67: =WORKDAY(AI67,1,_JF) -> 43788 | AM67: =WORKDAY(AK67,1,_JF) -> 43789 | AO67: =WORKDAY(AM67,1,_JF) -> 43790 | AQ67: =WORKDAY(AO67,0,_JF) -> 43790 | AS67: =WORKDAY(AQ67,1,_JF) -> 43791 | AU67: =WORKDAY(AS67,3,_JF) -> 43796 | AW67: =WORKDAY(AU67,0,_JF) -> 43796 | AY67: =WORKDAY(AW67,1,_JF) -> 43797 | BA67: =WORKDAY(AY67,1,_JF) -> 43798 | BC67: =WORKDAY(BA67,0,_JF) -> 43798 | BE67: =WORKDAY(BC67,1,_JF) -> 43801 | BG67: =WORKDAY(BE67,0,_JF) -> 43801 | BI67: =WORKDAY(BG67,1,_JF) -> 43802 | BK67: =WORKDAY(BI67,1,_JF) -> 43803 | BM67: =WORKDAY(BK67,0,_JF) -> 43803 | BO67: =WORKDAY(BM67,1) -> 43804 | BQ67: Préchauffage et coulée | BR67: En cours

Sheet Récapitulatif délais
A1: ='Production amont'!A:A -> N° Série | B1: ='Production amont'!B:B -> Désignation | C1: ='Production amont'!C:C -> Création FS | D1: Prévision Amont | E1: ='Production amont'!T:T -> Réalisé fin amont | F1: ='Production aval'!BO:BO -> Prévision sortie aval | G1: ='Production aval'!BP:BP -> Réalisé sortie aval | H1: ='Production amont'!D:D -> Objectif (45j)
A2: ='Production amont'!A:A -> 01AA604 | B2: ='Production amont'!B:B -> Ecope 1B | C2: =VLOOKUP(A2,'Production amont'!A:T,3,0) -> 43674 | D2: =VLOOKUP(A2,'Production amont'!A:T,13,0) -> 43698 | E2: =VLOOKUP(A2,'Production amont'!A:T,20,0) -> 43702 | F2: =VLOOKUP(A2,'Production aval'!A:BP,67,0) -> 43738 | G2: =VLOOKUP(A2,'Production aval'!A:BP,68,0) -> 43737 | H2: =VLOOKUP(A2,'Production amont'!A:T,4,0) -> 43735
A3: ='Production amont'!A:A -> 01AA605 | B3: ='Production amont'!B:B -> Ecope 1B | C3: =VLOOKUP(A3,'Production amont'!A:T,3,0) -> 43675 | D3: =VLOOKUP(A3,'Production amont'!A:T,13,0) -> 43699 | E3: =VLOOKUP(A3,'Production amont'!A:T,20,0) -> 43703 | F3: =VLOOKUP(A3,'Production aval'!A:BP,67,0) -> 43739 | G3: =VLOOKUP(A3,'Production aval'!A:BP,68,0) -> 43740 | H3: =VLOOKUP(A3,'Production amont'!A:T,4,0) -> 43738
A4: ='Production amont'!A:A -> 01AA606 | B4: ='Production amont'!B:B -> Ecope 1B | C4: =VLOOKUP(A4,'Production amont'!A:T,3,0) -> 43676 | D4: =VLOOKUP(A4,'Production amont'!A:T,13,0) -> 43700 | E4: =VLOOKUP(A4,'Production amont'!A:T,20,0) -> 43704 | F4: =VLOOKUP(A4,'Production aval'!A:BP,67,0) -> 43740 | G4: =VLOOKUP(A4,'Production aval'!A:BP,68,0) -> 0 | H4: =VLOOKUP(A4,'Production amont'!A:T,4,0) -> 43739
A5: ='Production amont'!A:A -> 01AA607 | B5: ='Production amont'!B:B -> Ecope 1B | C5: =VLOOKUP(A5,'Production amont'!A:T,3,0) -> 43677 | D5: =VLOOKUP(A5,'Production amont'!A:T,13,0) -> 43703 | E5: =VLOOKUP(A5,'Production amont'!A:T,20,0) -> 43705 | F5: =VLOOKUP(A5,'Production aval'!A:BP,67,0) -> 43741 | G5: =VLOOKUP(A5,'Production aval'!A:BP,68,0) -> 0 | H5: =VLOOKUP(A5,'Production amont'!A:T,4,0) -> 43740
A6: ='Production amont'!A:A -> 01AA608 | B6: ='Production amont'!B:B -> Ecope 1B | C6: =VLOOKUP(A6,'Production amont'!A:T,3,0) -> 43678 | D6: =VLOOKUP(A6,'Production amont'!A:T,13,0) -> 43704 | E6: =VLOOKUP(A6,'Production amont'!A:T,20,0) -> 43706 | F6: =VLOOKUP(A6,'Production aval'!A:BP,67,0) -> 43742 | G6: =VLOOKUP(A6,'Production aval'!A:BP,68,0) -> 0 | H6: =VLOOKUP(A6,'Production amont'!A:T,4,0) -> 43741
A7: ='Production amont'!A:A -> 01AA609 | B7: ='Production amont'!B:B -> Ecope 1B | C7: =VLOOKUP(A7,'Production amont'!A:T,3,0) -> 43679 | D7: =VLOOKUP(A7,'Production amont'!A:T,13,0) -> 43705 | E7: =VLOOKUP(A7,'Production amont'!A:T,20,0) -> 43707 | F7: =VLOOKUP(A7,'Production aval'!A:BP,67,0) -> 43745 | G7: =VLOOKUP(A7,'Production aval'!A:BP,68,0) -> 0 | H7: =VLOOKUP(A7,'Production amont'!A:T,4,0) -> 43742
A8: ='Production amont'!A:A -> 01AA610 | B8: ='Production amont'!B:B -> Ecope 1B | C8: =VLOOKUP(A8,'Production amont'!A:T,3,0) -> 43680 | D8: =VLOOKUP(A8,'Production amont'!A:T,13,0) -> 43705 | E8: =VLOOKUP(A8,'Production amont'!A:T,20,0) -> 43708 | F8: =VLOOKUP(A8,'Production aval'!A:BP,67,0) -> 43745 | G8: =VLOOKUP(A8,'Production aval'!A:BP,68,0) -> 0 | H8: =VLOOKUP(A8,'Production amont'!A:T,4,0) -> 43742
A9: ='Production amont'!A:A -> 01AA611 | B9: ='Production amont'!B:B -> Ecope 1B | C9: =VLOOKUP(A9,'Production amont'!A:T,3,0) -> 43681 | D9: =VLOOKUP(A9,'Production amont'!A:T,13,0) -> 43705 | E9: =VLOOKUP(A9,'Production amont'!A:T,20,0) -> 43709 | F9: =VLOOKUP(A9,'Production aval'!A:BP,67,0) -> 43745 | G9: =VLOOKUP(A9,'Production aval'!A:BP,68,0) -> 0 | H9: =VLOOKUP(A9,'Production amont'!A:T,4,0) -> 43742
A10: ='Production amont'!A:A -> 01AA612 | B10: ='Production amont'!B:B -> Ecope 1B | C10: =VLOOKUP(A10,'Production amont'!A:T,3,0) -> 43682 | D10: =VLOOKUP(A10,'Production amont'!A:T,13,0) -> 43706 | E10: =VLOOKUP(A10,'Production amont'!A:T,20,0) -> 43710 | F10: =VLOOKUP(A10,'Production aval'!A:BP,67,0) -> 43746 | G10: =VLOOKUP(A10,'Production aval'!A:BP,68,0) -> 0 | H10: =VLOOKUP(A10,'Production amont'!A:T,4,0) -> 43745
A11: ='Production amont'!A:A -> 01AA613 | B11: ='Production amont'!B:B -> Ecope 1B | C11: =VLOOKUP(A11,'Production amont'!A:T,3,0) -> 43683 | D11: =VLOOKUP(A11,'Production amont'!A:T,13,0) -> 43707 | E11: =VLOOKUP(A11,'Production amont'!A:T,20,0) -> 43711 | F11: =VLOOKUP(A11,'Production aval'!A:BP,67,0) -> 43747 | G11: =VLOOKUP(A11,'Production aval'!A:BP,68,0) -> 0 | H11: =VLOOKUP(A11,'Production amont'!A:T,4,0) -> 43746
A12: ='Production amont'!A:A -> 01AA614 | B12: ='Production amont'!B:B -> Ecope 1B | C12: =VLOOKUP(A12,'Production amont'!A:T,3,0) -> 43684 | D12: =VLOOKUP(A12,'Production amont'!A:T,13,0) -> 43710 | E12: =VLOOKUP(A12,'Production amont'!A:T,20,0) -> 43712 | F12: =VLOOKUP(A12,'Production aval'!A:BP,67,0) -> 43748 | G12: =VLOOKUP(A12,'Production aval'!A:BP,68,0) -> 0 | H12: =VLOOKUP(A12,'Production amont'!A:T,4,0) -> 43747
A13: ='Production amont'!A:A -> 01AA615 | B13: ='Production amont'!B:B -> Ecope 1B | C13: =VLOOKUP(A13,'Production amont'!A:T,3,0) -> 43685 | D13: =VLOOKUP(A13,'Production amont'!A:T,13,0) -> 43711 | E13: =VLOOKUP(A13,'Production amont'!A:T,20,0) -> 43713 | F13: =VLOOKUP(A13,'Production aval'!A:BP,67,0) -> 43749 | G13: =VLOOKUP(A13,'Production aval'!A:BP,68,0) -> 0 | H13: =VLOOKUP(A13,'Production amont'!A:T,4,0) -> 43748
... A67: ='Production amont'!A:A -> 01AA669 | B67: ='Production amont'!B:B -> Ecope 1B | C67: =VLOOKUP(A67,'Production amont'!A:T,3,0) -> 43739 | D67: =VLOOKUP(A67,'Production amont'!A:T,13,0) -> 43762 | E67: =VLOOKUP(A67,'Production amont'!A:T,20,0) -> 43767 | F67: =VLOOKUP(A67,'Production aval'!A:BP,67,0) -> 43804 | G67: =VLOOKUP(A67,'Production aval'!A:BP,68,0) -> 0 | H67: =VLOOKUP(A67,'Production amont'!A:T,4,0) -> 43802

Sheet Suivi des pièces
B1: Ecope 1B | C1: Ecope 2B | D1: Ecope 3B | E1: Ecope 4B | F1: Ecope 4A | G1: Ecope 5A | H1: Zdeck | I1: Pad5
A2: En cours
A3: Terminée
A4: Expédiée
A5: Rebutée

Sheet Paramétres
A1: Ateliers amont | B1: Temps en jours | D1: Désignation | F1: Etat pièce | H1: 2019 | I1: Premier de l'AN | J1: =DATE(H1,1,1) -> 43466
A2: Injection | B2: 2 | D2: Ecope 1B | F2: En cours | I2: Pâques | J2: =ROUND(DATE(H1,4,MOD(234-11*MOD(H1,19),30))/7,0)*7-6 -> 43576
A3: Assemblage | B3: 1 | D3: Ecope 2B | F3: Terminée | I3: Lundi de Pâques | J3: =J2+1 -> 43577
A4: Enrobage première couche | B4: 1 | D4: Ecope 3B | F4: Expédiée | I4: Fête du travail | J4: =DATE(H1,5,1) -> 43586
A5: Enrobage | B5: 12 | D5: Ecope 4B | F5: Rebutée | I5: Victoire de 1945 | J5: =DATE(H1,5,8) -> 43593
A6: Decirage des carapaces | B6: 1 | D6: Ecope 4A | I6: Ascension | J6: =J2+39 -> 43615
A7: Cuisson des carapaces | B7: 1 | D7: Ecope 5A | I7: Pentecôte | J7: =J2+50 -> 43626
A8: Lavage et Emmaillotage | B8: 1 | D8: Zdeck | I8: Fête nationale | J8: =DATE(H1,7,14) -> 43660
A9: Ateliers Aval | D9: Pad5 | I9: Assomption | J9: =DATE(H1,8,15) -> 43692
A10: Préchauffage et coulée | B10: 2 | I10: Toussaint | J10: =DATE(H1,11,1) -> 43770
A11: Décochage | B11: 1 | I11: Armistice | J11: =DATE(H1,11,11) -> 43780
A12: Dégrappage | B12: 0.5 | I12: Noël | J12: =DATE(H1,12,25) -> 43824
A13: Sablage Mesh 46 | B13: 0.5 | H13: =+H1+1 -> 2020 | I13: Premier de l'AN | J13: =DATE(H13,1,1) -> 43831
A14: CIC et contrôle | B14: 2 | I14: Pâques | J14: =ROUND(DATE(H13,4,MOD(234-11*MOD(H13,19),30))/7,0)*7-6 -> 43933
A15: Tronçonnage des attaques | B15: 1 | I15: Lundi de Pâques | J15: =J14+1 -> 43934
A16: Ebarbage des attaques | B16: 1 | I16: Fête du travail | J16: =DATE(H13,5,1) -> 43952
A17: Sablage Mesh 90/120 | B17: 0.5 | I17: Victoire de 1945 | J17: =DATE(H13,5,8) -> 43959
A18: Contrôle des épaisseurs 1 | B18: 0.5 | I18: Ascension | J18: =J14+39 -> 43972
A19: Usinage chimique | B19: 0.5 | I19: Pentecôte | J19: =J14+50 -> 43983
A20: Contrôle des épaisseurs 2 | B20: 0.5 | I20: Fête nationale | J20: =DATE(H13,7,14) -> 44026
A21: Sablage léger | B21: 0.5 | I21: Assomption | J21: =DATE(H13,8,15) -> 44058
A22: Ressuage 1 | B22: 0.5 | I22: Toussaint | J22: =DATE(H13,11,1) -> 44136
A23: Contrôle visuel | B23: 0.5 | I23: Armistice | J23: =DATE(H13,11,11) -> 44146
A24: Ragréage | B24: 0.5 | I24: Noël | J24: =DATE(H13,12,25) -> 44190
A25: Radiographie | B25: 1 | H25: =+H13+1 -> 2021 | I25: Premier de l'AN | J25: =DATE(H25,1,1) -> 44197
A26: Cycle SR ASR RSR | B26: 1 | I26: Pâques | J26: =ROUND(DATE(H25,4,MOD(234-11*MOD(H25,19),30))/7,0)*7-6 -> 44290
A27: Attaque chimique 1 | B27: 0.5 | I27: Lundi de Pâques | J27: =J26+1 -> 44291
A28: Ressuage 2 | B28: 1 | I28: Fête du travail | J28: =DATE(H25,5,1) -> 44317
A29: Contrôle 3D avant TTH | B29: 0.5 | I29: Victoire de 1945 | J29: =DATE(H25,5,8) -> 44324
A30: Traitement TTH | B30: 3 | I30: Ascension | J30: =J26+39 -> 44329
A31: Attaque chimique | B31: 0.5 | I31: Pentecôte | J31: =J26+50 -> 44340
A32: Ressuage 3 | B32: 1 | I32: Fête nationale | J32: =DATE(H25,7,14) -> 44391
A33: Contôle 3D | B33: 0.5 | I33: Assomption | J33: =DATE(H25,8,15) -> 44423
A34: Usinage et ébavurage | B34: 1 | I34: Toussaint | J34: =DATE(H25,11,1) -> 44501
A35: Contôle 3D après usinage | B35: 0.5 | I35: Armistice | J35: =DATE(H25,11,11) -> 44511
A36: Attaque chimique 2 | B36: 0.5 | I36: Noël | J36: =DATE(H25,12,25) -> 44555
A37: Ressuage final | B37: 1 | H37: =+H25+1 -> 2022 | I37: Premier de l'AN | J37: =DATE(H37,1,1) -> 44562
A38: Radiographie finale | B38: 0.5 | I38: Pâques | J38: =ROUND(DATE(H37,4,MOD(234-11*MOD(H37,19),30))/7,0)*7-6 -> 44668
A39: Contrôle visuel final | B39: 0.5 | I39: Lundi de Pâques | J39: =J38+1 -> 44669
B40: =SUM(B2:B39) -> 44 | I40: Fête du travail | J40: =DATE(H37,5,1) -> 44682
...
