Workbook

Sheet Salle
L1: DU : | M1: 43794 | P1: au | Q1: =M1+6 -> 43800
A2: S48 | C2: LUNDI | G2: MARDI | K2: MERCREDI | O2: JEUDI | S2: VENDREDI | W2: SAMEDI | AA2: DIMANCHE
C3: debut | D3: fin | E3: pause | F3: total | G3: debut | H3: fin | I3: pause | J3: total | K3: debut | L3: fin | M3: pause | N3: total | O3: debut | P3: fin | Q3: pause | R3: total | S3: debut | T3: fin | U3: pause | V3: total | W3: debut | X3: fin | Y3: pause | Z3: total | AA3: debut | AB3: fin | AC3: pause | AD3: total
A4: Rémi | B4: midi | C4: 0.41666667 | D4: 0.625 | E4: 0.020833333 | F4: =IF(C4="R","R",(D4-C4-E4)) -> 0.1875 | G4: R | H4: R | J4: =IF(G4="R","R",(H4-G4-I4)) -> R | K4: 0.41666667 | L4: 0.625 | N4: =IF(K4="R","R",(L4-K4-M4)) -> 0.20833333 | O4: R | P4: R | R4: =IF(O4="R","R",(P4-O4-Q4)) -> R | V4: =IF(S4="R","R",(T4-S4-U4)) -> 0 | Z4: =IF(W4="R","R",(X4-W4-Y4)) -> 0 | AD4: =IF(AA4="R","R",(AB4-AA4-AC4)) -> 0
A5: GESLAN | B5: soir | C5: 0.75 | D5: 1 | E5: 0.020833333 | F5: =IF(C5="R","R",(D5-C5-E5)) -> 0.22916667 | G5: 0.75 | H5: 24 | J5: =IF(G5="R","R",(H5-G5-I5)) -> 23.25 | K5: R | L5: R | N5: =IF(K5="R","R",(L5-K5-M5)) -> R | O5: R | P5: R | R5: =IF(O5="R","R",(P5-O5-Q5)) -> R | V5: =IF(S5="R","R",(T5-S5-U5)) -> 0 | Z5: =IF(W5="R","R",(X5-W5-Y5)) -> 0 | AD5: =IF(AA5="R","R",(AB5-AA5-AC5)) -> 0
A6: {=SUM((MOD(COLUMN(C6:AA6),4)=3)*(IF(C6:AA6<>"R",C6:AA6,0)))} -> 23.875 | B6: total jour | C6: =IF(F4="R",F5,F4+(IF(F5="R",0,F5))) -> 0.41666667 | E6: =SUM(E4:E5) -> 0.041666667 | G6: =IF(J4="R",J5,J4+(IF(J5="R",0,J5))) -> 23.25 | I6: =SUM(I4:I5) -> 0 | K6: =IF(N4="R",N5,N4+(IF(N5="R",0,N5))) -> 0.20833333 | M6: =SUM(M4:M5) -> 0 | O6: =IF(R4="R",R5,R4+(IF(R5="R",0,R5))) -> R | Q6: =SUM(Q4:Q5) -> 0 | S6: =IF(V4="R",V5,V4+(IF(V5="R",0,V5))) -> 0 | U6: =SUM(U4:U5) -> 0 | W6: =IF(Z4="R",Z5,Z4+(IF(Z5="R",0,Z5))) -> 0 | Y6: =SUM(Y4:Y5) -> 0 | AA6: =IF(AD4="R",AD5,AD4+(IF(AD5="R",0,AD5))) -> 0 | AC6: =SUM(AC4:AC5) -> 0
A7: Adrien | B7: midi | F7: =IF(C7="R","R",(D7-C7-E7)) -> 0 | J7: =IF(G7="R","R",(H7-G7-I7)) -> 0 | N7: =IF(K7="R","R",(L7-K7-M7)) -> 0 | R7: =IF(O7="R","R",(P7-O7-Q7)) -> 0 | V7: =IF(S7="R","R",(T7-S7-U7)) -> 0 | Z7: =IF(W7="R","R",(X7-W7-Y7)) -> 0 | AD7: =IF(AA7="R","R",(AB7-AA7-AC7)) -> 0
A8: FORESTIER | B8: soir | F8: =IF(C8="R","R",(D8-C8-E8)) -> 0 | J8: =IF(G8="R","R",(H8-G8-I8)) -> 0 | N8: =IF(K8="R","R",(L8-K8-M8)) -> 0 | R8: =IF(O8="R","R",(P8-O8-Q8)) -> 0 | V8: =IF(S8="R","R",(T8-S8-U8)) -> 0 | Z8: =IF(W8="R","R",(X8-W8-Y8)) -> 0 | AD8: =IF(AA8="R","R",(AB8-AA8-AC8)) -> 0
A9: {=SUM((MOD(COLUMN(C9:AA9),4)=3)*(IF(C9:AA9<>"R",C9:AA9,0)))} -> 0 | B9: total jour | C9: =IF(F7="R",F8,F7+(IF(F8="R",0,F8))) -> 0 | E9: =SUM(E7:E8) -> 0 | G9: =IF(J7="R",J8,J7+(IF(J8="R",0,J8))) -> 0 | I9: =SUM(I7:I8) -> 0 | K9: =IF(N7="R",N8,N7+(IF(N8="R",0,N8))) -> 0 | M9: =SUM(M7:M8) -> 0 | O9: =IF(R7="R",R8,R7+(IF(R8="R",0,R8))) -> 0 | Q9: =SUM(Q7:Q8) -> 0 | S9: =IF(V7="R",V8,V7+(IF(V8="R",0,V8))) -> 0 | U9: =SUM(U7:U8) -> 0 | W9: =IF(Z7="R",Z8,Z7+(IF(Z8="R",0,Z8))) -> 0 | Y9: =SUM(Y7:Y8) -> 0 | AA9: =IF(AD7="R",AD8,AD7+(IF(AD8="R",0,AD8))) -> 0 | AC9: =SUM(AC7:AC8) -> 0
A10: Sabine | B10: midi | F10: =IF(C10="R","R",(D10-C10-E10)) -> 0 | J10: =IF(G10="R","R",(H10-G10-I10)) -> 0 | N10: =IF(K10="R","R",(L10-K10-M10)) -> 0 | R10: =IF(O10="R","R",(P10-O10-Q10)) -> 0 | V10: =IF(S10="R","R",(T10-S10-U10)) -> 0 | Z10: =IF(W10="R","R",(X10-W10-Y10)) -> 0 | AD10: =IF(AA10="R","R",(AB10-AA10-AC10)) -> 0
A11: FONTAINE | B11: soir | F11: =IF(C11="R","R",(D11-C11-E11)) -> 0 | J11: =IF(G11="R","R",(H11-G11-I11)) -> 0 | N11: =IF(K11="R","R",(L11-K11-M11)) -> 0 | R11: =IF(O11="R","R",(P11-O11-Q11)) -> 0 | V11: =IF(S11="R","R",(T11-S11-U11)) -> 0 | Z11: =IF(W11="R","R",(X11-W11-Y11)) -> 0 | AD11: =IF(AA11="R","R",(AB11-AA11-AC11)) -> 0
A12: {=SUM((MOD(COLUMN(C12:AA12),4)=3)*(IF(C12:AA12<>"R",C12:AA12,0)))} -> 0 | B12: total jour | C12: =IF(F10="R",F11,F10+(IF(F11="R",0,F11))) -> 0 | E12: =SUM(E10:E11) -> 0 | G12: =IF(J10="R",J11,J10+(IF(J11="R",0,J11))) -> 0 | I12: =SUM(I10:I11) -> 0 | K12: =IF(N10="R",N11,N10+(IF(N11="R",0,N11))) -> 0 | M12: =SUM(M10:M11) -> 0 | O12: =IF(R10="R",R11,R10+(IF(R11="R",0,R11))) -> 0 | Q12: =SUM(Q10:Q11) -> 0 | S12: =IF(V10="R",V11,V10+(IF(V11="R",0,V11))) -> 0 | U12: =SUM(U10:U11) -> 0 | W12: =IF(Z10="R",Z11,Z10+(IF(Z11="R",0,Z11))) -> 0 | Y12: =SUM(Y10:Y11) -> 0 | AA12: =IF(AD10="R",AD11,AD10+(IF(AD11="R",0,AD11))) -> 0 | AC12: =SUM(AC10:AC11) -> 0
A13: Maxime | B13: midi | F13: =IF(C13="R","R",(D13-C13-E13)) -> 0 | J13: =IF(G13="R","R",(H13-G13-I13)) -> 0 | N13: =IF(K13="R","R",(L13-K13-M13)) -> 0 | R13: =IF(O13="R","R",(P13-O13-Q13)) -> 0 | V13: =IF(S13="R","R",(T13-S13-U13)) -> 0 | Z13: =IF(W13="R","R",(X13-W13-Y13)) -> 0 | AD13: =IF(AA13="R","R",(AB13-AA13-AC13)) -> 0
B14: soir | F14: =IF(C14="R","R",(D14-C14-E14)) -> 0 | J14: =IF(G14="R","R",(H14-G14-I14)) -> 0 | N14: =IF(K14="R","R",(L14-K14-M14)) -> 0 | R14: =IF(O14="R","R",(P14-O14-Q14)) -> 0 | V14: =IF(S14="R","R",(T14-S14-U14)) -> 0 | Z14: =IF(W14="R","R",(X14-W14-Y14)) -> 0 | AD14: =IF(AA14="R","R",(AB14-AA14-AC14)) -> 0
A15: {=SUM((MOD(COLUMN(C15:AA15),4)=3)*(IF(C15:AA15<>"R",C15:AA15,0)))} -> 0 | B15: total jour | C15: =IF(F13="R",F14,F13+(IF(F14="R",0,F14))) -> 0 | E15: =SUM(E13:E14) -> 0 | G15: =IF(J13="R",J14,J13+(IF(J14="R",0,J14))) -> 0 | I15: =SUM(I13:I14) -> 0 | K15: =IF(N13="R",N14,N13+(IF(N14="R",0,N14))) -> 0 | M15: =SUM(M13:M14) -> 0 | O15: =IF(R13="R",R14,R13+(IF(R14="R",0,R14))) -> 0 | Q15: =SUM(Q13:Q14) -> 0 | S15: =IF(V13="R",V14,V13+(IF(V14="R",0,V14))) -> 0 | U15: =SUM(U13:U14) -> 0 | W15: =IF(Z13="R",Z14,Z13+(IF(Z14="R",0,Z14))) -> 0 | Y15: =SUM(Y13:Y14) -> 0 | AA15: =IF(AD13="R",AD14,AD13+(IF(AD14="R",0,AD14))) -> 0 | AC15: =SUM(AC13:AC14) -> 0
A16: Jean Michel | B16: midi | F16: =IF(C16="R","R",(D16-C16-E16)) -> 0 | J16: =IF(G16="R","R",(H16-G16-I16)) -> 0 | N16: =IF(K16="R","R",(L16-K16-M16)) -> 0 | R16: =IF(O16="R","R",(P16-O16-Q16)) -> 0 | V16: =IF(S16="R","R",(T16-S16-U16)) -> 0 | Z16: =IF(W16="R","R",(X16-W16-Y16)) -> 0 | AD16: =IF(AA16="R","R",(AB16-AA16-AC16)) -> 0
B17: soir | F17: =IF(C17="R","R",(D17-C17-E17)) -> 0 | J17: =IF(G17="R","R",(H17-G17-I17)) -> 0 | N17: =IF(K17="R","R",(L17-K17-M17)) -> 0 | R17: =IF(O17="R","R",(P17-O17-Q17)) -> 0 | V17: =IF(S17="R","R",(T17-S17-U17)) -> 0 | Z17: =IF(W17="R","R",(X17-W17-Y17)) -> 0 | AD17: =IF(AA17="R","R",(AB17-AA17-AC17)) -> 0
A18: {=SUM((MOD(COLUMN(C18:AA18),4)=3)*(IF(C18:AA18<>"R",C18:AA18,0)))} -> 0 | B18: total jour | C18: =IF(F16="R",F17,F16+(IF(F17="R",0,F17))) -> 0 | E18: =SUM(E16:E17) -> 0 | G18: =IF(J16="R",J17,J16+(IF(J17="R",0,J17))) -> 0 | I18: =SUM(I16:I17) -> 0 | K18: =IF(N16="R",N17,N16+(IF(N17="R",0,N17))) -> 0 | M18: =SUM(M16:M17) -> 0 | O18: =IF(R16="R",R17,R16+(IF(R17="R",0,R17))) -> 0 | Q18: =SUM(Q16:Q17) -> 0 | S18: =IF(V16="R",V17,V16+(IF(V17="R",0,V17))) -> 0 | U18: =SUM(U16:U17) -> 0 | W18: =IF(Z16="R",Z17,Z16+(IF(Z17="R",0,Z17))) -> 0 | Y18: =SUM(Y16:Y17) -> 0 | AA18: =IF(AD16="R",AD17,AD16+(IF(AD17="R",0,AD17))) -> 0 | AC18: =SUM(AC16:AC17) -> 0
B19: midi | F19: =IF(C19="R","R",(D19-C19-E19)) -> 0 | J19: =IF(G19="R","R",(H19-G19-I19)) -> 0 | N19: =IF(K19="R","R",(L19-K19-M19)) -> 0 | R19: =IF(O19="R","R",(P19-O19-Q19)) -> 0 | V19: =IF(S19="R","R",(T19-S19-U19)) -> 0 | Z19: =IF(W19="R","R",(X19-W19-Y19)) -> 0 | AD19: =IF(AA19="R","R",(AB19-AA19-AC19)) -> 0
B20: soir | F20: =IF(C20="R","R",(D20-C20-E20)) -> 0 | J20: =IF(G20="R","R",(H20-G20-I20)) -> 0 | N20: =IF(K20="R","R",(L20-K20-M20)) -> 0 | R20: =IF(O20="R","R",(P20-O20-Q20)) -> 0 | V20: =IF(S20="R","R",(T20-S20-U20)) -> 0 | Z20: =IF(W20="R","R",(X20-W20-Y20)) -> 0 | AD20: =IF(AA20="R","R",(AB20-AA20-AC20)) -> 0
A21: {=SUM((MOD(COLUMN(C21:AA21),4)=3)*(IF(C21:AA21<>"R",C21:AA21,0)))} -> 0 | B21: total jour | C21: =IF(F19="R",F20,F19+(IF(F20="R",0,F20))) -> 0 | E21: =SUM(E19:E20) -> 0 | G21: =IF(J19="R",J20,J19+(IF(J20="R",0,J20))) -> 0 | I21: =SUM(I19:I20) -> 0 | K21: =IF(N19="R",N20,N19+(IF(N20="R",0,N20))) -> 0 | M21: =SUM(M19:M20) -> 0 | O21: =IF(R19="R",R20,R19+(IF(R20="R",0,R20))) -> 0 | Q21: =SUM(Q19:Q20) -> 0 | S21: =IF(V19="R",V20,V19+(IF(V20="R",0,V20))) -> 0 | U21: =SUM(U19:U20) -> 0 | W21: =IF(Z19="R",Z20,Z19+(IF(Z20="R",0,Z20))) -> 0 | Y21: =SUM(Y19:Y20) -> 0 | AA21: =IF(AD19="R",AD20,AD19+(IF(AD20="R",0,AD20))) -> 0 | AC21: =SUM(AC19:AC20) -> 0
B22: midi | F22: =IF(C22="R","R",(D22-C22-E22)) -> 0 | J22: =IF(G22="R","R",(H22-G22-I22)) -> 0 | N22: =IF(K22="R","R",(L22-K22-M22)) -> 0 | R22: =IF(O22="R","R",(P22-O22-Q22)) -> 0 | V22: =IF(S22="R","R",(T22-S22-U22)) -> 0 | Z22: =IF(W22="R","R",(X22-W22-Y22)) -> 0 | AD22: =IF(AA22="R","R",(AB22-AA22-AC22)) -> 0
B23: soir | F23: =IF(C23="R","R",(D23-C23-E23)) -> 0 | J23: =IF(G23="R","R",(H23-G23-I23)) -> 0 | N23: =IF(K23="R","R",(L23-K23-M23)) -> 0 | R23: =IF(O23="R","R",(P23-O23-Q23)) -> 0 | V23: =IF(S23="R","R",(T23-S23-U23)) -> 0 | Z23: =IF(W23="R","R",(X23-W23-Y23)) -> 0 | AD23: =IF(AA23="R","R",(AB23-AA23-AC23)) -> 0
A24: =SUM(C24+G24+K24+O24+S24+W24+AA24) -> 0 | B24: total jour | C24: =IF(F22="R",F23,F22+(IF(F23="R",0,F23))) -> 0 | E24: =SUM(E22:E23) -> 0 | G24: =IF(J22="R",J23,J22+(IF(J23="R",0,J23))) -> 0 | I24: =SUM(I22:I23) -> 0 | K24: =IF(N22="R",N23,N22+(IF(N23="R",0,N23))) -> 0 | M24: =SUM(M22:M23) -> 0 | O24: =IF(R22="R",R23,R22+(IF(R23="R",0,R23))) -> 0 | Q24: =SUM(Q22:Q23) -> 0 | S24: =IF(V22="R",V23,V22+(IF(V23="R",0,V23))) -> 0 | U24: =SUM(U22:U23) -> 0 | W24: =IF(Z22="R",Z23,Z22+(IF(Z23="R",0,Z23))) -> 0 | Y24: =SUM(Y22:Y23) -> 0 | AA24: =IF(AD22="R",AD23,AD22+(IF(AD23="R",0,AD23))) -> 0 | AC24: =SUM(AC22:AC23) -> 0
B25: midi | F25: =IF(C25="R","R",(D25-C25-E25)) -> 0 | J25: =IF(G25="R","R",(H25-G25-I25)) -> 0 | N25: =IF(K25="R","R",(L25-K25-M25)) -> 0 | R25: =IF(O25="R","R",(P25-O25-Q25)) -> 0 | V25: =IF(S25="R","R",(T25-S25-U25)) -> 0 | Z25: =IF(W25="R","R",(X25-W25-Y25)) -> 0 | AD25: =IF(AA25="R","R",(AB25-AA25-AC25)) -> 0
B26: soir | F26: =IF(C26="R","R",(D26-C26-E26)) -> 0 | J26: =IF(G26="R","R",(H26-G26-I26)) -> 0 | N26: =IF(K26="R","R",(L26-K26-M26)) -> 0 | R26: =IF(O26="R","R",(P26-O26-Q26)) -> 0 | V26: =IF(S26="R","R",(T26-S26-U26)) -> 0 | Z26: =IF(W26="R","R",(X26-W26-Y26)) -> 0 | AD26: =IF(AA26="R","R",(AB26-AA26-AC26)) -> 0
A27: {=SUM((MOD(COLUMN(C27:AA27),4)=3)*(IF(C27:AA27<>"R",C27:AA27,0)))} -> 0 | B27: total jour | C27: =IF(F25="R",F26,F25+(IF(F26="R",0,F26))) -> 0 | E27: =SUM(E25:E26) -> 0 | G27: =IF(J25="R",J26,J25+(IF(J26="R",0,J26))) -> 0 | I27: =SUM(I25:I26) -> 0 | K27: =IF(N25="R",N26,N25+(IF(N26="R",0,N26))) -> 0 | M27: =SUM(M25:M26) -> 0 | O27: =IF(R25="R",R26,R25+(IF(R26="R",0,R26))) -> 0 | Q27: =SUM(Q25:Q26) -> 0 | S27: =IF(V25="R",V26,V25+(IF(V26="R",0,V26))) -> 0 | U27: =SUM(U25:U26) -> 0 | W27: =IF(Z25="R",Z26,Z25+(IF(Z26="R",0,Z26))) -> 0 | Y27: =SUM(Y25:Y26) -> 0 | AA27: =IF(AD25="R",AD26,AD25+(IF(AD26="R",0,AD26))) -> 0 | AC27: =SUM(AC25:AC26) -> 0
B28: midi | F28: =IF(C28="R","R",(D28-C28-E28)) -> 0 | J28: =IF(G28="R","R",(H28-G28-I28)) -> 0 | N28: =IF(K28="R","R",(L28-K28-M28)) -> 0 | R28: =IF(O28="R","R",(P28-O28-Q28)) -> 0 | V28: =IF(S28="R","R",(T28-S28-U28)) -> 0 | Z28: =IF(W28="R","R",(X28-W28-Y28)) -> 0 | AD28: =IF(AA28="R","R",(AB28-AA28-AC28)) -> 0
B29: soir | F29: =IF(C29="R","R",(D29-C29-E29)) -> 0 | J29: =IF(G29="R","R",(H29-G29-I29)) -> 0 | N29: =IF(K29="R","R",(L29-K29-M29)) -> 0 | R29: =IF(O29="R","R",(P29-O29-Q29)) -> 0 | V29: =IF(S29="R","R",(T29-S29-U29)) -> 0 | Z29: =IF(W29="R","R",(X29-W29-Y29)) -> 0 | AD29: =IF(AA29="R","R",(AB29-AA29-AC29)) -> 0
A30: {=SUM((MOD(COLUMN(C30:AA30),4)=3)*(IF(C30:AA30<>"R",C30:AA30,0)))} -> 0 | B30: total jour | C30: =IF(F28="R",F29,F28+(IF(F29="R",0,F29))) -> 0 | E30: =SUM(E28:E29) -> 0 | G30: =IF(J28="R",J29,J28+(IF(J29="R",0,J29))) -> 0 | I30: =SUM(I28:I29) -> 0 | K30: =IF(N28="R",N29,N28+(IF(N29="R",0,N29))) -> 0 | M30: =SUM(M28:M29) -> 0 | O30: =IF(R28="R",R29,R28+(IF(R29="R",0,R29))) -> 0 | Q30: =SUM(Q28:Q29) -> 0 | S30: =IF(V28="R",V29,V28+(IF(V29="R",0,V29))) -> 0 | U30: =SUM(U28:U29) -> 0 | W30: =IF(Z28="R",Z29,Z28+(IF(Z29="R",0,Z29))) -> 0 | Y30: =SUM(Y28:Y29) -> 0 | AA30: =IF(AD28="R",AD29,AD28+(IF(AD29="R",0,AD29))) -> 0 | AC30: =SUM(AC28:AC29) -> 0
A34: 1 | B34: 2 | C34: 3 | D34: 4 | E34: 5 | F34: 6 | G34: 7 | H34: 8 | I34: 9 | J34: 10 | K34: 11 | L34: 12 | M34: 13 | N34: 14 | O34: 15 | P34: 16 | Q34: 17 | R34: 18 | S34: 19 | T34: 20 | U34: 21 | V34: 22 | W34: 23 | X34: 24 | Y34: 25 | Z34: 26 | AA34: 27 | AB34: 28 | AC34: 29 | AD34: 30
A35: =MOD(COLUMN(),4) -> 1 | B35: =MOD(COLUMN(),4) -> 2 | C35: =MOD(COLUMN(),4) -> 3 | D35: =MOD(COLUMN(),4) -> 0 | E35: =MOD(COLUMN(),4) -> 1 | F35: =MOD(COLUMN(),4) -> 2 | G35: =MOD(COLUMN(),4) -> 3 | H35: =MOD(COLUMN(),4) -> 0 | ... AD35: =MOD(COLUMN(),4) -> 2

Sheet Emargement Salle
A2: Nom: | D2: =Salle!A5 -> GESLAN | N2: Semaine: | P2: =Salle!A2 -> S48
A3: Prénom: | D3: =Salle!A4 -> Rémi | O3: Du: | P3: =Salle!M1 -> 43794 | S3: au | T3: =+P3+6 -> 43800
B4: LUNDI | F4: MARDI | J4: MERCREDI | N4: JEUDI | R4: VENDREDI | V4: SAMEDI | Z4: DIMANCHE
B5: debut | C5: fin | D5: pause | E5: total | F5: debut | G5: fin | H5: pause | I5: total | J5: debut | K5: fin | L5: pause | M5: total | N5: debut | O5: fin | P5: pause | Q5: total | R5: debut | S5: fin | T5: pause | U5: total | V5: debut | W5: fin | X5: pause | Y5: total | Z5: debut | AA5: fin | AB5: pause | AC5: total
A6: midi | B6: =Salle!C4 -> 0.41666667 | C6: =Salle!D4 -> 0.625 | D6: =Salle!E4 -> 0.020833333 | E6: =Salle!F4 -> 0.1875 | F6: =Salle!G4 -> R | G6: =Salle!H4 -> R | H6: =Salle!I4 -> 0 | I6: =Salle!J4 -> R | ... AC6: =Salle!AD4 -> 0
A7: soir | B7: =Salle!C5 -> 0.75 | C7: =Salle!D5 -> 1 | D7: =Salle!E5 -> 0.020833333 | E7: =Salle!F5 -> 0.22916667 | F7: =Salle!G5 -> 0.75 | G7: =Salle!H5 -> 24 | H7: =Salle!I5 -> 0 | I7: =Salle!J5 -> 23.25 | ... AC7: =Salle!AD5 -> 0
A8: total jour | B8: =Salle!C6 -> 0.41666667 | D8: =Salle!E6 -> 0.041666667 | E8: =Salle!F6 -> 0 | F8: =Salle!G6 -> 23.25 | H8: =Salle!I6 -> 0 | I8: =Salle!J6 -> 0 | J8: =Salle!K6 -> 0.20833333 | L8: =Salle!M6 -> 0 | M8: =Salle!N6 -> 0 | N8: =Salle!O6 -> R | P8: =Salle!Q6 -> 0 | Q8: =Salle!R6 -> 0 | R8: =Salle!S6 -> 0 | T8: =Salle!U6 -> 0 | U8: =Salle!V6 -> 0 | V8: =Salle!W6 -> 0 | X8: =Salle!Y6 -> 0 | Y8: =Salle!Z6 -> 0 | Z8: =Salle!AA6 -> 0 | AB8: =Salle!AC6 -> 0 | AC8: =Salle!AD6 -> 0
B11: LUNDI | F11: MARDI | J11: MERCREDI | N11: JEUDI | R11: VENDREDI | V11: SAMEDI | Z11: DIMANCHE
B12: debut | C12: fin | D12: pause | E12: total | F12: debut | G12: fin | H12: pause | I12: total | J12: debut | K12: fin | L12: pause | M12: total | N12: debut | O12: fin | P12: pause | Q12: total | R12: debut | S12: fin | T12: pause | U12: total | V12: debut | W12: fin | X12: pause | Y12: total | Z12: debut | AA12: fin | AB12: pause | AC12: total
A13: midi | E13: =IF(B13="R","R",(C13-B13-D13)) -> 0 | I13: =IF(F13="R","R",(G13-F13-H13)) -> 0 | M13: =IF(J13="R","R",(K13-J13-L13)) -> 0 | Q13: =IF(N13="R","R",(O13-N13-P13)) -> 0 | U13: =IF(R13="R","R",(S13-R13-T13)) -> 0 | Y13: =IF(V13="R","R",(W13-V13-X13)) -> 0 | AC13: =IF(Z13="R","R",(AA13-Z13-AB13)) -> 0
A14: soir | E14: =IF(B14="R","R",(C14-B14-D14)) -> 0 | I14: =IF(F14="R","R",(G14-F14-H14)) -> 0 | M14: =IF(J14="R","R",(K14-J14-L14)) -> 0 | Q14: =IF(N14="R","R",(O14-N14-P14)) -> 0 | U14: =IF(R14="R","R",(S14-R14-T14)) -> 0 | Y14: =IF(V14="R","R",(W14-V14-X14)) -> 0 | AC14: =IF(Z14="R","R",(AA14-Z14-AB14)) -> 0
A15: total jour | B15: =IF(B13="R",E14,E13+(IF(E14="R",0,E14))) -> 0 | F15: =IF(F13="R",I14,I13+(IF(I14="R",0,I14))) -> 0 | J15: =IF(J13="R",M14,M13+(IF(M14="R",0,M14))) -> 0 | N15: =IF(N13="R",Q14,Q13+(IF(Q14="R",0,Q14))) -> 0 | R15: =IF(R13="R",U14,U13+(IF(U14="R",0,U14))) -> 0 | V15: =IF(V13="R",Y14,Y13+(IF(Y14="R",0,Y14))) -> 0 | Z15: =IF(Z13="R",AC14,AC13+(IF(AC14="R",0,AC14))) -> 0
A20: TOTAL PREVU | C20: =B8+F8+J8+N8+R8+V8+Z8 -> #VALUE! | H20: TOTAL REALISE | L20: =IF(B13="R","R",B15+F15+J15+N15+R15+V15+Z15) -> 0 | P20: SIGNATURE
A25: Nom: | D25: =Salle!A8 -> FORESTIER | N25: Semaine: | P25: =Salle!A2 -> S48
A26: Prénom: | D26: =Salle!A7 -> Adrien | O26: Du: | P26: =Salle!M1 -> 43794 | S26: au | T26: =+P26+6 -> 43800
B27: LUNDI | F27: MARDI | J27: MERCREDI | N27: JEUDI | R27: VENDREDI | V27: SAMEDI | Z27: DIMANCHE
B28: debut | C28: fin | D28: pause | E28: total | F28: debut | G28: fin | H28: pause | I28: total | J28: debut | K28: fin | L28: pause | M28: total | N28: debut | O28: fin | P28: pause | Q28: total | R28: debut | S28: fin | T28: pause | U28: total | V28: debut | W28: fin | X28: pause | Y28: total | Z28: debut | AA28: fin | AB28: pause | AC28: total
A29: midi | B29: =Salle!C7 -> 0 | C29: =Salle!D7 -> 0 | D29: =Salle!E7 -> 0 | E29: =Salle!F7 -> 0 | F29: =Salle!G7 -> 0 | G29: =Salle!H7 -> 0 | H29: =Salle!I7 -> 0 | I29: =Salle!J7 -> 0 | ... AC29: =Salle!AD7 -> 0
A30: soir | B30: =Salle!C8 -> 0 | C30: =Salle!D8 -> 0 | D30: =Salle!E8 -> 0 | E30: =Salle!F8 -> 0 | F30: =Salle!G8 -> 0 | G30: =Salle!H8 -> 0 | H30: =Salle!I8 -> 0 | I30: =Salle!J8 -> 0 | ... AC30: =Salle!AD8 -> 0
A31: total jour | B31: =Salle!C9 -> 0 | D31: =Salle!E9 -> 0 | E31: =Salle!F9 -> 0 | F31: =Salle!G9 -> 0 | H31: =Salle!I9 -> 0 | I31: =Salle!J9 -> 0 | J31: =Salle!K9 -> 0 | L31: =Salle!M9 -> 0 | M31: =Salle!N9 -> 0 | N31: =Salle!O9 -> 0 | P31: =Salle!Q9 -> 0 | Q31: =Salle!R9 -> 0 | R31: =Salle!S9 -> 0 | T31: =Salle!U9 -> 0 | U31: =Salle!V9 -> 0 | V31: =Salle!W9 -> 0 | X31: =Salle!Y9 -> 0 | Y31: =Salle!Z9 -> 0 | Z31: =Salle!AA9 -> 0 | AB31: =Salle!AC9 -> 0 | AC31: =Salle!AD9 -> 0
B34: LUNDI | F34: MARDI | J34: MERCREDI | N34: JEUDI | R34: VENDREDI | V34: SAMEDI | Z34: DIMANCHE
B35: debut | C35: fin | D35: pause | E35: total | F35: debut | G35: fin | H35: pause | I35: total | J35: debut | K35: fin | L35: pause | M35: total | N35: debut | O35: fin | P35: pause | Q35: total | R35: debut | S35: fin | T35: pause | U35: total | V35: debut | W35: fin | X35: pause | Y35: total | Z35: debut | AA35: fin | AB35: pause | AC35: total
A36: midi | E36: =IF(B36="R","R",(C36-B36-D36)) -> 0 | I36: =IF(F36="R","R",(G36-F36-H36)) -> 0 | M36: =IF(J36="R","R",(K36-J36-L36)) -> 0 | Q36: =IF(N36="R","R",(O36-N36-P36)) -> 0 | U36: =IF(R36="R","R",(S36-R36-T36)) -> 0 | Y36: =IF(V36="R","R",(W36-V36-X36)) -> 0 | AC36: =IF(Z36="R","R",(AA36-Z36-AB36)) -> 0
A37: soir | E37: =IF(B37="R","R",(C37-B37-D37)) -> 0 | I37: =IF(F37="R","R",(G37-F37-H37)) -> 0 | M37: =IF(J37="R","R",(K37-J37-L37)) -> 0 | Q37: =IF(N37="R","R",(O37-N37-P37)) -> 0 | U37: =IF(R37="R","R",(S37-R37-T37)) -> 0 | Y37: =IF(V37="R","R",(W37-V37-X37)) -> 0 | AC37: =IF(Z37="R","R",(AA37-Z37-AB37)) -> 0
A38: total jour | B38: =IF(B36="R",E37,E36+(IF(E37="R",0,E37))) -> 0 | F38: =IF(F36="R",I37,I36+(IF(I37="R",0,I37))) -> 0 | J38: =IF(J36="R",M37,M36+(IF(M37="R",0,M37))) -> 0 | N38: =IF(N36="R",Q37,Q36+(IF(Q37="R",0,Q37))) -> 0 | R38: =IF(R36="R",U37,U36+(IF(U37="R",0,U37))) -> 0 | V38: =IF(V36="R",Y37,Y36+(IF(Y37="R",0,Y37))) -> 0 | Z38: =IF(Z36="R",AC37,AC36+(IF(AC37="R",0,AC37))) -> 0
A43: TOTAL PREVU | C43: =IF(B29="R","R",B31+F31+J31+N31+R31+V31+Z31) -> 0 | H43: TOTAL REALISE | L43: =IF(B36="R","R",B38+F38+J38+N38+R38+V38+Z38) -> 0 | P43: SIGNATURE
A48: Nom: | D48: =Salle!A11 -> FONTAINE | N48: Semaine: | P48: =Salle!A2 -> S48
A49: Prénom: | D49: =Salle!A10 -> Sabine | O49: Du: | P49: =Salle!M1 -> 43794 | S49: au | T49: =+P49+6 -> 43800
B50: LUNDI | F50: MARDI | J50: MERCREDI | N50: JEUDI | R50: VENDREDI | V50: SAMEDI | Z50: DIMANCHE
B51: debut | C51: fin | D51: pause | E51: total | F51: debut | G51: fin | H51: pause | I51: total | J51: debut | K51: fin | L51: pause | M51: total | N51: debut | O51: fin | P51: pause | Q51: total | R51: debut | S51: fin | T51: pause | U51: total | V51: debut | W51: fin | X51: pause | Y51: total | Z51: debut | AA51: fin | AB51: pause | AC51: total
A52: midi | B52: =Salle!C10 -> 0 | C52: =Salle!D10 -> 0 | D52: =Salle!E10 -> 0 | E52: =Salle!F10 -> 0 | F52: =Salle!G10 -> 0 | G52: =Salle!H10 -> 0 | H52: =Salle!I10 -> 0 | I52: =Salle!J10 -> 0 | ... AC52: =Salle!AD10 -> 0
A53: soir | B53: =Salle!C11 -> 0 | C53: =Salle!D11 -> 0 | D53: =Salle!E11 -> 0 | E53: =Salle!F11 -> 0 | F53: =Salle!G11 -> 0 | G53: =Salle!H11 -> 0 | H53: =Salle!I11 -> 0 | I53: =Salle!J11 -> 0 | ... AC53: =Salle!AD11 -> 0
A54: total jour | B54: =Salle!C12 -> 0 | D54: =Salle!E12 -> 0 | E54: =Salle!F12 -> 0 | F54: =Salle!G12 -> 0 | H54: =Salle!I12 -> 0 | I54: =Salle!J12 -> 0 | J54: =Salle!K12 -> 0 | L54: =Salle!M12 -> 0 | M54: =Salle!N12 -> 0 | N54: =Salle!O12 -> 0 | P54: =Salle!Q12 -> 0 | Q54: =Salle!R12 -> 0 | R54: =Salle!S12 -> 0 | T54: =Salle!U12 -> 0 | U54: =Salle!V12 -> 0 | V54: =Salle!W12 -> 0 | X54: =Salle!Y12 -> 0 | Y54: =Salle!Z12 -> 0 | Z54: =Salle!AA12 -> 0 | AB54: =Salle!AC12 -> 0 | AC54: =Salle!AD12 -> 0
B57: LUNDI | F57: MARDI | J57: MERCREDI | N57: JEUDI | R57: VENDREDI | V57: SAMEDI | Z57: DIMANCHE
B58: debut | C58: fin | D58: pause | E58: total | F58: debut | G58: fin | H58: pause | I58: total | J58: debut | K58: fin | L58: pause | M58: total | N58: debut | O58: fin | P58: pause | Q58: total | R58: debut | S58: fin | T58: pause | U58: total | V58: debut | W58: fin | X58: pause | Y58: total | Z58: debut | AA58: fin | AB58: pause | AC58: total
A59: midi | E59: =IF(B59="R","R",(C59-B59-D59)) -> 0 | I59: =IF(F59="R","R",(G59-F59-H59)) -> 0 | M59: =IF(J59="R","R",(K59-J59-L59)) -> 0 | Q59: =IF(N59="R","R",(O59-N59-P59)) -> 0 | U59: =IF(R59="R","R",(S59-R59-T59)) -> 0 | Y59: =IF(V59="R","R",(W59-V59-X59)) -> 0 | AC59: =IF(Z59="R","R",(AA59-Z59-AB59)) -> 0
A60: soir | E60: =IF(B60="R","R",(C60-B60-D60)) -> 0 | I60: =IF(F60="R","R",(G60-F60-H60)) -> 0 | M60: =IF(J60="R","R",(K60-J60-L60)) -> 0 | Q60: =IF(N60="R","R",(O60-N60-P60)) -> 0 | U60: =IF(R60="R","R",(S60-R60-T60)) -> 0 | Y60: =IF(V60="R","R",(W60-V60-X60)) -> 0 | AC60: =IF(Z60="R","R",(AA60-Z60-AB60)) -> 0
A61: total jour | B61: =IF(B59="R",E60,E59+(IF(E60="R",0,E60))) -> 0 | F61: =IF(F59="R",I60,I59+(IF(I60="R",0,I60))) -> 0 | J61: =IF(J59="R",M60,M59+(IF(M60="R",0,M60))) -> 0 | N61: =IF(N59="R",Q60,Q59+(IF(Q60="R",0,Q60))) -> 0 | R61: =IF(R59="R",U60,U59+(IF(U60="R",0,U60))) -> 0 | V61: =IF(V59="R",Y60,Y59+(IF(Y60="R",0,Y60))) -> 0 | Z61: =IF(Z59="R",AC60,AC59+(IF(AC60="R",0,AC60))) -> 0
A66: TOTAL PREVU | C66: =IF(B52="R","R",B54+F54+J54+N54+R54+V54+Z54) -> 0 | H66: TOTAL REALISE | L66: =IF(B59="R","R",B61+F61+J61+N61+R61+V61+Z61) -> 0 | P66: SIGNATURE
A71: Nom: | D71: =Salle!A14 -> 0 | N71: Semaine: | P71: =Salle!A2 -> S48
...

Sheet Cuisine
L1: DU : | M1: 43787 | P1: au | Q1: =M1+6 -> 43793
A2: S47 | C2: LUNDI | G2: MARDI | K2: MERCREDI | O2: JEUDI | S2: VENDREDI | W2: SAMEDI | AA2: DIMANCHE
C3: debut | D3: fin | E3: pause | F3: total | G3: debut | H3: fin | I3: pause | J3: total | K3: debut | L3: fin | M3: pause | N3: total | O3: debut | P3: fin | Q3: pause | R3: total | S3: debut | T3: fin | U3: pause | V3: total | W3: debut | X3: fin | Y3: pause | Z3: total | AA3: debut | AB3: fin | AC3: pause | AD3: total
A4: 1 | B4: midi | F4: =IF(C4="R","R",(D4-C4-E4)) -> 0 | J4: =IF(G4="R","R",(H4-G4-I4)) -> 0 | N4: =IF(K4="R","R",(L4-K4-M4)) -> 0 | R4: =IF(O4="R","R",(P4-O4-Q4)) -> 0 | V4: =IF(S4="R","R",(T4-S4-U4)) -> 0 | Z4: =IF(W4="R","R",(X4-W4-Y4)) -> 0 | AD4: =IF(AA4="R","R",(AB4-AA4-AC4)) -> 0
A5: 11 | B5: soir | F5: =IF(C5="R","R",(D5-C5-E5)) -> 0 | J5: =IF(G5="R","R",(H5-G5-I5)) -> 0 | N5: =IF(K5="R","R",(L5-K5-M5)) -> 0 | R5: =IF(O5="R","R",(P5-O5-Q5)) -> 0 | V5: =IF(S5="R","R",(T5-S5-U5)) -> 0 | Z5: =IF(W5="R","R",(X5-W5-Y5)) -> 0 | AD5: =IF(AA5="R","R",(AB5-AA5-AC5)) -> 0
A6: =SUM(C6+G6+K6+O6+S6+W6+AA6) -> 0 | B6: total jour | C6: =IF(F4="R",F5,F4+(IF(F5="R",0,F5))) -> 0 | E6: =SUM(E4:E5) -> 0 | G6: =IF(J4="R",J5,J4+(IF(J5="R",0,J5))) -> 0 | I6: =SUM(I4:I5) -> 0 | K6: =IF(N4="R",N5,N4+(IF(N5="R",0,N5))) -> 0 | M6: =SUM(M4:M5) -> 0 | O6: =IF(R4="R",R5,R4+(IF(R5="R",0,R5))) -> 0 | Q6: =SUM(Q4:Q5) -> 0 | S6: =IF(V4="R",V5,V4+(IF(V5="R",0,V5))) -> 0 | U6: =SUM(U4:U5) -> 0 | W6: =IF(Z4="R",Z5,Z4+(IF(Z5="R",0,Z5))) -> 0 | Y6: =SUM(Y4:Y5) -> 0 | AA6: =IF(AD4="R",AD5,AD4+(IF(AD5="R",0,AD5))) -> 0 | AC6: =SUM(AC4:AC5) -> 0
A7: 2 | B7: midi | F7: =IF(C7="R","R",(D7-C7-E7)) -> 0 | J7: =IF(G7="R","R",(H7-G7-I7)) -> 0 | N7: =IF(K7="R","R",(L7-K7-M7)) -> 0 | R7: =IF(O7="R","R",(P7-O7-Q7)) -> 0 | V7: =IF(S7="R","R",(T7-S7-U7)) -> 0 | Z7: =IF(W7="R","R",(X7-W7-Y7)) -> 0 | AD7: =IF(AA7="R","R",(AB7-AA7-AC7)) -> 0
A8: 22 | B8: soir | F8: =IF(C8="R","R",(D8-C8-E8)) -> 0 | J8: =IF(G8="R","R",(H8-G8-I8)) -> 0 | N8: =IF(K8="R","R",(L8-K8-M8)) -> 0 | R8: =IF(O8="R","R",(P8-O8-Q8)) -> 0 | V8: =IF(S8="R","R",(T8-S8-U8)) -> 0 | Z8: =IF(W8="R","R",(X8-W8-Y8)) -> 0 | AD8: =IF(AA8="R","R",(AB8-AA8-AC8)) -> 0
A9: =SUM(C9+G9+K9+O9+S9+W9+AA9) -> 0 | B9: total jour | C9: =IF(F7="R",F8,F7+(IF(F8="R",0,F8))) -> 0 | E9: =SUM(E7:E8) -> 0 | G9: =IF(J7="R",J8,J7+(IF(J8="R",0,J8))) -> 0 | I9: =SUM(I7:I8) -> 0 | K9: =IF(N7="R",N8,N7+(IF(N8="R",0,N8))) -> 0 | M9: =SUM(M7:M8) -> 0 | O9: =IF(R7="R",R8,R7+(IF(R8="R",0,R8))) -> 0 | Q9: =SUM(Q7:Q8) -> 0 | S9: =IF(V7="R",V8,V7+(IF(V8="R",0,V8))) -> 0 | U9: =SUM(U7:U8) -> 0 | W9: =IF(Z7="R",Z8,Z7+(IF(Z8="R",0,Z8))) -> 0 | Y9: =SUM(Y7:Y8) -> 0 | AA9: =IF(AD7="R",AD8,AD7+(IF(AD8="R",0,AD8))) -> 0 | AC9: =SUM(AC7:AC8) -> 0
A10: 3 | B10: midi | F10: =IF(C10="R","R",(D10-C10-E10)) -> 0 | J10: =IF(G10="R","R",(H10-G10-I10)) -> 0 | N10: =IF(K10="R","R",(L10-K10-M10)) -> 0 | R10: =IF(O10="R","R",(P10-O10-Q10)) -> 0 | V10: =IF(S10="R","R",(T10-S10-U10)) -> 0 | Z10: =IF(W10="R","R",(X10-W10-Y10)) -> 0 | AD10: =IF(AA10="R","R",(AB10-AA10-AC10)) -> 0
A11: 33 | B11: soir | F11: =IF(C11="R","R",(D11-C11-E11)) -> 0 | J11: =IF(G11="R","R",(H11-G11-I11)) -> 0 | N11: =IF(K11="R","R",(L11-K11-M11)) -> 0 | R11: =IF(O11="R","R",(P11-O11-Q11)) -> 0 | V11: =IF(S11="R","R",(T11-S11-U11)) -> 0 | Z11: =IF(W11="R","R",(X11-W11-Y11)) -> 0 | AD11: =IF(AA11="R","R",(AB11-AA11-AC11)) -> 0
A12: =SUM(C12+G12+K12+O12+S12+W12+AA12) -> 0 | B12: total jour | C12: =IF(F10="R",F11,F10+(IF(F11="R",0,F11))) -> 0 | E12: =SUM(E10:E11) -> 0 | G12: =IF(J10="R",J11,J10+(IF(J11="R",0,J11))) -> 0 | I12: =SUM(I10:I11) -> 0 | K12: =IF(N10="R",N11,N10+(IF(N11="R",0,N11))) -> 0 | M12: =SUM(M10:M11) -> 0 | O12: =IF(R10="R",R11,R10+(IF(R11="R",0,R11))) -> 0 | Q12: =SUM(Q10:Q11) -> 0 | S12: =IF(V10="R",V11,V10+(IF(V11="R",0,V11))) -> 0 | U12: =SUM(U10:U11) -> 0 | W12: =IF(Z10="R",Z11,Z10+(IF(Z11="R",0,Z11))) -> 0 | Y12: =SUM(Y10:Y11) -> 0 | AA12: =IF(AD10="R",AD11,AD10+(IF(AD11="R",0,AD11))) -> 0 | AC12: =SUM(AC10:AC11) -> 0
A13: 4 | B13: midi | F13: =IF(C13="R","R",(D13-C13-E13)) -> 0 | J13: =IF(G13="R","R",(H13-G13-I13)) -> 0 | N13: =IF(K13="R","R",(L13-K13-M13)) -> 0 | R13: =IF(O13="R","R",(P13-O13-Q13)) -> 0 | V13: =IF(S13="R","R",(T13-S13-U13)) -> 0 | Z13: =IF(W13="R","R",(X13-W13-Y13)) -> 0 | AD13: =IF(AA13="R","R",(AB13-AA13-AC13)) -> 0
A14: 44 | B14: soir | F14: =IF(C14="R","R",(D14-C14-E14)) -> 0 | J14: =IF(G14="R","R",(H14-G14-I14)) -> 0 | N14: =IF(K14="R","R",(L14-K14-M14)) -> 0 | R14: =IF(O14="R","R",(P14-O14-Q14)) -> 0 | V14: =IF(S14="R","R",(T14-S14-U14)) -> 0 | Z14: =IF(W14="R","R",(X14-W14-Y14)) -> 0 | AD14: =IF(AA14="R","R",(AB14-AA14-AC14)) -> 0
A15: =SUM(C15+G15+K15+O15+S15+W15+AA15) -> 0 | B15: total jour | C15: =IF(F13="R",F14,F13+(IF(F14="R",0,F14))) -> 0 | E15: =SUM(E13:E14) -> 0 | G15: =IF(J13="R",J14,J13+(IF(J14="R",0,J14))) -> 0 | I15: =SUM(I13:I14) -> 0 | K15: =IF(N13="R",N14,N13+(IF(N14="R",0,N14))) -> 0 | M15: =SUM(M13:M14) -> 0 | O15: =IF(R13="R",R14,R13+(IF(R14="R",0,R14))) -> 0 | Q15: =SUM(Q13:Q14) -> 0 | S15: =IF(V13="R",V14,V13+(IF(V14="R",0,V14))) -> 0 | U15: =SUM(U13:U14) -> 0 | W15: =IF(Z13="R",Z14,Z13+(IF(Z14="R",0,Z14))) -> 0 | Y15: =SUM(Y13:Y14) -> 0 | AA15: =IF(AD13="R",AD14,AD13+(IF(AD14="R",0,AD14))) -> 0 | AC15: =SUM(AC13:AC14) -> 0
A16: 5 | B16: midi | F16: =IF(C16="R","R",(D16-C16-E16)) -> 0 | J16: =IF(G16="R","R",(H16-G16-I16)) -> 0 | N16: =IF(K16="R","R",(L16-K16-M16)) -> 0 | R16: =IF(O16="R","R",(P16-O16-Q16)) -> 0 | V16: =IF(S16="R","R",(T16-S16-U16)) -> 0 | Z16: =IF(W16="R","R",(X16-W16-Y16)) -> 0 | AD16: =IF(AA16="R","R",(AB16-AA16-AC16)) -> 0
A17: 55 | B17: soir | F17: =IF(C17="R","R",(D17-C17-E17)) -> 0 | J17: =IF(G17="R","R",(H17-G17-I17)) -> 0 | N17: =IF(K17="R","R",(L17-K17-M17)) -> 0 | R17: =IF(O17="R","R",(P17-O17-Q17)) -> 0 | V17: =IF(S17="R","R",(T17-S17-U17)) -> 0 | Z17: =IF(W17="R","R",(X17-W17-Y17)) -> 0 | AD17: =IF(AA17="R","R",(AB17-AA17-AC17)) -> 0
A18: =SUM(C18+G18+K18+O18+S18+W18+AA18) -> 0 | B18: total jour | C18: =IF(F16="R",F17,F16+(IF(F17="R",0,F17))) -> 0 | E18: =SUM(E16:E17) -> 0 | G18: =IF(J16="R",J17,J16+(IF(J17="R",0,J17))) -> 0 | I18: =SUM(I16:I17) -> 0 | K18: =IF(N16="R",N17,N16+(IF(N17="R",0,N17))) -> 0 | M18: =SUM(M16:M17) -> 0 | O18: =IF(R16="R",R17,R16+(IF(R17="R",0,R17))) -> 0 | Q18: =SUM(Q16:Q17) -> 0 | S18: =IF(V16="R",V17,V16+(IF(V17="R",0,V17))) -> 0 | U18: =SUM(U16:U17) -> 0 | W18: =IF(Z16="R",Z17,Z16+(IF(Z17="R",0,Z17))) -> 0 | Y18: =SUM(Y16:Y17) -> 0 | AA18: =IF(AD16="R",AD17,AD16+(IF(AD17="R",0,AD17))) -> 0 | AC18: =SUM(AC16:AC17) -> 0
A19: 6 | B19: midi | F19: =IF(C19="R","R",(D19-C19-E19)) -> 0 | J19: =IF(G19="R","R",(H19-G19-I19)) -> 0 | N19: =IF(K19="R","R",(L19-K19-M19)) -> 0 | R19: =IF(O19="R","R",(P19-O19-Q19)) -> 0 | V19: =IF(S19="R","R",(T19-S19-U19)) -> 0 | Z19: =IF(W19="R","R",(X19-W19-Y19)) -> 0 | AD19: =IF(AA19="R","R",(AB19-AA19-AC19)) -> 0
A20: 66 | B20: soir | F20: =IF(C20="R","R",(D20-C20-E20)) -> 0 | J20: =IF(G20="R","R",(H20-G20-I20)) -> 0 | N20: =IF(K20="R","R",(L20-K20-M20)) -> 0 | R20: =IF(O20="R","R",(P20-O20-Q20)) -> 0 | V20: =IF(S20="R","R",(T20-S20-U20)) -> 0 | Z20: =IF(W20="R","R",(X20-W20-Y20)) -> 0 | AD20: =IF(AA20="R","R",(AB20-AA20-AC20)) -> 0
A21: =SUM(C21+G21+K21+O21+S21+W21+AA21) -> 0 | B21: total jour | C21: =IF(F19="R",F20,F19+(IF(F20="R",0,F20))) -> 0 | E21: =SUM(E19:E20) -> 0 | G21: =IF(J19="R",J20,J19+(IF(J20="R",0,J20))) -> 0 | I21: =SUM(I19:I20) -> 0 | K21: =IF(N19="R",N20,N19+(IF(N20="R",0,N20))) -> 0 | M21: =SUM(M19:M20) -> 0 | O21: =IF(R19="R",R20,R19+(IF(R20="R",0,R20))) -> 0 | Q21: =SUM(Q19:Q20) -> 0 | S21: =IF(V19="R",V20,V19+(IF(V20="R",0,V20))) -> 0 | U21: =SUM(U19:U20) -> 0 | W21: =IF(Z19="R",Z20,Z19+(IF(Z20="R",0,Z20))) -> 0 | Y21: =SUM(Y19:Y20) -> 0 | AA21: =IF(AD19="R",AD20,AD19+(IF(AD20="R",0,AD20))) -> 0 | AC21: =SUM(AC19:AC20) -> 0
A22: 7 | B22: midi | F22: =IF(C22="R","R",(D22-C22-E22)) -> 0 | J22: =IF(G22="R","R",(H22-G22-I22)) -> 0 | N22: =IF(K22="R","R",(L22-K22-M22)) -> 0 | R22: =IF(O22="R","R",(P22-O22-Q22)) -> 0 | V22: =IF(S22="R","R",(T22-S22-U22)) -> 0 | Z22: =IF(W22="R","R",(X22-W22-Y22)) -> 0 | AD22: =IF(AA22="R","R",(AB22-AA22-AC22)) -> 0
A23: 77 | B23: soir | F23: =IF(C23="R","R",(D23-C23-E23)) -> 0 | J23: =IF(G23="R","R",(H23-G23-I23)) -> 0 | N23: =IF(K23="R","R",(L23-K23-M23)) -> 0 | R23: =IF(O23="R","R",(P23-O23-Q23)) -> 0 | V23: =IF(S23="R","R",(T23-S23-U23)) -> 0 | Z23: =IF(W23="R","R",(X23-W23-Y23)) -> 0 | AD23: =IF(AA23="R","R",(AB23-AA23-AC23)) -> 0
A24: =SUM(C24+G24+K24+O24+S24+W24+AA24) -> 0 | B24: total jour | C24: =IF(F22="R",F23,F22+(IF(F23="R",0,F23))) -> 0 | E24: =SUM(E22:E23) -> 0 | G24: =IF(J22="R",J23,J22+(IF(J23="R",0,J23))) -> 0 | I24: =SUM(I22:I23) -> 0 | K24: =IF(N22="R",N23,N22+(IF(N23="R",0,N23))) -> 0 | M24: =SUM(M22:M23) -> 0 | O24: =IF(R22="R",R23,R22+(IF(R23="R",0,R23))) -> 0 | Q24: =SUM(Q22:Q23) -> 0 | S24: =IF(V22="R",V23,V22+(IF(V23="R",0,V23))) -> 0 | U24: =SUM(U22:U23) -> 0 | W24: =IF(Z22="R",Z23,Z22+(IF(Z23="R",0,Z23))) -> 0 | Y24: =SUM(Y22:Y23) -> 0 | AA24: =IF(AD22="R",AD23,AD22+(IF(AD23="R",0,AD23))) -> 0 | AC24: =SUM(AC22:AC23) -> 0
A25: 8 | B25: midi | F25: =IF(C25="R","R",(D25-C25-E25)) -> 0 | J25: =IF(G25="R","R",(H25-G25-I25)) -> 0 | N25: =IF(K25="R","R",(L25-K25-M25)) -> 0 | R25: =IF(O25="R","R",(P25-O25-Q25)) -> 0 | V25: =IF(S25="R","R",(T25-S25-U25)) -> 0 | Z25: =IF(W25="R","R",(X25-W25-Y25)) -> 0 | AD25: =IF(AA25="R","R",(AB25-AA25-AC25)) -> 0
A26: 88 | B26: soir | F26: =IF(C26="R","R",(D26-C26-E26)) -> 0 | J26: =IF(G26="R","R",(H26-G26-I26)) -> 0 | N26: =IF(K26="R","R",(L26-K26-M26)) -> 0 | R26: =IF(O26="R","R",(P26-O26-Q26)) -> 0 | V26: =IF(S26="R","R",(T26-S26-U26)) -> 0 | Z26: =IF(W26="R","R",(X26-W26-Y26)) -> 0 | AD26: =IF(AA26="R","R",(AB26-AA26-AC26)) -> 0
A27: =SUM(C27+G27+K27+O27+S27+W27+AA27) -> 0 | B27: total jour | C27: =IF(F25="R",F26,F25+(IF(F26="R",0,F26))) -> 0 | E27: =SUM(E25:E26) -> 0 | G27: =IF(J25="R",J26,J25+(IF(J26="R",0,J26))) -> 0 | I27: =SUM(I25:I26) -> 0 | K27: =IF(N25="R",N26,N25+(IF(N26="R",0,N26))) -> 0 | M27: =SUM(M25:M26) -> 0 | O27: =IF(R25="R",R26,R25+(IF(R26="R",0,R26))) -> 0 | Q27: =SUM(Q25:Q26) -> 0 | S27: =IF(V25="R",V26,V25+(IF(V26="R",0,V26))) -> 0 | U27: =SUM(U25:U26) -> 0 | W27: =IF(Z25="R",Z26,Z25+(IF(Z26="R",0,Z26))) -> 0 | Y27: =SUM(Y25:Y26) -> 0 | AA27: =IF(AD25="R",AD26,AD25+(IF(AD26="R",0,AD26))) -> 0 | AC27: =SUM(AC25:AC26) -> 0
A28: 9 | B28: midi | F28: =IF(C28="R","R",(D28-C28-E28)) -> 0 | J28: =IF(G28="R","R",(H28-G28-I28)) -> 0 | N28: =IF(K28="R","R",(L28-K28-M28)) -> 0 | R28: =IF(O28="R","R",(P28-O28-Q28)) -> 0 | V28: =IF(S28="R","R",(T28-S28-U28)) -> 0 | Z28: =IF(W28="R","R",(X28-W28-Y28)) -> 0 | AD28: =IF(AA28="R","R",(AB28-AA28-AC28)) -> 0
A29: 99 | B29: soir | F29: =IF(C29="R","R",(D29-C29-E29)) -> 0 | J29: =IF(G29="R","R",(H29-G29-I29)) -> 0 | N29: =IF(K29="R","R",(L29-K29-M29)) -> 0 | R29: =IF(O29="R","R",(P29-O29-Q29)) -> 0 | V29: =IF(S29="R","R",(T29-S29-U29)) -> 0 | Z29: =IF(W29="R","R",(X29-W29-Y29)) -> 0 | AD29: =IF(AA29="R","R",(AB29-AA29-AC29)) -> 0
A30: =SUM(C30+G30+K30+O30+S30+W30+AA30) -> 0 | B30: total jour | C30: =IF(F28="R",F29,F28+(IF(F29="R",0,F29))) -> 0 | E30: =SUM(E28:E29) -> 0 | G30: =IF(J28="R",J29,J28+(IF(J29="R",0,J29))) -> 0 | I30: =SUM(I28:I29) -> 0 | K30: =IF(N28="R",N29,N28+(IF(N29="R",0,N29))) -> 0 | M30: =SUM(M28:M29) -> 0 | O30: =IF(R28="R",R29,R28+(IF(R29="R",0,R29))) -> 0 | Q30: =SUM(Q28:Q29) -> 0 | S30: =IF(V28="R",V29,V28+(IF(V29="R",0,V29))) -> 0 | U30: =SUM(U28:U29) -> 0 | W30: =IF(Z28="R",Z29,Z28+(IF(Z29="R",0,Z29))) -> 0 | Y30: =SUM(Y28:Y29) -> 0 | AA30: =IF(AD28="R",AD29,AD28+(IF(AD29="R",0,AD29))) -> 0 | AC30: =SUM(AC28:AC29) -> 0

Sheet Emargement Cuisine
A2: Nom: | D2: =Cuisine!A5 -> 11 | N2: Semaine: | P2: =Cuisine!A2 -> S47
A3: Prénom: | D3: =Cuisine!A4 -> 1 | O3: Du: | P3: =Cuisine!M1 -> 43787 | S3: au | T3: =+P3+6 -> 43793
B4: LUNDI | F4: MARDI | J4: MERCREDI | N4: JEUDI | R4: VENDREDI | V4: SAMEDI | Z4: DIMANCHE
B5: debut | C5: fin | D5: pause | E5: total | F5: debut | G5: fin | H5: pause | I5: total | J5: debut | K5: fin | L5: pause | M5: total | N5: debut | O5: fin | P5: pause | Q5: total | R5: debut | S5: fin | T5: pause | U5: total | V5: debut | W5: fin | X5: pause | Y5: total | Z5: debut | AA5: fin | AB5: pause | AC5: total
A6: midi | B6: =Cuisine!C4 -> 0 | C6: =Cuisine!D4 -> 0 | D6: =Cuisine!E4 -> 0 | E6: =Cuisine!F4 -> 0 | F6: =Cuisine!G4 -> 0 | G6: =Cuisine!H4 -> 0 | H6: =Cuisine!I4 -> 0 | I6: =Cuisine!J4 -> 0 | ... AC6: =Cuisine!AD4 -> 0
A7: soir | B7: =Cuisine!C5 -> 0 | C7: =Cuisine!D5 -> 0 | D7: =Cuisine!E5 -> 0 | E7: =Cuisine!F5 -> 0 | F7: =Cuisine!G5 -> 0 | G7: =Cuisine!H5 -> 0 | H7: =Cuisine!I5 -> 0 | I7: =Cuisine!J5 -> 0 | ... AC7: =Cuisine!AD5 -> 0
A8: total jour | B8: =Cuisine!C6 -> 0 | D8: =Cuisine!E6 -> 0 | E8: =Cuisine!F6 -> 0 | F8: =Cuisine!G6 -> 0 | H8: =Cuisine!I6 -> 0 | I8: =Cuisine!J6 -> 0 | J8: =Cuisine!K6 -> 0 | L8: =Cuisine!M6 -> 0 | M8: =Cuisine!N6 -> 0 | N8: =Cuisine!O6 -> 0 | P8: =Cuisine!Q6 -> 0 | Q8: =Cuisine!R6 -> 0 | R8: =Cuisine!S6 -> 0 | T8: =Cuisine!U6 -> 0 | U8: =Cuisine!V6 -> 0 | V8: =Cuisine!W6 -> 0 | X8: =Cuisine!Y6 -> 0 | Y8: =Cuisine!Z6 -> 0 | Z8: =Cuisine!AA6 -> 0 | AB8: =Cuisine!AC6 -> 0 | AC8: =Cuisine!AD6 -> 0
B11: LUNDI | F11: MARDI | J11: MERCREDI | N11: JEUDI | R11: VENDREDI | V11: SAMEDI | Z11: DIMANCHE
B12: debut | C12: fin | D12: pause | E12: total | F12: debut | G12: fin | H12: pause | I12: total | J12: debut | K12: fin | L12: pause | M12: total | N12: debut | O12: fin | P12: pause | Q12: total | R12: debut | S12: fin | T12: pause | U12: total | V12: debut | W12: fin | X12: pause | Y12: total | Z12: debut | AA12: fin | AB12: pause | AC12: total
A13: midi | E13: =IF(B13="R","R",(C13-B13-D13)) -> 0 | I13: =IF(F13="R","R",(G13-F13-H13)) -> 0 | M13: =IF(J13="R","R",(K13-J13-L13)) -> 0 | Q13: =IF(N13="R","R",(O13-N13-P13)) -> 0 | U13: =IF(R13="R","R",(S13-R13-T13)) -> 0 | Y13: =IF(V13="R","R",(W13-V13-X13)) -> 0 | AC13: =IF(Z13="R","R",(AA13-Z13-AB13)) -> 0
A14: soir | E14: =IF(B14="R","R",(C14-B14-D14)) -> 0 | I14: =IF(F14="R","R",(G14-F14-H14)) -> 0 | M14: =IF(J14="R","R",(K14-J14-L14)) -> 0 | Q14: =IF(N14="R","R",(O14-N14-P14)) -> 0 | U14: =IF(R14="R","R",(S14-R14-T14)) -> 0 | Y14: =IF(V14="R","R",(W14-V14-X14)) -> 0 | AC14: =IF(Z14="R","R",(AA14-Z14-AB14)) -> 0
A15: total jour | B15: =IF(B13="R",E14,E13+(IF(E14="R",0,E14))) -> 0 | F15: =IF(F13="R",I14,I13+(IF(I14="R",0,I14))) -> 0 | J15: =IF(J13="R",M14,M13+(IF(M14="R",0,M14))) -> 0 | N15: =IF(N13="R",Q14,Q13+(IF(Q14="R",0,Q14))) -> 0 | R15: =IF(R13="R",U14,U13+(IF(U14="R",0,U14))) -> 0 | V15: =IF(V13="R",Y14,Y13+(IF(Y14="R",0,Y14))) -> 0 | Z15: =IF(Z13="R",AC14,AC13+(IF(AC14="R",0,AC14))) -> 0
A20: TOTAL PREVU | C20: =IF(B6="R","R",B8+F8+J8+N8+R8+V8+Z8) -> 0 | H20: TOTAL REALISE | L20: =IF(B13="R","R",B15+F15+J15+N15+R15+V15+Z15) -> 0 | P20: SIGNATURE
A25: Nom: | D25: =Cuisine!A8 -> 22 | N25: Semaine: | P25: =Cuisine!A2 -> S47
A26: Prénom: | D26: =Cuisine!A7 -> 2 | O26: Du: | P26: =Cuisine!M1 -> 43787 | S26: au | T26: =+P26+6 -> 43793
B27: LUNDI | F27: MARDI | J27: MERCREDI | N27: JEUDI | R27: VENDREDI | V27: SAMEDI | Z27: DIMANCHE
B28: debut | C28: fin | D28: pause | E28: total | F28: debut | G28: fin | H28: pause | I28: total | J28: debut | K28: fin | L28: pause | M28: total | N28: debut | O28: fin | P28: pause | Q28: total | R28: debut | S28: fin | T28: pause | U28: total | V28: debut | W28: fin | X28: pause | Y28: total | Z28: debut | AA28: fin | AB28: pause | AC28: total
A29: midi | B29: =Cuisine!C7 -> 0 | C29: =Cuisine!D7 -> 0 | D29: =Cuisine!E7 -> 0 | E29: =Cuisine!F7 -> 0 | F29: =Cuisine!G7 -> 0 | G29: =Cuisine!H7 -> 0 | H29: =Cuisine!I7 -> 0 | I29: =Cuisine!J7 -> 0 | ... AC29: =Cuisine!AD7 -> 0
A30: soir | B30: =Cuisine!C8 -> 0 | C30: =Cuisine!D8 -> 0 | D30: =Cuisine!E8 -> 0 | E30: =Cuisine!F8 -> 0 | F30: =Cuisine!G8 -> 0 | G30: =Cuisine!H8 -> 0 | H30: =Cuisine!I8 -> 0 | I30: =Cuisine!J8 -> 0 | ... AC30: =Cuisine!AD8 -> 0
A31: total jour | B31: =Cuisine!C9 -> 0 | D31: =Cuisine!E9 -> 0 | E31: =Cuisine!F9 -> 0 | F31: =Cuisine!G9 -> 0 | H31: =Cuisine!I9 -> 0 | I31: =Cuisine!J9 -> 0 | J31: =Cuisine!K9 -> 0 | L31: =Cuisine!M9 -> 0 | M31: =Cuisine!N9 -> 0 | N31: =Cuisine!O9 -> 0 | P31: =Cuisine!Q9 -> 0 | Q31: =Cuisine!R9 -> 0 | R31: =Cuisine!S9 -> 0 | T31: =Cuisine!U9 -> 0 | U31: =Cuisine!V9 -> 0 | V31: =Cuisine!W9 -> 0 | X31: =Cuisine!Y9 -> 0 | Y31: =Cuisine!Z9 -> 0 | Z31: =Cuisine!AA9 -> 0 | AB31: =Cuisine!AC9 -> 0 | AC31: =Cuisine!AD9 -> 0
B34: LUNDI | F34: MARDI | J34: MERCREDI | N34: JEUDI | R34: VENDREDI | V34: SAMEDI | Z34: DIMANCHE
B35: debut | C35: fin | D35: pause | E35: total | F35: debut | G35: fin | H35: pause | I35: total | J35: debut | K35: fin | L35: pause | M35: total | N35: debut | O35: fin | P35: pause | Q35: total | R35: debut | S35: fin | T35: pause | U35: total | V35: debut | W35: fin | X35: pause | Y35: total | Z35: debut | AA35: fin | AB35: pause | AC35: total
A36: midi | E36: =IF(B36="R","R",(C36-B36-D36)) -> 0 | I36: =IF(F36="R","R",(G36-F36-H36)) -> 0 | M36: =IF(J36="R","R",(K36-J36-L36)) -> 0 | Q36: =IF(N36="R","R",(O36-N36-P36)) -> 0 | U36: =IF(R36="R","R",(S36-R36-T36)) -> 0 | Y36: =IF(V36="R","R",(W36-V36-X36)) -> 0 | AC36: =IF(Z36="R","R",(AA36-Z36-AB36)) -> 0
A37: soir | E37: =IF(B37="R","R",(C37-B37-D37)) -> 0 | I37: =IF(F37="R","R",(G37-F37-H37)) -> 0 | M37: =IF(J37="R","R",(K37-J37-L37)) -> 0 | Q37: =IF(N37="R","R",(O37-N37-P37)) -> 0 | U37: =IF(R37="R","R",(S37-R37-T37)) -> 0 | Y37: =IF(V37="R","R",(W37-V37-X37)) -> 0 | AC37: =IF(Z37="R","R",(AA37-Z37-AB37)) -> 0
A38: total jour | B38: =IF(B36="R",E37,E36+(IF(E37="R",0,E37))) -> 0 | F38: =IF(F36="R",I37,I36+(IF(I37="R",0,I37))) -> 0 | J38: =IF(J36="R",M37,M36+(IF(M37="R",0,M37))) -> 0 | N38: =IF(N36="R",Q37,Q36+(IF(Q37="R",0,Q37))) -> 0 | R38: =IF(R36="R",U37,U36+(IF(U37="R",0,U37))) -> 0 | V38: =IF(V36="R",Y37,Y36+(IF(Y37="R",0,Y37))) -> 0 | Z38: =IF(Z36="R",AC37,AC36+(IF(AC37="R",0,AC37))) -> 0
A43: TOTAL PREVU | C43: =IF(B29="R","R",B31+F31+J31+N31+R31+V31+Z31) -> 0 | H43: TOTAL REALISE | L43: =IF(B36="R","R",B38+F38+J38+N38+R38+V38+Z38) -> 0 | P43: SIGNATURE
A48: Nom: | D48: =Cuisine!A11 -> 33 | N48: Semaine: | P48: =Cuisine!A2 -> S47
A49: Prénom: | D49: =Cuisine!A10 -> 3 | O49: Du: | P49: =Cuisine!M1 -> 43787 | S49: au | T49: =+P49+6 -> 43793
B50: LUNDI | F50: MARDI | J50: MERCREDI | N50: JEUDI | R50: VENDREDI | V50: SAMEDI | Z50: DIMANCHE
B51: debut | C51: fin | D51: pause | E51: total | F51: debut | G51: fin | H51: pause | I51: total | J51: debut | K51: fin | L51: pause | M51: total | N51: debut | O51: fin | P51: pause | Q51: total | R51: debut | S51: fin | T51: pause | U51: total | V51: debut | W51: fin | X51: pause | Y51: total | Z51: debut | AA51: fin | AB51: pause | AC51: total
A52: midi | B52: =Cuisine!C10 -> 0 | C52: =Cuisine!D10 -> 0 | D52: =Cuisine!E10 -> 0 | E52: =Cuisine!F10 -> 0 | F52: =Cuisine!G10 -> 0 | G52: =Cuisine!H10 -> 0 | H52: =Cuisine!I10 -> 0 | I52: =Cuisine!J10 -> 0 | ... AC52: =Cuisine!AD10 -> 0
A53: soir | B53: =Cuisine!C11 -> 0 | C53: =Cuisine!D11 -> 0 | D53: =Cuisine!E11 -> 0 | E53: =Cuisine!F11 -> 0 | F53: =Cuisine!G11 -> 0 | G53: =Cuisine!H11 -> 0 | H53: =Cuisine!I11 -> 0 | I53: =Cuisine!J11 -> 0 | ... AC53: =Cuisine!AD11 -> 0
A54: total jour | B54: =Cuisine!C12 -> 0 | D54: =Cuisine!E12 -> 0 | E54: =Cuisine!F12 -> 0 | F54: =Cuisine!G12 -> 0 | H54: =Cuisine!I12 -> 0 | I54: =Cuisine!J12 -> 0 | J54: =Cuisine!K12 -> 0 | L54: =Cuisine!M12 -> 0 | M54: =Cuisine!N12 -> 0 | N54: =Cuisine!O12 -> 0 | P54: =Cuisine!Q12 -> 0 | Q54: =Cuisine!R12 -> 0 | R54: =Cuisine!S12 -> 0 | T54: =Cuisine!U12 -> 0 | U54: =Cuisine!V12 -> 0 | V54: =Cuisine!W12 -> 0 | X54: =Cuisine!Y12 -> 0 | Y54: =Cuisine!Z12 -> 0 | Z54: =Cuisine!AA12 -> 0 | AB54: =Cuisine!AC12 -> 0 | AC54: =Cuisine!AD12 -> 0
B57: LUNDI | F57: MARDI | J57: MERCREDI | N57: JEUDI | R57: VENDREDI | V57: SAMEDI | Z57: DIMANCHE
B58: debut | C58: fin | D58: pause | E58: total | F58: debut | G58: fin | H58: pause | I58: total | J58: debut | K58: fin | L58: pause | M58: total | N58: debut | O58: fin | P58: pause | Q58: total | R58: debut | S58: fin | T58: pause | U58: total | V58: debut | W58: fin | X58: pause | Y58: total | Z58: debut | AA58: fin | AB58: pause | AC58: total
A59: midi | E59: =IF(B59="R","R",(C59-B59-D59)) -> 0 | I59: =IF(F59="R","R",(G59-F59-H59)) -> 0 | M59: =IF(J59="R","R",(K59-J59-L59)) -> 0 | Q59: =IF(N59="R","R",(O59-N59-P59)) -> 0 | U59: =IF(R59="R","R",(S59-R59-T59)) -> 0 | Y59: =IF(V59="R","R",(W59-V59-X59)) -> 0 | AC59: =IF(Z59="R","R",(AA59-Z59-AB59)) -> 0
A60: soir | E60: =IF(B60="R","R",(C60-B60-D60)) -> 0 | I60: =IF(F60="R","R",(G60-F60-H60)) -> 0 | M60: =IF(J60="R","R",(K60-J60-L60)) -> 0 | Q60: =IF(N60="R","R",(O60-N60-P60)) -> 0 | U60: =IF(R60="R","R",(S60-R60-T60)) -> 0 | Y60: =IF(V60="R","R",(W60-V60-X60)) -> 0 | AC60: =IF(Z60="R","R",(AA60-Z60-AB60)) -> 0
A61: total jour | B61: =IF(B59="R",E60,E59+(IF(E60="R",0,E60))) -> 0 | F61: =IF(F59="R",I60,I59+(IF(I60="R",0,I60))) -> 0 | J61: =IF(J59="R",M60,M59+(IF(M60="R",0,M60))) -> 0 | N61: =IF(N59="R",Q60,Q59+(IF(Q60="R",0,Q60))) -> 0 | R61: =IF(R59="R",U60,U59+(IF(U60="R",0,U60))) -> 0 | V61: =IF(V59="R",Y60,Y59+(IF(Y60="R",0,Y60))) -> 0 | Z61: =IF(Z59="R",AC60,AC59+(IF(AC60="R",0,AC60))) -> 0
A66: TOTAL PREVU | C66: =IF(B52="R","R",B54+F54+J54+N54+R54+V54+Z54) -> 0 | H66: TOTAL REALISE | L66: =IF(B59="R","R",B61+F61+J61+N61+R61+V61+Z61) -> 0 | P66: SIGNATURE
A71: Nom: | D71: =Cuisine!A14 -> 44 | N71: Semaine: | P71: =Cuisine!A2 -> S47
...
