Workbook

Sheet Agents
G2: Homme | P2: Femme
B3: Nom & Prénom Agent | C3: Ancienneté | D3: Statut | E3: Sexe | F3: Nb H Contrat | G3: Junior | H3: Rang Junior | I3: Resp | J3: Confirmé | K3: Rang Confirmé | L3: Resp | M3: Sénior | N3: Rang Sénior | O3: Resp | P3: Junior | Q3: Rang Junior | R3: Resp | S3: Confirmé | T3: Rang Confirmé | U3: Resp | V3: Sénior | W3: Rang Sénior | X3: Resp | Y3: Responsable
B4: A01 | C4: 3 Mois | D4: Junior | E4: Homme | F4: 35h | G4: =IF(AND($E4=$G$2,$D4=G$3),RANDBETWEEN(1,99)+ROW()/100,"") -> 28.04 | H4: =IFERROR(RIGHT("00"&RANK(G4,$G$4:$G$53),2),"") -> 07 | I4: =IF(H4="","",INDEX('Groupes et Responsables'!$S$4:$S$8,VLOOKUP(INDEX('Groupes et Responsables'!$A$4:$A$33,MATCH(G$3&"|"&$G$2&"|"&H4,'Groupes et Responsables'!$G$4:$G$33,1)),'Groupes et Responsables'!$O$4:$Q$8,3,0))) -> R1 | J4: =IF(AND($E4=$G$2,$D4=J$3),RANDBETWEEN(1,99)+ROW()/100,"") | K4: =IFERROR(RIGHT("00"&RANK(J4,$J$4:$J$53),2),"") | L4: =IF(K4="","",INDEX('Groupes et Responsables'!$S$4:$S$8,VLOOKUP(INDEX('Groupes et Responsables'!$A$4:$A$33,MATCH(J$3&"|"&$G$2&"|"&K4,'Groupes et Responsables'!$G$4:$G$33,1)),'Groupes et Responsables'!$O$4:$Q$8,3,0))) | M4: =IF(AND($E4=$G$2,$D4=M$3),RANDBETWEEN(1,99)+ROW()/100,"") | N4: =IFERROR(RIGHT("00"&RANK(M4,$M$4:$M$53),2),"") | O4: =IF(N4="","",INDEX('Groupes et Responsables'!$S$4:$S$8,VLOOKUP(INDEX('Groupes et Responsables'!$A$4:$A$33,MATCH(M$3&"|"&$G$2&"|"&N4,'Groupes et Responsables'!$G$4:$G$33,1)),'Groupes et Responsables'!$O$4:$Q$8,3,0))) | P4: =IF(AND($E4=$P$2,$D4=P$3),RANDBETWEEN(1,99)+ROW()/100,"") | Q4: =IFERROR(RIGHT("00"&RANK(P4,$P$4:$P$53),2),"") | R4: =IF(Q4="","",INDEX('Groupes et Responsables'!$S$4:$S$8,VLOOKUP(INDEX('Groupes et Responsables'!$A$4:$A$33,MATCH(P$3&"|"&$P$2&"|"&Q4,'Groupes et Responsables'!$G$4:$G$33,1)),'Groupes et Responsables'!$O$4:$Q$8,3,0))) | S4: =IF(AND($E4=$P$2,$D4=S$3),RANDBETWEEN(1,99)+ROW()/100,"") | T4: =IFERROR(RIGHT("00"&RANK(S4,$S$4:$S$53),2),"") | U4: =IF(T4="","",INDEX('Groupes et Responsables'!$S$4:$S$8,VLOOKUP(INDEX('Groupes et Responsables'!$A$4:$A$33,MATCH(S$3&"|"&$P$2&"|"&T4,'Groupes et Responsables'!$G$4:$G$33,1)),'Groupes et Responsables'!$O$4:$Q$8,3,0))) | V4: =IF(AND($E4=$P$2,$D4=V$3),RANDBETWEEN(1,99)+ROW()/100,"") | W4: =IFERROR(RIGHT("00"&RANK(V4,$V$4:$V$53),2),"") | X4: =IF(W4="","",INDEX('Groupes et Responsables'!$S$4:$S$8,VLOOKUP(INDEX('Groupes et Responsables'!$A$4:$A$33,MATCH(V$3&"|"&$P$2&"|"&W4,'Groupes et Responsables'!$G$4:$G$33,1)),'Groupes et Responsables'!$O$4:$Q$8,3,0))) | Y4: =I4&L4&O4&R4&U4&X4 -> R1
B5: A02 | C5: 3 Mois | D5: Junior | E5: Femme | F5: 35h | G5: =IF(AND($E5=$G$2,$D5=G$3),RANDBETWEEN(1,99)+ROW()/100,"") | H5: =IFERROR(RIGHT("00"&RANK(G5,$G$4:$G$53),2),"") | I5: =IF(H5="","",INDEX('Groupes et Responsables'!$S$4:$S$8,VLOOKUP(INDEX('Groupes et Responsables'!$A$4:$A$33,MATCH(G$3&"|"&$G$2&"|"&H5,'Groupes et Responsables'!$G$4:$G$33,1)),'Groupes et Responsables'!$O$4:$Q$8,3,0))) | J5: =IF(AND($E5=$G$2,$D5=J$3),RANDBETWEEN(1,99)+ROW()/100,"") | K5: =IFERROR(RIGHT("00"&RANK(J5,$J$4:$J$53),2),"") | L5: =IF(K5="","",INDEX('Groupes et Responsables'!$S$4:$S$8,VLOOKUP(INDEX('Groupes et Responsables'!$A$4:$A$33,MATCH(J$3&"|"&$G$2&"|"&K5,'Groupes et Responsables'!$G$4:$G$33,1)),'Groupes et Responsables'!$O$4:$Q$8,3,0))) | M5: =IF(AND($E5=$G$2,$D5=M$3),RANDBETWEEN(1,99)+ROW()/100,"") | N5: =IFERROR(RIGHT("00"&RANK(M5,$M$4:$M$53),2),"") | O5: =IF(N5="","",INDEX('Groupes et Responsables'!$S$4:$S$8,VLOOKUP(INDEX('Groupes et Responsables'!$A$4:$A$33,MATCH(M$3&"|"&$G$2&"|"&N5,'Groupes et Responsables'!$G$4:$G$33,1)),'Groupes et Responsables'!$O$4:$Q$8,3,0))) | P5: =IF(AND($E5=$P$2,$D5=P$3),RANDBETWEEN(1,99)+ROW()/100,"") -> 50.05 | Q5: =IFERROR(RIGHT("00"&RANK(P5,$P$4:$P$53),2),"") -> 06 | R5: =IF(Q5="","",INDEX('Groupes et Responsables'!$S$4:$S$8,VLOOKUP(INDEX('Groupes et Responsables'!$A$4:$A$33,MATCH(P$3&"|"&$P$2&"|"&Q5,'Groupes et Responsables'!$G$4:$G$33,1)),'Groupes et Responsables'!$O$4:$Q$8,3,0))) -> R1 | S5: =IF(AND($E5=$P$2,$D5=S$3),RANDBETWEEN(1,99)+ROW()/100,"") | T5: =IFERROR(RIGHT("00"&RANK(S5,$S$4:$S$53),2),"") | U5: =IF(T5="","",INDEX('Groupes et Responsables'!$S$4:$S$8,VLOOKUP(INDEX('Groupes et Responsables'!$A$4:$A$33,MATCH(S$3&"|"&$P$2&"|"&T5,'Groupes et Responsables'!$G$4:$G$33,1)),'Groupes et Responsables'!$O$4:$Q$8,3,0))) | V5: =IF(AND($E5=$P$2,$D5=V$3),RANDBETWEEN(1,99)+ROW()/100,"") | W5: =IFERROR(RIGHT("00"&RANK(V5,$V$4:$V$53),2),"") | X5: =IF(W5="","",INDEX('Groupes et Responsables'!$S$4:$S$8,VLOOKUP(INDEX('Groupes et Responsables'!$A$4:$A$33,MATCH(V$3&"|"&$P$2&"|"&W5,'Groupes et Responsables'!$G$4:$G$33,1)),'Groupes et Responsables'!$O$4:$Q$8,3,0))) | Y5: =I5&L5&O5&R5&U5&X5 -> R1
B6: A03 | C6: 3 Mois | D6: Junior | E6: Homme | F6: 35h | G6: =IF(AND($E6=$G$2,$D6=G$3),RANDBETWEEN(1,99)+ROW()/100,"") -> 39.06 | H6: =IFERROR(RIGHT("00"&RANK(G6,$G$4:$G$53),2),"") -> 04 | I6: =IF(H6="","",INDEX('Groupes et Responsables'!$S$4:$S$8,VLOOKUP(INDEX('Groupes et Responsables'!$A$4:$A$33,MATCH(G$3&"|"&$G$2&"|"&H6,'Groupes et Responsables'!$G$4:$G$33,1)),'Groupes et Responsables'!$O$4:$Q$8,3,0))) -> R3 | J6: =IF(AND($E6=$G$2,$D6=J$3),RANDBETWEEN(1,99)+ROW()/100,"") | K6: =IFERROR(RIGHT("00"&RANK(J6,$J$4:$J$53),2),"") | L6: =IF(K6="","",INDEX('Groupes et Responsables'!$S$4:$S$8,VLOOKUP(INDEX('Groupes et Responsables'!$A$4:$A$33,MATCH(J$3&"|"&$G$2&"|"&K6,'Groupes et Responsables'!$G$4:$G$33,1)),'Groupes et Responsables'!$O$4:$Q$8,3,0))) | M6: =IF(AND($E6=$G$2,$D6=M$3),RANDBETWEEN(1,99)+ROW()/100,"") | N6: =IFERROR(RIGHT("00"&RANK(M6,$M$4:$M$53),2),"") | O6: =IF(N6="","",INDEX('Groupes et Responsables'!$S$4:$S$8,VLOOKUP(INDEX('Groupes et Responsables'!$A$4:$A$33,MATCH(M$3&"|"&$G$2&"|"&N6,'Groupes et Responsables'!$G$4:$G$33,1)),'Groupes et Responsables'!$O$4:$Q$8,3,0))) | P6: =IF(AND($E6=$P$2,$D6=P$3),RANDBETWEEN(1,99)+ROW()/100,"") | Q6: =IFERROR(RIGHT("00"&RANK(P6,$P$4:$P$53),2),"") | R6: =IF(Q6="","",INDEX('Groupes et Responsables'!$S$4:$S$8,VLOOKUP(INDEX('Groupes et Responsables'!$A$4:$A$33,MATCH(P$3&"|"&$P$2&"|"&Q6,'Groupes et Responsables'!$G$4:$G$33,1)),'Groupes et Responsables'!$O$4:$Q$8,3,0))) | S6: =IF(AND($E6=$P$2,$D6=S$3),RANDBETWEEN(1,99)+ROW()/100,"") | T6: =IFERROR(RIGHT("00"&RANK(S6,$S$4:$S$53),2),"") | U6: =IF(T6="","",INDEX('Groupes et Responsables'!$S$4:$S$8,VLOOKUP(INDEX('Groupes et Responsables'!$A$4:$A$33,MATCH(S$3&"|"&$P$2&"|"&T6,'Groupes et Responsables'!$G$4:$G$33,1)),'Groupes et Responsables'!$O$4:$Q$8,3,0))) | V6: =IF(AND($E6=$P$2,$D6=V$3),RANDBETWEEN(1,99)+ROW()/100,"") | W6: =IFERROR(RIGHT("00"&RANK(V6,$V$4:$V$53),2),"") | X6: =IF(W6="","",INDEX('Groupes et Responsables'!$S$4:$S$8,VLOOKUP(INDEX('Groupes et Responsables'!$A$4:$A$33,MATCH(V$3&"|"&$P$2&"|"&W6,'Groupes et Responsables'!$G$4:$G$33,1)),'Groupes et Responsables'!$O$4:$Q$8,3,0))) | Y6: =I6&L6&O6&R6&U6&X6 -> R3
B7: A04 | C7: 3 Mois | D7: Junior | E7: Femme | F7: 35h | G7: =IF(AND($E7=$G$2,$D7=G$3),RANDBETWEEN(1,99)+ROW()/100,"") | H7: =IFERROR(RIGHT("00"&RANK(G7,$G$4:$G$53),2),"") | I7: =IF(H7="","",INDEX('Groupes et Responsables'!$S$4:$S$8,VLOOKUP(INDEX('Groupes et Responsables'!$A$4:$A$33,MATCH(G$3&"|"&$G$2&"|"&H7,'Groupes et Responsables'!$G$4:$G$33,1)),'Groupes et Responsables'!$O$4:$Q$8,3,0))) | J7: =IF(AND($E7=$G$2,$D7=J$3),RANDBETWEEN(1,99)+ROW()/100,"") | K7: =IFERROR(RIGHT("00"&RANK(J7,$J$4:$J$53),2),"") | L7: =IF(K7="","",INDEX('Groupes et Responsables'!$S$4:$S$8,VLOOKUP(INDEX('Groupes et Responsables'!$A$4:$A$33,MATCH(J$3&"|"&$G$2&"|"&K7,'Groupes et Responsables'!$G$4:$G$33,1)),'Groupes et Responsables'!$O$4:$Q$8,3,0))) | M7: =IF(AND($E7=$G$2,$D7=M$3),RANDBETWEEN(1,99)+ROW()/100,"") | N7: =IFERROR(RIGHT("00"&RANK(M7,$M$4:$M$53),2),"") | O7: =IF(N7="","",INDEX('Groupes et Responsables'!$S$4:$S$8,VLOOKUP(INDEX('Groupes et Responsables'!$A$4:$A$33,MATCH(M$3&"|"&$G$2&"|"&N7,'Groupes et Responsables'!$G$4:$G$33,1)),'Groupes et Responsables'!$O$4:$Q$8,3,0))) | P7: =IF(AND($E7=$P$2,$D7=P$3),RANDBETWEEN(1,99)+ROW()/100,"") -> 73.07 | Q7: =IFERROR(RIGHT("00"&RANK(P7,$P$4:$P$53),2),"") -> 03 | R7: =IF(Q7="","",INDEX('Groupes et Responsables'!$S$4:$S$8,VLOOKUP(INDEX('Groupes et Responsables'!$A$4:$A$33,MATCH(P$3&"|"&$P$2&"|"&Q7,'Groupes et Responsables'!$G$4:$G$33,1)),'Groupes et Responsables'!$O$4:$Q$8,3,0))) -> R4 | S7: =IF(AND($E7=$P$2,$D7=S$3),RANDBETWEEN(1,99)+ROW()/100,"") | T7: =IFERROR(RIGHT("00"&RANK(S7,$S$4:$S$53),2),"") | U7: =IF(T7="","",INDEX('Groupes et Responsables'!$S$4:$S$8,VLOOKUP(INDEX('Groupes et Responsables'!$A$4:$A$33,MATCH(S$3&"|"&$P$2&"|"&T7,'Groupes et Responsables'!$G$4:$G$33,1)),'Groupes et Responsables'!$O$4:$Q$8,3,0))) | V7: =IF(AND($E7=$P$2,$D7=V$3),RANDBETWEEN(1,99)+ROW()/100,"") | W7: =IFERROR(RIGHT("00"&RANK(V7,$V$4:$V$53),2),"") | X7: =IF(W7="","",INDEX('Groupes et Responsables'!$S$4:$S$8,VLOOKUP(INDEX('Groupes et Responsables'!$A$4:$A$33,MATCH(V$3&"|"&$P$2&"|"&W7,'Groupes et Responsables'!$G$4:$G$33,1)),'Groupes et Responsables'!$O$4:$Q$8,3,0))) | Y7: =I7&L7&O7&R7&U7&X7 -> R4
B8: A05 | C8: 3 Mois | D8: Junior | E8: Homme | F8: 35h | G8: =IF(AND($E8=$G$2,$D8=G$3),RANDBETWEEN(1,99)+ROW()/100,"") -> 2.08 | H8: =IFERROR(RIGHT("00"&RANK(G8,$G$4:$G$53),2),"") -> 09 | I8: =IF(H8="","",INDEX('Groupes et Responsables'!$S$4:$S$8,VLOOKUP(INDEX('Groupes et Responsables'!$A$4:$A$33,MATCH(G$3&"|"&$G$2&"|"&H8,'Groupes et Responsables'!$G$4:$G$33,1)),'Groupes et Responsables'!$O$4:$Q$8,3,0))) -> R2 | J8: =IF(AND($E8=$G$2,$D8=J$3),RANDBETWEEN(1,99)+ROW()/100,"") | K8: =IFERROR(RIGHT("00"&RANK(J8,$J$4:$J$53),2),"") | L8: =IF(K8="","",INDEX('Groupes et Responsables'!$S$4:$S$8,VLOOKUP(INDEX('Groupes et Responsables'!$A$4:$A$33,MATCH(J$3&"|"&$G$2&"|"&K8,'Groupes et Responsables'!$G$4:$G$33,1)),'Groupes et Responsables'!$O$4:$Q$8,3,0))) | M8: =IF(AND($E8=$G$2,$D8=M$3),RANDBETWEEN(1,99)+ROW()/100,"") | N8: =IFERROR(RIGHT("00"&RANK(M8,$M$4:$M$53),2),"") | O8: =IF(N8="","",INDEX('Groupes et Responsables'!$S$4:$S$8,VLOOKUP(INDEX('Groupes et Responsables'!$A$4:$A$33,MATCH(M$3&"|"&$G$2&"|"&N8,'Groupes et Responsables'!$G$4:$G$33,1)),'Groupes et Responsables'!$O$4:$Q$8,3,0))) | P8: =IF(AND($E8=$P$2,$D8=P$3),RANDBETWEEN(1,99)+ROW()/100,"") | Q8: =IFERROR(RIGHT("00"&RANK(P8,$P$4:$P$53),2),"") | R8: =IF(Q8="","",INDEX('Groupes et Responsables'!$S$4:$S$8,VLOOKUP(INDEX('Groupes et Responsables'!$A$4:$A$33,MATCH(P$3&"|"&$P$2&"|"&Q8,'Groupes et Responsables'!$G$4:$G$33,1)),'Groupes et Responsables'!$O$4:$Q$8,3,0))) | S8: =IF(AND($E8=$P$2,$D8=S$3),RANDBETWEEN(1,99)+ROW()/100,"") | T8: =IFERROR(RIGHT("00"&RANK(S8,$S$4:$S$53),2),"") | U8: =IF(T8="","",INDEX('Groupes et Responsables'!$S$4:$S$8,VLOOKUP(INDEX('Groupes et Responsables'!$A$4:$A$33,MATCH(S$3&"|"&$P$2&"|"&T8,'Groupes et Responsables'!$G$4:$G$33,1)),'Groupes et Responsables'!$O$4:$Q$8,3,0))) | V8: =IF(AND($E8=$P$2,$D8=V$3),RANDBETWEEN(1,99)+ROW()/100,"") | W8: =IFERROR(RIGHT("00"&RANK(V8,$V$4:$V$53),2),"") | X8: =IF(W8="","",INDEX('Groupes et Responsables'!$S$4:$S$8,VLOOKUP(INDEX('Groupes et Responsables'!$A$4:$A$33,MATCH(V$3&"|"&$P$2&"|"&W8,'Groupes et Responsables'!$G$4:$G$33,1)),'Groupes et Responsables'!$O$4:$Q$8,3,0))) | Y8: =I8&L8&O8&R8&U8&X8 -> R2
B9: A06 | C9: 3 Mois | D9: Junior | E9: Femme | F9: 35h | G9: =IF(AND($E9=$G$2,$D9=G$3),RANDBETWEEN(1,99)+ROW()/100,"") | H9: =IFERROR(RIGHT("00"&RANK(G9,$G$4:$G$53),2),"") | I9: =IF(H9="","",INDEX('Groupes et Responsables'!$S$4:$S$8,VLOOKUP(INDEX('Groupes et Responsables'!$A$4:$A$33,MATCH(G$3&"|"&$G$2&"|"&H9,'Groupes et Responsables'!$G$4:$G$33,1)),'Groupes et Responsables'!$O$4:$Q$8,3,0))) | J9: =IF(AND($E9=$G$2,$D9=J$3),RANDBETWEEN(1,99)+ROW()/100,"") | K9: =IFERROR(RIGHT("00"&RANK(J9,$J$4:$J$53),2),"") | L9: =IF(K9="","",INDEX('Groupes et Responsables'!$S$4:$S$8,VLOOKUP(INDEX('Groupes et Responsables'!$A$4:$A$33,MATCH(J$3&"|"&$G$2&"|"&K9,'Groupes et Responsables'!$G$4:$G$33,1)),'Groupes et Responsables'!$O$4:$Q$8,3,0))) | M9: =IF(AND($E9=$G$2,$D9=M$3),RANDBETWEEN(1,99)+ROW()/100,"") | N9: =IFERROR(RIGHT("00"&RANK(M9,$M$4:$M$53),2),"") | O9: =IF(N9="","",INDEX('Groupes et Responsables'!$S$4:$S$8,VLOOKUP(INDEX('Groupes et Responsables'!$A$4:$A$33,MATCH(M$3&"|"&$G$2&"|"&N9,'Groupes et Responsables'!$G$4:$G$33,1)),'Groupes et Responsables'!$O$4:$Q$8,3,0))) | P9: =IF(AND($E9=$P$2,$D9=P$3),RANDBETWEEN(1,99)+ROW()/100,"") -> 97.09 | Q9: =IFERROR(RIGHT("00"&RANK(P9,$P$4:$P$53),2),"") -> 02 | R9: =IF(Q9="","",INDEX('Groupes et Responsables'!$S$4:$S$8,VLOOKUP(INDEX('Groupes et Responsables'!$A$4:$A$33,MATCH(P$3&"|"&$P$2&"|"&Q9,'Groupes et Responsables'!$G$4:$G$33,1)),'Groupes et Responsables'!$O$4:$Q$8,3,0))) -> R3 | S9: =IF(AND($E9=$P$2,$D9=S$3),RANDBETWEEN(1,99)+ROW()/100,"") | T9: =IFERROR(RIGHT("00"&RANK(S9,$S$4:$S$53),2),"") | U9: =IF(T9="","",INDEX('Groupes et Responsables'!$S$4:$S$8,VLOOKUP(INDEX('Groupes et Responsables'!$A$4:$A$33,MATCH(S$3&"|"&$P$2&"|"&T9,'Groupes et Responsables'!$G$4:$G$33,1)),'Groupes et Responsables'!$O$4:$Q$8,3,0))) | V9: =IF(AND($E9=$P$2,$D9=V$3),RANDBETWEEN(1,99)+ROW()/100,"") | W9: =IFERROR(RIGHT("00"&RANK(V9,$V$4:$V$53),2),"") | X9: =IF(W9="","",INDEX('Groupes et Responsables'!$S$4:$S$8,VLOOKUP(INDEX('Groupes et Responsables'!$A$4:$A$33,MATCH(V$3&"|"&$P$2&"|"&W9,'Groupes et Responsables'!$G$4:$G$33,1)),'Groupes et Responsables'!$O$4:$Q$8,3,0))) | Y9: =I9&L9&O9&R9&U9&X9 -> R3
B10: A07 | C10: 3 Mois | D10: Junior | E10: Homme | F10: 35h | G10: =IF(AND($E10=$G$2,$D10=G$3),RANDBETWEEN(1,99)+ROW()/100,"") -> 29.1 | H10: =IFERROR(RIGHT("00"&RANK(G10,$G$4:$G$53),2),"") -> 06 | I10: =IF(H10="","",INDEX('Groupes et Responsables'!$S$4:$S$8,VLOOKUP(INDEX('Groupes et Responsables'!$A$4:$A$33,MATCH(G$3&"|"&$G$2&"|"&H10,'Groupes et Responsables'!$G$4:$G$33,1)),'Groupes et Responsables'!$O$4:$Q$8,3,0))) -> R4 | J10: =IF(AND($E10=$G$2,$D10=J$3),RANDBETWEEN(1,99)+ROW()/100,"") | K10: =IFERROR(RIGHT("00"&RANK(J10,$J$4:$J$53),2),"") | L10: =IF(K10="","",INDEX('Groupes et Responsables'!$S$4:$S$8,VLOOKUP(INDEX('Groupes et Responsables'!$A$4:$A$33,MATCH(J$3&"|"&$G$2&"|"&K10,'Groupes et Responsables'!$G$4:$G$33,1)),'Groupes et Responsables'!$O$4:$Q$8,3,0))) | M10: =IF(AND($E10=$G$2,$D10=M$3),RANDBETWEEN(1,99)+ROW()/100,"") | N10: =IFERROR(RIGHT("00"&RANK(M10,$M$4:$M$53),2),"") | O10: =IF(N10="","",INDEX('Groupes et Responsables'!$S$4:$S$8,VLOOKUP(INDEX('Groupes et Responsables'!$A$4:$A$33,MATCH(M$3&"|"&$G$2&"|"&N10,'Groupes et Responsables'!$G$4:$G$33,1)),'Groupes et Responsables'!$O$4:$Q$8,3,0))) | P10: =IF(AND($E10=$P$2,$D10=P$3),RANDBETWEEN(1,99)+ROW()/100,"") | Q10: =IFERROR(RIGHT("00"&RANK(P10,$P$4:$P$53),2),"") | R10: =IF(Q10="","",INDEX('Groupes et Responsables'!$S$4:$S$8,VLOOKUP(INDEX('Groupes et Responsables'!$A$4:$A$33,MATCH(P$3&"|"&$P$2&"|"&Q10,'Groupes et Responsables'!$G$4:$G$33,1)),'Groupes et Responsables'!$O$4:$Q$8,3,0))) | S10: =IF(AND($E10=$P$2,$D10=S$3),RANDBETWEEN(1,99)+ROW()/100,"") | T10: =IFERROR(RIGHT("00"&RANK(S10,$S$4:$S$53),2),"") | U10: =IF(T10="","",INDEX('Groupes et Responsables'!$S$4:$S$8,VLOOKUP(INDEX('Groupes et Responsables'!$A$4:$A$33,MATCH(S$3&"|"&$P$2&"|"&T10,'Groupes et Responsables'!$G$4:$G$33,1)),'Groupes et Responsables'!$O$4:$Q$8,3,0))) | V10: =IF(AND($E10=$P$2,$D10=V$3),RANDBETWEEN(1,99)+ROW()/100,"") | W10: =IFERROR(RIGHT("00"&RANK(V10,$V$4:$V$53),2),"") | X10: =IF(W10="","",INDEX('Groupes et Responsables'!$S$4:$S$8,VLOOKUP(INDEX('Groupes et Responsables'!$A$4:$A$33,MATCH(V$3&"|"&$P$2&"|"&W10,'Groupes et Responsables'!$G$4:$G$33,1)),'Groupes et Responsables'!$O$4:$Q$8,3,0))) | Y10: =I10&L10&O10&R10&U10&X10 -> R4
B11: A08 | C11: 3 Mois | D11: Junior | E11: Femme | F11: 35h | G11: =IF(AND($E11=$G$2,$D11=G$3),RANDBETWEEN(1,99)+ROW()/100,"") | H11: =IFERROR(RIGHT("00"&RANK(G11,$G$4:$G$53),2),"") | I11: =IF(H11="","",INDEX('Groupes et Responsables'!$S$4:$S$8,VLOOKUP(INDEX('Groupes et Responsables'!$A$4:$A$33,MATCH(G$3&"|"&$G$2&"|"&H11,'Groupes et Responsables'!$G$4:$G$33,1)),'Groupes et Responsables'!$O$4:$Q$8,3,0))) | J11: =IF(AND($E11=$G$2,$D11=J$3),RANDBETWEEN(1,99)+ROW()/100,"") | K11: =IFERROR(RIGHT("00"&RANK(J11,$J$4:$J$53),2),"") | L11: =IF(K11="","",INDEX('Groupes et Responsables'!$S$4:$S$8,VLOOKUP(INDEX('Groupes et Responsables'!$A$4:$A$33,MATCH(J$3&"|"&$G$2&"|"&K11,'Groupes et Responsables'!$G$4:$G$33,1)),'Groupes et Responsables'!$O$4:$Q$8,3,0))) | M11: =IF(AND($E11=$G$2,$D11=M$3),RANDBETWEEN(1,99)+ROW()/100,"") | N11: =IFERROR(RIGHT("00"&RANK(M11,$M$4:$M$53),2),"") | O11: =IF(N11="","",INDEX('Groupes et Responsables'!$S$4:$S$8,VLOOKUP(INDEX('Groupes et Responsables'!$A$4:$A$33,MATCH(M$3&"|"&$G$2&"|"&N11,'Groupes et Responsables'!$G$4:$G$33,1)),'Groupes et Responsables'!$O$4:$Q$8,3,0))) | P11: =IF(AND($E11=$P$2,$D11=P$3),RANDBETWEEN(1,99)+ROW()/100,"") -> 72.11 | Q11: =IFERROR(RIGHT("00"&RANK(P11,$P$4:$P$53),2),"") -> 04 | R11: =IF(Q11="","",INDEX('Groupes et Responsables'!$S$4:$S$8,VLOOKUP(INDEX('Groupes et Responsables'!$A$4:$A$33,MATCH(P$3&"|"&$P$2&"|"&Q11,'Groupes et Responsables'!$G$4:$G$33,1)),'Groupes et Responsables'!$O$4:$Q$8,3,0))) -> R4 | S11: =IF(AND($E11=$P$2,$D11=S$3),RANDBETWEEN(1,99)+ROW()/100,"") | T11: =IFERROR(RIGHT("00"&RANK(S11,$S$4:$S$53),2),"") | U11: =IF(T11="","",INDEX('Groupes et Responsables'!$S$4:$S$8,VLOOKUP(INDEX('Groupes et Responsables'!$A$4:$A$33,MATCH(S$3&"|"&$P$2&"|"&T11,'Groupes et Responsables'!$G$4:$G$33,1)),'Groupes et Responsables'!$O$4:$Q$8,3,0))) | V11: =IF(AND($E11=$P$2,$D11=V$3),RANDBETWEEN(1,99)+ROW()/100,"") | W11: =IFERROR(RIGHT("00"&RANK(V11,$V$4:$V$53),2),"") | X11: =IF(W11="","",INDEX('Groupes et Responsables'!$S$4:$S$8,VLOOKUP(INDEX('Groupes et Responsables'!$A$4:$A$33,MATCH(V$3&"|"&$P$2&"|"&W11,'Groupes et Responsables'!$G$4:$G$33,1)),'Groupes et Responsables'!$O$4:$Q$8,3,0))) | Y11: =I11&L11&O11&R11&U11&X11 -> R4
B12: A09 | C12: 3 Mois | D12: Junior | E12: Homme | F12: 35h | G12: =IF(AND($E12=$G$2,$D12=G$3),RANDBETWEEN(1,99)+ROW()/100,"") -> 31.12 | H12: =IFERROR(RIGHT("00"&RANK(G12,$G$4:$G$53),2),"") -> 05 | I12: =IF(H12="","",INDEX('Groupes et Responsables'!$S$4:$S$8,VLOOKUP(INDEX('Groupes et Responsables'!$A$4:$A$33,MATCH(G$3&"|"&$G$2&"|"&H12,'Groupes et Responsables'!$G$4:$G$33,1)),'Groupes et Responsables'!$O$4:$Q$8,3,0))) -> R4 | J12: =IF(AND($E12=$G$2,$D12=J$3),RANDBETWEEN(1,99)+ROW()/100,"") | K12: =IFERROR(RIGHT("00"&RANK(J12,$J$4:$J$53),2),"") | L12: =IF(K12="","",INDEX('Groupes et Responsables'!$S$4:$S$8,VLOOKUP(INDEX('Groupes et Responsables'!$A$4:$A$33,MATCH(J$3&"|"&$G$2&"|"&K12,'Groupes et Responsables'!$G$4:$G$33,1)),'Groupes et Responsables'!$O$4:$Q$8,3,0))) | M12: =IF(AND($E12=$G$2,$D12=M$3),RANDBETWEEN(1,99)+ROW()/100,"") | N12: =IFERROR(RIGHT("00"&RANK(M12,$M$4:$M$53),2),"") | O12: =IF(N12="","",INDEX('Groupes et Responsables'!$S$4:$S$8,VLOOKUP(INDEX('Groupes et Responsables'!$A$4:$A$33,MATCH(M$3&"|"&$G$2&"|"&N12,'Groupes et Responsables'!$G$4:$G$33,1)),'Groupes et Responsables'!$O$4:$Q$8,3,0))) | P12: =IF(AND($E12=$P$2,$D12=P$3),RANDBETWEEN(1,99)+ROW()/100,"") | Q12: =IFERROR(RIGHT("00"&RANK(P12,$P$4:$P$53),2),"") | R12: =IF(Q12="","",INDEX('Groupes et Responsables'!$S$4:$S$8,VLOOKUP(INDEX('Groupes et Responsables'!$A$4:$A$33,MATCH(P$3&"|"&$P$2&"|"&Q12,'Groupes et Responsables'!$G$4:$G$33,1)),'Groupes et Responsables'!$O$4:$Q$8,3,0))) | S12: =IF(AND($E12=$P$2,$D12=S$3),RANDBETWEEN(1,99)+ROW()/100,"") | T12: =IFERROR(RIGHT("00"&RANK(S12,$S$4:$S$53),2),"") | U12: =IF(T12="","",INDEX('Groupes et Responsables'!$S$4:$S$8,VLOOKUP(INDEX('Groupes et Responsables'!$A$4:$A$33,MATCH(S$3&"|"&$P$2&"|"&T12,'Groupes et Responsables'!$G$4:$G$33,1)),'Groupes et Responsables'!$O$4:$Q$8,3,0))) | V12: =IF(AND($E12=$P$2,$D12=V$3),RANDBETWEEN(1,99)+ROW()/100,"") | W12: =IFERROR(RIGHT("00"&RANK(V12,$V$4:$V$53),2),"") | X12: =IF(W12="","",INDEX('Groupes et Responsables'!$S$4:$S$8,VLOOKUP(INDEX('Groupes et Responsables'!$A$4:$A$33,MATCH(V$3&"|"&$P$2&"|"&W12,'Groupes et Responsables'!$G$4:$G$33,1)),'Groupes et Responsables'!$O$4:$Q$8,3,0))) | Y12: =I12&L12&O12&R12&U12&X12 -> R4
B13: A10 | C13: 3 Mois | D13: Junior | E13: Femme | F13: 35h | G13: =IF(AND($E13=$G$2,$D13=G$3),RANDBETWEEN(1,99)+ROW()/100,"") | H13: =IFERROR(RIGHT("00"&RANK(G13,$G$4:$G$53),2),"") | I13: =IF(H13="","",INDEX('Groupes et Responsables'!$S$4:$S$8,VLOOKUP(INDEX('Groupes et Responsables'!$A$4:$A$33,MATCH(G$3&"|"&$G$2&"|"&H13,'Groupes et Responsables'!$G$4:$G$33,1)),'Groupes et Responsables'!$O$4:$Q$8,3,0))) | J13: =IF(AND($E13=$G$2,$D13=J$3),RANDBETWEEN(1,99)+ROW()/100,"") | K13: =IFERROR(RIGHT("00"&RANK(J13,$J$4:$J$53),2),"") | L13: =IF(K13="","",INDEX('Groupes et Responsables'!$S$4:$S$8,VLOOKUP(INDEX('Groupes et Responsables'!$A$4:$A$33,MATCH(J$3&"|"&$G$2&"|"&K13,'Groupes et Responsables'!$G$4:$G$33,1)),'Groupes et Responsables'!$O$4:$Q$8,3,0))) | M13: =IF(AND($E13=$G$2,$D13=M$3),RANDBETWEEN(1,99)+ROW()/100,"") | N13: =IFERROR(RIGHT("00"&RANK(M13,$M$4:$M$53),2),"") | O13: =IF(N13="","",INDEX('Groupes et Responsables'!$S$4:$S$8,VLOOKUP(INDEX('Groupes et Responsables'!$A$4:$A$33,MATCH(M$3&"|"&$G$2&"|"&N13,'Groupes et Responsables'!$G$4:$G$33,1)),'Groupes et Responsables'!$O$4:$Q$8,3,0))) | P13: =IF(AND($E13=$P$2,$D13=P$3),RANDBETWEEN(1,99)+ROW()/100,"") -> 60.13 | Q13: =IFERROR(RIGHT("00"&RANK(P13,$P$4:$P$53),2),"") -> 05 | R13: =IF(Q13="","",INDEX('Groupes et Responsables'!$S$4:$S$8,VLOOKUP(INDEX('Groupes et Responsables'!$A$4:$A$33,MATCH(P$3&"|"&$P$2&"|"&Q13,'Groupes et Responsables'!$G$4:$G$33,1)),'Groupes et Responsables'!$O$4:$Q$8,3,0))) -> R1 | S13: =IF(AND($E13=$P$2,$D13=S$3),RANDBETWEEN(1,99)+ROW()/100,"") | T13: =IFERROR(RIGHT("00"&RANK(S13,$S$4:$S$53),2),"") | U13: =IF(T13="","",INDEX('Groupes et Responsables'!$S$4:$S$8,VLOOKUP(INDEX('Groupes et Responsables'!$A$4:$A$33,MATCH(S$3&"|"&$P$2&"|"&T13,'Groupes et Responsables'!$G$4:$G$33,1)),'Groupes et Responsables'!$O$4:$Q$8,3,0))) | V13: =IF(AND($E13=$P$2,$D13=V$3),RANDBETWEEN(1,99)+ROW()/100,"") | W13: =IFERROR(RIGHT("00"&RANK(V13,$V$4:$V$53),2),"") | X13: =IF(W13="","",INDEX('Groupes et Responsables'!$S$4:$S$8,VLOOKUP(INDEX('Groupes et Responsables'!$A$4:$A$33,MATCH(V$3&"|"&$P$2&"|"&W13,'Groupes et Responsables'!$G$4:$G$33,1)),'Groupes et Responsables'!$O$4:$Q$8,3,0))) | Y13: =I13&L13&O13&R13&U13&X13 -> R1
B14: A11 | C14: 3 Mois | D14: Junior | E14: Homme | F14: 35h | G14: =IF(AND($E14=$G$2,$D14=G$3),RANDBETWEEN(1,99)+ROW()/100,"") -> 23.14 | H14: =IFERROR(RIGHT("00"&RANK(G14,$G$4:$G$53),2),"") -> 08 | I14: =IF(H14="","",INDEX('Groupes et Responsables'!$S$4:$S$8,VLOOKUP(INDEX('Groupes et Responsables'!$A$4:$A$33,MATCH(G$3&"|"&$G$2&"|"&H14,'Groupes et Responsables'!$G$4:$G$33,1)),'Groupes et Responsables'!$O$4:$Q$8,3,0))) -> R2 | J14: =IF(AND($E14=$G$2,$D14=J$3),RANDBETWEEN(1,99)+ROW()/100,"") | K14: =IFERROR(RIGHT("00"&RANK(J14,$J$4:$J$53),2),"") | L14: =IF(K14="","",INDEX('Groupes et Responsables'!$S$4:$S$8,VLOOKUP(INDEX('Groupes et Responsables'!$A$4:$A$33,MATCH(J$3&"|"&$G$2&"|"&K14,'Groupes et Responsables'!$G$4:$G$33,1)),'Groupes et Responsables'!$O$4:$Q$8,3,0))) | M14: =IF(AND($E14=$G$2,$D14=M$3),RANDBETWEEN(1,99)+ROW()/100,"") | N14: =IFERROR(RIGHT("00"&RANK(M14,$M$4:$M$53),2),"") | O14: =IF(N14="","",INDEX('Groupes et Responsables'!$S$4:$S$8,VLOOKUP(INDEX('Groupes et Responsables'!$A$4:$A$33,MATCH(M$3&"|"&$G$2&"|"&N14,'Groupes et Responsables'!$G$4:$G$33,1)),'Groupes et Responsables'!$O$4:$Q$8,3,0))) | P14: =IF(AND($E14=$P$2,$D14=P$3),RANDBETWEEN(1,99)+ROW()/100,"") | Q14: =IFERROR(RIGHT("00"&RANK(P14,$P$4:$P$53),2),"") | R14: =IF(Q14="","",INDEX('Groupes et Responsables'!$S$4:$S$8,VLOOKUP(INDEX('Groupes et Responsables'!$A$4:$A$33,MATCH(P$3&"|"&$P$2&"|"&Q14,'Groupes et Responsables'!$G$4:$G$33,1)),'Groupes et Responsables'!$O$4:$Q$8,3,0))) | S14: =IF(AND($E14=$P$2,$D14=S$3),RANDBETWEEN(1,99)+ROW()/100,"") | T14: =IFERROR(RIGHT("00"&RANK(S14,$S$4:$S$53),2),"") | U14: =IF(T14="","",INDEX('Groupes et Responsables'!$S$4:$S$8,VLOOKUP(INDEX('Groupes et Responsables'!$A$4:$A$33,MATCH(S$3&"|"&$P$2&"|"&T14,'Groupes et Responsables'!$G$4:$G$33,1)),'Groupes et Responsables'!$O$4:$Q$8,3,0))) | V14: =IF(AND($E14=$P$2,$D14=V$3),RANDBETWEEN(1,99)+ROW()/100,"") | W14: =IFERROR(RIGHT("00"&RANK(V14,$V$4:$V$53),2),"") | X14: =IF(W14="","",INDEX('Groupes et Responsables'!$S$4:$S$8,VLOOKUP(INDEX('Groupes et Responsables'!$A$4:$A$33,MATCH(V$3&"|"&$P$2&"|"&W14,'Groupes et Responsables'!$G$4:$G$33,1)),'Groupes et Responsables'!$O$4:$Q$8,3,0))) | Y14: =I14&L14&O14&R14&U14&X14 -> R2
B15: A12 | C15: 3 Mois | D15: Junior | E15: Femme | F15: 35h | G15: =IF(AND($E15=$G$2,$D15=G$3),RANDBETWEEN(1,99)+ROW()/100,"") | H15: =IFERROR(RIGHT("00"&RANK(G15,$G$4:$G$53),2),"") | I15: =IF(H15="","",INDEX('Groupes et Responsables'!$S$4:$S$8,VLOOKUP(INDEX('Groupes et Responsables'!$A$4:$A$33,MATCH(G$3&"|"&$G$2&"|"&H15,'Groupes et Responsables'!$G$4:$G$33,1)),'Groupes et Responsables'!$O$4:$Q$8,3,0))) | J15: =IF(AND($E15=$G$2,$D15=J$3),RANDBETWEEN(1,99)+ROW()/100,"") | K15: =IFERROR(RIGHT("00"&RANK(J15,$J$4:$J$53),2),"") | L15: =IF(K15="","",INDEX('Groupes et Responsables'!$S$4:$S$8,VLOOKUP(INDEX('Groupes et Responsables'!$A$4:$A$33,MATCH(J$3&"|"&$G$2&"|"&K15,'Groupes et Responsables'!$G$4:$G$33,1)),'Groupes et Responsables'!$O$4:$Q$8,3,0))) | M15: =IF(AND($E15=$G$2,$D15=M$3),RANDBETWEEN(1,99)+ROW()/100,"") | N15: =IFERROR(RIGHT("00"&RANK(M15,$M$4:$M$53),2),"") | O15: =IF(N15="","",INDEX('Groupes et Responsables'!$S$4:$S$8,VLOOKUP(INDEX('Groupes et Responsables'!$A$4:$A$33,MATCH(M$3&"|"&$G$2&"|"&N15,'Groupes et Responsables'!$G$4:$G$33,1)),'Groupes et Responsables'!$O$4:$Q$8,3,0))) | P15: =IF(AND($E15=$P$2,$D15=P$3),RANDBETWEEN(1,99)+ROW()/100,"") -> 32.15 | Q15: =IFERROR(RIGHT("00"&RANK(P15,$P$4:$P$53),2),"") -> 07 | R15: =IF(Q15="","",INDEX('Groupes et Responsables'!$S$4:$S$8,VLOOKUP(INDEX('Groupes et Responsables'!$A$4:$A$33,MATCH(P$3&"|"&$P$2&"|"&Q15,'Groupes et Responsables'!$G$4:$G$33,1)),'Groupes et Responsables'!$O$4:$Q$8,3,0))) -> R2 | S15: =IF(AND($E15=$P$2,$D15=S$3),RANDBETWEEN(1,99)+ROW()/100,"") | T15: =IFERROR(RIGHT("00"&RANK(S15,$S$4:$S$53),2),"") | U15: =IF(T15="","",INDEX('Groupes et Responsables'!$S$4:$S$8,VLOOKUP(INDEX('Groupes et Responsables'!$A$4:$A$33,MATCH(S$3&"|"&$P$2&"|"&T15,'Groupes et Responsables'!$G$4:$G$33,1)),'Groupes et Responsables'!$O$4:$Q$8,3,0))) | V15: =IF(AND($E15=$P$2,$D15=V$3),RANDBETWEEN(1,99)+ROW()/100,"") | W15: =IFERROR(RIGHT("00"&RANK(V15,$V$4:$V$53),2),"") | X15: =IF(W15="","",INDEX('Groupes et Responsables'!$S$4:$S$8,VLOOKUP(INDEX('Groupes et Responsables'!$A$4:$A$33,MATCH(V$3&"|"&$P$2&"|"&W15,'Groupes et Responsables'!$G$4:$G$33,1)),'Groupes et Responsables'!$O$4:$Q$8,3,0))) | Y15: =I15&L15&O15&R15&U15&X15 -> R2
... B53: A50 | C53: > 12 Mois | D53: Confirmé | E53: Femme | F53: 35h | G53: =IF(AND($E53=$G$2,$D53=G$3),RANDBETWEEN(1,99)+ROW()/100,"") | H53: =IFERROR(RIGHT("00"&RANK(G53,$G$4:$G$53),2),"") | I53: =IF(H53="","",INDEX('Groupes et Responsables'!$S$4:$S$8,VLOOKUP(INDEX('Groupes et Responsables'!$A$4:$A$33,MATCH(G$3&"|"&$G$2&"|"&H53,'Groupes et Responsables'!$G$4:$G$33,1)),'Groupes et Responsables'!$O$4:$Q$8,3,0))) | J53: =IF(AND($E53=$G$2,$D53=J$3),RANDBETWEEN(1,99)+ROW()/100,"") | K53: =IFERROR(RIGHT("00"&RANK(J53,$J$4:$J$53),2),"") | L53: =IF(K53="","",INDEX('Groupes et Responsables'!$S$4:$S$8,VLOOKUP(INDEX('Groupes et Responsables'!$A$4:$A$33,MATCH(J$3&"|"&$G$2&"|"&K53,'Groupes et Responsables'!$G$4:$G$33,1)),'Groupes et Responsables'!$O$4:$Q$8,3,0))) | M53: =IF(AND($E53=$G$2,$D53=M$3),RANDBETWEEN(1,99)+ROW()/100,"") | N53: =IFERROR(RIGHT("00"&RANK(M53,$M$4:$M$53),2),"") | O53: =IF(N53="","",INDEX('Groupes et Responsables'!$S$4:$S$8,VLOOKUP(INDEX('Groupes et Responsables'!$A$4:$A$33,MATCH(M$3&"|"&$G$2&"|"&N53,'Groupes et Responsables'!$G$4:$G$33,1)),'Groupes et Responsables'!$O$4:$Q$8,3,0))) | P53: =IF(AND($E53=$P$2,$D53=P$3),RANDBETWEEN(1,99)+ROW()/100,"") | Q53: =IFERROR(RIGHT("00"&RANK(P53,$P$4:$P$53),2),"") | R53: =IF(Q53="","",INDEX('Groupes et Responsables'!$S$4:$S$8,VLOOKUP(INDEX('Groupes et Responsables'!$A$4:$A$33,MATCH(P$3&"|"&$P$2&"|"&Q53,'Groupes et Responsables'!$G$4:$G$33,1)),'Groupes et Responsables'!$O$4:$Q$8,3,0))) | S53: =IF(AND($E53=$P$2,$D53=S$3),RANDBETWEEN(1,99)+ROW()/100,"") -> 87.53 | T53: =IFERROR(RIGHT("00"&RANK(S53,$S$4:$S$53),2),"") -> 03 | U53: =IF(T53="","",INDEX('Groupes et Responsables'!$S$4:$S$8,VLOOKUP(INDEX('Groupes et Responsables'!$A$4:$A$33,MATCH(S$3&"|"&$P$2&"|"&T53,'Groupes et Responsables'!$G$4:$G$33,1)),'Groupes et Responsables'!$O$4:$Q$8,3,0))) -> R5 | V53: =IF(AND($E53=$P$2,$D53=V$3),RANDBETWEEN(1,99)+ROW()/100,"") | W53: =IFERROR(RIGHT("00"&RANK(V53,$V$4:$V$53),2),"") | X53: =IF(W53="","",INDEX('Groupes et Responsables'!$S$4:$S$8,VLOOKUP(INDEX('Groupes et Responsables'!$A$4:$A$33,MATCH(V$3&"|"&$P$2&"|"&W53,'Groupes et Responsables'!$G$4:$G$33,1)),'Groupes et Responsables'!$O$4:$Q$8,3,0))) | Y53: =I53&L53&O53&R53&U53&X53 -> R5

Sheet Groupes et Responsables
A1: Affectation des tirages aux groupes | O1: Tirage au sort des responsbles des groupes
I2: Somme de total | K2: Sexe
A3: Groupe | B3: Statut | C3: Sexe | D3: de | E3: à | F3: total | G3: id | I3: Statut | J3: Groupe | K3: Femme | L3: Homme | M3: Total général | O3: Groupe | P3: Tirage | Q3: Rang | S3: Responsable
A4: A | B4: Confirmé | C4: Femme | D4: 1 | E4: 3 | F4: =IF(D4=0,0,E4-D4+1) -> 3 | G4: =B4&"|"&C4&"|"&RIGHT("00"&D4,2) -> Confirmé|Femme|01 | I4: Confirmé | J4: A | K4: 3 | L4: 3 | M4: 6 | O4: A | P4: =RANDBETWEEN(1,10)+ROW()/100 -> 1.04 | Q4: =RANK(P4,$P$4:$P$8) -> 5 | S4: R1
A5: B | B5: Confirmé | C5: Femme | D5: 4 | E5: 6 | F5: =IF(D5=0,0,E5-D5+1) -> 3 | G5: =B5&"|"&C5&"|"&RIGHT("00"&D5,2) -> Confirmé|Femme|04 | J5: B | K5: 3 | L5: 2 | M5: 5 | O5: B | P5: =RANDBETWEEN(1,10)+ROW()/100 -> 5.05 | Q5: =RANK(P5,$P$4:$P$8) -> 3 | S5: R2
A6: C | B6: Confirmé | C6: Femme | D6: 7 | E6: 9 | F6: =IF(D6=0,0,E6-D6+1) -> 3 | G6: =B6&"|"&C6&"|"&RIGHT("00"&D6,2) -> Confirmé|Femme|07 | J6: C | K6: 3 | L6: 2 | M6: 5 | O6: C | P6: =RANDBETWEEN(1,10)+ROW()/100 -> 4.06 | Q6: =RANK(P6,$P$4:$P$8) -> 4 | S6: R3
A7: D | B7: Confirmé | C7: Femme | D7: 10 | E7: 11 | F7: =IF(D7=0,0,E7-D7+1) -> 2 | G7: =B7&"|"&C7&"|"&RIGHT("00"&D7,2) -> Confirmé|Femme|10 | J7: D | K7: 2 | L7: 3 | M7: 5 | O7: D | P7: =RANDBETWEEN(1,10)+ROW()/100 -> 10.07 | Q7: =RANK(P7,$P$4:$P$8) -> 1 | S7: R4
A8: E | B8: Confirmé | C8: Femme | D8: 12 | E8: 13 | F8: =IF(D8=0,0,E8-D8+1) -> 2 | G8: =B8&"|"&C8&"|"&RIGHT("00"&D8,2) -> Confirmé|Femme|12 | J8: E | K8: 2 | L8: 3 | M8: 5 | O8: E | P8: =RANDBETWEEN(1,10)+ROW()/100 -> 7.08 | Q8: =RANK(P8,$P$4:$P$8) -> 2 | S8: R5
A9: A | B9: Confirmé | C9: Homme | D9: 1 | E9: 3 | F9: =IF(D9=0,0,E9-D9+1) -> 3 | G9: =B9&"|"&C9&"|"&RIGHT("00"&D9,2) -> Confirmé|Homme|01 | I9: Total Confirmé | K9: 13 | L9: 13 | M9: 26
A10: B | B10: Confirmé | C10: Homme | D10: 4 | E10: 5 | F10: =IF(D10=0,0,E10-D10+1) -> 2 | G10: =B10&"|"&C10&"|"&RIGHT("00"&D10,2) -> Confirmé|Homme|04 | I10: Junior | J10: A | K10: 1 | L10: 2 | M10: 3
A11: C | B11: Confirmé | C11: Homme | D11: 6 | E11: 7 | F11: =IF(D11=0,0,E11-D11+1) -> 2 | G11: =B11&"|"&C11&"|"&RIGHT("00"&D11,2) -> Confirmé|Homme|06 | J11: B | K11: 1 | L11: 2 | M11: 3
A12: D | B12: Confirmé | C12: Homme | D12: 8 | E12: 10 | F12: =IF(D12=0,0,E12-D12+1) -> 3 | G12: =B12&"|"&C12&"|"&RIGHT("00"&D12,2) -> Confirmé|Homme|08 | J12: C | K12: 2 | L12: 2 | M12: 4
A13: E | B13: Confirmé | C13: Homme | D13: 11 | E13: 13 | F13: =IF(D13=0,0,E13-D13+1) -> 3 | G13: =B13&"|"&C13&"|"&RIGHT("00"&D13,2) -> Confirmé|Homme|11 | J13: D | K13: 2 | L13: 1 | M13: 3
A14: A | B14: Junior | C14: Femme | D14: 1 | E14: 1 | F14: =IF(D14=0,0,E14-D14+1) -> 1 | G14: =B14&"|"&C14&"|"&RIGHT("00"&D14,2) -> Junior|Femme|01 | J14: E | K14: 2 | L14: 2 | M14: 4
A15: B | B15: Junior | C15: Femme | D15: 2 | E15: 2 | F15: =IF(D15=0,0,E15-D15+1) -> 1 | G15: =B15&"|"&C15&"|"&RIGHT("00"&D15,2) -> Junior|Femme|02 | I15: Total Junior | K15: 8 | L15: 9 | M15: 17
A16: C | B16: Junior | C16: Femme | D16: 3 | E16: 4 | F16: =IF(D16=0,0,E16-D16+1) -> 2 | G16: =B16&"|"&C16&"|"&RIGHT("00"&D16,2) -> Junior|Femme|03 | I16: Sénior | J16: A | K16: 1 | L16: 0 | M16: 1
A17: D | B17: Junior | C17: Femme | D17: 5 | E17: 6 | F17: =IF(D17=0,0,E17-D17+1) -> 2 | G17: =B17&"|"&C17&"|"&RIGHT("00"&D17,2) -> Junior|Femme|05 | J17: B | K17: 1 | L17: 1 | M17: 2
A18: E | B18: Junior | C18: Femme | D18: 7 | E18: 8 | F18: =IF(D18=0,0,E18-D18+1) -> 2 | G18: =B18&"|"&C18&"|"&RIGHT("00"&D18,2) -> Junior|Femme|07 | J18: C | K18: 0 | L18: 1 | M18: 1
A19: A | B19: Junior | C19: Homme | D19: 1 | E19: 2 | F19: =IF(D19=0,0,E19-D19+1) -> 2 | G19: =B19&"|"&C19&"|"&RIGHT("00"&D19,2) -> Junior|Homme|01 | J19: D | K19: 1 | L19: 1 | M19: 2
A20: B | B20: Junior | C20: Homme | D20: 3 | E20: 4 | F20: =IF(D20=0,0,E20-D20+1) -> 2 | G20: =B20&"|"&C20&"|"&RIGHT("00"&D20,2) -> Junior|Homme|03 | J20: E | K20: 1 | L20: 0 | M20: 1
A21: C | B21: Junior | C21: Homme | D21: 5 | E21: 6 | F21: =IF(D21=0,0,E21-D21+1) -> 2 | G21: =B21&"|"&C21&"|"&RIGHT("00"&D21,2) -> Junior|Homme|05 | I21: Total Sénior | K21: 4 | L21: 3 | M21: 7
A22: D | B22: Junior | C22: Homme | D22: 7 | E22: 7 | F22: =IF(D22=0,0,E22-D22+1) -> 1 | G22: =B22&"|"&C22&"|"&RIGHT("00"&D22,2) -> Junior|Homme|07 | I22: Total général | K22: 25 | L22: 25 | M22: 50
A23: E | B23: Junior | C23: Homme | D23: 8 | E23: 9 | F23: =IF(D23=0,0,E23-D23+1) -> 2 | G23: =B23&"|"&C23&"|"&RIGHT("00"&D23,2) -> Junior|Homme|08
A24: C | B24: Sénior | C24: Femme | D24: 0 | E24: 0 | F24: =IF(D24=0,0,E24-D24+1) -> 0 | G24: =B24&"|"&C24&"|"&RIGHT("00"&D24,2) -> Sénior|Femme|00
A25: A | B25: Sénior | C25: Femme | D25: 1 | E25: 1 | F25: =IF(D25=0,0,E25-D25+1) -> 1 | G25: =B25&"|"&C25&"|"&RIGHT("00"&D25,2) -> Sénior|Femme|01
A26: B | B26: Sénior | C26: Femme | D26: 2 | E26: 2 | F26: =IF(D26=0,0,E26-D26+1) -> 1 | G26: =B26&"|"&C26&"|"&RIGHT("00"&D26,2) -> Sénior|Femme|02
A27: D | B27: Sénior | C27: Femme | D27: 3 | E27: 3 | F27: =IF(D27=0,0,E27-D27+1) -> 1 | G27: =B27&"|"&C27&"|"&RIGHT("00"&D27,2) -> Sénior|Femme|03
A28: E | B28: Sénior | C28: Femme | D28: 4 | E28: 4 | F28: =IF(D28=0,0,E28-D28+1) -> 1 | G28: =B28&"|"&C28&"|"&RIGHT("00"&D28,2) -> Sénior|Femme|04
A29: A | B29: Sénior | C29: Homme | D29: 0 | E29: 0 | F29: =IF(D29=0,0,E29-D29+1) -> 0 | G29: =B29&"|"&C29&"|"&RIGHT("00"&D29,2) -> Sénior|Homme|00
A30: E | B30: Sénior | C30: Homme | D30: 0 | E30: 0 | F30: =IF(D30=0,0,E30-D30+1) -> 0 | G30: =B30&"|"&C30&"|"&RIGHT("00"&D30,2) -> Sénior|Homme|00
A31: B | B31: Sénior | C31: Homme | D31: 1 | E31: 1 | F31: =IF(D31=0,0,E31-D31+1) -> 1 | G31: =B31&"|"&C31&"|"&RIGHT("00"&D31,2) -> Sénior|Homme|01
A32: C | B32: Sénior | C32: Homme | D32: 2 | E32: 2 | F32: =IF(D32=0,0,E32-D32+1) -> 1 | G32: =B32&"|"&C32&"|"&RIGHT("00"&D32,2) -> Sénior|Homme|02
A33: D | B33: Sénior | C33: Homme | D33: 3 | E33: 3 | F33: =IF(D33=0,0,E33-D33+1) -> 1 | G33: =B33&"|"&C33&"|"&RIGHT("00"&D33,2) -> Sénior|Homme|03 | I33: Nombre de Nom & Prénom Agent | J33: Sexe
I34: Statut | J34: Femme | K34: Homme | L34: Total général
I35: Confirmé | J35: 13 | K35: 13 | L35: 26
I36: Junior | J36: 8 | K36: 9 | L36: 17
I37: Sénior | J37: 4 | K37: 3 | L37: 7
I38: Total général | J38: 25 | K38: 25 | L38: 50

Sheet Récap
A3: Nombre de Statut | D3: Responsable
A4: Sexe | B4: Statut | C4: Nom & Prénom Agent | D4: R1 | E4: R2 | F4: R3 | G4: R4 | H4: R5 | I4: Total général
A5: Femme | B5: Confirmé | C5: A18 | H5: 1 | I5: 1
C6: A20 | H6: 1 | I6: 1
C7: A22 | F7: 1 | I7: 1
C8: A24 | E8: 1 | I8: 1
C9: A26 | D9: 1 | I9: 1
C10: A28 | E10: 1 | I10: 1
C11: A30 | F11: 1 | I11: 1
C12: A32 | F12: 1 | I12: 1
C13: A34 | G13: 1 | I13: 1
C14: A36 | D14: 1 | I14: 1
C15: A38 | G15: 1 | I15: 1
C16: A42 | D16: 1 | I16: 1
C17: A50 | H17: 1 | I17: 1
B18: Total Confirmé | D18: 3 | E18: 2 | F18: 3 | G18: 2 | H18: 3 | I18: 13
B19: Junior | C19: A02 | E19: 1 | I19: 1
C20: A04 | F20: 1 | I20: 1
C21: A06 | G21: 1 | I21: 1
C22: A08 | E22: 1 | I22: 1
C23: A10 | F23: 1 | I23: 1
C24: A12 | G24: 1 | I24: 1
C25: A14 | H25: 1 | I25: 1
C26: A16 | D26: 1 | I26: 1
B27: Total Junior | D27: 1 | E27: 2 | F27: 2 | G27: 2 | H27: 1 | I27: 8
B28: Sénior | C28: A40 | D28: 1 | I28: 1
C29: A44 | G29: 1 | I29: 1
C30: A46 | E30: 1 | I30: 1
C31: A48 | H31: 1 | I31: 1
B32: Total Sénior | D32: 1 | E32: 1 | G32: 1 | H32: 1 | I32: 4
A33: Total Femme | D33: 5 | E33: 5 | F33: 5 | G33: 5 | H33: 5 | I33: 25
A34: Homme | B34: Confirmé | C34: A19 | G34: 1 | I34: 1
C35: A21 | G35: 1 | I35: 1
C36: A23 | E36: 1 | I36: 1
C37: A25 | E37: 1 | I37: 1
C38: A27 | D38: 1 | I38: 1
C39: A29 | H39: 1 | I39: 1
C40: A31 | H40: 1 | I40: 1
C41: A33 | E41: 1 | I41: 1
C42: A35 | D42: 1 | I42: 1
...
