Workbook

Sheet CALENDRIER
A1: 1 | B1: =2015+A1 -> 2016
A2: 6 | B2: =DATE(B1,A2,1) -> 42522
A3: 1 | B3: =INDEX(PARAMETRES!C2:C7,A3) -> S22
C4: LUNDI | D4: MARDI | E4: MERCREDI | F4: JEUDI | G4: VENDREDI | H4: SAMEDI | I4: DIMANCHE
B5: DATE | C5: =INDEX(PARAMETRES!D2:D7,$A$3) -> 42520 | D5: =INDEX(PARAMETRES!E2:E7,$A$3) -> 42521 | E5: =INDEX(PARAMETRES!F2:F7,$A$3) -> 42522 | F5: =INDEX(PARAMETRES!G2:G7,$A$3) -> 42523 | G5: =INDEX(PARAMETRES!H2:H7,$A$3) -> 42524 | H5: =INDEX(PARAMETRES!I2:I7,$A$3) -> 42525 | I5: =INDEX(PARAMETRES!J2:J7,$A$3) -> 42526

Sheet PARAMETRES
A1: ANNEE | B1: MOIS | C1: SEMAINE
A2: 2016 | B2: JANVIER | C2: =IF(MONTH(CALENDRIER!$B$2+(ROW()-2)*7)=MONTH(CALENDRIER!$B$2),"S"&INT(MOD(INT((CALENDRIER!$B$2+(ROW()-2)*7-2)/7)+3/5,52+5/28))+1,"") -> S22 | D2: =CALENDRIER!B2-WEEKDAY(CALENDRIER!B2,2)+1 -> 42520 | E2: =D2+1 -> 42521 | F2: =E2+1 -> 42522 | G2: =F2+1 -> 42523 | H2: =G2+1 -> 42524 | I2: =H2+1 -> 42525 | J2: =I2+1 -> 42526
A3: 2017 | B3: FÉVRIER | C3: =IF(MONTH(CALENDRIER!$B$2+(ROW()-2)*7)=MONTH(CALENDRIER!$B$2),"S"&INT(MOD(INT((CALENDRIER!$B$2+(ROW()-2)*7-2)/7)+3/5,52+5/28))+1,"") -> S23 | D3: =D2+7 -> 42527 | E3: =D3+1 -> 42528 | F3: =E3+1 -> 42529 | G3: =F3+1 -> 42530 | H3: =G3+1 -> 42531 | I3: =H3+1 -> 42532 | J3: =I3+1 -> 42533
A4: 2018 | B4: MARS | C4: =IF(MONTH(CALENDRIER!$B$2+(ROW()-2)*7)=MONTH(CALENDRIER!$B$2),"S"&INT(MOD(INT((CALENDRIER!$B$2+(ROW()-2)*7-2)/7)+3/5,52+5/28))+1,"") -> S24 | D4: =D3+7 -> 42534 | E4: =D4+1 -> 42535 | F4: =E4+1 -> 42536 | G4: =F4+1 -> 42537 | H4: =G4+1 -> 42538 | I4: =H4+1 -> 42539 | J4: =I4+1 -> 42540
A5: 2019 | B5: AVRIL | C5: =IF(MONTH(CALENDRIER!$B$2+(ROW()-2)*7)=MONTH(CALENDRIER!$B$2),"S"&INT(MOD(INT((CALENDRIER!$B$2+(ROW()-2)*7-2)/7)+3/5,52+5/28))+1,"") -> S25 | D5: =D4+7 -> 42541 | E5: =D5+1 -> 42542 | F5: =E5+1 -> 42543 | G5: =F5+1 -> 42544 | H5: =G5+1 -> 42545 | I5: =H5+1 -> 42546 | J5: =I5+1 -> 42547
A6: 2020 | B6: MAI | C6: =IF(MONTH(CALENDRIER!$B$2+(ROW()-2)*7)=MONTH(CALENDRIER!$B$2),"S"&INT(MOD(INT((CALENDRIER!$B$2+(ROW()-2)*7-2)/7)+3/5,52+5/28))+1,"") -> S26 | D6: =D5+7 -> 42548 | E6: =D6+1 -> 42549 | F6: =E6+1 -> 42550 | G6: =F6+1 -> 42551 | H6: =G6+1 -> 42552 | I6: =H6+1 -> 42553 | J6: =I6+1 -> 42554
A7: 2021 | B7: JUIN | C7: =IF(MONTH(CALENDRIER!$B$2+(ROW()-2)*7)=MONTH(CALENDRIER!$B$2),"S"&INT(MOD(INT((CALENDRIER!$B$2+(ROW()-2)*7-2)/7)+3/5,52+5/28))+1,"") | D7: =D6+7 -> 42555 | E7: =D7+1 -> 42556 | F7: =E7+1 -> 42557 | G7: =F7+1 -> 42558 | H7: =G7+1 -> 42559 | I7: =H7+1 -> 42560 | J7: =I7+1 -> 42561
B8: JUILLET
B9: AOÛT
B10: SEPTEMBRE
B11: OCTOBRE
B12: NOVEMBRE
B13: DÉCEMBRE
