Workbook
Name Pont: JF!$G$1

Sheet calend
C1: Année : | F1: 2018
B4: 1 | F4: 2 | J4: 3 | N4: 4 | R4: 5 | V4: 6
B5: =DATE($F$1,B4,1) -> 43101 | F5: =DATE($F$1,F4,1) -> 43132 | J5: =DATE($F$1,J4,1) -> 43160 | N5: =DATE($F$1,N4,1) -> 43191 | R5: =DATE($F$1,R4,1) -> 43221 | V5: =DATE($F$1,V4,1) -> 43252
B6: {=DATE($F$1,B4,ROW(1:31))} -> 43101 | C6: {=IFERROR(VLOOKUP(B6:B36,JF!$D:$E,2,0),"")&IF(COUNTIF(JF!$G:$G,calend!B6:B36),Pont," ")} -> Premier de l'AN | D6: =IF(MONTH(B6)=MONTH(B$5),1+INT(MIN(MOD(B6-DATE(YEAR(B6)+{-1;0;1},1,5)+WEEKDAY(DATE(YEAR(B6)+{-1;0;1},1,3)),734))/7),"") -> 1 | E6: =IF(WEEKDAY(B6,2)<6,CHOOSE(MOD(INT((B6-43241)/7),3)+1,IF(MOD(B6-43224,42)=0,"","Nuit"),"Après-midi","Matin"),"") -> Après-midi | F6: {=DATE($F$1,F4,ROW(1:31))} -> 43132 | G6: {=IFERROR(VLOOKUP(F6:F36,JF!$D:$E,2,0),"")&IF(COUNTIF(JF!$G:$G,calend!F6:F36),Pont," ")} | H6: =IF(MONTH(F6)=MONTH(F$5),1+INT(MIN(MOD(F6-DATE(YEAR(F6)+{-1;0;1},1,5)+WEEKDAY(DATE(YEAR(F6)+{-1;0;1},1,3)),734))/7),"") -> 5 | I6: =IF(WEEKDAY(F6,2)<6,CHOOSE(MOD(INT((F6-43241)/7),3)+1,IF(MOD(F6-43224,42)=0,"","Nuit"),"Après-midi","Matin"),"") -> Matin | J6: {=DATE($F$1,J4,ROW(1:31))} -> 43160 | K6: {=IFERROR(VLOOKUP(J6:J36,JF!$D:$E,2,0),"")&IF(COUNTIF(JF!$G:$G,calend!J6:J36),Pont," ")} | L6: =IF(MONTH(J6)=MONTH(J$5),1+INT(MIN(MOD(J6-DATE(YEAR(J6)+{-1;0;1},1,5)+WEEKDAY(DATE(YEAR(J6)+{-1;0;1},1,3)),734))/7),"") -> 9 | M6: =IF(WEEKDAY(J6,2)<6,CHOOSE(MOD(INT((J6-43241)/7),3)+1,IF(MOD(J6-43224,42)=0,"","Nuit"),"Après-midi","Matin"),"") -> Nuit | N6: {=DATE($F$1,N4,ROW(1:31))} -> 43191 | O6: {=IFERROR(VLOOKUP(N6:N36,JF!$D:$E,2,0),"")&IF(COUNTIF(JF!$G:$G,calend!N6:N36),Pont," ")} | P6: =IF(MONTH(N6)=MONTH(N$5),1+INT(MIN(MOD(N6-DATE(YEAR(N6)+{-1;0;1},1,5)+WEEKDAY(DATE(YEAR(N6)+{-1;0;1},1,3)),734))/7),"") -> 13 | Q6: =IF(WEEKDAY(N6,2)<6,CHOOSE(MOD(INT((N6-43241)/7),3)+1,IF(MOD(N6-43224,42)=0,"","Nuit"),"Après-midi","Matin"),"") | R6: {=DATE($F$1,R4,ROW(1:31))} -> 43221 | S6: {=IFERROR(VLOOKUP(R6:R36,JF!$D:$E,2,0),"")&IF(COUNTIF(JF!$G:$G,calend!R6:R36),Pont," ")} -> Fête du travail | T6: =IF(MONTH(R6)=MONTH(R$5),1+INT(MIN(MOD(R6-DATE(YEAR(R6)+{-1;0;1},1,5)+WEEKDAY(DATE(YEAR(R6)+{-1;0;1},1,3)),734))/7),"") -> 18 | U6: =IF(WEEKDAY(R6,2)<6,CHOOSE(MOD(INT((R6-43241)/7),3)+1,IF(MOD(R6-43224,42)=0,"","Nuit"),"Après-midi","Matin"),"") -> Nuit | V6: {=DATE($F$1,V4,ROW(1:31))} -> 43252 | W6: {=IFERROR(VLOOKUP(V6:V36,JF!$D:$E,2,0),"")&IF(COUNTIF(JF!$G:$G,calend!V6:V36),Pont," ")} | X6: =IF(MONTH(V6)=MONTH(V$5),1+INT(MIN(MOD(V6-DATE(YEAR(V6)+{-1;0;1},1,5)+WEEKDAY(DATE(YEAR(V6)+{-1;0;1},1,3)),734))/7),"") -> 22 | Y6: =IF(WEEKDAY(V6,2)<6,CHOOSE(MOD(INT((V6-43241)/7),3)+1,IF(MOD(V6-43224,42)=0,"","Nuit"),"Après-midi","Matin"),"") -> Après-midi
B7: 43102 | D7: =IF(MONTH(B7)=MONTH(B$5),1+INT(MIN(MOD(B7-DATE(YEAR(B7)+{-1;0;1},1,5)+WEEKDAY(DATE(YEAR(B7)+{-1;0;1},1,3)),734))/7),"") -> 1 | E7: =IF(WEEKDAY(B7,2)<6,CHOOSE(MOD(INT((B7-43241)/7),3)+1,IF(MOD(B7-43224,42)=0,"","Nuit"),"Après-midi","Matin"),"") -> Après-midi | F7: 43133 | H7: =IF(MONTH(F7)=MONTH(F$5),1+INT(MIN(MOD(F7-DATE(YEAR(F7)+{-1;0;1},1,5)+WEEKDAY(DATE(YEAR(F7)+{-1;0;1},1,3)),734))/7),"") -> 5 | I7: =IF(WEEKDAY(F7,2)<6,CHOOSE(MOD(INT((F7-43241)/7),3)+1,IF(MOD(F7-43224,42)=0,"","Nuit"),"Après-midi","Matin"),"") -> Matin | J7: 43161 | L7: =IF(MONTH(J7)=MONTH(J$5),1+INT(MIN(MOD(J7-DATE(YEAR(J7)+{-1;0;1},1,5)+WEEKDAY(DATE(YEAR(J7)+{-1;0;1},1,3)),734))/7),"") -> 9 | M7: =IF(WEEKDAY(J7,2)<6,CHOOSE(MOD(INT((J7-43241)/7),3)+1,IF(MOD(J7-43224,42)=0,"","Nuit"),"Après-midi","Matin"),"") -> Nuit | N7: 43192 | O7: Lundi de Pâques | P7: =IF(MONTH(N7)=MONTH(N$5),1+INT(MIN(MOD(N7-DATE(YEAR(N7)+{-1;0;1},1,5)+WEEKDAY(DATE(YEAR(N7)+{-1;0;1},1,3)),734))/7),"") -> 14 | Q7: =IF(WEEKDAY(N7,2)<6,CHOOSE(MOD(INT((N7-43241)/7),3)+1,IF(MOD(N7-43224,42)=0,"","Nuit"),"Après-midi","Matin"),"") -> Matin | R7: 43222 | T7: =IF(MONTH(R7)=MONTH(R$5),1+INT(MIN(MOD(R7-DATE(YEAR(R7)+{-1;0;1},1,5)+WEEKDAY(DATE(YEAR(R7)+{-1;0;1},1,3)),734))/7),"") -> 18 | U7: =IF(WEEKDAY(R7,2)<6,CHOOSE(MOD(INT((R7-43241)/7),3)+1,IF(MOD(R7-43224,42)=0,"","Nuit"),"Après-midi","Matin"),"") -> Nuit | V7: 43253 | X7: =IF(MONTH(V7)=MONTH(V$5),1+INT(MIN(MOD(V7-DATE(YEAR(V7)+{-1;0;1},1,5)+WEEKDAY(DATE(YEAR(V7)+{-1;0;1},1,3)),734))/7),"") -> 22 | Y7: =IF(WEEKDAY(V7,2)<6,CHOOSE(MOD(INT((V7-43241)/7),3)+1,IF(MOD(V7-43224,42)=0,"","Nuit"),"Après-midi","Matin"),"")
B8: 43103 | D8: =IF(MONTH(B8)=MONTH(B$5),1+INT(MIN(MOD(B8-DATE(YEAR(B8)+{-1;0;1},1,5)+WEEKDAY(DATE(YEAR(B8)+{-1;0;1},1,3)),734))/7),"") -> 1 | E8: =IF(WEEKDAY(B8,2)<6,CHOOSE(MOD(INT((B8-43241)/7),3)+1,IF(MOD(B8-43224,42)=0,"","Nuit"),"Après-midi","Matin"),"") -> Après-midi | F8: 43134 | H8: =IF(MONTH(F8)=MONTH(F$5),1+INT(MIN(MOD(F8-DATE(YEAR(F8)+{-1;0;1},1,5)+WEEKDAY(DATE(YEAR(F8)+{-1;0;1},1,3)),734))/7),"") -> 5 | I8: =IF(WEEKDAY(F8,2)<6,CHOOSE(MOD(INT((F8-43241)/7),3)+1,IF(MOD(F8-43224,42)=0,"","Nuit"),"Après-midi","Matin"),"") | J8: 43162 | L8: =IF(MONTH(J8)=MONTH(J$5),1+INT(MIN(MOD(J8-DATE(YEAR(J8)+{-1;0;1},1,5)+WEEKDAY(DATE(YEAR(J8)+{-1;0;1},1,3)),734))/7),"") -> 9 | M8: =IF(WEEKDAY(J8,2)<6,CHOOSE(MOD(INT((J8-43241)/7),3)+1,IF(MOD(J8-43224,42)=0,"","Nuit"),"Après-midi","Matin"),"") | N8: 43193 | P8: =IF(MONTH(N8)=MONTH(N$5),1+INT(MIN(MOD(N8-DATE(YEAR(N8)+{-1;0;1},1,5)+WEEKDAY(DATE(YEAR(N8)+{-1;0;1},1,3)),734))/7),"") -> 14 | Q8: =IF(WEEKDAY(N8,2)<6,CHOOSE(MOD(INT((N8-43241)/7),3)+1,IF(MOD(N8-43224,42)=0,"","Nuit"),"Après-midi","Matin"),"") -> Matin | R8: 43223 | T8: =IF(MONTH(R8)=MONTH(R$5),1+INT(MIN(MOD(R8-DATE(YEAR(R8)+{-1;0;1},1,5)+WEEKDAY(DATE(YEAR(R8)+{-1;0;1},1,3)),734))/7),"") -> 18 | U8: =IF(WEEKDAY(R8,2)<6,CHOOSE(MOD(INT((R8-43241)/7),3)+1,IF(MOD(R8-43224,42)=0,"","Nuit"),"Après-midi","Matin"),"") -> Nuit | V8: 43254 | X8: =IF(MONTH(V8)=MONTH(V$5),1+INT(MIN(MOD(V8-DATE(YEAR(V8)+{-1;0;1},1,5)+WEEKDAY(DATE(YEAR(V8)+{-1;0;1},1,3)),734))/7),"") -> 22 | Y8: =IF(WEEKDAY(V8,2)<6,CHOOSE(MOD(INT((V8-43241)/7),3)+1,IF(MOD(V8-43224,42)=0,"","Nuit"),"Après-midi","Matin"),"")
B9: 43104 | D9: =IF(MONTH(B9)=MONTH(B$5),1+INT(MIN(MOD(B9-DATE(YEAR(B9)+{-1;0;1},1,5)+WEEKDAY(DATE(YEAR(B9)+{-1;0;1},1,3)),734))/7),"") -> 1 | E9: =IF(WEEKDAY(B9,2)<6,CHOOSE(MOD(INT((B9-43241)/7),3)+1,IF(MOD(B9-43224,42)=0,"","Nuit"),"Après-midi","Matin"),"") -> Après-midi | F9: 43135 | H9: =IF(MONTH(F9)=MONTH(F$5),1+INT(MIN(MOD(F9-DATE(YEAR(F9)+{-1;0;1},1,5)+WEEKDAY(DATE(YEAR(F9)+{-1;0;1},1,3)),734))/7),"") -> 5 | I9: =IF(WEEKDAY(F9,2)<6,CHOOSE(MOD(INT((F9-43241)/7),3)+1,IF(MOD(F9-43224,42)=0,"","Nuit"),"Après-midi","Matin"),"") | J9: 43163 | L9: =IF(MONTH(J9)=MONTH(J$5),1+INT(MIN(MOD(J9-DATE(YEAR(J9)+{-1;0;1},1,5)+WEEKDAY(DATE(YEAR(J9)+{-1;0;1},1,3)),734))/7),"") -> 9 | M9: =IF(WEEKDAY(J9,2)<6,CHOOSE(MOD(INT((J9-43241)/7),3)+1,IF(MOD(J9-43224,42)=0,"","Nuit"),"Après-midi","Matin"),"") | N9: 43194 | P9: =IF(MONTH(N9)=MONTH(N$5),1+INT(MIN(MOD(N9-DATE(YEAR(N9)+{-1;0;1},1,5)+WEEKDAY(DATE(YEAR(N9)+{-1;0;1},1,3)),734))/7),"") -> 14 | Q9: =IF(WEEKDAY(N9,2)<6,CHOOSE(MOD(INT((N9-43241)/7),3)+1,IF(MOD(N9-43224,42)=0,"","Nuit"),"Après-midi","Matin"),"") -> Matin | R9: 43224 | T9: =IF(MONTH(R9)=MONTH(R$5),1+INT(MIN(MOD(R9-DATE(YEAR(R9)+{-1;0;1},1,5)+WEEKDAY(DATE(YEAR(R9)+{-1;0;1},1,3)),734))/7),"") -> 18 | U9: =IF(WEEKDAY(R9,2)<6,CHOOSE(MOD(INT((R9-43241)/7),3)+1,IF(MOD(R9-43224,42)=0,"","Nuit"),"Après-midi","Matin"),"") | V9: 43255 | X9: =IF(MONTH(V9)=MONTH(V$5),1+INT(MIN(MOD(V9-DATE(YEAR(V9)+{-1;0;1},1,5)+WEEKDAY(DATE(YEAR(V9)+{-1;0;1},1,3)),734))/7),"") -> 23 | Y9: =IF(WEEKDAY(V9,2)<6,CHOOSE(MOD(INT((V9-43241)/7),3)+1,IF(MOD(V9-43224,42)=0,"","Nuit"),"Après-midi","Matin"),"") -> Matin
B10: 43105 | D10: =IF(MONTH(B10)=MONTH(B$5),1+INT(MIN(MOD(B10-DATE(YEAR(B10)+{-1;0;1},1,5)+WEEKDAY(DATE(YEAR(B10)+{-1;0;1},1,3)),734))/7),"") -> 1 | E10: =IF(WEEKDAY(B10,2)<6,CHOOSE(MOD(INT((B10-43241)/7),3)+1,IF(MOD(B10-43224,42)=0,"","Nuit"),"Après-midi","Matin"),"") -> Après-midi | F10: 43136 | H10: =IF(MONTH(F10)=MONTH(F$5),1+INT(MIN(MOD(F10-DATE(YEAR(F10)+{-1;0;1},1,5)+WEEKDAY(DATE(YEAR(F10)+{-1;0;1},1,3)),734))/7),"") -> 6 | I10: =IF(WEEKDAY(F10,2)<6,CHOOSE(MOD(INT((F10-43241)/7),3)+1,IF(MOD(F10-43224,42)=0,"","Nuit"),"Après-midi","Matin"),"") -> Nuit | J10: 43164 | L10: =IF(MONTH(J10)=MONTH(J$5),1+INT(MIN(MOD(J10-DATE(YEAR(J10)+{-1;0;1},1,5)+WEEKDAY(DATE(YEAR(J10)+{-1;0;1},1,3)),734))/7),"") -> 10 | M10: =IF(WEEKDAY(J10,2)<6,CHOOSE(MOD(INT((J10-43241)/7),3)+1,IF(MOD(J10-43224,42)=0,"","Nuit"),"Après-midi","Matin"),"") -> Après-midi | N10: 43195 | P10: =IF(MONTH(N10)=MONTH(N$5),1+INT(MIN(MOD(N10-DATE(YEAR(N10)+{-1;0;1},1,5)+WEEKDAY(DATE(YEAR(N10)+{-1;0;1},1,3)),734))/7),"") -> 14 | Q10: =IF(WEEKDAY(N10,2)<6,CHOOSE(MOD(INT((N10-43241)/7),3)+1,IF(MOD(N10-43224,42)=0,"","Nuit"),"Après-midi","Matin"),"") -> Matin | R10: 43225 | T10: =IF(MONTH(R10)=MONTH(R$5),1+INT(MIN(MOD(R10-DATE(YEAR(R10)+{-1;0;1},1,5)+WEEKDAY(DATE(YEAR(R10)+{-1;0;1},1,3)),734))/7),"") -> 18 | U10: =IF(WEEKDAY(R10,2)<6,CHOOSE(MOD(INT((R10-43241)/7),3)+1,IF(MOD(R10-43224,42)=0,"","Nuit"),"Après-midi","Matin"),"") | V10: 43256 | X10: =IF(MONTH(V10)=MONTH(V$5),1+INT(MIN(MOD(V10-DATE(YEAR(V10)+{-1;0;1},1,5)+WEEKDAY(DATE(YEAR(V10)+{-1;0;1},1,3)),734))/7),"") -> 23 | Y10: =IF(WEEKDAY(V10,2)<6,CHOOSE(MOD(INT((V10-43241)/7),3)+1,IF(MOD(V10-43224,42)=0,"","Nuit"),"Après-midi","Matin"),"") -> Matin
B11: 43106 | D11: =IF(MONTH(B11)=MONTH(B$5),1+INT(MIN(MOD(B11-DATE(YEAR(B11)+{-1;0;1},1,5)+WEEKDAY(DATE(YEAR(B11)+{-1;0;1},1,3)),734))/7),"") -> 1 | E11: =IF(WEEKDAY(B11,2)<6,CHOOSE(MOD(INT((B11-43241)/7),3)+1,IF(MOD(B11-43224,42)=0,"","Nuit"),"Après-midi","Matin"),"") | F11: 43137 | H11: =IF(MONTH(F11)=MONTH(F$5),1+INT(MIN(MOD(F11-DATE(YEAR(F11)+{-1;0;1},1,5)+WEEKDAY(DATE(YEAR(F11)+{-1;0;1},1,3)),734))/7),"") -> 6 | I11: =IF(WEEKDAY(F11,2)<6,CHOOSE(MOD(INT((F11-43241)/7),3)+1,IF(MOD(F11-43224,42)=0,"","Nuit"),"Après-midi","Matin"),"") -> Nuit | J11: 43165 | L11: =IF(MONTH(J11)=MONTH(J$5),1+INT(MIN(MOD(J11-DATE(YEAR(J11)+{-1;0;1},1,5)+WEEKDAY(DATE(YEAR(J11)+{-1;0;1},1,3)),734))/7),"") -> 10 | M11: =IF(WEEKDAY(J11,2)<6,CHOOSE(MOD(INT((J11-43241)/7),3)+1,IF(MOD(J11-43224,42)=0,"","Nuit"),"Après-midi","Matin"),"") -> Après-midi | N11: 43196 | P11: =IF(MONTH(N11)=MONTH(N$5),1+INT(MIN(MOD(N11-DATE(YEAR(N11)+{-1;0;1},1,5)+WEEKDAY(DATE(YEAR(N11)+{-1;0;1},1,3)),734))/7),"") -> 14 | Q11: =IF(WEEKDAY(N11,2)<6,CHOOSE(MOD(INT((N11-43241)/7),3)+1,IF(MOD(N11-43224,42)=0,"","Nuit"),"Après-midi","Matin"),"") -> Matin | R11: 43226 | T11: =IF(MONTH(R11)=MONTH(R$5),1+INT(MIN(MOD(R11-DATE(YEAR(R11)+{-1;0;1},1,5)+WEEKDAY(DATE(YEAR(R11)+{-1;0;1},1,3)),734))/7),"") -> 18 | U11: =IF(WEEKDAY(R11,2)<6,CHOOSE(MOD(INT((R11-43241)/7),3)+1,IF(MOD(R11-43224,42)=0,"","Nuit"),"Après-midi","Matin"),"") | V11: 43257 | X11: =IF(MONTH(V11)=MONTH(V$5),1+INT(MIN(MOD(V11-DATE(YEAR(V11)+{-1;0;1},1,5)+WEEKDAY(DATE(YEAR(V11)+{-1;0;1},1,3)),734))/7),"") -> 23 | Y11: =IF(WEEKDAY(V11,2)<6,CHOOSE(MOD(INT((V11-43241)/7),3)+1,IF(MOD(V11-43224,42)=0,"","Nuit"),"Après-midi","Matin"),"") -> Matin
B12: 43107 | D12: =IF(MONTH(B12)=MONTH(B$5),1+INT(MIN(MOD(B12-DATE(YEAR(B12)+{-1;0;1},1,5)+WEEKDAY(DATE(YEAR(B12)+{-1;0;1},1,3)),734))/7),"") -> 1 | E12: =IF(WEEKDAY(B12,2)<6,CHOOSE(MOD(INT((B12-43241)/7),3)+1,IF(MOD(B12-43224,42)=0,"","Nuit"),"Après-midi","Matin"),"") | F12: 43138 | H12: =IF(MONTH(F12)=MONTH(F$5),1+INT(MIN(MOD(F12-DATE(YEAR(F12)+{-1;0;1},1,5)+WEEKDAY(DATE(YEAR(F12)+{-1;0;1},1,3)),734))/7),"") -> 6 | I12: =IF(WEEKDAY(F12,2)<6,CHOOSE(MOD(INT((F12-43241)/7),3)+1,IF(MOD(F12-43224,42)=0,"","Nuit"),"Après-midi","Matin"),"") -> Nuit | J12: 43166 | L12: =IF(MONTH(J12)=MONTH(J$5),1+INT(MIN(MOD(J12-DATE(YEAR(J12)+{-1;0;1},1,5)+WEEKDAY(DATE(YEAR(J12)+{-1;0;1},1,3)),734))/7),"") -> 10 | M12: =IF(WEEKDAY(J12,2)<6,CHOOSE(MOD(INT((J12-43241)/7),3)+1,IF(MOD(J12-43224,42)=0,"","Nuit"),"Après-midi","Matin"),"") -> Après-midi | N12: 43197 | P12: =IF(MONTH(N12)=MONTH(N$5),1+INT(MIN(MOD(N12-DATE(YEAR(N12)+{-1;0;1},1,5)+WEEKDAY(DATE(YEAR(N12)+{-1;0;1},1,3)),734))/7),"") -> 14 | Q12: =IF(WEEKDAY(N12,2)<6,CHOOSE(MOD(INT((N12-43241)/7),3)+1,IF(MOD(N12-43224,42)=0,"","Nuit"),"Après-midi","Matin"),"") | R12: 43227 | S12: Pont | T12: =IF(MONTH(R12)=MONTH(R$5),1+INT(MIN(MOD(R12-DATE(YEAR(R12)+{-1;0;1},1,5)+WEEKDAY(DATE(YEAR(R12)+{-1;0;1},1,3)),734))/7),"") -> 19 | U12: =IF(WEEKDAY(R12,2)<6,CHOOSE(MOD(INT((R12-43241)/7),3)+1,IF(MOD(R12-43224,42)=0,"","Nuit"),"Après-midi","Matin"),"") -> Après-midi | V12: 43258 | X12: =IF(MONTH(V12)=MONTH(V$5),1+INT(MIN(MOD(V12-DATE(YEAR(V12)+{-1;0;1},1,5)+WEEKDAY(DATE(YEAR(V12)+{-1;0;1},1,3)),734))/7),"") -> 23 | Y12: =IF(WEEKDAY(V12,2)<6,CHOOSE(MOD(INT((V12-43241)/7),3)+1,IF(MOD(V12-43224,42)=0,"","Nuit"),"Après-midi","Matin"),"") -> Matin
B13: 43108 | D13: =IF(MONTH(B13)=MONTH(B$5),1+INT(MIN(MOD(B13-DATE(YEAR(B13)+{-1;0;1},1,5)+WEEKDAY(DATE(YEAR(B13)+{-1;0;1},1,3)),734))/7),"") -> 2 | E13: =IF(WEEKDAY(B13,2)<6,CHOOSE(MOD(INT((B13-43241)/7),3)+1,IF(MOD(B13-43224,42)=0,"","Nuit"),"Après-midi","Matin"),"") -> Matin | F13: 43139 | H13: =IF(MONTH(F13)=MONTH(F$5),1+INT(MIN(MOD(F13-DATE(YEAR(F13)+{-1;0;1},1,5)+WEEKDAY(DATE(YEAR(F13)+{-1;0;1},1,3)),734))/7),"") -> 6 | I13: =IF(WEEKDAY(F13,2)<6,CHOOSE(MOD(INT((F13-43241)/7),3)+1,IF(MOD(F13-43224,42)=0,"","Nuit"),"Après-midi","Matin"),"") -> Nuit | J13: 43167 | L13: =IF(MONTH(J13)=MONTH(J$5),1+INT(MIN(MOD(J13-DATE(YEAR(J13)+{-1;0;1},1,5)+WEEKDAY(DATE(YEAR(J13)+{-1;0;1},1,3)),734))/7),"") -> 10 | M13: =IF(WEEKDAY(J13,2)<6,CHOOSE(MOD(INT((J13-43241)/7),3)+1,IF(MOD(J13-43224,42)=0,"","Nuit"),"Après-midi","Matin"),"") -> Après-midi | N13: 43198 | P13: =IF(MONTH(N13)=MONTH(N$5),1+INT(MIN(MOD(N13-DATE(YEAR(N13)+{-1;0;1},1,5)+WEEKDAY(DATE(YEAR(N13)+{-1;0;1},1,3)),734))/7),"") -> 14 | Q13: =IF(WEEKDAY(N13,2)<6,CHOOSE(MOD(INT((N13-43241)/7),3)+1,IF(MOD(N13-43224,42)=0,"","Nuit"),"Après-midi","Matin"),"") | R13: 43228 | S13: Victoire de 1945 | T13: =IF(MONTH(R13)=MONTH(R$5),1+INT(MIN(MOD(R13-DATE(YEAR(R13)+{-1;0;1},1,5)+WEEKDAY(DATE(YEAR(R13)+{-1;0;1},1,3)),734))/7),"") -> 19 | U13: =IF(WEEKDAY(R13,2)<6,CHOOSE(MOD(INT((R13-43241)/7),3)+1,IF(MOD(R13-43224,42)=0,"","Nuit"),"Après-midi","Matin"),"") -> Après-midi | V13: 43259 | X13: =IF(MONTH(V13)=MONTH(V$5),1+INT(MIN(MOD(V13-DATE(YEAR(V13)+{-1;0;1},1,5)+WEEKDAY(DATE(YEAR(V13)+{-1;0;1},1,3)),734))/7),"") -> 23 | Y13: =IF(WEEKDAY(V13,2)<6,CHOOSE(MOD(INT((V13-43241)/7),3)+1,IF(MOD(V13-43224,42)=0,"","Nuit"),"Après-midi","Matin"),"") -> Matin
B14: 43109 | D14: =IF(MONTH(B14)=MONTH(B$5),1+INT(MIN(MOD(B14-DATE(YEAR(B14)+{-1;0;1},1,5)+WEEKDAY(DATE(YEAR(B14)+{-1;0;1},1,3)),734))/7),"") -> 2 | E14: =IF(WEEKDAY(B14,2)<6,CHOOSE(MOD(INT((B14-43241)/7),3)+1,IF(MOD(B14-43224,42)=0,"","Nuit"),"Après-midi","Matin"),"") -> Matin | F14: 43140 | H14: =IF(MONTH(F14)=MONTH(F$5),1+INT(MIN(MOD(F14-DATE(YEAR(F14)+{-1;0;1},1,5)+WEEKDAY(DATE(YEAR(F14)+{-1;0;1},1,3)),734))/7),"") -> 6 | I14: =IF(WEEKDAY(F14,2)<6,CHOOSE(MOD(INT((F14-43241)/7),3)+1,IF(MOD(F14-43224,42)=0,"","Nuit"),"Après-midi","Matin"),"") | J14: 43168 | L14: =IF(MONTH(J14)=MONTH(J$5),1+INT(MIN(MOD(J14-DATE(YEAR(J14)+{-1;0;1},1,5)+WEEKDAY(DATE(YEAR(J14)+{-1;0;1},1,3)),734))/7),"") -> 10 | M14: =IF(WEEKDAY(J14,2)<6,CHOOSE(MOD(INT((J14-43241)/7),3)+1,IF(MOD(J14-43224,42)=0,"","Nuit"),"Après-midi","Matin"),"") -> Après-midi | N14: 43199 | P14: =IF(MONTH(N14)=MONTH(N$5),1+INT(MIN(MOD(N14-DATE(YEAR(N14)+{-1;0;1},1,5)+WEEKDAY(DATE(YEAR(N14)+{-1;0;1},1,3)),734))/7),"") -> 15 | Q14: =IF(WEEKDAY(N14,2)<6,CHOOSE(MOD(INT((N14-43241)/7),3)+1,IF(MOD(N14-43224,42)=0,"","Nuit"),"Après-midi","Matin"),"") -> Nuit | R14: 43229 | T14: =IF(MONTH(R14)=MONTH(R$5),1+INT(MIN(MOD(R14-DATE(YEAR(R14)+{-1;0;1},1,5)+WEEKDAY(DATE(YEAR(R14)+{-1;0;1},1,3)),734))/7),"") -> 19 | U14: =IF(WEEKDAY(R14,2)<6,CHOOSE(MOD(INT((R14-43241)/7),3)+1,IF(MOD(R14-43224,42)=0,"","Nuit"),"Après-midi","Matin"),"") -> Après-midi | V14: 43260 | X14: =IF(MONTH(V14)=MONTH(V$5),1+INT(MIN(MOD(V14-DATE(YEAR(V14)+{-1;0;1},1,5)+WEEKDAY(DATE(YEAR(V14)+{-1;0;1},1,3)),734))/7),"") -> 23 | Y14: =IF(WEEKDAY(V14,2)<6,CHOOSE(MOD(INT((V14-43241)/7),3)+1,IF(MOD(V14-43224,42)=0,"","Nuit"),"Après-midi","Matin"),"")
B15: 43110 | D15: =IF(MONTH(B15)=MONTH(B$5),1+INT(MIN(MOD(B15-DATE(YEAR(B15)+{-1;0;1},1,5)+WEEKDAY(DATE(YEAR(B15)+{-1;0;1},1,3)),734))/7),"") -> 2 | E15: =IF(WEEKDAY(B15,2)<6,CHOOSE(MOD(INT((B15-43241)/7),3)+1,IF(MOD(B15-43224,42)=0,"","Nuit"),"Après-midi","Matin"),"") -> Matin | F15: 43141 | H15: =IF(MONTH(F15)=MONTH(F$5),1+INT(MIN(MOD(F15-DATE(YEAR(F15)+{-1;0;1},1,5)+WEEKDAY(DATE(YEAR(F15)+{-1;0;1},1,3)),734))/7),"") -> 6 | I15: =IF(WEEKDAY(F15,2)<6,CHOOSE(MOD(INT((F15-43241)/7),3)+1,IF(MOD(F15-43224,42)=0,"","Nuit"),"Après-midi","Matin"),"") | J15: 43169 | L15: =IF(MONTH(J15)=MONTH(J$5),1+INT(MIN(MOD(J15-DATE(YEAR(J15)+{-1;0;1},1,5)+WEEKDAY(DATE(YEAR(J15)+{-1;0;1},1,3)),734))/7),"") -> 10 | M15: =IF(WEEKDAY(J15,2)<6,CHOOSE(MOD(INT((J15-43241)/7),3)+1,IF(MOD(J15-43224,42)=0,"","Nuit"),"Après-midi","Matin"),"") | N15: 43200 | P15: =IF(MONTH(N15)=MONTH(N$5),1+INT(MIN(MOD(N15-DATE(YEAR(N15)+{-1;0;1},1,5)+WEEKDAY(DATE(YEAR(N15)+{-1;0;1},1,3)),734))/7),"") -> 15 | Q15: =IF(WEEKDAY(N15,2)<6,CHOOSE(MOD(INT((N15-43241)/7),3)+1,IF(MOD(N15-43224,42)=0,"","Nuit"),"Après-midi","Matin"),"") -> Nuit | R15: 43230 | S15: Ascension | T15: =IF(MONTH(R15)=MONTH(R$5),1+INT(MIN(MOD(R15-DATE(YEAR(R15)+{-1;0;1},1,5)+WEEKDAY(DATE(YEAR(R15)+{-1;0;1},1,3)),734))/7),"") -> 19 | U15: =IF(WEEKDAY(R15,2)<6,CHOOSE(MOD(INT((R15-43241)/7),3)+1,IF(MOD(R15-43224,42)=0,"","Nuit"),"Après-midi","Matin"),"") -> Après-midi | V15: 43261 | X15: =IF(MONTH(V15)=MONTH(V$5),1+INT(MIN(MOD(V15-DATE(YEAR(V15)+{-1;0;1},1,5)+WEEKDAY(DATE(YEAR(V15)+{-1;0;1},1,3)),734))/7),"") -> 23 | Y15: =IF(WEEKDAY(V15,2)<6,CHOOSE(MOD(INT((V15-43241)/7),3)+1,IF(MOD(V15-43224,42)=0,"","Nuit"),"Après-midi","Matin"),"")
B16: 43111 | D16: =IF(MONTH(B16)=MONTH(B$5),1+INT(MIN(MOD(B16-DATE(YEAR(B16)+{-1;0;1},1,5)+WEEKDAY(DATE(YEAR(B16)+{-1;0;1},1,3)),734))/7),"") -> 2 | E16: =IF(WEEKDAY(B16,2)<6,CHOOSE(MOD(INT((B16-43241)/7),3)+1,IF(MOD(B16-43224,42)=0,"","Nuit"),"Après-midi","Matin"),"") -> Matin | F16: 43142 | H16: =IF(MONTH(F16)=MONTH(F$5),1+INT(MIN(MOD(F16-DATE(YEAR(F16)+{-1;0;1},1,5)+WEEKDAY(DATE(YEAR(F16)+{-1;0;1},1,3)),734))/7),"") -> 6 | I16: =IF(WEEKDAY(F16,2)<6,CHOOSE(MOD(INT((F16-43241)/7),3)+1,IF(MOD(F16-43224,42)=0,"","Nuit"),"Après-midi","Matin"),"") | J16: 43170 | L16: =IF(MONTH(J16)=MONTH(J$5),1+INT(MIN(MOD(J16-DATE(YEAR(J16)+{-1;0;1},1,5)+WEEKDAY(DATE(YEAR(J16)+{-1;0;1},1,3)),734))/7),"") -> 10 | M16: =IF(WEEKDAY(J16,2)<6,CHOOSE(MOD(INT((J16-43241)/7),3)+1,IF(MOD(J16-43224,42)=0,"","Nuit"),"Après-midi","Matin"),"") | N16: 43201 | P16: =IF(MONTH(N16)=MONTH(N$5),1+INT(MIN(MOD(N16-DATE(YEAR(N16)+{-1;0;1},1,5)+WEEKDAY(DATE(YEAR(N16)+{-1;0;1},1,3)),734))/7),"") -> 15 | Q16: =IF(WEEKDAY(N16,2)<6,CHOOSE(MOD(INT((N16-43241)/7),3)+1,IF(MOD(N16-43224,42)=0,"","Nuit"),"Après-midi","Matin"),"") -> Nuit | R16: 43231 | S16: Pont | T16: =IF(MONTH(R16)=MONTH(R$5),1+INT(MIN(MOD(R16-DATE(YEAR(R16)+{-1;0;1},1,5)+WEEKDAY(DATE(YEAR(R16)+{-1;0;1},1,3)),734))/7),"") -> 19 | U16: =IF(WEEKDAY(R16,2)<6,CHOOSE(MOD(INT((R16-43241)/7),3)+1,IF(MOD(R16-43224,42)=0,"","Nuit"),"Après-midi","Matin"),"") -> Après-midi | V16: 43262 | X16: =IF(MONTH(V16)=MONTH(V$5),1+INT(MIN(MOD(V16-DATE(YEAR(V16)+{-1;0;1},1,5)+WEEKDAY(DATE(YEAR(V16)+{-1;0;1},1,3)),734))/7),"") -> 24 | Y16: =IF(WEEKDAY(V16,2)<6,CHOOSE(MOD(INT((V16-43241)/7),3)+1,IF(MOD(V16-43224,42)=0,"","Nuit"),"Après-midi","Matin"),"") -> Nuit
B17: 43112 | D17: =IF(MONTH(B17)=MONTH(B$5),1+INT(MIN(MOD(B17-DATE(YEAR(B17)+{-1;0;1},1,5)+WEEKDAY(DATE(YEAR(B17)+{-1;0;1},1,3)),734))/7),"") -> 2 | E17: =IF(WEEKDAY(B17,2)<6,CHOOSE(MOD(INT((B17-43241)/7),3)+1,IF(MOD(B17-43224,42)=0,"","Nuit"),"Après-midi","Matin"),"") -> Matin | F17: 43143 | H17: =IF(MONTH(F17)=MONTH(F$5),1+INT(MIN(MOD(F17-DATE(YEAR(F17)+{-1;0;1},1,5)+WEEKDAY(DATE(YEAR(F17)+{-1;0;1},1,3)),734))/7),"") -> 7 | I17: =IF(WEEKDAY(F17,2)<6,CHOOSE(MOD(INT((F17-43241)/7),3)+1,IF(MOD(F17-43224,42)=0,"","Nuit"),"Après-midi","Matin"),"") -> Après-midi | J17: 43171 | L17: =IF(MONTH(J17)=MONTH(J$5),1+INT(MIN(MOD(J17-DATE(YEAR(J17)+{-1;0;1},1,5)+WEEKDAY(DATE(YEAR(J17)+{-1;0;1},1,3)),734))/7),"") -> 11 | M17: =IF(WEEKDAY(J17,2)<6,CHOOSE(MOD(INT((J17-43241)/7),3)+1,IF(MOD(J17-43224,42)=0,"","Nuit"),"Après-midi","Matin"),"") -> Matin | N17: 43202 | P17: =IF(MONTH(N17)=MONTH(N$5),1+INT(MIN(MOD(N17-DATE(YEAR(N17)+{-1;0;1},1,5)+WEEKDAY(DATE(YEAR(N17)+{-1;0;1},1,3)),734))/7),"") -> 15 | Q17: =IF(WEEKDAY(N17,2)<6,CHOOSE(MOD(INT((N17-43241)/7),3)+1,IF(MOD(N17-43224,42)=0,"","Nuit"),"Après-midi","Matin"),"") -> Nuit | R17: 43232 | T17: =IF(MONTH(R17)=MONTH(R$5),1+INT(MIN(MOD(R17-DATE(YEAR(R17)+{-1;0;1},1,5)+WEEKDAY(DATE(YEAR(R17)+{-1;0;1},1,3)),734))/7),"") -> 19 | U17: =IF(WEEKDAY(R17,2)<6,CHOOSE(MOD(INT((R17-43241)/7),3)+1,IF(MOD(R17-43224,42)=0,"","Nuit"),"Après-midi","Matin"),"") | V17: 43263 | X17: =IF(MONTH(V17)=MONTH(V$5),1+INT(MIN(MOD(V17-DATE(YEAR(V17)+{-1;0;1},1,5)+WEEKDAY(DATE(YEAR(V17)+{-1;0;1},1,3)),734))/7),"") -> 24 | Y17: =IF(WEEKDAY(V17,2)<6,CHOOSE(MOD(INT((V17-43241)/7),3)+1,IF(MOD(V17-43224,42)=0,"","Nuit"),"Après-midi","Matin"),"") -> Nuit
B18: 43113 | D18: =IF(MONTH(B18)=MONTH(B$5),1+INT(MIN(MOD(B18-DATE(YEAR(B18)+{-1;0;1},1,5)+WEEKDAY(DATE(YEAR(B18)+{-1;0;1},1,3)),734))/7),"") -> 2 | E18: =IF(WEEKDAY(B18,2)<6,CHOOSE(MOD(INT((B18-43241)/7),3)+1,IF(MOD(B18-43224,42)=0,"","Nuit"),"Après-midi","Matin"),"") | F18: 43144 | H18: =IF(MONTH(F18)=MONTH(F$5),1+INT(MIN(MOD(F18-DATE(YEAR(F18)+{-1;0;1},1,5)+WEEKDAY(DATE(YEAR(F18)+{-1;0;1},1,3)),734))/7),"") -> 7 | I18: =IF(WEEKDAY(F18,2)<6,CHOOSE(MOD(INT((F18-43241)/7),3)+1,IF(MOD(F18-43224,42)=0,"","Nuit"),"Après-midi","Matin"),"") -> Après-midi | J18: 43172 | L18: =IF(MONTH(J18)=MONTH(J$5),1+INT(MIN(MOD(J18-DATE(YEAR(J18)+{-1;0;1},1,5)+WEEKDAY(DATE(YEAR(J18)+{-1;0;1},1,3)),734))/7),"") -> 11 | M18: =IF(WEEKDAY(J18,2)<6,CHOOSE(MOD(INT((J18-43241)/7),3)+1,IF(MOD(J18-43224,42)=0,"","Nuit"),"Après-midi","Matin"),"") -> Matin | N18: 43203 | P18: =IF(MONTH(N18)=MONTH(N$5),1+INT(MIN(MOD(N18-DATE(YEAR(N18)+{-1;0;1},1,5)+WEEKDAY(DATE(YEAR(N18)+{-1;0;1},1,3)),734))/7),"") -> 15 | Q18: =IF(WEEKDAY(N18,2)<6,CHOOSE(MOD(INT((N18-43241)/7),3)+1,IF(MOD(N18-43224,42)=0,"","Nuit"),"Après-midi","Matin"),"") -> Nuit | R18: 43233 | T18: =IF(MONTH(R18)=MONTH(R$5),1+INT(MIN(MOD(R18-DATE(YEAR(R18)+{-1;0;1},1,5)+WEEKDAY(DATE(YEAR(R18)+{-1;0;1},1,3)),734))/7),"") -> 19 | U18: =IF(WEEKDAY(R18,2)<6,CHOOSE(MOD(INT((R18-43241)/7),3)+1,IF(MOD(R18-43224,42)=0,"","Nuit"),"Après-midi","Matin"),"") | V18: 43264 | X18: =IF(MONTH(V18)=MONTH(V$5),1+INT(MIN(MOD(V18-DATE(YEAR(V18)+{-1;0;1},1,5)+WEEKDAY(DATE(YEAR(V18)+{-1;0;1},1,3)),734))/7),"") -> 24 | Y18: =IF(WEEKDAY(V18,2)<6,CHOOSE(MOD(INT((V18-43241)/7),3)+1,IF(MOD(V18-43224,42)=0,"","Nuit"),"Après-midi","Matin"),"") -> Nuit
B19: 43114 | D19: =IF(MONTH(B19)=MONTH(B$5),1+INT(MIN(MOD(B19-DATE(YEAR(B19)+{-1;0;1},1,5)+WEEKDAY(DATE(YEAR(B19)+{-1;0;1},1,3)),734))/7),"") -> 2 | E19: =IF(WEEKDAY(B19,2)<6,CHOOSE(MOD(INT((B19-43241)/7),3)+1,IF(MOD(B19-43224,42)=0,"","Nuit"),"Après-midi","Matin"),"") | F19: 43145 | H19: =IF(MONTH(F19)=MONTH(F$5),1+INT(MIN(MOD(F19-DATE(YEAR(F19)+{-1;0;1},1,5)+WEEKDAY(DATE(YEAR(F19)+{-1;0;1},1,3)),734))/7),"") -> 7 | I19: =IF(WEEKDAY(F19,2)<6,CHOOSE(MOD(INT((F19-43241)/7),3)+1,IF(MOD(F19-43224,42)=0,"","Nuit"),"Après-midi","Matin"),"") -> Après-midi | J19: 43173 | L19: =IF(MONTH(J19)=MONTH(J$5),1+INT(MIN(MOD(J19-DATE(YEAR(J19)+{-1;0;1},1,5)+WEEKDAY(DATE(YEAR(J19)+{-1;0;1},1,3)),734))/7),"") -> 11 | M19: =IF(WEEKDAY(J19,2)<6,CHOOSE(MOD(INT((J19-43241)/7),3)+1,IF(MOD(J19-43224,42)=0,"","Nuit"),"Après-midi","Matin"),"") -> Matin | N19: 43204 | P19: =IF(MONTH(N19)=MONTH(N$5),1+INT(MIN(MOD(N19-DATE(YEAR(N19)+{-1;0;1},1,5)+WEEKDAY(DATE(YEAR(N19)+{-1;0;1},1,3)),734))/7),"") -> 15 | Q19: =IF(WEEKDAY(N19,2)<6,CHOOSE(MOD(INT((N19-43241)/7),3)+1,IF(MOD(N19-43224,42)=0,"","Nuit"),"Après-midi","Matin"),"") | R19: 43234 | T19: =IF(MONTH(R19)=MONTH(R$5),1+INT(MIN(MOD(R19-DATE(YEAR(R19)+{-1;0;1},1,5)+WEEKDAY(DATE(YEAR(R19)+{-1;0;1},1,3)),734))/7),"") -> 20 | U19: =IF(WEEKDAY(R19,2)<6,CHOOSE(MOD(INT((R19-43241)/7),3)+1,IF(MOD(R19-43224,42)=0,"","Nuit"),"Après-midi","Matin"),"") -> Matin | V19: 43265 | X19: =IF(MONTH(V19)=MONTH(V$5),1+INT(MIN(MOD(V19-DATE(YEAR(V19)+{-1;0;1},1,5)+WEEKDAY(DATE(YEAR(V19)+{-1;0;1},1,3)),734))/7),"") -> 24 | Y19: =IF(WEEKDAY(V19,2)<6,CHOOSE(MOD(INT((V19-43241)/7),3)+1,IF(MOD(V19-43224,42)=0,"","Nuit"),"Après-midi","Matin"),"") -> Nuit
B20: 43115 | D20: =IF(MONTH(B20)=MONTH(B$5),1+INT(MIN(MOD(B20-DATE(YEAR(B20)+{-1;0;1},1,5)+WEEKDAY(DATE(YEAR(B20)+{-1;0;1},1,3)),734))/7),"") -> 3 | E20: =IF(WEEKDAY(B20,2)<6,CHOOSE(MOD(INT((B20-43241)/7),3)+1,IF(MOD(B20-43224,42)=0,"","Nuit"),"Après-midi","Matin"),"") -> Nuit | F20: 43146 | H20: =IF(MONTH(F20)=MONTH(F$5),1+INT(MIN(MOD(F20-DATE(YEAR(F20)+{-1;0;1},1,5)+WEEKDAY(DATE(YEAR(F20)+{-1;0;1},1,3)),734))/7),"") -> 7 | I20: =IF(WEEKDAY(F20,2)<6,CHOOSE(MOD(INT((F20-43241)/7),3)+1,IF(MOD(F20-43224,42)=0,"","Nuit"),"Après-midi","Matin"),"") -> Après-midi | J20: 43174 | L20: =IF(MONTH(J20)=MONTH(J$5),1+INT(MIN(MOD(J20-DATE(YEAR(J20)+{-1;0;1},1,5)+WEEKDAY(DATE(YEAR(J20)+{-1;0;1},1,3)),734))/7),"") -> 11 | M20: =IF(WEEKDAY(J20,2)<6,CHOOSE(MOD(INT((J20-43241)/7),3)+1,IF(MOD(J20-43224,42)=0,"","Nuit"),"Après-midi","Matin"),"") -> Matin | N20: 43205 | P20: =IF(MONTH(N20)=MONTH(N$5),1+INT(MIN(MOD(N20-DATE(YEAR(N20)+{-1;0;1},1,5)+WEEKDAY(DATE(YEAR(N20)+{-1;0;1},1,3)),734))/7),"") -> 15 | Q20: =IF(WEEKDAY(N20,2)<6,CHOOSE(MOD(INT((N20-43241)/7),3)+1,IF(MOD(N20-43224,42)=0,"","Nuit"),"Après-midi","Matin"),"") | R20: 43235 | T20: =IF(MONTH(R20)=MONTH(R$5),1+INT(MIN(MOD(R20-DATE(YEAR(R20)+{-1;0;1},1,5)+WEEKDAY(DATE(YEAR(R20)+{-1;0;1},1,3)),734))/7),"") -> 20 | U20: =IF(WEEKDAY(R20,2)<6,CHOOSE(MOD(INT((R20-43241)/7),3)+1,IF(MOD(R20-43224,42)=0,"","Nuit"),"Après-midi","Matin"),"") -> Matin | V20: 43266 | X20: =IF(MONTH(V20)=MONTH(V$5),1+INT(MIN(MOD(V20-DATE(YEAR(V20)+{-1;0;1},1,5)+WEEKDAY(DATE(YEAR(V20)+{-1;0;1},1,3)),734))/7),"") -> 24 | Y20: =IF(WEEKDAY(V20,2)<6,CHOOSE(MOD(INT((V20-43241)/7),3)+1,IF(MOD(V20-43224,42)=0,"","Nuit"),"Après-midi","Matin"),"")
B21: 43116 | D21: =IF(MONTH(B21)=MONTH(B$5),1+INT(MIN(MOD(B21-DATE(YEAR(B21)+{-1;0;1},1,5)+WEEKDAY(DATE(YEAR(B21)+{-1;0;1},1,3)),734))/7),"") -> 3 | E21: =IF(WEEKDAY(B21,2)<6,CHOOSE(MOD(INT((B21-43241)/7),3)+1,IF(MOD(B21-43224,42)=0,"","Nuit"),"Après-midi","Matin"),"") -> Nuit | F21: 43147 | H21: =IF(MONTH(F21)=MONTH(F$5),1+INT(MIN(MOD(F21-DATE(YEAR(F21)+{-1;0;1},1,5)+WEEKDAY(DATE(YEAR(F21)+{-1;0;1},1,3)),734))/7),"") -> 7 | I21: =IF(WEEKDAY(F21,2)<6,CHOOSE(MOD(INT((F21-43241)/7),3)+1,IF(MOD(F21-43224,42)=0,"","Nuit"),"Après-midi","Matin"),"") -> Après-midi | J21: 43175 | L21: =IF(MONTH(J21)=MONTH(J$5),1+INT(MIN(MOD(J21-DATE(YEAR(J21)+{-1;0;1},1,5)+WEEKDAY(DATE(YEAR(J21)+{-1;0;1},1,3)),734))/7),"") -> 11 | M21: =IF(WEEKDAY(J21,2)<6,CHOOSE(MOD(INT((J21-43241)/7),3)+1,IF(MOD(J21-43224,42)=0,"","Nuit"),"Après-midi","Matin"),"") -> Matin | N21: 43206 | P21: =IF(MONTH(N21)=MONTH(N$5),1+INT(MIN(MOD(N21-DATE(YEAR(N21)+{-1;0;1},1,5)+WEEKDAY(DATE(YEAR(N21)+{-1;0;1},1,3)),734))/7),"") -> 16 | Q21: =IF(WEEKDAY(N21,2)<6,CHOOSE(MOD(INT((N21-43241)/7),3)+1,IF(MOD(N21-43224,42)=0,"","Nuit"),"Après-midi","Matin"),"") -> Après-midi | R21: 43236 | T21: =IF(MONTH(R21)=MONTH(R$5),1+INT(MIN(MOD(R21-DATE(YEAR(R21)+{-1;0;1},1,5)+WEEKDAY(DATE(YEAR(R21)+{-1;0;1},1,3)),734))/7),"") -> 20 | U21: =IF(WEEKDAY(R21,2)<6,CHOOSE(MOD(INT((R21-43241)/7),3)+1,IF(MOD(R21-43224,42)=0,"","Nuit"),"Après-midi","Matin"),"") -> Matin | V21: 43267 | X21: =IF(MONTH(V21)=MONTH(V$5),1+INT(MIN(MOD(V21-DATE(YEAR(V21)+{-1;0;1},1,5)+WEEKDAY(DATE(YEAR(V21)+{-1;0;1},1,3)),734))/7),"") -> 24 | Y21: =IF(WEEKDAY(V21,2)<6,CHOOSE(MOD(INT((V21-43241)/7),3)+1,IF(MOD(V21-43224,42)=0,"","Nuit"),"Après-midi","Matin"),"")
B22: 43117 | D22: =IF(MONTH(B22)=MONTH(B$5),1+INT(MIN(MOD(B22-DATE(YEAR(B22)+{-1;0;1},1,5)+WEEKDAY(DATE(YEAR(B22)+{-1;0;1},1,3)),734))/7),"") -> 3 | E22: =IF(WEEKDAY(B22,2)<6,CHOOSE(MOD(INT((B22-43241)/7),3)+1,IF(MOD(B22-43224,42)=0,"","Nuit"),"Après-midi","Matin"),"") -> Nuit | F22: 43148 | H22: =IF(MONTH(F22)=MONTH(F$5),1+INT(MIN(MOD(F22-DATE(YEAR(F22)+{-1;0;1},1,5)+WEEKDAY(DATE(YEAR(F22)+{-1;0;1},1,3)),734))/7),"") -> 7 | I22: =IF(WEEKDAY(F22,2)<6,CHOOSE(MOD(INT((F22-43241)/7),3)+1,IF(MOD(F22-43224,42)=0,"","Nuit"),"Après-midi","Matin"),"") | J22: 43176 | L22: =IF(MONTH(J22)=MONTH(J$5),1+INT(MIN(MOD(J22-DATE(YEAR(J22)+{-1;0;1},1,5)+WEEKDAY(DATE(YEAR(J22)+{-1;0;1},1,3)),734))/7),"") -> 11 | M22: =IF(WEEKDAY(J22,2)<6,CHOOSE(MOD(INT((J22-43241)/7),3)+1,IF(MOD(J22-43224,42)=0,"","Nuit"),"Après-midi","Matin"),"") | N22: 43207 | P22: =IF(MONTH(N22)=MONTH(N$5),1+INT(MIN(MOD(N22-DATE(YEAR(N22)+{-1;0;1},1,5)+WEEKDAY(DATE(YEAR(N22)+{-1;0;1},1,3)),734))/7),"") -> 16 | Q22: =IF(WEEKDAY(N22,2)<6,CHOOSE(MOD(INT((N22-43241)/7),3)+1,IF(MOD(N22-43224,42)=0,"","Nuit"),"Après-midi","Matin"),"") -> Après-midi | R22: 43237 | T22: =IF(MONTH(R22)=MONTH(R$5),1+INT(MIN(MOD(R22-DATE(YEAR(R22)+{-1;0;1},1,5)+WEEKDAY(DATE(YEAR(R22)+{-1;0;1},1,3)),734))/7),"") -> 20 | U22: =IF(WEEKDAY(R22,2)<6,CHOOSE(MOD(INT((R22-43241)/7),3)+1,IF(MOD(R22-43224,42)=0,"","Nuit"),"Après-midi","Matin"),"") -> Matin | V22: 43268 | X22: =IF(MONTH(V22)=MONTH(V$5),1+INT(MIN(MOD(V22-DATE(YEAR(V22)+{-1;0;1},1,5)+WEEKDAY(DATE(YEAR(V22)+{-1;0;1},1,3)),734))/7),"") -> 24 | Y22: =IF(WEEKDAY(V22,2)<6,CHOOSE(MOD(INT((V22-43241)/7),3)+1,IF(MOD(V22-43224,42)=0,"","Nuit"),"Après-midi","Matin"),"")
B23: 43118 | D23: =IF(MONTH(B23)=MONTH(B$5),1+INT(MIN(MOD(B23-DATE(YEAR(B23)+{-1;0;1},1,5)+WEEKDAY(DATE(YEAR(B23)+{-1;0;1},1,3)),734))/7),"") -> 3 | E23: =IF(WEEKDAY(B23,2)<6,CHOOSE(MOD(INT((B23-43241)/7),3)+1,IF(MOD(B23-43224,42)=0,"","Nuit"),"Après-midi","Matin"),"") -> Nuit | F23: 43149 | H23: =IF(MONTH(F23)=MONTH(F$5),1+INT(MIN(MOD(F23-DATE(YEAR(F23)+{-1;0;1},1,5)+WEEKDAY(DATE(YEAR(F23)+{-1;0;1},1,3)),734))/7),"") -> 7 | I23: =IF(WEEKDAY(F23,2)<6,CHOOSE(MOD(INT((F23-43241)/7),3)+1,IF(MOD(F23-43224,42)=0,"","Nuit"),"Après-midi","Matin"),"") | J23: 43177 | L23: =IF(MONTH(J23)=MONTH(J$5),1+INT(MIN(MOD(J23-DATE(YEAR(J23)+{-1;0;1},1,5)+WEEKDAY(DATE(YEAR(J23)+{-1;0;1},1,3)),734))/7),"") -> 11 | M23: =IF(WEEKDAY(J23,2)<6,CHOOSE(MOD(INT((J23-43241)/7),3)+1,IF(MOD(J23-43224,42)=0,"","Nuit"),"Après-midi","Matin"),"") | N23: 43208 | P23: =IF(MONTH(N23)=MONTH(N$5),1+INT(MIN(MOD(N23-DATE(YEAR(N23)+{-1;0;1},1,5)+WEEKDAY(DATE(YEAR(N23)+{-1;0;1},1,3)),734))/7),"") -> 16 | Q23: =IF(WEEKDAY(N23,2)<6,CHOOSE(MOD(INT((N23-43241)/7),3)+1,IF(MOD(N23-43224,42)=0,"","Nuit"),"Après-midi","Matin"),"") -> Après-midi | R23: 43238 | T23: =IF(MONTH(R23)=MONTH(R$5),1+INT(MIN(MOD(R23-DATE(YEAR(R23)+{-1;0;1},1,5)+WEEKDAY(DATE(YEAR(R23)+{-1;0;1},1,3)),734))/7),"") -> 20 | U23: =IF(WEEKDAY(R23,2)<6,CHOOSE(MOD(INT((R23-43241)/7),3)+1,IF(MOD(R23-43224,42)=0,"","Nuit"),"Après-midi","Matin"),"") -> Matin | V23: 43269 | X23: =IF(MONTH(V23)=MONTH(V$5),1+INT(MIN(MOD(V23-DATE(YEAR(V23)+{-1;0;1},1,5)+WEEKDAY(DATE(YEAR(V23)+{-1;0;1},1,3)),734))/7),"") -> 25 | Y23: =IF(WEEKDAY(V23,2)<6,CHOOSE(MOD(INT((V23-43241)/7),3)+1,IF(MOD(V23-43224,42)=0,"","Nuit"),"Après-midi","Matin"),"") -> Après-midi
B24: 43119 | D24: =IF(MONTH(B24)=MONTH(B$5),1+INT(MIN(MOD(B24-DATE(YEAR(B24)+{-1;0;1},1,5)+WEEKDAY(DATE(YEAR(B24)+{-1;0;1},1,3)),734))/7),"") -> 3 | E24: =IF(WEEKDAY(B24,2)<6,CHOOSE(MOD(INT((B24-43241)/7),3)+1,IF(MOD(B24-43224,42)=0,"","Nuit"),"Après-midi","Matin"),"") -> Nuit | F24: 43150 | H24: =IF(MONTH(F24)=MONTH(F$5),1+INT(MIN(MOD(F24-DATE(YEAR(F24)+{-1;0;1},1,5)+WEEKDAY(DATE(YEAR(F24)+{-1;0;1},1,3)),734))/7),"") -> 8 | I24: =IF(WEEKDAY(F24,2)<6,CHOOSE(MOD(INT((F24-43241)/7),3)+1,IF(MOD(F24-43224,42)=0,"","Nuit"),"Après-midi","Matin"),"") -> Matin | J24: 43178 | L24: =IF(MONTH(J24)=MONTH(J$5),1+INT(MIN(MOD(J24-DATE(YEAR(J24)+{-1;0;1},1,5)+WEEKDAY(DATE(YEAR(J24)+{-1;0;1},1,3)),734))/7),"") -> 12 | M24: =IF(WEEKDAY(J24,2)<6,CHOOSE(MOD(INT((J24-43241)/7),3)+1,IF(MOD(J24-43224,42)=0,"","Nuit"),"Après-midi","Matin"),"") -> Nuit | N24: 43209 | P24: =IF(MONTH(N24)=MONTH(N$5),1+INT(MIN(MOD(N24-DATE(YEAR(N24)+{-1;0;1},1,5)+WEEKDAY(DATE(YEAR(N24)+{-1;0;1},1,3)),734))/7),"") -> 16 | Q24: =IF(WEEKDAY(N24,2)<6,CHOOSE(MOD(INT((N24-43241)/7),3)+1,IF(MOD(N24-43224,42)=0,"","Nuit"),"Après-midi","Matin"),"") -> Après-midi | R24: 43239 | T24: =IF(MONTH(R24)=MONTH(R$5),1+INT(MIN(MOD(R24-DATE(YEAR(R24)+{-1;0;1},1,5)+WEEKDAY(DATE(YEAR(R24)+{-1;0;1},1,3)),734))/7),"") -> 20 | U24: =IF(WEEKDAY(R24,2)<6,CHOOSE(MOD(INT((R24-43241)/7),3)+1,IF(MOD(R24-43224,42)=0,"","Nuit"),"Après-midi","Matin"),"") | V24: 43270 | X24: =IF(MONTH(V24)=MONTH(V$5),1+INT(MIN(MOD(V24-DATE(YEAR(V24)+{-1;0;1},1,5)+WEEKDAY(DATE(YEAR(V24)+{-1;0;1},1,3)),734))/7),"") -> 25 | Y24: =IF(WEEKDAY(V24,2)<6,CHOOSE(MOD(INT((V24-43241)/7),3)+1,IF(MOD(V24-43224,42)=0,"","Nuit"),"Après-midi","Matin"),"") -> Après-midi
B25: 43120 | D25: =IF(MONTH(B25)=MONTH(B$5),1+INT(MIN(MOD(B25-DATE(YEAR(B25)+{-1;0;1},1,5)+WEEKDAY(DATE(YEAR(B25)+{-1;0;1},1,3)),734))/7),"") -> 3 | E25: =IF(WEEKDAY(B25,2)<6,CHOOSE(MOD(INT((B25-43241)/7),3)+1,IF(MOD(B25-43224,42)=0,"","Nuit"),"Après-midi","Matin"),"") | F25: 43151 | H25: =IF(MONTH(F25)=MONTH(F$5),1+INT(MIN(MOD(F25-DATE(YEAR(F25)+{-1;0;1},1,5)+WEEKDAY(DATE(YEAR(F25)+{-1;0;1},1,3)),734))/7),"") -> 8 | I25: =IF(WEEKDAY(F25,2)<6,CHOOSE(MOD(INT((F25-43241)/7),3)+1,IF(MOD(F25-43224,42)=0,"","Nuit"),"Après-midi","Matin"),"") -> Matin | J25: 43179 | L25: =IF(MONTH(J25)=MONTH(J$5),1+INT(MIN(MOD(J25-DATE(YEAR(J25)+{-1;0;1},1,5)+WEEKDAY(DATE(YEAR(J25)+{-1;0;1},1,3)),734))/7),"") -> 12 | M25: =IF(WEEKDAY(J25,2)<6,CHOOSE(MOD(INT((J25-43241)/7),3)+1,IF(MOD(J25-43224,42)=0,"","Nuit"),"Après-midi","Matin"),"") -> Nuit | N25: 43210 | P25: =IF(MONTH(N25)=MONTH(N$5),1+INT(MIN(MOD(N25-DATE(YEAR(N25)+{-1;0;1},1,5)+WEEKDAY(DATE(YEAR(N25)+{-1;0;1},1,3)),734))/7),"") -> 16 | Q25: =IF(WEEKDAY(N25,2)<6,CHOOSE(MOD(INT((N25-43241)/7),3)+1,IF(MOD(N25-43224,42)=0,"","Nuit"),"Après-midi","Matin"),"") -> Après-midi | R25: 43240 | T25: =IF(MONTH(R25)=MONTH(R$5),1+INT(MIN(MOD(R25-DATE(YEAR(R25)+{-1;0;1},1,5)+WEEKDAY(DATE(YEAR(R25)+{-1;0;1},1,3)),734))/7),"") -> 20 | U25: =IF(WEEKDAY(R25,2)<6,CHOOSE(MOD(INT((R25-43241)/7),3)+1,IF(MOD(R25-43224,42)=0,"","Nuit"),"Après-midi","Matin"),"") | V25: 43271 | X25: =IF(MONTH(V25)=MONTH(V$5),1+INT(MIN(MOD(V25-DATE(YEAR(V25)+{-1;0;1},1,5)+WEEKDAY(DATE(YEAR(V25)+{-1;0;1},1,3)),734))/7),"") -> 25 | Y25: =IF(WEEKDAY(V25,2)<6,CHOOSE(MOD(INT((V25-43241)/7),3)+1,IF(MOD(V25-43224,42)=0,"","Nuit"),"Après-midi","Matin"),"") -> Après-midi
B26: 43121 | D26: =IF(MONTH(B26)=MONTH(B$5),1+INT(MIN(MOD(B26-DATE(YEAR(B26)+{-1;0;1},1,5)+WEEKDAY(DATE(YEAR(B26)+{-1;0;1},1,3)),734))/7),"") -> 3 | E26: =IF(WEEKDAY(B26,2)<6,CHOOSE(MOD(INT((B26-43241)/7),3)+1,IF(MOD(B26-43224,42)=0,"","Nuit"),"Après-midi","Matin"),"") | F26: 43152 | H26: =IF(MONTH(F26)=MONTH(F$5),1+INT(MIN(MOD(F26-DATE(YEAR(F26)+{-1;0;1},1,5)+WEEKDAY(DATE(YEAR(F26)+{-1;0;1},1,3)),734))/7),"") -> 8 | I26: =IF(WEEKDAY(F26,2)<6,CHOOSE(MOD(INT((F26-43241)/7),3)+1,IF(MOD(F26-43224,42)=0,"","Nuit"),"Après-midi","Matin"),"") -> Matin | J26: 43180 | L26: =IF(MONTH(J26)=MONTH(J$5),1+INT(MIN(MOD(J26-DATE(YEAR(J26)+{-1;0;1},1,5)+WEEKDAY(DATE(YEAR(J26)+{-1;0;1},1,3)),734))/7),"") -> 12 | M26: =IF(WEEKDAY(J26,2)<6,CHOOSE(MOD(INT((J26-43241)/7),3)+1,IF(MOD(J26-43224,42)=0,"","Nuit"),"Après-midi","Matin"),"") -> Nuit | N26: 43211 | P26: =IF(MONTH(N26)=MONTH(N$5),1+INT(MIN(MOD(N26-DATE(YEAR(N26)+{-1;0;1},1,5)+WEEKDAY(DATE(YEAR(N26)+{-1;0;1},1,3)),734))/7),"") -> 16 | Q26: =IF(WEEKDAY(N26,2)<6,CHOOSE(MOD(INT((N26-43241)/7),3)+1,IF(MOD(N26-43224,42)=0,"","Nuit"),"Après-midi","Matin"),"") | R26: 43241 | S26: Pentecôte | T26: =IF(MONTH(R26)=MONTH(R$5),1+INT(MIN(MOD(R26-DATE(YEAR(R26)+{-1;0;1},1,5)+WEEKDAY(DATE(YEAR(R26)+{-1;0;1},1,3)),734))/7),"") -> 21 | U26: =IF(WEEKDAY(R26,2)<6,CHOOSE(MOD(INT((R26-43241)/7),3)+1,IF(MOD(R26-43224,42)=0,"","Nuit"),"Après-midi","Matin"),"") -> Nuit | V26: 43272 | X26: =IF(MONTH(V26)=MONTH(V$5),1+INT(MIN(MOD(V26-DATE(YEAR(V26)+{-1;0;1},1,5)+WEEKDAY(DATE(YEAR(V26)+{-1;0;1},1,3)),734))/7),"") -> 25 | Y26: =IF(WEEKDAY(V26,2)<6,CHOOSE(MOD(INT((V26-43241)/7),3)+1,IF(MOD(V26-43224,42)=0,"","Nuit"),"Après-midi","Matin"),"") -> Après-midi
B27: 43122 | D27: =IF(MONTH(B27)=MONTH(B$5),1+INT(MIN(MOD(B27-DATE(YEAR(B27)+{-1;0;1},1,5)+WEEKDAY(DATE(YEAR(B27)+{-1;0;1},1,3)),734))/7),"") -> 4 | E27: =IF(WEEKDAY(B27,2)<6,CHOOSE(MOD(INT((B27-43241)/7),3)+1,IF(MOD(B27-43224,42)=0,"","Nuit"),"Après-midi","Matin"),"") -> Après-midi | F27: 43153 | H27: =IF(MONTH(F27)=MONTH(F$5),1+INT(MIN(MOD(F27-DATE(YEAR(F27)+{-1;0;1},1,5)+WEEKDAY(DATE(YEAR(F27)+{-1;0;1},1,3)),734))/7),"") -> 8 | I27: =IF(WEEKDAY(F27,2)<6,CHOOSE(MOD(INT((F27-43241)/7),3)+1,IF(MOD(F27-43224,42)=0,"","Nuit"),"Après-midi","Matin"),"") -> Matin | J27: 43181 | L27: =IF(MONTH(J27)=MONTH(J$5),1+INT(MIN(MOD(J27-DATE(YEAR(J27)+{-1;0;1},1,5)+WEEKDAY(DATE(YEAR(J27)+{-1;0;1},1,3)),734))/7),"") -> 12 | M27: =IF(WEEKDAY(J27,2)<6,CHOOSE(MOD(INT((J27-43241)/7),3)+1,IF(MOD(J27-43224,42)=0,"","Nuit"),"Après-midi","Matin"),"") -> Nuit | N27: 43212 | P27: =IF(MONTH(N27)=MONTH(N$5),1+INT(MIN(MOD(N27-DATE(YEAR(N27)+{-1;0;1},1,5)+WEEKDAY(DATE(YEAR(N27)+{-1;0;1},1,3)),734))/7),"") -> 16 | Q27: =IF(WEEKDAY(N27,2)<6,CHOOSE(MOD(INT((N27-43241)/7),3)+1,IF(MOD(N27-43224,42)=0,"","Nuit"),"Après-midi","Matin"),"") | R27: 43242 | T27: =IF(MONTH(R27)=MONTH(R$5),1+INT(MIN(MOD(R27-DATE(YEAR(R27)+{-1;0;1},1,5)+WEEKDAY(DATE(YEAR(R27)+{-1;0;1},1,3)),734))/7),"") -> 21 | U27: =IF(WEEKDAY(R27,2)<6,CHOOSE(MOD(INT((R27-43241)/7),3)+1,IF(MOD(R27-43224,42)=0,"","Nuit"),"Après-midi","Matin"),"") -> Nuit | V27: 43273 | X27: =IF(MONTH(V27)=MONTH(V$5),1+INT(MIN(MOD(V27-DATE(YEAR(V27)+{-1;0;1},1,5)+WEEKDAY(DATE(YEAR(V27)+{-1;0;1},1,3)),734))/7),"") -> 25 | Y27: =IF(WEEKDAY(V27,2)<6,CHOOSE(MOD(INT((V27-43241)/7),3)+1,IF(MOD(V27-43224,42)=0,"","Nuit"),"Après-midi","Matin"),"") -> Après-midi
B28: 43123 | D28: =IF(MONTH(B28)=MONTH(B$5),1+INT(MIN(MOD(B28-DATE(YEAR(B28)+{-1;0;1},1,5)+WEEKDAY(DATE(YEAR(B28)+{-1;0;1},1,3)),734))/7),"") -> 4 | E28: =IF(WEEKDAY(B28,2)<6,CHOOSE(MOD(INT((B28-43241)/7),3)+1,IF(MOD(B28-43224,42)=0,"","Nuit"),"Après-midi","Matin"),"") -> Après-midi | F28: 43154 | H28: =IF(MONTH(F28)=MONTH(F$5),1+INT(MIN(MOD(F28-DATE(YEAR(F28)+{-1;0;1},1,5)+WEEKDAY(DATE(YEAR(F28)+{-1;0;1},1,3)),734))/7),"") -> 8 | I28: =IF(WEEKDAY(F28,2)<6,CHOOSE(MOD(INT((F28-43241)/7),3)+1,IF(MOD(F28-43224,42)=0,"","Nuit"),"Après-midi","Matin"),"") -> Matin | J28: 43182 | L28: =IF(MONTH(J28)=MONTH(J$5),1+INT(MIN(MOD(J28-DATE(YEAR(J28)+{-1;0;1},1,5)+WEEKDAY(DATE(YEAR(J28)+{-1;0;1},1,3)),734))/7),"") -> 12 | M28: =IF(WEEKDAY(J28,2)<6,CHOOSE(MOD(INT((J28-43241)/7),3)+1,IF(MOD(J28-43224,42)=0,"","Nuit"),"Après-midi","Matin"),"") | N28: 43213 | P28: =IF(MONTH(N28)=MONTH(N$5),1+INT(MIN(MOD(N28-DATE(YEAR(N28)+{-1;0;1},1,5)+WEEKDAY(DATE(YEAR(N28)+{-1;0;1},1,3)),734))/7),"") -> 17 | Q28: =IF(WEEKDAY(N28,2)<6,CHOOSE(MOD(INT((N28-43241)/7),3)+1,IF(MOD(N28-43224,42)=0,"","Nuit"),"Après-midi","Matin"),"") -> Matin | R28: 43243 | T28: =IF(MONTH(R28)=MONTH(R$5),1+INT(MIN(MOD(R28-DATE(YEAR(R28)+{-1;0;1},1,5)+WEEKDAY(DATE(YEAR(R28)+{-1;0;1},1,3)),734))/7),"") -> 21 | U28: =IF(WEEKDAY(R28,2)<6,CHOOSE(MOD(INT((R28-43241)/7),3)+1,IF(MOD(R28-43224,42)=0,"","Nuit"),"Après-midi","Matin"),"") -> Nuit | V28: 43274 | X28: =IF(MONTH(V28)=MONTH(V$5),1+INT(MIN(MOD(V28-DATE(YEAR(V28)+{-1;0;1},1,5)+WEEKDAY(DATE(YEAR(V28)+{-1;0;1},1,3)),734))/7),"") -> 25 | Y28: =IF(WEEKDAY(V28,2)<6,CHOOSE(MOD(INT((V28-43241)/7),3)+1,IF(MOD(V28-43224,42)=0,"","Nuit"),"Après-midi","Matin"),"")
B29: 43124 | D29: =IF(MONTH(B29)=MONTH(B$5),1+INT(MIN(MOD(B29-DATE(YEAR(B29)+{-1;0;1},1,5)+WEEKDAY(DATE(YEAR(B29)+{-1;0;1},1,3)),734))/7),"") -> 4 | E29: =IF(WEEKDAY(B29,2)<6,CHOOSE(MOD(INT((B29-43241)/7),3)+1,IF(MOD(B29-43224,42)=0,"","Nuit"),"Après-midi","Matin"),"") -> Après-midi | F29: 43155 | H29: =IF(MONTH(F29)=MONTH(F$5),1+INT(MIN(MOD(F29-DATE(YEAR(F29)+{-1;0;1},1,5)+WEEKDAY(DATE(YEAR(F29)+{-1;0;1},1,3)),734))/7),"") -> 8 | I29: =IF(WEEKDAY(F29,2)<6,CHOOSE(MOD(INT((F29-43241)/7),3)+1,IF(MOD(F29-43224,42)=0,"","Nuit"),"Après-midi","Matin"),"") | J29: 43183 | L29: =IF(MONTH(J29)=MONTH(J$5),1+INT(MIN(MOD(J29-DATE(YEAR(J29)+{-1;0;1},1,5)+WEEKDAY(DATE(YEAR(J29)+{-1;0;1},1,3)),734))/7),"") -> 12 | M29: =IF(WEEKDAY(J29,2)<6,CHOOSE(MOD(INT((J29-43241)/7),3)+1,IF(MOD(J29-43224,42)=0,"","Nuit"),"Après-midi","Matin"),"") | N29: 43214 | P29: =IF(MONTH(N29)=MONTH(N$5),1+INT(MIN(MOD(N29-DATE(YEAR(N29)+{-1;0;1},1,5)+WEEKDAY(DATE(YEAR(N29)+{-1;0;1},1,3)),734))/7),"") -> 17 | Q29: =IF(WEEKDAY(N29,2)<6,CHOOSE(MOD(INT((N29-43241)/7),3)+1,IF(MOD(N29-43224,42)=0,"","Nuit"),"Après-midi","Matin"),"") -> Matin | R29: 43244 | T29: =IF(MONTH(R29)=MONTH(R$5),1+INT(MIN(MOD(R29-DATE(YEAR(R29)+{-1;0;1},1,5)+WEEKDAY(DATE(YEAR(R29)+{-1;0;1},1,3)),734))/7),"") -> 21 | U29: =IF(WEEKDAY(R29,2)<6,CHOOSE(MOD(INT((R29-43241)/7),3)+1,IF(MOD(R29-43224,42)=0,"","Nuit"),"Après-midi","Matin"),"") -> Nuit | V29: 43275 | X29: =IF(MONTH(V29)=MONTH(V$5),1+INT(MIN(MOD(V29-DATE(YEAR(V29)+{-1;0;1},1,5)+WEEKDAY(DATE(YEAR(V29)+{-1;0;1},1,3)),734))/7),"") -> 25 | Y29: =IF(WEEKDAY(V29,2)<6,CHOOSE(MOD(INT((V29-43241)/7),3)+1,IF(MOD(V29-43224,42)=0,"","Nuit"),"Après-midi","Matin"),"")
B30: 43125 | D30: =IF(MONTH(B30)=MONTH(B$5),1+INT(MIN(MOD(B30-DATE(YEAR(B30)+{-1;0;1},1,5)+WEEKDAY(DATE(YEAR(B30)+{-1;0;1},1,3)),734))/7),"") -> 4 | E30: =IF(WEEKDAY(B30,2)<6,CHOOSE(MOD(INT((B30-43241)/7),3)+1,IF(MOD(B30-43224,42)=0,"","Nuit"),"Après-midi","Matin"),"") -> Après-midi | F30: 43156 | H30: =IF(MONTH(F30)=MONTH(F$5),1+INT(MIN(MOD(F30-DATE(YEAR(F30)+{-1;0;1},1,5)+WEEKDAY(DATE(YEAR(F30)+{-1;0;1},1,3)),734))/7),"") -> 8 | I30: =IF(WEEKDAY(F30,2)<6,CHOOSE(MOD(INT((F30-43241)/7),3)+1,IF(MOD(F30-43224,42)=0,"","Nuit"),"Après-midi","Matin"),"") | J30: 43184 | L30: =IF(MONTH(J30)=MONTH(J$5),1+INT(MIN(MOD(J30-DATE(YEAR(J30)+{-1;0;1},1,5)+WEEKDAY(DATE(YEAR(J30)+{-1;0;1},1,3)),734))/7),"") -> 12 | M30: =IF(WEEKDAY(J30,2)<6,CHOOSE(MOD(INT((J30-43241)/7),3)+1,IF(MOD(J30-43224,42)=0,"","Nuit"),"Après-midi","Matin"),"") | N30: 43215 | P30: =IF(MONTH(N30)=MONTH(N$5),1+INT(MIN(MOD(N30-DATE(YEAR(N30)+{-1;0;1},1,5)+WEEKDAY(DATE(YEAR(N30)+{-1;0;1},1,3)),734))/7),"") -> 17 | Q30: =IF(WEEKDAY(N30,2)<6,CHOOSE(MOD(INT((N30-43241)/7),3)+1,IF(MOD(N30-43224,42)=0,"","Nuit"),"Après-midi","Matin"),"") -> Matin | R30: 43245 | T30: =IF(MONTH(R30)=MONTH(R$5),1+INT(MIN(MOD(R30-DATE(YEAR(R30)+{-1;0;1},1,5)+WEEKDAY(DATE(YEAR(R30)+{-1;0;1},1,3)),734))/7),"") -> 21 | U30: =IF(WEEKDAY(R30,2)<6,CHOOSE(MOD(INT((R30-43241)/7),3)+1,IF(MOD(R30-43224,42)=0,"","Nuit"),"Après-midi","Matin"),"") -> Nuit | V30: 43276 | X30: =IF(MONTH(V30)=MONTH(V$5),1+INT(MIN(MOD(V30-DATE(YEAR(V30)+{-1;0;1},1,5)+WEEKDAY(DATE(YEAR(V30)+{-1;0;1},1,3)),734))/7),"") -> 26 | Y30: =IF(WEEKDAY(V30,2)<6,CHOOSE(MOD(INT((V30-43241)/7),3)+1,IF(MOD(V30-43224,42)=0,"","Nuit"),"Après-midi","Matin"),"") -> Matin
B31: 43126 | D31: =IF(MONTH(B31)=MONTH(B$5),1+INT(MIN(MOD(B31-DATE(YEAR(B31)+{-1;0;1},1,5)+WEEKDAY(DATE(YEAR(B31)+{-1;0;1},1,3)),734))/7),"") -> 4 | E31: =IF(WEEKDAY(B31,2)<6,CHOOSE(MOD(INT((B31-43241)/7),3)+1,IF(MOD(B31-43224,42)=0,"","Nuit"),"Après-midi","Matin"),"") -> Après-midi | F31: 43157 | H31: =IF(MONTH(F31)=MONTH(F$5),1+INT(MIN(MOD(F31-DATE(YEAR(F31)+{-1;0;1},1,5)+WEEKDAY(DATE(YEAR(F31)+{-1;0;1},1,3)),734))/7),"") -> 9 | I31: =IF(WEEKDAY(F31,2)<6,CHOOSE(MOD(INT((F31-43241)/7),3)+1,IF(MOD(F31-43224,42)=0,"","Nuit"),"Après-midi","Matin"),"") -> Nuit | J31: 43185 | L31: =IF(MONTH(J31)=MONTH(J$5),1+INT(MIN(MOD(J31-DATE(YEAR(J31)+{-1;0;1},1,5)+WEEKDAY(DATE(YEAR(J31)+{-1;0;1},1,3)),734))/7),"") -> 13 | M31: =IF(WEEKDAY(J31,2)<6,CHOOSE(MOD(INT((J31-43241)/7),3)+1,IF(MOD(J31-43224,42)=0,"","Nuit"),"Après-midi","Matin"),"") -> Après-midi | N31: 43216 | P31: =IF(MONTH(N31)=MONTH(N$5),1+INT(MIN(MOD(N31-DATE(YEAR(N31)+{-1;0;1},1,5)+WEEKDAY(DATE(YEAR(N31)+{-1;0;1},1,3)),734))/7),"") -> 17 | Q31: =IF(WEEKDAY(N31,2)<6,CHOOSE(MOD(INT((N31-43241)/7),3)+1,IF(MOD(N31-43224,42)=0,"","Nuit"),"Après-midi","Matin"),"") -> Matin | R31: 43246 | T31: =IF(MONTH(R31)=MONTH(R$5),1+INT(MIN(MOD(R31-DATE(YEAR(R31)+{-1;0;1},1,5)+WEEKDAY(DATE(YEAR(R31)+{-1;0;1},1,3)),734))/7),"") -> 21 | U31: =IF(WEEKDAY(R31,2)<6,CHOOSE(MOD(INT((R31-43241)/7),3)+1,IF(MOD(R31-43224,42)=0,"","Nuit"),"Après-midi","Matin"),"") | V31: 43277 | X31: =IF(MONTH(V31)=MONTH(V$5),1+INT(MIN(MOD(V31-DATE(YEAR(V31)+{-1;0;1},1,5)+WEEKDAY(DATE(YEAR(V31)+{-1;0;1},1,3)),734))/7),"") -> 26 | Y31: =IF(WEEKDAY(V31,2)<6,CHOOSE(MOD(INT((V31-43241)/7),3)+1,IF(MOD(V31-43224,42)=0,"","Nuit"),"Après-midi","Matin"),"") -> Matin
B32: 43127 | D32: =IF(MONTH(B32)=MONTH(B$5),1+INT(MIN(MOD(B32-DATE(YEAR(B32)+{-1;0;1},1,5)+WEEKDAY(DATE(YEAR(B32)+{-1;0;1},1,3)),734))/7),"") -> 4 | E32: =IF(WEEKDAY(B32,2)<6,CHOOSE(MOD(INT((B32-43241)/7),3)+1,IF(MOD(B32-43224,42)=0,"","Nuit"),"Après-midi","Matin"),"") | F32: 43158 | H32: =IF(MONTH(F32)=MONTH(F$5),1+INT(MIN(MOD(F32-DATE(YEAR(F32)+{-1;0;1},1,5)+WEEKDAY(DATE(YEAR(F32)+{-1;0;1},1,3)),734))/7),"") -> 9 | I32: =IF(WEEKDAY(F32,2)<6,CHOOSE(MOD(INT((F32-43241)/7),3)+1,IF(MOD(F32-43224,42)=0,"","Nuit"),"Après-midi","Matin"),"") -> Nuit | J32: 43186 | L32: =IF(MONTH(J32)=MONTH(J$5),1+INT(MIN(MOD(J32-DATE(YEAR(J32)+{-1;0;1},1,5)+WEEKDAY(DATE(YEAR(J32)+{-1;0;1},1,3)),734))/7),"") -> 13 | M32: =IF(WEEKDAY(J32,2)<6,CHOOSE(MOD(INT((J32-43241)/7),3)+1,IF(MOD(J32-43224,42)=0,"","Nuit"),"Après-midi","Matin"),"") -> Après-midi | N32: 43217 | P32: =IF(MONTH(N32)=MONTH(N$5),1+INT(MIN(MOD(N32-DATE(YEAR(N32)+{-1;0;1},1,5)+WEEKDAY(DATE(YEAR(N32)+{-1;0;1},1,3)),734))/7),"") -> 17 | Q32: =IF(WEEKDAY(N32,2)<6,CHOOSE(MOD(INT((N32-43241)/7),3)+1,IF(MOD(N32-43224,42)=0,"","Nuit"),"Après-midi","Matin"),"") -> Matin | R32: 43247 | T32: =IF(MONTH(R32)=MONTH(R$5),1+INT(MIN(MOD(R32-DATE(YEAR(R32)+{-1;0;1},1,5)+WEEKDAY(DATE(YEAR(R32)+{-1;0;1},1,3)),734))/7),"") -> 21 | U32: =IF(WEEKDAY(R32,2)<6,CHOOSE(MOD(INT((R32-43241)/7),3)+1,IF(MOD(R32-43224,42)=0,"","Nuit"),"Après-midi","Matin"),"") | V32: 43278 | X32: =IF(MONTH(V32)=MONTH(V$5),1+INT(MIN(MOD(V32-DATE(YEAR(V32)+{-1;0;1},1,5)+WEEKDAY(DATE(YEAR(V32)+{-1;0;1},1,3)),734))/7),"") -> 26 | Y32: =IF(WEEKDAY(V32,2)<6,CHOOSE(MOD(INT((V32-43241)/7),3)+1,IF(MOD(V32-43224,42)=0,"","Nuit"),"Après-midi","Matin"),"") -> Matin
B33: 43128 | D33: =IF(MONTH(B33)=MONTH(B$5),1+INT(MIN(MOD(B33-DATE(YEAR(B33)+{-1;0;1},1,5)+WEEKDAY(DATE(YEAR(B33)+{-1;0;1},1,3)),734))/7),"") -> 4 | E33: =IF(WEEKDAY(B33,2)<6,CHOOSE(MOD(INT((B33-43241)/7),3)+1,IF(MOD(B33-43224,42)=0,"","Nuit"),"Après-midi","Matin"),"") | F33: 43159 | H33: =IF(MONTH(F33)=MONTH(F$5),1+INT(MIN(MOD(F33-DATE(YEAR(F33)+{-1;0;1},1,5)+WEEKDAY(DATE(YEAR(F33)+{-1;0;1},1,3)),734))/7),"") -> 9 | I33: =IF(WEEKDAY(F33,2)<6,CHOOSE(MOD(INT((F33-43241)/7),3)+1,IF(MOD(F33-43224,42)=0,"","Nuit"),"Après-midi","Matin"),"") -> Nuit | J33: 43187 | L33: =IF(MONTH(J33)=MONTH(J$5),1+INT(MIN(MOD(J33-DATE(YEAR(J33)+{-1;0;1},1,5)+WEEKDAY(DATE(YEAR(J33)+{-1;0;1},1,3)),734))/7),"") -> 13 | M33: =IF(WEEKDAY(J33,2)<6,CHOOSE(MOD(INT((J33-43241)/7),3)+1,IF(MOD(J33-43224,42)=0,"","Nuit"),"Après-midi","Matin"),"") -> Après-midi | N33: 43218 | P33: =IF(MONTH(N33)=MONTH(N$5),1+INT(MIN(MOD(N33-DATE(YEAR(N33)+{-1;0;1},1,5)+WEEKDAY(DATE(YEAR(N33)+{-1;0;1},1,3)),734))/7),"") -> 17 | Q33: =IF(WEEKDAY(N33,2)<6,CHOOSE(MOD(INT((N33-43241)/7),3)+1,IF(MOD(N33-43224,42)=0,"","Nuit"),"Après-midi","Matin"),"") | R33: 43248 | T33: =IF(MONTH(R33)=MONTH(R$5),1+INT(MIN(MOD(R33-DATE(YEAR(R33)+{-1;0;1},1,5)+WEEKDAY(DATE(YEAR(R33)+{-1;0;1},1,3)),734))/7),"") -> 22 | U33: =IF(WEEKDAY(R33,2)<6,CHOOSE(MOD(INT((R33-43241)/7),3)+1,IF(MOD(R33-43224,42)=0,"","Nuit"),"Après-midi","Matin"),"") -> Après-midi | V33: 43279 | X33: =IF(MONTH(V33)=MONTH(V$5),1+INT(MIN(MOD(V33-DATE(YEAR(V33)+{-1;0;1},1,5)+WEEKDAY(DATE(YEAR(V33)+{-1;0;1},1,3)),734))/7),"") -> 26 | Y33: =IF(WEEKDAY(V33,2)<6,CHOOSE(MOD(INT((V33-43241)/7),3)+1,IF(MOD(V33-43224,42)=0,"","Nuit"),"Après-midi","Matin"),"") -> Matin
B34: 43129 | D34: =IF(MONTH(B34)=MONTH(B$5),1+INT(MIN(MOD(B34-DATE(YEAR(B34)+{-1;0;1},1,5)+WEEKDAY(DATE(YEAR(B34)+{-1;0;1},1,3)),734))/7),"") -> 5 | E34: =IF(WEEKDAY(B34,2)<6,CHOOSE(MOD(INT((B34-43241)/7),3)+1,IF(MOD(B34-43224,42)=0,"","Nuit"),"Après-midi","Matin"),"") -> Matin | F34: 43160 | H34: =IF(MONTH(F34)=MONTH(F$5),1+INT(MIN(MOD(F34-DATE(YEAR(F34)+{-1;0;1},1,5)+WEEKDAY(DATE(YEAR(F34)+{-1;0;1},1,3)),734))/7),"") | I34: =IF(WEEKDAY(F34,2)<6,CHOOSE(MOD(INT((F34-43241)/7),3)+1,IF(MOD(F34-43224,42)=0,"","Nuit"),"Après-midi","Matin"),"") -> Nuit | J34: 43188 | L34: =IF(MONTH(J34)=MONTH(J$5),1+INT(MIN(MOD(J34-DATE(YEAR(J34)+{-1;0;1},1,5)+WEEKDAY(DATE(YEAR(J34)+{-1;0;1},1,3)),734))/7),"") -> 13 | M34: =IF(WEEKDAY(J34,2)<6,CHOOSE(MOD(INT((J34-43241)/7),3)+1,IF(MOD(J34-43224,42)=0,"","Nuit"),"Après-midi","Matin"),"") -> Après-midi | N34: 43219 | P34: =IF(MONTH(N34)=MONTH(N$5),1+INT(MIN(MOD(N34-DATE(YEAR(N34)+{-1;0;1},1,5)+WEEKDAY(DATE(YEAR(N34)+{-1;0;1},1,3)),734))/7),"") -> 17 | Q34: =IF(WEEKDAY(N34,2)<6,CHOOSE(MOD(INT((N34-43241)/7),3)+1,IF(MOD(N34-43224,42)=0,"","Nuit"),"Après-midi","Matin"),"") | R34: 43249 | T34: =IF(MONTH(R34)=MONTH(R$5),1+INT(MIN(MOD(R34-DATE(YEAR(R34)+{-1;0;1},1,5)+WEEKDAY(DATE(YEAR(R34)+{-1;0;1},1,3)),734))/7),"") -> 22 | U34: =IF(WEEKDAY(R34,2)<6,CHOOSE(MOD(INT((R34-43241)/7),3)+1,IF(MOD(R34-43224,42)=0,"","Nuit"),"Après-midi","Matin"),"") -> Après-midi | V34: 43280 | X34: =IF(MONTH(V34)=MONTH(V$5),1+INT(MIN(MOD(V34-DATE(YEAR(V34)+{-1;0;1},1,5)+WEEKDAY(DATE(YEAR(V34)+{-1;0;1},1,3)),734))/7),"") -> 26 | Y34: =IF(WEEKDAY(V34,2)<6,CHOOSE(MOD(INT((V34-43241)/7),3)+1,IF(MOD(V34-43224,42)=0,"","Nuit"),"Après-midi","Matin"),"") -> Matin
B35: 43130 | D35: =IF(MONTH(B35)=MONTH(B$5),1+INT(MIN(MOD(B35-DATE(YEAR(B35)+{-1;0;1},1,5)+WEEKDAY(DATE(YEAR(B35)+{-1;0;1},1,3)),734))/7),"") -> 5 | E35: =IF(WEEKDAY(B35,2)<6,CHOOSE(MOD(INT((B35-43241)/7),3)+1,IF(MOD(B35-43224,42)=0,"","Nuit"),"Après-midi","Matin"),"") -> Matin | F35: 43161 | H35: =IF(MONTH(F35)=MONTH(F$5),1+INT(MIN(MOD(F35-DATE(YEAR(F35)+{-1;0;1},1,5)+WEEKDAY(DATE(YEAR(F35)+{-1;0;1},1,3)),734))/7),"") | I35: =IF(WEEKDAY(F35,2)<6,CHOOSE(MOD(INT((F35-43241)/7),3)+1,IF(MOD(F35-43224,42)=0,"","Nuit"),"Après-midi","Matin"),"") -> Nuit | J35: 43189 | L35: =IF(MONTH(J35)=MONTH(J$5),1+INT(MIN(MOD(J35-DATE(YEAR(J35)+{-1;0;1},1,5)+WEEKDAY(DATE(YEAR(J35)+{-1;0;1},1,3)),734))/7),"") -> 13 | M35: =IF(WEEKDAY(J35,2)<6,CHOOSE(MOD(INT((J35-43241)/7),3)+1,IF(MOD(J35-43224,42)=0,"","Nuit"),"Après-midi","Matin"),"") -> Après-midi | N35: 43220 | O35: Pont | P35: =IF(MONTH(N35)=MONTH(N$5),1+INT(MIN(MOD(N35-DATE(YEAR(N35)+{-1;0;1},1,5)+WEEKDAY(DATE(YEAR(N35)+{-1;0;1},1,3)),734))/7),"") -> 18 | Q35: =IF(WEEKDAY(N35,2)<6,CHOOSE(MOD(INT((N35-43241)/7),3)+1,IF(MOD(N35-43224,42)=0,"","Nuit"),"Après-midi","Matin"),"") -> Nuit | R35: 43250 | T35: =IF(MONTH(R35)=MONTH(R$5),1+INT(MIN(MOD(R35-DATE(YEAR(R35)+{-1;0;1},1,5)+WEEKDAY(DATE(YEAR(R35)+{-1;0;1},1,3)),734))/7),"") -> 22 | U35: =IF(WEEKDAY(R35,2)<6,CHOOSE(MOD(INT((R35-43241)/7),3)+1,IF(MOD(R35-43224,42)=0,"","Nuit"),"Après-midi","Matin"),"") -> Après-midi | V35: 43281 | X35: =IF(MONTH(V35)=MONTH(V$5),1+INT(MIN(MOD(V35-DATE(YEAR(V35)+{-1;0;1},1,5)+WEEKDAY(DATE(YEAR(V35)+{-1;0;1},1,3)),734))/7),"") -> 26 | Y35: =IF(WEEKDAY(V35,2)<6,CHOOSE(MOD(INT((V35-43241)/7),3)+1,IF(MOD(V35-43224,42)=0,"","Nuit"),"Après-midi","Matin"),"")
B36: 43131 | D36: =IF(MONTH(B36)=MONTH(B$5),1+INT(MIN(MOD(B36-DATE(YEAR(B36)+{-1;0;1},1,5)+WEEKDAY(DATE(YEAR(B36)+{-1;0;1},1,3)),734))/7),"") -> 5 | E36: =IF(WEEKDAY(B36,2)<6,CHOOSE(MOD(INT((B36-43241)/7),3)+1,IF(MOD(B36-43224,42)=0,"","Nuit"),"Après-midi","Matin"),"") -> Matin | F36: 43162 | H36: =IF(MONTH(F36)=MONTH(F$5),1+INT(MIN(MOD(F36-DATE(YEAR(F36)+{-1;0;1},1,5)+WEEKDAY(DATE(YEAR(F36)+{-1;0;1},1,3)),734))/7),"") | I36: =IF(WEEKDAY(F36,2)<6,CHOOSE(MOD(INT((F36-43241)/7),3)+1,IF(MOD(F36-43224,42)=0,"","Nuit"),"Après-midi","Matin"),"") | J36: 43190 | L36: =IF(MONTH(J36)=MONTH(J$5),1+INT(MIN(MOD(J36-DATE(YEAR(J36)+{-1;0;1},1,5)+WEEKDAY(DATE(YEAR(J36)+{-1;0;1},1,3)),734))/7),"") -> 13 | M36: =IF(WEEKDAY(J36,2)<6,CHOOSE(MOD(INT((J36-43241)/7),3)+1,IF(MOD(J36-43224,42)=0,"","Nuit"),"Après-midi","Matin"),"") | N36: 43221 | O36: Fête du travail | P36: =IF(MONTH(N36)=MONTH(N$5),1+INT(MIN(MOD(N36-DATE(YEAR(N36)+{-1;0;1},1,5)+WEEKDAY(DATE(YEAR(N36)+{-1;0;1},1,3)),734))/7),"") | Q36: =IF(WEEKDAY(N36,2)<6,CHOOSE(MOD(INT((N36-43241)/7),3)+1,IF(MOD(N36-43224,42)=0,"","Nuit"),"Après-midi","Matin"),"") -> Nuit | R36: 43251 | T36: =IF(MONTH(R36)=MONTH(R$5),1+INT(MIN(MOD(R36-DATE(YEAR(R36)+{-1;0;1},1,5)+WEEKDAY(DATE(YEAR(R36)+{-1;0;1},1,3)),734))/7),"") -> 22 | U36: =IF(WEEKDAY(R36,2)<6,CHOOSE(MOD(INT((R36-43241)/7),3)+1,IF(MOD(R36-43224,42)=0,"","Nuit"),"Après-midi","Matin"),"") -> Après-midi | V36: 43282 | X36: =IF(MONTH(V36)=MONTH(V$5),1+INT(MIN(MOD(V36-DATE(YEAR(V36)+{-1;0;1},1,5)+WEEKDAY(DATE(YEAR(V36)+{-1;0;1},1,3)),734))/7),"") | Y36: =IF(WEEKDAY(V36,2)<6,CHOOSE(MOD(INT((V36-43241)/7),3)+1,IF(MOD(V36-43224,42)=0,"","Nuit"),"Après-midi","Matin"),"")
B40: 7 | F40: 8 | J40: 9 | N40: 10 | R40: 11 | V40: 12
B41: =DATE($F$1,B40,1) -> 43282 | F41: =DATE($F$1,F40,1) -> 43313 | J41: =DATE($F$1,J40,1) -> 43344 | N41: =DATE($F$1,N40,1) -> 43374 | R41: =DATE($F$1,R40,1) -> 43405 | V41: =DATE($F$1,V40,1) -> 43435
B42: {=DATE($F$1,B40,ROW(1:31))} -> 43282 | C42: {=IFERROR(VLOOKUP(B42:B72,JF!$D:$E,2,0),"")&IF(COUNTIF(JF!$G:$G,calend!B42:B72),Pont," ")} | D42: =IF(MONTH(B42)=MONTH(B$41),1+INT(MIN(MOD(B42-DATE(YEAR(B42)+{-1;0;1},1,5)+WEEKDAY(DATE(YEAR(B42)+{-1;0;1},1,3)),734))/7),"") -> 26 | E42: =IF(WEEKDAY(B42,2)<6,CHOOSE(MOD(INT((B42-43241)/7),3)+1,IF(MOD(B42-43224,42)=0,"","Nuit"),"Après-midi","Matin"),"") | F42: {=DATE($F$1,F40,ROW(1:31))} -> 43313 | G42: {=IFERROR(VLOOKUP(F42:F72,JF!$D:$E,2,0),"")&IF(COUNTIF(JF!$G:$G,calend!F42:F72),Pont," ")} | H42: =IF(MONTH(F42)=MONTH(F$41),1+INT(MIN(MOD(F42-DATE(YEAR(F42)+{-1;0;1},1,5)+WEEKDAY(DATE(YEAR(F42)+{-1;0;1},1,3)),734))/7),"") -> 31 | I42: =IF(WEEKDAY(F42,2)<6,CHOOSE(MOD(INT((F42-43241)/7),3)+1,IF(MOD(F42-43224,42)=0,"","Nuit"),"Après-midi","Matin"),"") -> Après-midi | J42: {=DATE($F$1,J40,ROW(1:31))} -> 43344 | K42: {=IFERROR(VLOOKUP(J42:J72,JF!$D:$E,2,0),"")&IF(COUNTIF(JF!$G:$G,calend!J42:J72),Pont," ")} | L42: =IF(MONTH(J42)=MONTH(J$41),1+INT(MIN(MOD(J42-DATE(YEAR(J42)+{-1;0;1},1,5)+WEEKDAY(DATE(YEAR(J42)+{-1;0;1},1,3)),734))/7),"") -> 35 | M42: =IF(WEEKDAY(J42,2)<6,CHOOSE(MOD(INT((J42-43241)/7),3)+1,IF(MOD(J42-43224,42)=0,"","Nuit"),"Après-midi","Matin"),"") | N42: {=DATE($F$1,N40,ROW(1:31))} -> 43374 | O42: {=IFERROR(VLOOKUP(N42:N72,JF!$D:$E,2,0),"")&IF(COUNTIF(JF!$G:$G,calend!N42:N72),Pont," ")} | P42: =IF(MONTH(N42)=MONTH(N$41),1+INT(MIN(MOD(N42-DATE(YEAR(N42)+{-1;0;1},1,5)+WEEKDAY(DATE(YEAR(N42)+{-1;0;1},1,3)),734))/7),"") -> 40 | Q42: =IF(WEEKDAY(N42,2)<6,CHOOSE(MOD(INT((N42-43241)/7),3)+1,IF(MOD(N42-43224,42)=0,"","Nuit"),"Après-midi","Matin"),"") -> Après-midi | R42: {=DATE($F$1,R40,ROW(1:31))} -> 43405 | S42: {=IFERROR(VLOOKUP(R42:R72,JF!$D:$E,2,0),"")&IF(COUNTIF(JF!$G:$G,calend!R42:R72),Pont," ")} -> Toussaint | T42: =IF(MONTH(R42)=MONTH(R$41),1+INT(MIN(MOD(R42-DATE(YEAR(R42)+{-1;0;1},1,5)+WEEKDAY(DATE(YEAR(R42)+{-1;0;1},1,3)),734))/7),"") -> 44 | U42: =IF(WEEKDAY(R42,2)<6,CHOOSE(MOD(INT((R42-43241)/7),3)+1,IF(MOD(R42-43224,42)=0,"","Nuit"),"Après-midi","Matin"),"") -> Matin | V42: {=DATE($F$1,V40,ROW(1:31))} -> 43435 | W42: {=IFERROR(VLOOKUP(V42:V72,JF!$D:$E,2,0),"")&IF(COUNTIF(JF!$G:$G,calend!V42:V72),Pont," ")} | X42: =IF(MONTH(V42)=MONTH(V$41),1+INT(MIN(MOD(V42-DATE(YEAR(V42)+{-1;0;1},1,5)+WEEKDAY(DATE(YEAR(V42)+{-1;0;1},1,3)),734))/7),"") -> 48 | Y42: =IF(WEEKDAY(V42,2)<6,CHOOSE(MOD(INT((V42-43241)/7),3)+1,IF(MOD(V42-43224,42)=0,"","Nuit"),"Après-midi","Matin"),"")
B43: 43283 | D43: =IF(MONTH(B43)=MONTH(B$41),1+INT(MIN(MOD(B43-DATE(YEAR(B43)+{-1;0;1},1,5)+WEEKDAY(DATE(YEAR(B43)+{-1;0;1},1,3)),734))/7),"") -> 27 | E43: =IF(WEEKDAY(B43,2)<6,CHOOSE(MOD(INT((B43-43241)/7),3)+1,IF(MOD(B43-43224,42)=0,"","Nuit"),"Après-midi","Matin"),"") -> Nuit | F43: 43314 | H43: =IF(MONTH(F43)=MONTH(F$41),1+INT(MIN(MOD(F43-DATE(YEAR(F43)+{-1;0;1},1,5)+WEEKDAY(DATE(YEAR(F43)+{-1;0;1},1,3)),734))/7),"") -> 31 | I43: =IF(WEEKDAY(F43,2)<6,CHOOSE(MOD(INT((F43-43241)/7),3)+1,IF(MOD(F43-43224,42)=0,"","Nuit"),"Après-midi","Matin"),"") -> Après-midi | J43: 43345 | L43: =IF(MONTH(J43)=MONTH(J$41),1+INT(MIN(MOD(J43-DATE(YEAR(J43)+{-1;0;1},1,5)+WEEKDAY(DATE(YEAR(J43)+{-1;0;1},1,3)),734))/7),"") -> 35 | M43: =IF(WEEKDAY(J43,2)<6,CHOOSE(MOD(INT((J43-43241)/7),3)+1,IF(MOD(J43-43224,42)=0,"","Nuit"),"Après-midi","Matin"),"") | N43: 43375 | P43: =IF(MONTH(N43)=MONTH(N$41),1+INT(MIN(MOD(N43-DATE(YEAR(N43)+{-1;0;1},1,5)+WEEKDAY(DATE(YEAR(N43)+{-1;0;1},1,3)),734))/7),"") -> 40 | Q43: =IF(WEEKDAY(N43,2)<6,CHOOSE(MOD(INT((N43-43241)/7),3)+1,IF(MOD(N43-43224,42)=0,"","Nuit"),"Après-midi","Matin"),"") -> Après-midi | R43: 43406 | S43: Pont | T43: =IF(MONTH(R43)=MONTH(R$41),1+INT(MIN(MOD(R43-DATE(YEAR(R43)+{-1;0;1},1,5)+WEEKDAY(DATE(YEAR(R43)+{-1;0;1},1,3)),734))/7),"") -> 44 | U43: =IF(WEEKDAY(R43,2)<6,CHOOSE(MOD(INT((R43-43241)/7),3)+1,IF(MOD(R43-43224,42)=0,"","Nuit"),"Après-midi","Matin"),"") -> Matin | V43: 43436 | X43: =IF(MONTH(V43)=MONTH(V$41),1+INT(MIN(MOD(V43-DATE(YEAR(V43)+{-1;0;1},1,5)+WEEKDAY(DATE(YEAR(V43)+{-1;0;1},1,3)),734))/7),"") -> 48 | Y43: =IF(WEEKDAY(V43,2)<6,CHOOSE(MOD(INT((V43-43241)/7),3)+1,IF(MOD(V43-43224,42)=0,"","Nuit"),"Après-midi","Matin"),"")
B44: 43284 | D44: =IF(MONTH(B44)=MONTH(B$41),1+INT(MIN(MOD(B44-DATE(YEAR(B44)+{-1;0;1},1,5)+WEEKDAY(DATE(YEAR(B44)+{-1;0;1},1,3)),734))/7),"") -> 27 | E44: =IF(WEEKDAY(B44,2)<6,CHOOSE(MOD(INT((B44-43241)/7),3)+1,IF(MOD(B44-43224,42)=0,"","Nuit"),"Après-midi","Matin"),"") -> Nuit | F44: 43315 | H44: =IF(MONTH(F44)=MONTH(F$41),1+INT(MIN(MOD(F44-DATE(YEAR(F44)+{-1;0;1},1,5)+WEEKDAY(DATE(YEAR(F44)+{-1;0;1},1,3)),734))/7),"") -> 31 | I44: =IF(WEEKDAY(F44,2)<6,CHOOSE(MOD(INT((F44-43241)/7),3)+1,IF(MOD(F44-43224,42)=0,"","Nuit"),"Après-midi","Matin"),"") -> Après-midi | J44: 43346 | L44: =IF(MONTH(J44)=MONTH(J$41),1+INT(MIN(MOD(J44-DATE(YEAR(J44)+{-1;0;1},1,5)+WEEKDAY(DATE(YEAR(J44)+{-1;0;1},1,3)),734))/7),"") -> 36 | M44: =IF(WEEKDAY(J44,2)<6,CHOOSE(MOD(INT((J44-43241)/7),3)+1,IF(MOD(J44-43224,42)=0,"","Nuit"),"Après-midi","Matin"),"") -> Nuit | N44: 43376 | P44: =IF(MONTH(N44)=MONTH(N$41),1+INT(MIN(MOD(N44-DATE(YEAR(N44)+{-1;0;1},1,5)+WEEKDAY(DATE(YEAR(N44)+{-1;0;1},1,3)),734))/7),"") -> 40 | Q44: =IF(WEEKDAY(N44,2)<6,CHOOSE(MOD(INT((N44-43241)/7),3)+1,IF(MOD(N44-43224,42)=0,"","Nuit"),"Après-midi","Matin"),"") -> Après-midi | R44: 43407 | T44: =IF(MONTH(R44)=MONTH(R$41),1+INT(MIN(MOD(R44-DATE(YEAR(R44)+{-1;0;1},1,5)+WEEKDAY(DATE(YEAR(R44)+{-1;0;1},1,3)),734))/7),"") -> 44 | U44: =IF(WEEKDAY(R44,2)<6,CHOOSE(MOD(INT((R44-43241)/7),3)+1,IF(MOD(R44-43224,42)=0,"","Nuit"),"Après-midi","Matin"),"") | V44: 43437 | X44: =IF(MONTH(V44)=MONTH(V$41),1+INT(MIN(MOD(V44-DATE(YEAR(V44)+{-1;0;1},1,5)+WEEKDAY(DATE(YEAR(V44)+{-1;0;1},1,3)),734))/7),"") -> 49 | Y44: =IF(WEEKDAY(V44,2)<6,CHOOSE(MOD(INT((V44-43241)/7),3)+1,IF(MOD(V44-43224,42)=0,"","Nuit"),"Après-midi","Matin"),"") -> Après-midi
B45: 43285 | D45: =IF(MONTH(B45)=MONTH(B$41),1+INT(MIN(MOD(B45-DATE(YEAR(B45)+{-1;0;1},1,5)+WEEKDAY(DATE(YEAR(B45)+{-1;0;1},1,3)),734))/7),"") -> 27 | E45: =IF(WEEKDAY(B45,2)<6,CHOOSE(MOD(INT((B45-43241)/7),3)+1,IF(MOD(B45-43224,42)=0,"","Nuit"),"Après-midi","Matin"),"") -> Nuit | F45: 43316 | H45: =IF(MONTH(F45)=MONTH(F$41),1+INT(MIN(MOD(F45-DATE(YEAR(F45)+{-1;0;1},1,5)+WEEKDAY(DATE(YEAR(F45)+{-1;0;1},1,3)),734))/7),"") -> 31 | I45: =IF(WEEKDAY(F45,2)<6,CHOOSE(MOD(INT((F45-43241)/7),3)+1,IF(MOD(F45-43224,42)=0,"","Nuit"),"Après-midi","Matin"),"") | J45: 43347 | L45: =IF(MONTH(J45)=MONTH(J$41),1+INT(MIN(MOD(J45-DATE(YEAR(J45)+{-1;0;1},1,5)+WEEKDAY(DATE(YEAR(J45)+{-1;0;1},1,3)),734))/7),"") -> 36 | M45: =IF(WEEKDAY(J45,2)<6,CHOOSE(MOD(INT((J45-43241)/7),3)+1,IF(MOD(J45-43224,42)=0,"","Nuit"),"Après-midi","Matin"),"") -> Nuit | N45: 43377 | P45: =IF(MONTH(N45)=MONTH(N$41),1+INT(MIN(MOD(N45-DATE(YEAR(N45)+{-1;0;1},1,5)+WEEKDAY(DATE(YEAR(N45)+{-1;0;1},1,3)),734))/7),"") -> 40 | Q45: =IF(WEEKDAY(N45,2)<6,CHOOSE(MOD(INT((N45-43241)/7),3)+1,IF(MOD(N45-43224,42)=0,"","Nuit"),"Après-midi","Matin"),"") -> Après-midi | R45: 43408 | T45: =IF(MONTH(R45)=MONTH(R$41),1+INT(MIN(MOD(R45-DATE(YEAR(R45)+{-1;0;1},1,5)+WEEKDAY(DATE(YEAR(R45)+{-1;0;1},1,3)),734))/7),"") -> 44 | U45: =IF(WEEKDAY(R45,2)<6,CHOOSE(MOD(INT((R45-43241)/7),3)+1,IF(MOD(R45-43224,42)=0,"","Nuit"),"Après-midi","Matin"),"") | V45: 43438 | X45: =IF(MONTH(V45)=MONTH(V$41),1+INT(MIN(MOD(V45-DATE(YEAR(V45)+{-1;0;1},1,5)+WEEKDAY(DATE(YEAR(V45)+{-1;0;1},1,3)),734))/7),"") -> 49 | Y45: =IF(WEEKDAY(V45,2)<6,CHOOSE(MOD(INT((V45-43241)/7),3)+1,IF(MOD(V45-43224,42)=0,"","Nuit"),"Après-midi","Matin"),"") -> Après-midi
B46: 43286 | D46: =IF(MONTH(B46)=MONTH(B$41),1+INT(MIN(MOD(B46-DATE(YEAR(B46)+{-1;0;1},1,5)+WEEKDAY(DATE(YEAR(B46)+{-1;0;1},1,3)),734))/7),"") -> 27 | E46: =IF(WEEKDAY(B46,2)<6,CHOOSE(MOD(INT((B46-43241)/7),3)+1,IF(MOD(B46-43224,42)=0,"","Nuit"),"Après-midi","Matin"),"") -> Nuit | F46: 43317 | H46: =IF(MONTH(F46)=MONTH(F$41),1+INT(MIN(MOD(F46-DATE(YEAR(F46)+{-1;0;1},1,5)+WEEKDAY(DATE(YEAR(F46)+{-1;0;1},1,3)),734))/7),"") -> 31 | I46: =IF(WEEKDAY(F46,2)<6,CHOOSE(MOD(INT((F46-43241)/7),3)+1,IF(MOD(F46-43224,42)=0,"","Nuit"),"Après-midi","Matin"),"") | J46: 43348 | L46: =IF(MONTH(J46)=MONTH(J$41),1+INT(MIN(MOD(J46-DATE(YEAR(J46)+{-1;0;1},1,5)+WEEKDAY(DATE(YEAR(J46)+{-1;0;1},1,3)),734))/7),"") -> 36 | M46: =IF(WEEKDAY(J46,2)<6,CHOOSE(MOD(INT((J46-43241)/7),3)+1,IF(MOD(J46-43224,42)=0,"","Nuit"),"Après-midi","Matin"),"") -> Nuit | N46: 43378 | P46: =IF(MONTH(N46)=MONTH(N$41),1+INT(MIN(MOD(N46-DATE(YEAR(N46)+{-1;0;1},1,5)+WEEKDAY(DATE(YEAR(N46)+{-1;0;1},1,3)),734))/7),"") -> 40 | Q46: =IF(WEEKDAY(N46,2)<6,CHOOSE(MOD(INT((N46-43241)/7),3)+1,IF(MOD(N46-43224,42)=0,"","Nuit"),"Après-midi","Matin"),"") -> Après-midi | R46: 43409 | T46: =IF(MONTH(R46)=MONTH(R$41),1+INT(MIN(MOD(R46-DATE(YEAR(R46)+{-1;0;1},1,5)+WEEKDAY(DATE(YEAR(R46)+{-1;0;1},1,3)),734))/7),"") -> 45 | U46: =IF(WEEKDAY(R46,2)<6,CHOOSE(MOD(INT((R46-43241)/7),3)+1,IF(MOD(R46-43224,42)=0,"","Nuit"),"Après-midi","Matin"),"") -> Nuit | V46: 43439 | X46: =IF(MONTH(V46)=MONTH(V$41),1+INT(MIN(MOD(V46-DATE(YEAR(V46)+{-1;0;1},1,5)+WEEKDAY(DATE(YEAR(V46)+{-1;0;1},1,3)),734))/7),"") -> 49 | Y46: =IF(WEEKDAY(V46,2)<6,CHOOSE(MOD(INT((V46-43241)/7),3)+1,IF(MOD(V46-43224,42)=0,"","Nuit"),"Après-midi","Matin"),"") -> Après-midi
B47: 43287 | D47: =IF(MONTH(B47)=MONTH(B$41),1+INT(MIN(MOD(B47-DATE(YEAR(B47)+{-1;0;1},1,5)+WEEKDAY(DATE(YEAR(B47)+{-1;0;1},1,3)),734))/7),"") -> 27 | E47: =IF(WEEKDAY(B47,2)<6,CHOOSE(MOD(INT((B47-43241)/7),3)+1,IF(MOD(B47-43224,42)=0,"","Nuit"),"Après-midi","Matin"),"") -> Nuit | F47: 43318 | H47: =IF(MONTH(F47)=MONTH(F$41),1+INT(MIN(MOD(F47-DATE(YEAR(F47)+{-1;0;1},1,5)+WEEKDAY(DATE(YEAR(F47)+{-1;0;1},1,3)),734))/7),"") -> 32 | I47: =IF(WEEKDAY(F47,2)<6,CHOOSE(MOD(INT((F47-43241)/7),3)+1,IF(MOD(F47-43224,42)=0,"","Nuit"),"Après-midi","Matin"),"") -> Matin | J47: 43349 | L47: =IF(MONTH(J47)=MONTH(J$41),1+INT(MIN(MOD(J47-DATE(YEAR(J47)+{-1;0;1},1,5)+WEEKDAY(DATE(YEAR(J47)+{-1;0;1},1,3)),734))/7),"") -> 36 | M47: =IF(WEEKDAY(J47,2)<6,CHOOSE(MOD(INT((J47-43241)/7),3)+1,IF(MOD(J47-43224,42)=0,"","Nuit"),"Après-midi","Matin"),"") -> Nuit | N47: 43379 | P47: =IF(MONTH(N47)=MONTH(N$41),1+INT(MIN(MOD(N47-DATE(YEAR(N47)+{-1;0;1},1,5)+WEEKDAY(DATE(YEAR(N47)+{-1;0;1},1,3)),734))/7),"") -> 40 | Q47: =IF(WEEKDAY(N47,2)<6,CHOOSE(MOD(INT((N47-43241)/7),3)+1,IF(MOD(N47-43224,42)=0,"","Nuit"),"Après-midi","Matin"),"") | R47: 43410 | T47: =IF(MONTH(R47)=MONTH(R$41),1+INT(MIN(MOD(R47-DATE(YEAR(R47)+{-1;0;1},1,5)+WEEKDAY(DATE(YEAR(R47)+{-1;0;1},1,3)),734))/7),"") -> 45 | U47: =IF(WEEKDAY(R47,2)<6,CHOOSE(MOD(INT((R47-43241)/7),3)+1,IF(MOD(R47-43224,42)=0,"","Nuit"),"Après-midi","Matin"),"") -> Nuit | V47: 43440 | X47: =IF(MONTH(V47)=MONTH(V$41),1+INT(MIN(MOD(V47-DATE(YEAR(V47)+{-1;0;1},1,5)+WEEKDAY(DATE(YEAR(V47)+{-1;0;1},1,3)),734))/7),"") -> 49 | Y47: =IF(WEEKDAY(V47,2)<6,CHOOSE(MOD(INT((V47-43241)/7),3)+1,IF(MOD(V47-43224,42)=0,"","Nuit"),"Après-midi","Matin"),"") -> Après-midi
B48: 43288 | D48: =IF(MONTH(B48)=MONTH(B$41),1+INT(MIN(MOD(B48-DATE(YEAR(B48)+{-1;0;1},1,5)+WEEKDAY(DATE(YEAR(B48)+{-1;0;1},1,3)),734))/7),"") -> 27 | E48: =IF(WEEKDAY(B48,2)<6,CHOOSE(MOD(INT((B48-43241)/7),3)+1,IF(MOD(B48-43224,42)=0,"","Nuit"),"Après-midi","Matin"),"") | F48: 43319 | H48: =IF(MONTH(F48)=MONTH(F$41),1+INT(MIN(MOD(F48-DATE(YEAR(F48)+{-1;0;1},1,5)+WEEKDAY(DATE(YEAR(F48)+{-1;0;1},1,3)),734))/7),"") -> 32 | I48: =IF(WEEKDAY(F48,2)<6,CHOOSE(MOD(INT((F48-43241)/7),3)+1,IF(MOD(F48-43224,42)=0,"","Nuit"),"Après-midi","Matin"),"") -> Matin | J48: 43350 | L48: =IF(MONTH(J48)=MONTH(J$41),1+INT(MIN(MOD(J48-DATE(YEAR(J48)+{-1;0;1},1,5)+WEEKDAY(DATE(YEAR(J48)+{-1;0;1},1,3)),734))/7),"") -> 36 | M48: =IF(WEEKDAY(J48,2)<6,CHOOSE(MOD(INT((J48-43241)/7),3)+1,IF(MOD(J48-43224,42)=0,"","Nuit"),"Après-midi","Matin"),"") | N48: 43380 | P48: =IF(MONTH(N48)=MONTH(N$41),1+INT(MIN(MOD(N48-DATE(YEAR(N48)+{-1;0;1},1,5)+WEEKDAY(DATE(YEAR(N48)+{-1;0;1},1,3)),734))/7),"") -> 40 | Q48: =IF(WEEKDAY(N48,2)<6,CHOOSE(MOD(INT((N48-43241)/7),3)+1,IF(MOD(N48-43224,42)=0,"","Nuit"),"Après-midi","Matin"),"") | R48: 43411 | T48: =IF(MONTH(R48)=MONTH(R$41),1+INT(MIN(MOD(R48-DATE(YEAR(R48)+{-1;0;1},1,5)+WEEKDAY(DATE(YEAR(R48)+{-1;0;1},1,3)),734))/7),"") -> 45 | U48: =IF(WEEKDAY(R48,2)<6,CHOOSE(MOD(INT((R48-43241)/7),3)+1,IF(MOD(R48-43224,42)=0,"","Nuit"),"Après-midi","Matin"),"") -> Nuit | V48: 43441 | X48: =IF(MONTH(V48)=MONTH(V$41),1+INT(MIN(MOD(V48-DATE(YEAR(V48)+{-1;0;1},1,5)+WEEKDAY(DATE(YEAR(V48)+{-1;0;1},1,3)),734))/7),"") -> 49 | Y48: =IF(WEEKDAY(V48,2)<6,CHOOSE(MOD(INT((V48-43241)/7),3)+1,IF(MOD(V48-43224,42)=0,"","Nuit"),"Après-midi","Matin"),"") -> Après-midi
B49: 43289 | D49: =IF(MONTH(B49)=MONTH(B$41),1+INT(MIN(MOD(B49-DATE(YEAR(B49)+{-1;0;1},1,5)+WEEKDAY(DATE(YEAR(B49)+{-1;0;1},1,3)),734))/7),"") -> 27 | E49: =IF(WEEKDAY(B49,2)<6,CHOOSE(MOD(INT((B49-43241)/7),3)+1,IF(MOD(B49-43224,42)=0,"","Nuit"),"Après-midi","Matin"),"") | F49: 43320 | H49: =IF(MONTH(F49)=MONTH(F$41),1+INT(MIN(MOD(F49-DATE(YEAR(F49)+{-1;0;1},1,5)+WEEKDAY(DATE(YEAR(F49)+{-1;0;1},1,3)),734))/7),"") -> 32 | I49: =IF(WEEKDAY(F49,2)<6,CHOOSE(MOD(INT((F49-43241)/7),3)+1,IF(MOD(F49-43224,42)=0,"","Nuit"),"Après-midi","Matin"),"") -> Matin | J49: 43351 | L49: =IF(MONTH(J49)=MONTH(J$41),1+INT(MIN(MOD(J49-DATE(YEAR(J49)+{-1;0;1},1,5)+WEEKDAY(DATE(YEAR(J49)+{-1;0;1},1,3)),734))/7),"") -> 36 | M49: =IF(WEEKDAY(J49,2)<6,CHOOSE(MOD(INT((J49-43241)/7),3)+1,IF(MOD(J49-43224,42)=0,"","Nuit"),"Après-midi","Matin"),"") | N49: 43381 | P49: =IF(MONTH(N49)=MONTH(N$41),1+INT(MIN(MOD(N49-DATE(YEAR(N49)+{-1;0;1},1,5)+WEEKDAY(DATE(YEAR(N49)+{-1;0;1},1,3)),734))/7),"") -> 41 | Q49: =IF(WEEKDAY(N49,2)<6,CHOOSE(MOD(INT((N49-43241)/7),3)+1,IF(MOD(N49-43224,42)=0,"","Nuit"),"Après-midi","Matin"),"") -> Matin | R49: 43412 | T49: =IF(MONTH(R49)=MONTH(R$41),1+INT(MIN(MOD(R49-DATE(YEAR(R49)+{-1;0;1},1,5)+WEEKDAY(DATE(YEAR(R49)+{-1;0;1},1,3)),734))/7),"") -> 45 | U49: =IF(WEEKDAY(R49,2)<6,CHOOSE(MOD(INT((R49-43241)/7),3)+1,IF(MOD(R49-43224,42)=0,"","Nuit"),"Après-midi","Matin"),"") -> Nuit | V49: 43442 | X49: =IF(MONTH(V49)=MONTH(V$41),1+INT(MIN(MOD(V49-DATE(YEAR(V49)+{-1;0;1},1,5)+WEEKDAY(DATE(YEAR(V49)+{-1;0;1},1,3)),734))/7),"") -> 49 | Y49: =IF(WEEKDAY(V49,2)<6,CHOOSE(MOD(INT((V49-43241)/7),3)+1,IF(MOD(V49-43224,42)=0,"","Nuit"),"Après-midi","Matin"),"")
B50: 43290 | D50: =IF(MONTH(B50)=MONTH(B$41),1+INT(MIN(MOD(B50-DATE(YEAR(B50)+{-1;0;1},1,5)+WEEKDAY(DATE(YEAR(B50)+{-1;0;1},1,3)),734))/7),"") -> 28 | E50: =IF(WEEKDAY(B50,2)<6,CHOOSE(MOD(INT((B50-43241)/7),3)+1,IF(MOD(B50-43224,42)=0,"","Nuit"),"Après-midi","Matin"),"") -> Après-midi | F50: 43321 | H50: =IF(MONTH(F50)=MONTH(F$41),1+INT(MIN(MOD(F50-DATE(YEAR(F50)+{-1;0;1},1,5)+WEEKDAY(DATE(YEAR(F50)+{-1;0;1},1,3)),734))/7),"") -> 32 | I50: =IF(WEEKDAY(F50,2)<6,CHOOSE(MOD(INT((F50-43241)/7),3)+1,IF(MOD(F50-43224,42)=0,"","Nuit"),"Après-midi","Matin"),"") -> Matin | J50: 43352 | L50: =IF(MONTH(J50)=MONTH(J$41),1+INT(MIN(MOD(J50-DATE(YEAR(J50)+{-1;0;1},1,5)+WEEKDAY(DATE(YEAR(J50)+{-1;0;1},1,3)),734))/7),"") -> 36 | M50: =IF(WEEKDAY(J50,2)<6,CHOOSE(MOD(INT((J50-43241)/7),3)+1,IF(MOD(J50-43224,42)=0,"","Nuit"),"Après-midi","Matin"),"") | N50: 43382 | P50: =IF(MONTH(N50)=MONTH(N$41),1+INT(MIN(MOD(N50-DATE(YEAR(N50)+{-1;0;1},1,5)+WEEKDAY(DATE(YEAR(N50)+{-1;0;1},1,3)),734))/7),"") -> 41 | Q50: =IF(WEEKDAY(N50,2)<6,CHOOSE(MOD(INT((N50-43241)/7),3)+1,IF(MOD(N50-43224,42)=0,"","Nuit"),"Après-midi","Matin"),"") -> Matin | R50: 43413 | T50: =IF(MONTH(R50)=MONTH(R$41),1+INT(MIN(MOD(R50-DATE(YEAR(R50)+{-1;0;1},1,5)+WEEKDAY(DATE(YEAR(R50)+{-1;0;1},1,3)),734))/7),"") -> 45 | U50: =IF(WEEKDAY(R50,2)<6,CHOOSE(MOD(INT((R50-43241)/7),3)+1,IF(MOD(R50-43224,42)=0,"","Nuit"),"Après-midi","Matin"),"") -> Nuit | V50: 43443 | X50: =IF(MONTH(V50)=MONTH(V$41),1+INT(MIN(MOD(V50-DATE(YEAR(V50)+{-1;0;1},1,5)+WEEKDAY(DATE(YEAR(V50)+{-1;0;1},1,3)),734))/7),"") -> 49 | Y50: =IF(WEEKDAY(V50,2)<6,CHOOSE(MOD(INT((V50-43241)/7),3)+1,IF(MOD(V50-43224,42)=0,"","Nuit"),"Après-midi","Matin"),"")
B51: 43291 | D51: =IF(MONTH(B51)=MONTH(B$41),1+INT(MIN(MOD(B51-DATE(YEAR(B51)+{-1;0;1},1,5)+WEEKDAY(DATE(YEAR(B51)+{-1;0;1},1,3)),734))/7),"") -> 28 | E51: =IF(WEEKDAY(B51,2)<6,CHOOSE(MOD(INT((B51-43241)/7),3)+1,IF(MOD(B51-43224,42)=0,"","Nuit"),"Après-midi","Matin"),"") -> Après-midi | F51: 43322 | H51: =IF(MONTH(F51)=MONTH(F$41),1+INT(MIN(MOD(F51-DATE(YEAR(F51)+{-1;0;1},1,5)+WEEKDAY(DATE(YEAR(F51)+{-1;0;1},1,3)),734))/7),"") -> 32 | I51: =IF(WEEKDAY(F51,2)<6,CHOOSE(MOD(INT((F51-43241)/7),3)+1,IF(MOD(F51-43224,42)=0,"","Nuit"),"Après-midi","Matin"),"") -> Matin | J51: 43353 | L51: =IF(MONTH(J51)=MONTH(J$41),1+INT(MIN(MOD(J51-DATE(YEAR(J51)+{-1;0;1},1,5)+WEEKDAY(DATE(YEAR(J51)+{-1;0;1},1,3)),734))/7),"") -> 37 | M51: =IF(WEEKDAY(J51,2)<6,CHOOSE(MOD(INT((J51-43241)/7),3)+1,IF(MOD(J51-43224,42)=0,"","Nuit"),"Après-midi","Matin"),"") -> Après-midi | N51: 43383 | P51: =IF(MONTH(N51)=MONTH(N$41),1+INT(MIN(MOD(N51-DATE(YEAR(N51)+{-1;0;1},1,5)+WEEKDAY(DATE(YEAR(N51)+{-1;0;1},1,3)),734))/7),"") -> 41 | Q51: =IF(WEEKDAY(N51,2)<6,CHOOSE(MOD(INT((N51-43241)/7),3)+1,IF(MOD(N51-43224,42)=0,"","Nuit"),"Après-midi","Matin"),"") -> Matin | R51: 43414 | T51: =IF(MONTH(R51)=MONTH(R$41),1+INT(MIN(MOD(R51-DATE(YEAR(R51)+{-1;0;1},1,5)+WEEKDAY(DATE(YEAR(R51)+{-1;0;1},1,3)),734))/7),"") -> 45 | U51: =IF(WEEKDAY(R51,2)<6,CHOOSE(MOD(INT((R51-43241)/7),3)+1,IF(MOD(R51-43224,42)=0,"","Nuit"),"Après-midi","Matin"),"") | V51: 43444 | X51: =IF(MONTH(V51)=MONTH(V$41),1+INT(MIN(MOD(V51-DATE(YEAR(V51)+{-1;0;1},1,5)+WEEKDAY(DATE(YEAR(V51)+{-1;0;1},1,3)),734))/7),"") -> 50 | Y51: =IF(WEEKDAY(V51,2)<6,CHOOSE(MOD(INT((V51-43241)/7),3)+1,IF(MOD(V51-43224,42)=0,"","Nuit"),"Après-midi","Matin"),"") -> Matin
B52: 43292 | D52: =IF(MONTH(B52)=MONTH(B$41),1+INT(MIN(MOD(B52-DATE(YEAR(B52)+{-1;0;1},1,5)+WEEKDAY(DATE(YEAR(B52)+{-1;0;1},1,3)),734))/7),"") -> 28 | E52: =IF(WEEKDAY(B52,2)<6,CHOOSE(MOD(INT((B52-43241)/7),3)+1,IF(MOD(B52-43224,42)=0,"","Nuit"),"Après-midi","Matin"),"") -> Après-midi | F52: 43323 | H52: =IF(MONTH(F52)=MONTH(F$41),1+INT(MIN(MOD(F52-DATE(YEAR(F52)+{-1;0;1},1,5)+WEEKDAY(DATE(YEAR(F52)+{-1;0;1},1,3)),734))/7),"") -> 32 | I52: =IF(WEEKDAY(F52,2)<6,CHOOSE(MOD(INT((F52-43241)/7),3)+1,IF(MOD(F52-43224,42)=0,"","Nuit"),"Après-midi","Matin"),"") | J52: 43354 | L52: =IF(MONTH(J52)=MONTH(J$41),1+INT(MIN(MOD(J52-DATE(YEAR(J52)+{-1;0;1},1,5)+WEEKDAY(DATE(YEAR(J52)+{-1;0;1},1,3)),734))/7),"") -> 37 | M52: =IF(WEEKDAY(J52,2)<6,CHOOSE(MOD(INT((J52-43241)/7),3)+1,IF(MOD(J52-43224,42)=0,"","Nuit"),"Après-midi","Matin"),"") -> Après-midi | N52: 43384 | P52: =IF(MONTH(N52)=MONTH(N$41),1+INT(MIN(MOD(N52-DATE(YEAR(N52)+{-1;0;1},1,5)+WEEKDAY(DATE(YEAR(N52)+{-1;0;1},1,3)),734))/7),"") -> 41 | Q52: =IF(WEEKDAY(N52,2)<6,CHOOSE(MOD(INT((N52-43241)/7),3)+1,IF(MOD(N52-43224,42)=0,"","Nuit"),"Après-midi","Matin"),"") -> Matin | R52: 43415 | S52: Armistice | T52: =IF(MONTH(R52)=MONTH(R$41),1+INT(MIN(MOD(R52-DATE(YEAR(R52)+{-1;0;1},1,5)+WEEKDAY(DATE(YEAR(R52)+{-1;0;1},1,3)),734))/7),"") -> 45 | U52: =IF(WEEKDAY(R52,2)<6,CHOOSE(MOD(INT((R52-43241)/7),3)+1,IF(MOD(R52-43224,42)=0,"","Nuit"),"Après-midi","Matin"),"") | V52: 43445 | X52: =IF(MONTH(V52)=MONTH(V$41),1+INT(MIN(MOD(V52-DATE(YEAR(V52)+{-1;0;1},1,5)+WEEKDAY(DATE(YEAR(V52)+{-1;0;1},1,3)),734))/7),"") -> 50 | Y52: =IF(WEEKDAY(V52,2)<6,CHOOSE(MOD(INT((V52-43241)/7),3)+1,IF(MOD(V52-43224,42)=0,"","Nuit"),"Après-midi","Matin"),"") -> Matin
B53: 43293 | D53: =IF(MONTH(B53)=MONTH(B$41),1+INT(MIN(MOD(B53-DATE(YEAR(B53)+{-1;0;1},1,5)+WEEKDAY(DATE(YEAR(B53)+{-1;0;1},1,3)),734))/7),"") -> 28 | E53: =IF(WEEKDAY(B53,2)<6,CHOOSE(MOD(INT((B53-43241)/7),3)+1,IF(MOD(B53-43224,42)=0,"","Nuit"),"Après-midi","Matin"),"") -> Après-midi | F53: 43324 | H53: =IF(MONTH(F53)=MONTH(F$41),1+INT(MIN(MOD(F53-DATE(YEAR(F53)+{-1;0;1},1,5)+WEEKDAY(DATE(YEAR(F53)+{-1;0;1},1,3)),734))/7),"") -> 32 | I53: =IF(WEEKDAY(F53,2)<6,CHOOSE(MOD(INT((F53-43241)/7),3)+1,IF(MOD(F53-43224,42)=0,"","Nuit"),"Après-midi","Matin"),"") | J53: 43355 | L53: =IF(MONTH(J53)=MONTH(J$41),1+INT(MIN(MOD(J53-DATE(YEAR(J53)+{-1;0;1},1,5)+WEEKDAY(DATE(YEAR(J53)+{-1;0;1},1,3)),734))/7),"") -> 37 | M53: =IF(WEEKDAY(J53,2)<6,CHOOSE(MOD(INT((J53-43241)/7),3)+1,IF(MOD(J53-43224,42)=0,"","Nuit"),"Après-midi","Matin"),"") -> Après-midi | N53: 43385 | P53: =IF(MONTH(N53)=MONTH(N$41),1+INT(MIN(MOD(N53-DATE(YEAR(N53)+{-1;0;1},1,5)+WEEKDAY(DATE(YEAR(N53)+{-1;0;1},1,3)),734))/7),"") -> 41 | Q53: =IF(WEEKDAY(N53,2)<6,CHOOSE(MOD(INT((N53-43241)/7),3)+1,IF(MOD(N53-43224,42)=0,"","Nuit"),"Après-midi","Matin"),"") -> Matin | R53: 43416 | T53: =IF(MONTH(R53)=MONTH(R$41),1+INT(MIN(MOD(R53-DATE(YEAR(R53)+{-1;0;1},1,5)+WEEKDAY(DATE(YEAR(R53)+{-1;0;1},1,3)),734))/7),"") -> 46 | U53: =IF(WEEKDAY(R53,2)<6,CHOOSE(MOD(INT((R53-43241)/7),3)+1,IF(MOD(R53-43224,42)=0,"","Nuit"),"Après-midi","Matin"),"") -> Après-midi | V53: 43446 | X53: =IF(MONTH(V53)=MONTH(V$41),1+INT(MIN(MOD(V53-DATE(YEAR(V53)+{-1;0;1},1,5)+WEEKDAY(DATE(YEAR(V53)+{-1;0;1},1,3)),734))/7),"") -> 50 | Y53: =IF(WEEKDAY(V53,2)<6,CHOOSE(MOD(INT((V53-43241)/7),3)+1,IF(MOD(V53-43224,42)=0,"","Nuit"),"Après-midi","Matin"),"") -> Matin
B54: 43294 | D54: =IF(MONTH(B54)=MONTH(B$41),1+INT(MIN(MOD(B54-DATE(YEAR(B54)+{-1;0;1},1,5)+WEEKDAY(DATE(YEAR(B54)+{-1;0;1},1,3)),734))/7),"") -> 28 | E54: =IF(WEEKDAY(B54,2)<6,CHOOSE(MOD(INT((B54-43241)/7),3)+1,IF(MOD(B54-43224,42)=0,"","Nuit"),"Après-midi","Matin"),"") -> Après-midi | F54: 43325 | H54: =IF(MONTH(F54)=MONTH(F$41),1+INT(MIN(MOD(F54-DATE(YEAR(F54)+{-1;0;1},1,5)+WEEKDAY(DATE(YEAR(F54)+{-1;0;1},1,3)),734))/7),"") -> 33 | I54: =IF(WEEKDAY(F54,2)<6,CHOOSE(MOD(INT((F54-43241)/7),3)+1,IF(MOD(F54-43224,42)=0,"","Nuit"),"Après-midi","Matin"),"") -> Nuit | J54: 43356 | L54: =IF(MONTH(J54)=MONTH(J$41),1+INT(MIN(MOD(J54-DATE(YEAR(J54)+{-1;0;1},1,5)+WEEKDAY(DATE(YEAR(J54)+{-1;0;1},1,3)),734))/7),"") -> 37 | M54: =IF(WEEKDAY(J54,2)<6,CHOOSE(MOD(INT((J54-43241)/7),3)+1,IF(MOD(J54-43224,42)=0,"","Nuit"),"Après-midi","Matin"),"") -> Après-midi | N54: 43386 | P54: =IF(MONTH(N54)=MONTH(N$41),1+INT(MIN(MOD(N54-DATE(YEAR(N54)+{-1;0;1},1,5)+WEEKDAY(DATE(YEAR(N54)+{-1;0;1},1,3)),734))/7),"") -> 41 | Q54: =IF(WEEKDAY(N54,2)<6,CHOOSE(MOD(INT((N54-43241)/7),3)+1,IF(MOD(N54-43224,42)=0,"","Nuit"),"Après-midi","Matin"),"") | R54: 43417 | T54: =IF(MONTH(R54)=MONTH(R$41),1+INT(MIN(MOD(R54-DATE(YEAR(R54)+{-1;0;1},1,5)+WEEKDAY(DATE(YEAR(R54)+{-1;0;1},1,3)),734))/7),"") -> 46 | U54: =IF(WEEKDAY(R54,2)<6,CHOOSE(MOD(INT((R54-43241)/7),3)+1,IF(MOD(R54-43224,42)=0,"","Nuit"),"Après-midi","Matin"),"") -> Après-midi | V54: 43447 | X54: =IF(MONTH(V54)=MONTH(V$41),1+INT(MIN(MOD(V54-DATE(YEAR(V54)+{-1;0;1},1,5)+WEEKDAY(DATE(YEAR(V54)+{-1;0;1},1,3)),734))/7),"") -> 50 | Y54: =IF(WEEKDAY(V54,2)<6,CHOOSE(MOD(INT((V54-43241)/7),3)+1,IF(MOD(V54-43224,42)=0,"","Nuit"),"Après-midi","Matin"),"") -> Matin
B55: 43295 | C55: Fête nationale | D55: =IF(MONTH(B55)=MONTH(B$41),1+INT(MIN(MOD(B55-DATE(YEAR(B55)+{-1;0;1},1,5)+WEEKDAY(DATE(YEAR(B55)+{-1;0;1},1,3)),734))/7),"") -> 28 | E55: =IF(WEEKDAY(B55,2)<6,CHOOSE(MOD(INT((B55-43241)/7),3)+1,IF(MOD(B55-43224,42)=0,"","Nuit"),"Après-midi","Matin"),"") | F55: 43326 | H55: =IF(MONTH(F55)=MONTH(F$41),1+INT(MIN(MOD(F55-DATE(YEAR(F55)+{-1;0;1},1,5)+WEEKDAY(DATE(YEAR(F55)+{-1;0;1},1,3)),734))/7),"") -> 33 | I55: =IF(WEEKDAY(F55,2)<6,CHOOSE(MOD(INT((F55-43241)/7),3)+1,IF(MOD(F55-43224,42)=0,"","Nuit"),"Après-midi","Matin"),"") -> Nuit | J55: 43357 | L55: =IF(MONTH(J55)=MONTH(J$41),1+INT(MIN(MOD(J55-DATE(YEAR(J55)+{-1;0;1},1,5)+WEEKDAY(DATE(YEAR(J55)+{-1;0;1},1,3)),734))/7),"") -> 37 | M55: =IF(WEEKDAY(J55,2)<6,CHOOSE(MOD(INT((J55-43241)/7),3)+1,IF(MOD(J55-43224,42)=0,"","Nuit"),"Après-midi","Matin"),"") -> Après-midi | N55: 43387 | P55: =IF(MONTH(N55)=MONTH(N$41),1+INT(MIN(MOD(N55-DATE(YEAR(N55)+{-1;0;1},1,5)+WEEKDAY(DATE(YEAR(N55)+{-1;0;1},1,3)),734))/7),"") -> 41 | Q55: =IF(WEEKDAY(N55,2)<6,CHOOSE(MOD(INT((N55-43241)/7),3)+1,IF(MOD(N55-43224,42)=0,"","Nuit"),"Après-midi","Matin"),"") | R55: 43418 | T55: =IF(MONTH(R55)=MONTH(R$41),1+INT(MIN(MOD(R55-DATE(YEAR(R55)+{-1;0;1},1,5)+WEEKDAY(DATE(YEAR(R55)+{-1;0;1},1,3)),734))/7),"") -> 46 | U55: =IF(WEEKDAY(R55,2)<6,CHOOSE(MOD(INT((R55-43241)/7),3)+1,IF(MOD(R55-43224,42)=0,"","Nuit"),"Après-midi","Matin"),"") -> Après-midi | V55: 43448 | X55: =IF(MONTH(V55)=MONTH(V$41),1+INT(MIN(MOD(V55-DATE(YEAR(V55)+{-1;0;1},1,5)+WEEKDAY(DATE(YEAR(V55)+{-1;0;1},1,3)),734))/7),"") -> 50 | Y55: =IF(WEEKDAY(V55,2)<6,CHOOSE(MOD(INT((V55-43241)/7),3)+1,IF(MOD(V55-43224,42)=0,"","Nuit"),"Après-midi","Matin"),"") -> Matin
B56: 43296 | D56: =IF(MONTH(B56)=MONTH(B$41),1+INT(MIN(MOD(B56-DATE(YEAR(B56)+{-1;0;1},1,5)+WEEKDAY(DATE(YEAR(B56)+{-1;0;1},1,3)),734))/7),"") -> 28 | E56: =IF(WEEKDAY(B56,2)<6,CHOOSE(MOD(INT((B56-43241)/7),3)+1,IF(MOD(B56-43224,42)=0,"","Nuit"),"Après-midi","Matin"),"") | F56: 43327 | G56: Assomption | H56: =IF(MONTH(F56)=MONTH(F$41),1+INT(MIN(MOD(F56-DATE(YEAR(F56)+{-1;0;1},1,5)+WEEKDAY(DATE(YEAR(F56)+{-1;0;1},1,3)),734))/7),"") -> 33 | I56: =IF(WEEKDAY(F56,2)<6,CHOOSE(MOD(INT((F56-43241)/7),3)+1,IF(MOD(F56-43224,42)=0,"","Nuit"),"Après-midi","Matin"),"") -> Nuit | J56: 43358 | L56: =IF(MONTH(J56)=MONTH(J$41),1+INT(MIN(MOD(J56-DATE(YEAR(J56)+{-1;0;1},1,5)+WEEKDAY(DATE(YEAR(J56)+{-1;0;1},1,3)),734))/7),"") -> 37 | M56: =IF(WEEKDAY(J56,2)<6,CHOOSE(MOD(INT((J56-43241)/7),3)+1,IF(MOD(J56-43224,42)=0,"","Nuit"),"Après-midi","Matin"),"") | N56: 43388 | P56: =IF(MONTH(N56)=MONTH(N$41),1+INT(MIN(MOD(N56-DATE(YEAR(N56)+{-1;0;1},1,5)+WEEKDAY(DATE(YEAR(N56)+{-1;0;1},1,3)),734))/7),"") -> 42 | Q56: =IF(WEEKDAY(N56,2)<6,CHOOSE(MOD(INT((N56-43241)/7),3)+1,IF(MOD(N56-43224,42)=0,"","Nuit"),"Après-midi","Matin"),"") -> Nuit | R56: 43419 | T56: =IF(MONTH(R56)=MONTH(R$41),1+INT(MIN(MOD(R56-DATE(YEAR(R56)+{-1;0;1},1,5)+WEEKDAY(DATE(YEAR(R56)+{-1;0;1},1,3)),734))/7),"") -> 46 | U56: =IF(WEEKDAY(R56,2)<6,CHOOSE(MOD(INT((R56-43241)/7),3)+1,IF(MOD(R56-43224,42)=0,"","Nuit"),"Après-midi","Matin"),"") -> Après-midi | V56: 43449 | X56: =IF(MONTH(V56)=MONTH(V$41),1+INT(MIN(MOD(V56-DATE(YEAR(V56)+{-1;0;1},1,5)+WEEKDAY(DATE(YEAR(V56)+{-1;0;1},1,3)),734))/7),"") -> 50 | Y56: =IF(WEEKDAY(V56,2)<6,CHOOSE(MOD(INT((V56-43241)/7),3)+1,IF(MOD(V56-43224,42)=0,"","Nuit"),"Après-midi","Matin"),"")
B57: 43297 | D57: =IF(MONTH(B57)=MONTH(B$41),1+INT(MIN(MOD(B57-DATE(YEAR(B57)+{-1;0;1},1,5)+WEEKDAY(DATE(YEAR(B57)+{-1;0;1},1,3)),734))/7),"") -> 29 | E57: =IF(WEEKDAY(B57,2)<6,CHOOSE(MOD(INT((B57-43241)/7),3)+1,IF(MOD(B57-43224,42)=0,"","Nuit"),"Après-midi","Matin"),"") -> Matin | F57: 43328 | H57: =IF(MONTH(F57)=MONTH(F$41),1+INT(MIN(MOD(F57-DATE(YEAR(F57)+{-1;0;1},1,5)+WEEKDAY(DATE(YEAR(F57)+{-1;0;1},1,3)),734))/7),"") -> 33 | I57: =IF(WEEKDAY(F57,2)<6,CHOOSE(MOD(INT((F57-43241)/7),3)+1,IF(MOD(F57-43224,42)=0,"","Nuit"),"Après-midi","Matin"),"") -> Nuit | J57: 43359 | L57: =IF(MONTH(J57)=MONTH(J$41),1+INT(MIN(MOD(J57-DATE(YEAR(J57)+{-1;0;1},1,5)+WEEKDAY(DATE(YEAR(J57)+{-1;0;1},1,3)),734))/7),"") -> 37 | M57: =IF(WEEKDAY(J57,2)<6,CHOOSE(MOD(INT((J57-43241)/7),3)+1,IF(MOD(J57-43224,42)=0,"","Nuit"),"Après-midi","Matin"),"") | N57: 43389 | P57: =IF(MONTH(N57)=MONTH(N$41),1+INT(MIN(MOD(N57-DATE(YEAR(N57)+{-1;0;1},1,5)+WEEKDAY(DATE(YEAR(N57)+{-1;0;1},1,3)),734))/7),"") -> 42 | Q57: =IF(WEEKDAY(N57,2)<6,CHOOSE(MOD(INT((N57-43241)/7),3)+1,IF(MOD(N57-43224,42)=0,"","Nuit"),"Après-midi","Matin"),"") -> Nuit | R57: 43420 | T57: =IF(MONTH(R57)=MONTH(R$41),1+INT(MIN(MOD(R57-DATE(YEAR(R57)+{-1;0;1},1,5)+WEEKDAY(DATE(YEAR(R57)+{-1;0;1},1,3)),734))/7),"") -> 46 | U57: =IF(WEEKDAY(R57,2)<6,CHOOSE(MOD(INT((R57-43241)/7),3)+1,IF(MOD(R57-43224,42)=0,"","Nuit"),"Après-midi","Matin"),"") -> Après-midi | V57: 43450 | X57: =IF(MONTH(V57)=MONTH(V$41),1+INT(MIN(MOD(V57-DATE(YEAR(V57)+{-1;0;1},1,5)+WEEKDAY(DATE(YEAR(V57)+{-1;0;1},1,3)),734))/7),"") -> 50 | Y57: =IF(WEEKDAY(V57,2)<6,CHOOSE(MOD(INT((V57-43241)/7),3)+1,IF(MOD(V57-43224,42)=0,"","Nuit"),"Après-midi","Matin"),"")
B58: 43298 | D58: =IF(MONTH(B58)=MONTH(B$41),1+INT(MIN(MOD(B58-DATE(YEAR(B58)+{-1;0;1},1,5)+WEEKDAY(DATE(YEAR(B58)+{-1;0;1},1,3)),734))/7),"") -> 29 | E58: =IF(WEEKDAY(B58,2)<6,CHOOSE(MOD(INT((B58-43241)/7),3)+1,IF(MOD(B58-43224,42)=0,"","Nuit"),"Après-midi","Matin"),"") -> Matin | F58: 43329 | H58: =IF(MONTH(F58)=MONTH(F$41),1+INT(MIN(MOD(F58-DATE(YEAR(F58)+{-1;0;1},1,5)+WEEKDAY(DATE(YEAR(F58)+{-1;0;1},1,3)),734))/7),"") -> 33 | I58: =IF(WEEKDAY(F58,2)<6,CHOOSE(MOD(INT((F58-43241)/7),3)+1,IF(MOD(F58-43224,42)=0,"","Nuit"),"Après-midi","Matin"),"") -> Nuit | J58: 43360 | L58: =IF(MONTH(J58)=MONTH(J$41),1+INT(MIN(MOD(J58-DATE(YEAR(J58)+{-1;0;1},1,5)+WEEKDAY(DATE(YEAR(J58)+{-1;0;1},1,3)),734))/7),"") -> 38 | M58: =IF(WEEKDAY(J58,2)<6,CHOOSE(MOD(INT((J58-43241)/7),3)+1,IF(MOD(J58-43224,42)=0,"","Nuit"),"Après-midi","Matin"),"") -> Matin | N58: 43390 | P58: =IF(MONTH(N58)=MONTH(N$41),1+INT(MIN(MOD(N58-DATE(YEAR(N58)+{-1;0;1},1,5)+WEEKDAY(DATE(YEAR(N58)+{-1;0;1},1,3)),734))/7),"") -> 42 | Q58: =IF(WEEKDAY(N58,2)<6,CHOOSE(MOD(INT((N58-43241)/7),3)+1,IF(MOD(N58-43224,42)=0,"","Nuit"),"Après-midi","Matin"),"") -> Nuit | R58: 43421 | T58: =IF(MONTH(R58)=MONTH(R$41),1+INT(MIN(MOD(R58-DATE(YEAR(R58)+{-1;0;1},1,5)+WEEKDAY(DATE(YEAR(R58)+{-1;0;1},1,3)),734))/7),"") -> 46 | U58: =IF(WEEKDAY(R58,2)<6,CHOOSE(MOD(INT((R58-43241)/7),3)+1,IF(MOD(R58-43224,42)=0,"","Nuit"),"Après-midi","Matin"),"") | V58: 43451 | X58: =IF(MONTH(V58)=MONTH(V$41),1+INT(MIN(MOD(V58-DATE(YEAR(V58)+{-1;0;1},1,5)+WEEKDAY(DATE(YEAR(V58)+{-1;0;1},1,3)),734))/7),"") -> 51 | Y58: =IF(WEEKDAY(V58,2)<6,CHOOSE(MOD(INT((V58-43241)/7),3)+1,IF(MOD(V58-43224,42)=0,"","Nuit"),"Après-midi","Matin"),"") -> Nuit
B59: 43299 | D59: =IF(MONTH(B59)=MONTH(B$41),1+INT(MIN(MOD(B59-DATE(YEAR(B59)+{-1;0;1},1,5)+WEEKDAY(DATE(YEAR(B59)+{-1;0;1},1,3)),734))/7),"") -> 29 | E59: =IF(WEEKDAY(B59,2)<6,CHOOSE(MOD(INT((B59-43241)/7),3)+1,IF(MOD(B59-43224,42)=0,"","Nuit"),"Après-midi","Matin"),"") -> Matin | F59: 43330 | H59: =IF(MONTH(F59)=MONTH(F$41),1+INT(MIN(MOD(F59-DATE(YEAR(F59)+{-1;0;1},1,5)+WEEKDAY(DATE(YEAR(F59)+{-1;0;1},1,3)),734))/7),"") -> 33 | I59: =IF(WEEKDAY(F59,2)<6,CHOOSE(MOD(INT((F59-43241)/7),3)+1,IF(MOD(F59-43224,42)=0,"","Nuit"),"Après-midi","Matin"),"") | J59: 43361 | L59: =IF(MONTH(J59)=MONTH(J$41),1+INT(MIN(MOD(J59-DATE(YEAR(J59)+{-1;0;1},1,5)+WEEKDAY(DATE(YEAR(J59)+{-1;0;1},1,3)),734))/7),"") -> 38 | M59: =IF(WEEKDAY(J59,2)<6,CHOOSE(MOD(INT((J59-43241)/7),3)+1,IF(MOD(J59-43224,42)=0,"","Nuit"),"Après-midi","Matin"),"") -> Matin | N59: 43391 | P59: =IF(MONTH(N59)=MONTH(N$41),1+INT(MIN(MOD(N59-DATE(YEAR(N59)+{-1;0;1},1,5)+WEEKDAY(DATE(YEAR(N59)+{-1;0;1},1,3)),734))/7),"") -> 42 | Q59: =IF(WEEKDAY(N59,2)<6,CHOOSE(MOD(INT((N59-43241)/7),3)+1,IF(MOD(N59-43224,42)=0,"","Nuit"),"Après-midi","Matin"),"") -> Nuit | R59: 43422 | T59: =IF(MONTH(R59)=MONTH(R$41),1+INT(MIN(MOD(R59-DATE(YEAR(R59)+{-1;0;1},1,5)+WEEKDAY(DATE(YEAR(R59)+{-1;0;1},1,3)),734))/7),"") -> 46 | U59: =IF(WEEKDAY(R59,2)<6,CHOOSE(MOD(INT((R59-43241)/7),3)+1,IF(MOD(R59-43224,42)=0,"","Nuit"),"Après-midi","Matin"),"") | V59: 43452 | X59: =IF(MONTH(V59)=MONTH(V$41),1+INT(MIN(MOD(V59-DATE(YEAR(V59)+{-1;0;1},1,5)+WEEKDAY(DATE(YEAR(V59)+{-1;0;1},1,3)),734))/7),"") -> 51 | Y59: =IF(WEEKDAY(V59,2)<6,CHOOSE(MOD(INT((V59-43241)/7),3)+1,IF(MOD(V59-43224,42)=0,"","Nuit"),"Après-midi","Matin"),"") -> Nuit
B60: 43300 | D60: =IF(MONTH(B60)=MONTH(B$41),1+INT(MIN(MOD(B60-DATE(YEAR(B60)+{-1;0;1},1,5)+WEEKDAY(DATE(YEAR(B60)+{-1;0;1},1,3)),734))/7),"") -> 29 | E60: =IF(WEEKDAY(B60,2)<6,CHOOSE(MOD(INT((B60-43241)/7),3)+1,IF(MOD(B60-43224,42)=0,"","Nuit"),"Après-midi","Matin"),"") -> Matin | F60: 43331 | H60: =IF(MONTH(F60)=MONTH(F$41),1+INT(MIN(MOD(F60-DATE(YEAR(F60)+{-1;0;1},1,5)+WEEKDAY(DATE(YEAR(F60)+{-1;0;1},1,3)),734))/7),"") -> 33 | I60: =IF(WEEKDAY(F60,2)<6,CHOOSE(MOD(INT((F60-43241)/7),3)+1,IF(MOD(F60-43224,42)=0,"","Nuit"),"Après-midi","Matin"),"") | J60: 43362 | L60: =IF(MONTH(J60)=MONTH(J$41),1+INT(MIN(MOD(J60-DATE(YEAR(J60)+{-1;0;1},1,5)+WEEKDAY(DATE(YEAR(J60)+{-1;0;1},1,3)),734))/7),"") -> 38 | M60: =IF(WEEKDAY(J60,2)<6,CHOOSE(MOD(INT((J60-43241)/7),3)+1,IF(MOD(J60-43224,42)=0,"","Nuit"),"Après-midi","Matin"),"") -> Matin | N60: 43392 | P60: =IF(MONTH(N60)=MONTH(N$41),1+INT(MIN(MOD(N60-DATE(YEAR(N60)+{-1;0;1},1,5)+WEEKDAY(DATE(YEAR(N60)+{-1;0;1},1,3)),734))/7),"") -> 42 | Q60: =IF(WEEKDAY(N60,2)<6,CHOOSE(MOD(INT((N60-43241)/7),3)+1,IF(MOD(N60-43224,42)=0,"","Nuit"),"Après-midi","Matin"),"") | R60: 43423 | T60: =IF(MONTH(R60)=MONTH(R$41),1+INT(MIN(MOD(R60-DATE(YEAR(R60)+{-1;0;1},1,5)+WEEKDAY(DATE(YEAR(R60)+{-1;0;1},1,3)),734))/7),"") -> 47 | U60: =IF(WEEKDAY(R60,2)<6,CHOOSE(MOD(INT((R60-43241)/7),3)+1,IF(MOD(R60-43224,42)=0,"","Nuit"),"Après-midi","Matin"),"") -> Matin | V60: 43453 | X60: =IF(MONTH(V60)=MONTH(V$41),1+INT(MIN(MOD(V60-DATE(YEAR(V60)+{-1;0;1},1,5)+WEEKDAY(DATE(YEAR(V60)+{-1;0;1},1,3)),734))/7),"") -> 51 | Y60: =IF(WEEKDAY(V60,2)<6,CHOOSE(MOD(INT((V60-43241)/7),3)+1,IF(MOD(V60-43224,42)=0,"","Nuit"),"Après-midi","Matin"),"") -> Nuit
B61: 43301 | D61: =IF(MONTH(B61)=MONTH(B$41),1+INT(MIN(MOD(B61-DATE(YEAR(B61)+{-1;0;1},1,5)+WEEKDAY(DATE(YEAR(B61)+{-1;0;1},1,3)),734))/7),"") -> 29 | E61: =IF(WEEKDAY(B61,2)<6,CHOOSE(MOD(INT((B61-43241)/7),3)+1,IF(MOD(B61-43224,42)=0,"","Nuit"),"Après-midi","Matin"),"") -> Matin | F61: 43332 | H61: =IF(MONTH(F61)=MONTH(F$41),1+INT(MIN(MOD(F61-DATE(YEAR(F61)+{-1;0;1},1,5)+WEEKDAY(DATE(YEAR(F61)+{-1;0;1},1,3)),734))/7),"") -> 34 | I61: =IF(WEEKDAY(F61,2)<6,CHOOSE(MOD(INT((F61-43241)/7),3)+1,IF(MOD(F61-43224,42)=0,"","Nuit"),"Après-midi","Matin"),"") -> Après-midi | J61: 43363 | L61: =IF(MONTH(J61)=MONTH(J$41),1+INT(MIN(MOD(J61-DATE(YEAR(J61)+{-1;0;1},1,5)+WEEKDAY(DATE(YEAR(J61)+{-1;0;1},1,3)),734))/7),"") -> 38 | M61: =IF(WEEKDAY(J61,2)<6,CHOOSE(MOD(INT((J61-43241)/7),3)+1,IF(MOD(J61-43224,42)=0,"","Nuit"),"Après-midi","Matin"),"") -> Matin | N61: 43393 | P61: =IF(MONTH(N61)=MONTH(N$41),1+INT(MIN(MOD(N61-DATE(YEAR(N61)+{-1;0;1},1,5)+WEEKDAY(DATE(YEAR(N61)+{-1;0;1},1,3)),734))/7),"") -> 42 | Q61: =IF(WEEKDAY(N61,2)<6,CHOOSE(MOD(INT((N61-43241)/7),3)+1,IF(MOD(N61-43224,42)=0,"","Nuit"),"Après-midi","Matin"),"") | R61: 43424 | T61: =IF(MONTH(R61)=MONTH(R$41),1+INT(MIN(MOD(R61-DATE(YEAR(R61)+{-1;0;1},1,5)+WEEKDAY(DATE(YEAR(R61)+{-1;0;1},1,3)),734))/7),"") -> 47 | U61: =IF(WEEKDAY(R61,2)<6,CHOOSE(MOD(INT((R61-43241)/7),3)+1,IF(MOD(R61-43224,42)=0,"","Nuit"),"Après-midi","Matin"),"") -> Matin | V61: 43454 | X61: =IF(MONTH(V61)=MONTH(V$41),1+INT(MIN(MOD(V61-DATE(YEAR(V61)+{-1;0;1},1,5)+WEEKDAY(DATE(YEAR(V61)+{-1;0;1},1,3)),734))/7),"") -> 51 | Y61: =IF(WEEKDAY(V61,2)<6,CHOOSE(MOD(INT((V61-43241)/7),3)+1,IF(MOD(V61-43224,42)=0,"","Nuit"),"Après-midi","Matin"),"") -> Nuit
B62: 43302 | D62: =IF(MONTH(B62)=MONTH(B$41),1+INT(MIN(MOD(B62-DATE(YEAR(B62)+{-1;0;1},1,5)+WEEKDAY(DATE(YEAR(B62)+{-1;0;1},1,3)),734))/7),"") -> 29 | E62: =IF(WEEKDAY(B62,2)<6,CHOOSE(MOD(INT((B62-43241)/7),3)+1,IF(MOD(B62-43224,42)=0,"","Nuit"),"Après-midi","Matin"),"") | F62: 43333 | H62: =IF(MONTH(F62)=MONTH(F$41),1+INT(MIN(MOD(F62-DATE(YEAR(F62)+{-1;0;1},1,5)+WEEKDAY(DATE(YEAR(F62)+{-1;0;1},1,3)),734))/7),"") -> 34 | I62: =IF(WEEKDAY(F62,2)<6,CHOOSE(MOD(INT((F62-43241)/7),3)+1,IF(MOD(F62-43224,42)=0,"","Nuit"),"Après-midi","Matin"),"") -> Après-midi | J62: 43364 | L62: =IF(MONTH(J62)=MONTH(J$41),1+INT(MIN(MOD(J62-DATE(YEAR(J62)+{-1;0;1},1,5)+WEEKDAY(DATE(YEAR(J62)+{-1;0;1},1,3)),734))/7),"") -> 38 | M62: =IF(WEEKDAY(J62,2)<6,CHOOSE(MOD(INT((J62-43241)/7),3)+1,IF(MOD(J62-43224,42)=0,"","Nuit"),"Après-midi","Matin"),"") -> Matin | N62: 43394 | P62: =IF(MONTH(N62)=MONTH(N$41),1+INT(MIN(MOD(N62-DATE(YEAR(N62)+{-1;0;1},1,5)+WEEKDAY(DATE(YEAR(N62)+{-1;0;1},1,3)),734))/7),"") -> 42 | Q62: =IF(WEEKDAY(N62,2)<6,CHOOSE(MOD(INT((N62-43241)/7),3)+1,IF(MOD(N62-43224,42)=0,"","Nuit"),"Après-midi","Matin"),"") | R62: 43425 | T62: =IF(MONTH(R62)=MONTH(R$41),1+INT(MIN(MOD(R62-DATE(YEAR(R62)+{-1;0;1},1,5)+WEEKDAY(DATE(YEAR(R62)+{-1;0;1},1,3)),734))/7),"") -> 47 | U62: =IF(WEEKDAY(R62,2)<6,CHOOSE(MOD(INT((R62-43241)/7),3)+1,IF(MOD(R62-43224,42)=0,"","Nuit"),"Après-midi","Matin"),"") -> Matin | V62: 43455 | X62: =IF(MONTH(V62)=MONTH(V$41),1+INT(MIN(MOD(V62-DATE(YEAR(V62)+{-1;0;1},1,5)+WEEKDAY(DATE(YEAR(V62)+{-1;0;1},1,3)),734))/7),"") -> 51 | Y62: =IF(WEEKDAY(V62,2)<6,CHOOSE(MOD(INT((V62-43241)/7),3)+1,IF(MOD(V62-43224,42)=0,"","Nuit"),"Après-midi","Matin"),"") -> Nuit
B63: 43303 | D63: =IF(MONTH(B63)=MONTH(B$41),1+INT(MIN(MOD(B63-DATE(YEAR(B63)+{-1;0;1},1,5)+WEEKDAY(DATE(YEAR(B63)+{-1;0;1},1,3)),734))/7),"") -> 29 | E63: =IF(WEEKDAY(B63,2)<6,CHOOSE(MOD(INT((B63-43241)/7),3)+1,IF(MOD(B63-43224,42)=0,"","Nuit"),"Après-midi","Matin"),"") | F63: 43334 | H63: =IF(MONTH(F63)=MONTH(F$41),1+INT(MIN(MOD(F63-DATE(YEAR(F63)+{-1;0;1},1,5)+WEEKDAY(DATE(YEAR(F63)+{-1;0;1},1,3)),734))/7),"") -> 34 | I63: =IF(WEEKDAY(F63,2)<6,CHOOSE(MOD(INT((F63-43241)/7),3)+1,IF(MOD(F63-43224,42)=0,"","Nuit"),"Après-midi","Matin"),"") -> Après-midi | J63: 43365 | L63: =IF(MONTH(J63)=MONTH(J$41),1+INT(MIN(MOD(J63-DATE(YEAR(J63)+{-1;0;1},1,5)+WEEKDAY(DATE(YEAR(J63)+{-1;0;1},1,3)),734))/7),"") -> 38 | M63: =IF(WEEKDAY(J63,2)<6,CHOOSE(MOD(INT((J63-43241)/7),3)+1,IF(MOD(J63-43224,42)=0,"","Nuit"),"Après-midi","Matin"),"") | N63: 43395 | P63: =IF(MONTH(N63)=MONTH(N$41),1+INT(MIN(MOD(N63-DATE(YEAR(N63)+{-1;0;1},1,5)+WEEKDAY(DATE(YEAR(N63)+{-1;0;1},1,3)),734))/7),"") -> 43 | Q63: =IF(WEEKDAY(N63,2)<6,CHOOSE(MOD(INT((N63-43241)/7),3)+1,IF(MOD(N63-43224,42)=0,"","Nuit"),"Après-midi","Matin"),"") -> Après-midi | R63: 43426 | T63: =IF(MONTH(R63)=MONTH(R$41),1+INT(MIN(MOD(R63-DATE(YEAR(R63)+{-1;0;1},1,5)+WEEKDAY(DATE(YEAR(R63)+{-1;0;1},1,3)),734))/7),"") -> 47 | U63: =IF(WEEKDAY(R63,2)<6,CHOOSE(MOD(INT((R63-43241)/7),3)+1,IF(MOD(R63-43224,42)=0,"","Nuit"),"Après-midi","Matin"),"") -> Matin | V63: 43456 | X63: =IF(MONTH(V63)=MONTH(V$41),1+INT(MIN(MOD(V63-DATE(YEAR(V63)+{-1;0;1},1,5)+WEEKDAY(DATE(YEAR(V63)+{-1;0;1},1,3)),734))/7),"") -> 51 | Y63: =IF(WEEKDAY(V63,2)<6,CHOOSE(MOD(INT((V63-43241)/7),3)+1,IF(MOD(V63-43224,42)=0,"","Nuit"),"Après-midi","Matin"),"")
B64: 43304 | D64: =IF(MONTH(B64)=MONTH(B$41),1+INT(MIN(MOD(B64-DATE(YEAR(B64)+{-1;0;1},1,5)+WEEKDAY(DATE(YEAR(B64)+{-1;0;1},1,3)),734))/7),"") -> 30 | E64: =IF(WEEKDAY(B64,2)<6,CHOOSE(MOD(INT((B64-43241)/7),3)+1,IF(MOD(B64-43224,42)=0,"","Nuit"),"Après-midi","Matin"),"") -> Nuit | F64: 43335 | H64: =IF(MONTH(F64)=MONTH(F$41),1+INT(MIN(MOD(F64-DATE(YEAR(F64)+{-1;0;1},1,5)+WEEKDAY(DATE(YEAR(F64)+{-1;0;1},1,3)),734))/7),"") -> 34 | I64: =IF(WEEKDAY(F64,2)<6,CHOOSE(MOD(INT((F64-43241)/7),3)+1,IF(MOD(F64-43224,42)=0,"","Nuit"),"Après-midi","Matin"),"") -> Après-midi | J64: 43366 | L64: =IF(MONTH(J64)=MONTH(J$41),1+INT(MIN(MOD(J64-DATE(YEAR(J64)+{-1;0;1},1,5)+WEEKDAY(DATE(YEAR(J64)+{-1;0;1},1,3)),734))/7),"") -> 38 | M64: =IF(WEEKDAY(J64,2)<6,CHOOSE(MOD(INT((J64-43241)/7),3)+1,IF(MOD(J64-43224,42)=0,"","Nuit"),"Après-midi","Matin"),"") | N64: 43396 | P64: =IF(MONTH(N64)=MONTH(N$41),1+INT(MIN(MOD(N64-DATE(YEAR(N64)+{-1;0;1},1,5)+WEEKDAY(DATE(YEAR(N64)+{-1;0;1},1,3)),734))/7),"") -> 43 | Q64: =IF(WEEKDAY(N64,2)<6,CHOOSE(MOD(INT((N64-43241)/7),3)+1,IF(MOD(N64-43224,42)=0,"","Nuit"),"Après-midi","Matin"),"") -> Après-midi | R64: 43427 | T64: =IF(MONTH(R64)=MONTH(R$41),1+INT(MIN(MOD(R64-DATE(YEAR(R64)+{-1;0;1},1,5)+WEEKDAY(DATE(YEAR(R64)+{-1;0;1},1,3)),734))/7),"") -> 47 | U64: =IF(WEEKDAY(R64,2)<6,CHOOSE(MOD(INT((R64-43241)/7),3)+1,IF(MOD(R64-43224,42)=0,"","Nuit"),"Après-midi","Matin"),"") -> Matin | V64: 43457 | X64: =IF(MONTH(V64)=MONTH(V$41),1+INT(MIN(MOD(V64-DATE(YEAR(V64)+{-1;0;1},1,5)+WEEKDAY(DATE(YEAR(V64)+{-1;0;1},1,3)),734))/7),"") -> 51 | Y64: =IF(WEEKDAY(V64,2)<6,CHOOSE(MOD(INT((V64-43241)/7),3)+1,IF(MOD(V64-43224,42)=0,"","Nuit"),"Après-midi","Matin"),"")
B65: 43305 | D65: =IF(MONTH(B65)=MONTH(B$41),1+INT(MIN(MOD(B65-DATE(YEAR(B65)+{-1;0;1},1,5)+WEEKDAY(DATE(YEAR(B65)+{-1;0;1},1,3)),734))/7),"") -> 30 | E65: =IF(WEEKDAY(B65,2)<6,CHOOSE(MOD(INT((B65-43241)/7),3)+1,IF(MOD(B65-43224,42)=0,"","Nuit"),"Après-midi","Matin"),"") -> Nuit | F65: 43336 | H65: =IF(MONTH(F65)=MONTH(F$41),1+INT(MIN(MOD(F65-DATE(YEAR(F65)+{-1;0;1},1,5)+WEEKDAY(DATE(YEAR(F65)+{-1;0;1},1,3)),734))/7),"") -> 34 | I65: =IF(WEEKDAY(F65,2)<6,CHOOSE(MOD(INT((F65-43241)/7),3)+1,IF(MOD(F65-43224,42)=0,"","Nuit"),"Après-midi","Matin"),"") -> Après-midi | J65: 43367 | L65: =IF(MONTH(J65)=MONTH(J$41),1+INT(MIN(MOD(J65-DATE(YEAR(J65)+{-1;0;1},1,5)+WEEKDAY(DATE(YEAR(J65)+{-1;0;1},1,3)),734))/7),"") -> 39 | M65: =IF(WEEKDAY(J65,2)<6,CHOOSE(MOD(INT((J65-43241)/7),3)+1,IF(MOD(J65-43224,42)=0,"","Nuit"),"Après-midi","Matin"),"") -> Nuit | N65: 43397 | P65: =IF(MONTH(N65)=MONTH(N$41),1+INT(MIN(MOD(N65-DATE(YEAR(N65)+{-1;0;1},1,5)+WEEKDAY(DATE(YEAR(N65)+{-1;0;1},1,3)),734))/7),"") -> 43 | Q65: =IF(WEEKDAY(N65,2)<6,CHOOSE(MOD(INT((N65-43241)/7),3)+1,IF(MOD(N65-43224,42)=0,"","Nuit"),"Après-midi","Matin"),"") -> Après-midi | R65: 43428 | T65: =IF(MONTH(R65)=MONTH(R$41),1+INT(MIN(MOD(R65-DATE(YEAR(R65)+{-1;0;1},1,5)+WEEKDAY(DATE(YEAR(R65)+{-1;0;1},1,3)),734))/7),"") -> 47 | U65: =IF(WEEKDAY(R65,2)<6,CHOOSE(MOD(INT((R65-43241)/7),3)+1,IF(MOD(R65-43224,42)=0,"","Nuit"),"Après-midi","Matin"),"") | V65: 43458 | W65: Pont | X65: =IF(MONTH(V65)=MONTH(V$41),1+INT(MIN(MOD(V65-DATE(YEAR(V65)+{-1;0;1},1,5)+WEEKDAY(DATE(YEAR(V65)+{-1;0;1},1,3)),734))/7),"") -> 52 | Y65: =IF(WEEKDAY(V65,2)<6,CHOOSE(MOD(INT((V65-43241)/7),3)+1,IF(MOD(V65-43224,42)=0,"","Nuit"),"Après-midi","Matin"),"") -> Après-midi
B66: 43306 | D66: =IF(MONTH(B66)=MONTH(B$41),1+INT(MIN(MOD(B66-DATE(YEAR(B66)+{-1;0;1},1,5)+WEEKDAY(DATE(YEAR(B66)+{-1;0;1},1,3)),734))/7),"") -> 30 | E66: =IF(WEEKDAY(B66,2)<6,CHOOSE(MOD(INT((B66-43241)/7),3)+1,IF(MOD(B66-43224,42)=0,"","Nuit"),"Après-midi","Matin"),"") -> Nuit | F66: 43337 | H66: =IF(MONTH(F66)=MONTH(F$41),1+INT(MIN(MOD(F66-DATE(YEAR(F66)+{-1;0;1},1,5)+WEEKDAY(DATE(YEAR(F66)+{-1;0;1},1,3)),734))/7),"") -> 34 | I66: =IF(WEEKDAY(F66,2)<6,CHOOSE(MOD(INT((F66-43241)/7),3)+1,IF(MOD(F66-43224,42)=0,"","Nuit"),"Après-midi","Matin"),"") | J66: 43368 | L66: =IF(MONTH(J66)=MONTH(J$41),1+INT(MIN(MOD(J66-DATE(YEAR(J66)+{-1;0;1},1,5)+WEEKDAY(DATE(YEAR(J66)+{-1;0;1},1,3)),734))/7),"") -> 39 | M66: =IF(WEEKDAY(J66,2)<6,CHOOSE(MOD(INT((J66-43241)/7),3)+1,IF(MOD(J66-43224,42)=0,"","Nuit"),"Après-midi","Matin"),"") -> Nuit | N66: 43398 | P66: =IF(MONTH(N66)=MONTH(N$41),1+INT(MIN(MOD(N66-DATE(YEAR(N66)+{-1;0;1},1,5)+WEEKDAY(DATE(YEAR(N66)+{-1;0;1},1,3)),734))/7),"") -> 43 | Q66: =IF(WEEKDAY(N66,2)<6,CHOOSE(MOD(INT((N66-43241)/7),3)+1,IF(MOD(N66-43224,42)=0,"","Nuit"),"Après-midi","Matin"),"") -> Après-midi | R66: 43429 | T66: =IF(MONTH(R66)=MONTH(R$41),1+INT(MIN(MOD(R66-DATE(YEAR(R66)+{-1;0;1},1,5)+WEEKDAY(DATE(YEAR(R66)+{-1;0;1},1,3)),734))/7),"") -> 47 | U66: =IF(WEEKDAY(R66,2)<6,CHOOSE(MOD(INT((R66-43241)/7),3)+1,IF(MOD(R66-43224,42)=0,"","Nuit"),"Après-midi","Matin"),"") | V66: 43459 | W66: Noël | X66: =IF(MONTH(V66)=MONTH(V$41),1+INT(MIN(MOD(V66-DATE(YEAR(V66)+{-1;0;1},1,5)+WEEKDAY(DATE(YEAR(V66)+{-1;0;1},1,3)),734))/7),"") -> 52 | Y66: =IF(WEEKDAY(V66,2)<6,CHOOSE(MOD(INT((V66-43241)/7),3)+1,IF(MOD(V66-43224,42)=0,"","Nuit"),"Après-midi","Matin"),"") -> Après-midi
B67: 43307 | D67: =IF(MONTH(B67)=MONTH(B$41),1+INT(MIN(MOD(B67-DATE(YEAR(B67)+{-1;0;1},1,5)+WEEKDAY(DATE(YEAR(B67)+{-1;0;1},1,3)),734))/7),"") -> 30 | E67: =IF(WEEKDAY(B67,2)<6,CHOOSE(MOD(INT((B67-43241)/7),3)+1,IF(MOD(B67-43224,42)=0,"","Nuit"),"Après-midi","Matin"),"") -> Nuit | F67: 43338 | H67: =IF(MONTH(F67)=MONTH(F$41),1+INT(MIN(MOD(F67-DATE(YEAR(F67)+{-1;0;1},1,5)+WEEKDAY(DATE(YEAR(F67)+{-1;0;1},1,3)),734))/7),"") -> 34 | I67: =IF(WEEKDAY(F67,2)<6,CHOOSE(MOD(INT((F67-43241)/7),3)+1,IF(MOD(F67-43224,42)=0,"","Nuit"),"Après-midi","Matin"),"") | J67: 43369 | L67: =IF(MONTH(J67)=MONTH(J$41),1+INT(MIN(MOD(J67-DATE(YEAR(J67)+{-1;0;1},1,5)+WEEKDAY(DATE(YEAR(J67)+{-1;0;1},1,3)),734))/7),"") -> 39 | M67: =IF(WEEKDAY(J67,2)<6,CHOOSE(MOD(INT((J67-43241)/7),3)+1,IF(MOD(J67-43224,42)=0,"","Nuit"),"Après-midi","Matin"),"") -> Nuit | N67: 43399 | P67: =IF(MONTH(N67)=MONTH(N$41),1+INT(MIN(MOD(N67-DATE(YEAR(N67)+{-1;0;1},1,5)+WEEKDAY(DATE(YEAR(N67)+{-1;0;1},1,3)),734))/7),"") -> 43 | Q67: =IF(WEEKDAY(N67,2)<6,CHOOSE(MOD(INT((N67-43241)/7),3)+1,IF(MOD(N67-43224,42)=0,"","Nuit"),"Après-midi","Matin"),"") -> Après-midi | R67: 43430 | T67: =IF(MONTH(R67)=MONTH(R$41),1+INT(MIN(MOD(R67-DATE(YEAR(R67)+{-1;0;1},1,5)+WEEKDAY(DATE(YEAR(R67)+{-1;0;1},1,3)),734))/7),"") -> 48 | U67: =IF(WEEKDAY(R67,2)<6,CHOOSE(MOD(INT((R67-43241)/7),3)+1,IF(MOD(R67-43224,42)=0,"","Nuit"),"Après-midi","Matin"),"") -> Nuit | V67: 43460 | X67: =IF(MONTH(V67)=MONTH(V$41),1+INT(MIN(MOD(V67-DATE(YEAR(V67)+{-1;0;1},1,5)+WEEKDAY(DATE(YEAR(V67)+{-1;0;1},1,3)),734))/7),"") -> 52 | Y67: =IF(WEEKDAY(V67,2)<6,CHOOSE(MOD(INT((V67-43241)/7),3)+1,IF(MOD(V67-43224,42)=0,"","Nuit"),"Après-midi","Matin"),"") -> Après-midi
B68: 43308 | D68: =IF(MONTH(B68)=MONTH(B$41),1+INT(MIN(MOD(B68-DATE(YEAR(B68)+{-1;0;1},1,5)+WEEKDAY(DATE(YEAR(B68)+{-1;0;1},1,3)),734))/7),"") -> 30 | E68: =IF(WEEKDAY(B68,2)<6,CHOOSE(MOD(INT((B68-43241)/7),3)+1,IF(MOD(B68-43224,42)=0,"","Nuit"),"Après-midi","Matin"),"") | F68: 43339 | H68: =IF(MONTH(F68)=MONTH(F$41),1+INT(MIN(MOD(F68-DATE(YEAR(F68)+{-1;0;1},1,5)+WEEKDAY(DATE(YEAR(F68)+{-1;0;1},1,3)),734))/7),"") -> 35 | I68: =IF(WEEKDAY(F68,2)<6,CHOOSE(MOD(INT((F68-43241)/7),3)+1,IF(MOD(F68-43224,42)=0,"","Nuit"),"Après-midi","Matin"),"") -> Matin | J68: 43370 | L68: =IF(MONTH(J68)=MONTH(J$41),1+INT(MIN(MOD(J68-DATE(YEAR(J68)+{-1;0;1},1,5)+WEEKDAY(DATE(YEAR(J68)+{-1;0;1},1,3)),734))/7),"") -> 39 | M68: =IF(WEEKDAY(J68,2)<6,CHOOSE(MOD(INT((J68-43241)/7),3)+1,IF(MOD(J68-43224,42)=0,"","Nuit"),"Après-midi","Matin"),"") -> Nuit | N68: 43400 | P68: =IF(MONTH(N68)=MONTH(N$41),1+INT(MIN(MOD(N68-DATE(YEAR(N68)+{-1;0;1},1,5)+WEEKDAY(DATE(YEAR(N68)+{-1;0;1},1,3)),734))/7),"") -> 43 | Q68: =IF(WEEKDAY(N68,2)<6,CHOOSE(MOD(INT((N68-43241)/7),3)+1,IF(MOD(N68-43224,42)=0,"","Nuit"),"Après-midi","Matin"),"") | R68: 43431 | T68: =IF(MONTH(R68)=MONTH(R$41),1+INT(MIN(MOD(R68-DATE(YEAR(R68)+{-1;0;1},1,5)+WEEKDAY(DATE(YEAR(R68)+{-1;0;1},1,3)),734))/7),"") -> 48 | U68: =IF(WEEKDAY(R68,2)<6,CHOOSE(MOD(INT((R68-43241)/7),3)+1,IF(MOD(R68-43224,42)=0,"","Nuit"),"Après-midi","Matin"),"") -> Nuit | V68: 43461 | X68: =IF(MONTH(V68)=MONTH(V$41),1+INT(MIN(MOD(V68-DATE(YEAR(V68)+{-1;0;1},1,5)+WEEKDAY(DATE(YEAR(V68)+{-1;0;1},1,3)),734))/7),"") -> 52 | Y68: =IF(WEEKDAY(V68,2)<6,CHOOSE(MOD(INT((V68-43241)/7),3)+1,IF(MOD(V68-43224,42)=0,"","Nuit"),"Après-midi","Matin"),"") -> Après-midi
B69: 43309 | D69: =IF(MONTH(B69)=MONTH(B$41),1+INT(MIN(MOD(B69-DATE(YEAR(B69)+{-1;0;1},1,5)+WEEKDAY(DATE(YEAR(B69)+{-1;0;1},1,3)),734))/7),"") -> 30 | E69: =IF(WEEKDAY(B69,2)<6,CHOOSE(MOD(INT((B69-43241)/7),3)+1,IF(MOD(B69-43224,42)=0,"","Nuit"),"Après-midi","Matin"),"") | F69: 43340 | H69: =IF(MONTH(F69)=MONTH(F$41),1+INT(MIN(MOD(F69-DATE(YEAR(F69)+{-1;0;1},1,5)+WEEKDAY(DATE(YEAR(F69)+{-1;0;1},1,3)),734))/7),"") -> 35 | I69: =IF(WEEKDAY(F69,2)<6,CHOOSE(MOD(INT((F69-43241)/7),3)+1,IF(MOD(F69-43224,42)=0,"","Nuit"),"Après-midi","Matin"),"") -> Matin | J69: 43371 | L69: =IF(MONTH(J69)=MONTH(J$41),1+INT(MIN(MOD(J69-DATE(YEAR(J69)+{-1;0;1},1,5)+WEEKDAY(DATE(YEAR(J69)+{-1;0;1},1,3)),734))/7),"") -> 39 | M69: =IF(WEEKDAY(J69,2)<6,CHOOSE(MOD(INT((J69-43241)/7),3)+1,IF(MOD(J69-43224,42)=0,"","Nuit"),"Après-midi","Matin"),"") -> Nuit | N69: 43401 | P69: =IF(MONTH(N69)=MONTH(N$41),1+INT(MIN(MOD(N69-DATE(YEAR(N69)+{-1;0;1},1,5)+WEEKDAY(DATE(YEAR(N69)+{-1;0;1},1,3)),734))/7),"") -> 43 | Q69: =IF(WEEKDAY(N69,2)<6,CHOOSE(MOD(INT((N69-43241)/7),3)+1,IF(MOD(N69-43224,42)=0,"","Nuit"),"Après-midi","Matin"),"") | R69: 43432 | T69: =IF(MONTH(R69)=MONTH(R$41),1+INT(MIN(MOD(R69-DATE(YEAR(R69)+{-1;0;1},1,5)+WEEKDAY(DATE(YEAR(R69)+{-1;0;1},1,3)),734))/7),"") -> 48 | U69: =IF(WEEKDAY(R69,2)<6,CHOOSE(MOD(INT((R69-43241)/7),3)+1,IF(MOD(R69-43224,42)=0,"","Nuit"),"Après-midi","Matin"),"") -> Nuit | V69: 43462 | X69: =IF(MONTH(V69)=MONTH(V$41),1+INT(MIN(MOD(V69-DATE(YEAR(V69)+{-1;0;1},1,5)+WEEKDAY(DATE(YEAR(V69)+{-1;0;1},1,3)),734))/7),"") -> 52 | Y69: =IF(WEEKDAY(V69,2)<6,CHOOSE(MOD(INT((V69-43241)/7),3)+1,IF(MOD(V69-43224,42)=0,"","Nuit"),"Après-midi","Matin"),"") -> Après-midi
B70: 43310 | D70: =IF(MONTH(B70)=MONTH(B$41),1+INT(MIN(MOD(B70-DATE(YEAR(B70)+{-1;0;1},1,5)+WEEKDAY(DATE(YEAR(B70)+{-1;0;1},1,3)),734))/7),"") -> 30 | E70: =IF(WEEKDAY(B70,2)<6,CHOOSE(MOD(INT((B70-43241)/7),3)+1,IF(MOD(B70-43224,42)=0,"","Nuit"),"Après-midi","Matin"),"") | F70: 43341 | H70: =IF(MONTH(F70)=MONTH(F$41),1+INT(MIN(MOD(F70-DATE(YEAR(F70)+{-1;0;1},1,5)+WEEKDAY(DATE(YEAR(F70)+{-1;0;1},1,3)),734))/7),"") -> 35 | I70: =IF(WEEKDAY(F70,2)<6,CHOOSE(MOD(INT((F70-43241)/7),3)+1,IF(MOD(F70-43224,42)=0,"","Nuit"),"Après-midi","Matin"),"") -> Matin | J70: 43372 | L70: =IF(MONTH(J70)=MONTH(J$41),1+INT(MIN(MOD(J70-DATE(YEAR(J70)+{-1;0;1},1,5)+WEEKDAY(DATE(YEAR(J70)+{-1;0;1},1,3)),734))/7),"") -> 39 | M70: =IF(WEEKDAY(J70,2)<6,CHOOSE(MOD(INT((J70-43241)/7),3)+1,IF(MOD(J70-43224,42)=0,"","Nuit"),"Après-midi","Matin"),"") | N70: 43402 | P70: =IF(MONTH(N70)=MONTH(N$41),1+INT(MIN(MOD(N70-DATE(YEAR(N70)+{-1;0;1},1,5)+WEEKDAY(DATE(YEAR(N70)+{-1;0;1},1,3)),734))/7),"") -> 44 | Q70: =IF(WEEKDAY(N70,2)<6,CHOOSE(MOD(INT((N70-43241)/7),3)+1,IF(MOD(N70-43224,42)=0,"","Nuit"),"Après-midi","Matin"),"") -> Matin | R70: 43433 | T70: =IF(MONTH(R70)=MONTH(R$41),1+INT(MIN(MOD(R70-DATE(YEAR(R70)+{-1;0;1},1,5)+WEEKDAY(DATE(YEAR(R70)+{-1;0;1},1,3)),734))/7),"") -> 48 | U70: =IF(WEEKDAY(R70,2)<6,CHOOSE(MOD(INT((R70-43241)/7),3)+1,IF(MOD(R70-43224,42)=0,"","Nuit"),"Après-midi","Matin"),"") -> Nuit | V70: 43463 | X70: =IF(MONTH(V70)=MONTH(V$41),1+INT(MIN(MOD(V70-DATE(YEAR(V70)+{-1;0;1},1,5)+WEEKDAY(DATE(YEAR(V70)+{-1;0;1},1,3)),734))/7),"") -> 52 | Y70: =IF(WEEKDAY(V70,2)<6,CHOOSE(MOD(INT((V70-43241)/7),3)+1,IF(MOD(V70-43224,42)=0,"","Nuit"),"Après-midi","Matin"),"")
B71: 43311 | D71: =IF(MONTH(B71)=MONTH(B$41),1+INT(MIN(MOD(B71-DATE(YEAR(B71)+{-1;0;1},1,5)+WEEKDAY(DATE(YEAR(B71)+{-1;0;1},1,3)),734))/7),"") -> 31 | E71: =IF(WEEKDAY(B71,2)<6,CHOOSE(MOD(INT((B71-43241)/7),3)+1,IF(MOD(B71-43224,42)=0,"","Nuit"),"Après-midi","Matin"),"") -> Après-midi | F71: 43342 | H71: =IF(MONTH(F71)=MONTH(F$41),1+INT(MIN(MOD(F71-DATE(YEAR(F71)+{-1;0;1},1,5)+WEEKDAY(DATE(YEAR(F71)+{-1;0;1},1,3)),734))/7),"") -> 35 | I71: =IF(WEEKDAY(F71,2)<6,CHOOSE(MOD(INT((F71-43241)/7),3)+1,IF(MOD(F71-43224,42)=0,"","Nuit"),"Après-midi","Matin"),"") -> Matin | J71: 43373 | L71: =IF(MONTH(J71)=MONTH(J$41),1+INT(MIN(MOD(J71-DATE(YEAR(J71)+{-1;0;1},1,5)+WEEKDAY(DATE(YEAR(J71)+{-1;0;1},1,3)),734))/7),"") -> 39 | M71: =IF(WEEKDAY(J71,2)<6,CHOOSE(MOD(INT((J71-43241)/7),3)+1,IF(MOD(J71-43224,42)=0,"","Nuit"),"Après-midi","Matin"),"") | N71: 43403 | P71: =IF(MONTH(N71)=MONTH(N$41),1+INT(MIN(MOD(N71-DATE(YEAR(N71)+{-1;0;1},1,5)+WEEKDAY(DATE(YEAR(N71)+{-1;0;1},1,3)),734))/7),"") -> 44 | Q71: =IF(WEEKDAY(N71,2)<6,CHOOSE(MOD(INT((N71-43241)/7),3)+1,IF(MOD(N71-43224,42)=0,"","Nuit"),"Après-midi","Matin"),"") -> Matin | R71: 43434 | T71: =IF(MONTH(R71)=MONTH(R$41),1+INT(MIN(MOD(R71-DATE(YEAR(R71)+{-1;0;1},1,5)+WEEKDAY(DATE(YEAR(R71)+{-1;0;1},1,3)),734))/7),"") -> 48 | U71: =IF(WEEKDAY(R71,2)<6,CHOOSE(MOD(INT((R71-43241)/7),3)+1,IF(MOD(R71-43224,42)=0,"","Nuit"),"Après-midi","Matin"),"") | V71: 43464 | X71: =IF(MONTH(V71)=MONTH(V$41),1+INT(MIN(MOD(V71-DATE(YEAR(V71)+{-1;0;1},1,5)+WEEKDAY(DATE(YEAR(V71)+{-1;0;1},1,3)),734))/7),"") -> 52 | Y71: =IF(WEEKDAY(V71,2)<6,CHOOSE(MOD(INT((V71-43241)/7),3)+1,IF(MOD(V71-43224,42)=0,"","Nuit"),"Après-midi","Matin"),"")
B72: 43312 | D72: =IF(MONTH(B72)=MONTH(B$41),1+INT(MIN(MOD(B72-DATE(YEAR(B72)+{-1;0;1},1,5)+WEEKDAY(DATE(YEAR(B72)+{-1;0;1},1,3)),734))/7),"") -> 31 | E72: =IF(WEEKDAY(B72,2)<6,CHOOSE(MOD(INT((B72-43241)/7),3)+1,IF(MOD(B72-43224,42)=0,"","Nuit"),"Après-midi","Matin"),"") -> Après-midi | F72: 43343 | H72: =IF(MONTH(F72)=MONTH(F$41),1+INT(MIN(MOD(F72-DATE(YEAR(F72)+{-1;0;1},1,5)+WEEKDAY(DATE(YEAR(F72)+{-1;0;1},1,3)),734))/7),"") -> 35 | I72: =IF(WEEKDAY(F72,2)<6,CHOOSE(MOD(INT((F72-43241)/7),3)+1,IF(MOD(F72-43224,42)=0,"","Nuit"),"Après-midi","Matin"),"") -> Matin | J72: 43374 | L72: =IF(MONTH(J72)=MONTH(J$41),1+INT(MIN(MOD(J72-DATE(YEAR(J72)+{-1;0;1},1,5)+WEEKDAY(DATE(YEAR(J72)+{-1;0;1},1,3)),734))/7),"") | M72: =IF(WEEKDAY(J72,2)<6,CHOOSE(MOD(INT((J72-43241)/7),3)+1,IF(MOD(J72-43224,42)=0,"","Nuit"),"Après-midi","Matin"),"") -> Après-midi | N72: 43404 | P72: =IF(MONTH(N72)=MONTH(N$41),1+INT(MIN(MOD(N72-DATE(YEAR(N72)+{-1;0;1},1,5)+WEEKDAY(DATE(YEAR(N72)+{-1;0;1},1,3)),734))/7),"") -> 44 | Q72: =IF(WEEKDAY(N72,2)<6,CHOOSE(MOD(INT((N72-43241)/7),3)+1,IF(MOD(N72-43224,42)=0,"","Nuit"),"Après-midi","Matin"),"") -> Matin | R72: 43435 | T72: =IF(MONTH(R72)=MONTH(R$41),1+INT(MIN(MOD(R72-DATE(YEAR(R72)+{-1;0;1},1,5)+WEEKDAY(DATE(YEAR(R72)+{-1;0;1},1,3)),734))/7),"") | U72: =IF(WEEKDAY(R72,2)<6,CHOOSE(MOD(INT((R72-43241)/7),3)+1,IF(MOD(R72-43224,42)=0,"","Nuit"),"Après-midi","Matin"),"") | V72: 43465 | W72: Pont | X72: =IF(MONTH(V72)=MONTH(V$41),1+INT(MIN(MOD(V72-DATE(YEAR(V72)+{-1;0;1},1,5)+WEEKDAY(DATE(YEAR(V72)+{-1;0;1},1,3)),734))/7),"") -> 1 | Y72: =IF(WEEKDAY(V72,2)<6,CHOOSE(MOD(INT((V72-43241)/7),3)+1,IF(MOD(V72-43224,42)=0,"","Nuit"),"Après-midi","Matin"),"") -> Matin

Sheet JF
A1: =calend!F1 -> 2018 | B1: Pâques = | C1: =DATE(A1,IF((25-MOD((11*MOD(A1-1900,19)+4-INT((7*MOD(A1-1900,19)+1)/19)),29)-MOD(A1-1900+INT((A1-1900)/4)+31-MOD((11*MOD(A1-1900,19)+4-INT((7*MOD(A1-1900,19)+1)/19)),29),7))>0,4,3),IF((25-MOD((11*MOD(A1-1900,19)+4-INT((7*MOD(A1-1900,19)+1)/19)),29)-MOD(A1-1900+INT((A1-1900)/4)+31-MOD((11*MOD(A1-1900,19)+4-INT((7*MOD(A1-1900,19)+1)/19)),29),7))>0,(25-MOD((11*MOD(A1-1900,19)+4-INT((7*MOD(A1-1900,19)+1)/19)),29)-MOD(A1-1900+INT((A1-1900)/4)+31-MOD((11*MOD(A1-1900,19)+4-INT((7*MOD(A1-1900,19)+1)/19)),29),7)),31+(25-MOD((11*MOD(A1-1900,19)+4-INT((7*MOD(A1-1900,19)+1)/19)),29)-MOD(A1-1900+INT((A1-1900)/4)+31-MOD((11*MOD(A1-1900,19)+4-INT((7*MOD(A1-1900,19)+1)/19)),29),7)))) -> 43191 | D1: DATE_JF | E1: JF | F1: Jour férié en semaine | G1: Pont
D2: =DATE(A1,1,1) -> 43101 | E2: Premier de l'AN | F2: =IF(OR(WEEKDAY(D2)=1,WEEKDAY(D2)=7),,D2) -> 43101 | G2: =IF(WEEKDAY(D2)=5,D2+1,) -> 0
E3: Pâques | F3: =IF(OR(WEEKDAY(D3)=1,WEEKDAY(D3)=7),,D3) -> 0 | G3: =IF(WEEKDAY(D3)=3,D3-1,IF(WEEKDAY(D3)=5,D3+1,)) -> 0
D4: =C1+1 -> 43192 | E4: Lundi de Pâques | F4: =IF(OR(WEEKDAY(D4)=1,WEEKDAY(D4)=7),,D4) -> 43192 | G4: =IF(WEEKDAY(D4)=3,D4-1,IF(WEEKDAY(D4)=5,D4+1,)) -> 0
D5: =DATE(A1,5,1) -> 43221 | E5: Fête du travail | F5: =IF(OR(WEEKDAY(D5)=1,WEEKDAY(D5)=7),,D5) -> 43221 | G5: =IF(WEEKDAY(D5)=3,D5-1,IF(WEEKDAY(D5)=5,D5+1,)) -> 43220
D6: =DATE(A1,5,8) -> 43228 | E6: Victoire de 1945 | F6: =IF(OR(WEEKDAY(D6)=1,WEEKDAY(D6)=7),,D6) -> 43228 | G6: =IF(WEEKDAY(D6)=3,D6-1,IF(WEEKDAY(D6)=5,D6+1,)) -> 43227
D7: =C1+39 -> 43230 | E7: Ascension | F7: =IF(OR(WEEKDAY(D7)=1,WEEKDAY(D7)=7),,D7) -> 43230 | G7: =IF(WEEKDAY(D7)=3,D7-1,IF(WEEKDAY(D7)=5,D7+1,)) -> 43231
D8: =C1+50 -> 43241 | E8: Pentecôte | F8: =IF(OR(WEEKDAY(D8)=1,WEEKDAY(D8)=7),,D8) -> 43241 | G8: =IF(WEEKDAY(D8)=3,D8-1,IF(WEEKDAY(D8)=5,D8+1,)) -> 0
D9: =DATE(A1,7,14) -> 43295 | E9: Fête nationale | F9: =IF(OR(WEEKDAY(D9)=1,WEEKDAY(D9)=7),,D9) -> 0 | G9: =IF(WEEKDAY(D9)=3,D9-1,IF(WEEKDAY(D9)=5,D9+1,)) -> 0
D10: =DATE(A1,8,15) -> 43327 | E10: Assomption | F10: =IF(OR(WEEKDAY(D10)=1,WEEKDAY(D10)=7),,D10) -> 43327 | G10: =IF(WEEKDAY(D10)=3,D10-1,IF(WEEKDAY(D10)=5,D10+1,)) -> 0
D11: =DATE(A1,11,1) -> 43405 | E11: Toussaint | F11: =IF(OR(WEEKDAY(D11)=1,WEEKDAY(D11)=7),,D11) -> 43405 | G11: =IF(WEEKDAY(D11)=3,D11-1,IF(WEEKDAY(D11)=5,D11+1,)) -> 43406
D12: =DATE(A1,11,11) -> 43415 | E12: Armistice | F12: =IF(OR(WEEKDAY(D12)=1,WEEKDAY(D12)=7),,D12) -> 0 | G12: =IF(WEEKDAY(D12)=3,D12-1,IF(WEEKDAY(D12)=5,D12+1,)) -> 0
D13: =DATE(A1,12,25) -> 43459 | E13: Noël | F13: =IF(OR(WEEKDAY(D13)=1,WEEKDAY(D13)=7),,D13) -> 43459 | G13: =IF(WEEKDAY(D13)=3,D13-1,IF(WEEKDAY(D13)=5,D13+1,)) -> 43458
D14: =DATE(A1+1,1,1) -> 43466 | G14: =IF(WEEKDAY(D14)=3,D14-1,) -> 43465
