Workbook
Name Pont: JF!$G$1

Sheet calend
C1: Année : | F1: 2018
B4: 1 | F4: 2 | J4: 3 | N4: 4 | R4: 5 | V4: 6
B5: =DATE($F$1,B4,1) -> 43101 | F5: =DATE($F$1,F4,1) -> 43132 | J5: =DATE($F$1,J4,1) -> 43160 | N5: =DATE($F$1,N4,1) -> 43191 | R5: =DATE($F$1,R4,1) -> 43221 | V5: =DATE($F$1,V4,1) -> 43252
B6: {=DATE($F$1,B4,ROW(1:31))} -> 43101 | C6: {=IFERROR(VLOOKUP(B6:B36,JF!$D:$E,2,0),"")&IF(COUNTIF(JF!$G:$G,calend!B6:B36),Pont," ")} -> Premier de l'AN | D6: =IF(MONTH(B6)=MONTH(B$5),1+INT(MIN(MOD(B6-DATE(YEAR(B6)+{-1;0;1},1,5)+WEEKDAY(DATE(YEAR(B6)+{-1;0;1},1,3)),734))/7),"") -> 1 | E6: =IF(WEEKDAY(B6,2)<6,CHOOSE(MOD(INT((B6-43241)/7),3)+1,IF(MOD(B6-43224,42)=0,"","Nuit"),"Après-midi","Matin"),"") -> Après-midi | F6: {=DATE($F$1,F4,ROW(1:31))} -> 43132 | G6: {=IFERROR(VLOOKUP(F6:F36,JF!$D:$E,2,0),"")&IF(COUNTIF(JF!$G:$G,calend!F6:F36),Pont," ")} | H6: =IF(MONTH(F6)=MONTH(F$5),1+INT(MIN(MOD(F6-DATE(YEAR(F6)+{-1;0;1},1,5)+WEEKDAY(DATE(YEAR(F6)+{-1;0;1},1,3)),734))/7),"") -> 5 | I6: =IF(WEEKDAY(F6,2)<6,CHOOSE(MOD(INT((F6-43241)/7),3)+1,IF(MOD(F6-43224,42)=0,"","Nuit"),"Après-midi","Matin"),"") -> Matin | J6: {=DATE($F$1,J4,ROW(1:31))} -> 43160 | K6: {=IFERROR(VLOOKUP(J6:J36,JF!$D:$E,2,0),"")&IF(COUNTIF(JF!$G:$G,calend!J6:J36),Pont," ")} | L6: =IF(MONTH(J6)=MONTH(J$5),1+INT(MIN(MOD(J6-DATE(YEAR(J6)+{-1;0;1},1,5)+WEEKDAY(DATE(YEAR(J6)+{-1;0;1},1,3)),734))/7),"") -> 9 | M6: =IF(WEEKDAY(J6,2)<6,CHOOSE(MOD(INT((J6-43241)/7),3)+1,IF(MOD(J6-43224,42)=0,"","Nuit"),"Après-midi","Matin"),"") -> Nuit | N6: {=DATE($F$1,N4,ROW(1:31))} -> 43191 | O6: {=IFERROR(VLOOKUP(N6:N36,JF!$D:$E,2,0),"")&IF(COUNTIF(JF!$G:$G,calend!N6:N36),Pont," ")} | P6: =IF(MONTH(N6)=MONTH(N$5),1+INT(MIN(MOD(N6-DATE(YEAR(N6)+{-1;0;1},1,5)+WEEKDAY(DATE(YEAR(N6)+{-1;0;1},1,3)),734))/7),"") -> 13 | Q6: =IF(WEEKDAY(N6,2)<6,CHOOSE(MOD(INT((N6-43241)/7),3)+1,IF(MOD(N6-43224,42)=0,"","Nuit"),"Après-midi","Matin"),"") | R6: {=DATE($F$1,R4,ROW(1:31))} -> 43221 | S6: {=IFERROR(VLOOKUP(R6:R36,JF!$D:$E,2,0),"")&IF(COUNTIF(JF!$G:$G,calend!R6:R36),Pont," ")} -> Fête du travail | T6: =IF(MONTH(R6)=MONTH(R$5),1+INT(MIN(MOD(R6-DATE(YEAR(R6)+{-1;0;1},1,5)+WEEKDAY(DATE(YEAR(R6)+{-1;0;1},1,3)),734))/7),"") -> 18 | U6: =IF(WEEKDAY(R6,2)<6,CHOOSE(MOD(INT((R6-43241)/7),3)+1,IF(MOD(R6-43224,42)=0,"","Nuit"),"Après-midi","Matin"),"") -> Nuit | V6: {=DATE($F$1,V4,ROW(1:31))} -> 43252 | W6: {=IFERROR(VLOOKUP(V6:V36,JF!$D:$E,2,0),"")&IF(COUNTIF(JF!$G:$G,calend!V6:V36),Pont," ")} | X6: =IF(MONTH(V6)=MONTH(V$5),1+INT(MIN(MOD(V6-DATE(YEAR(V6)+{-1;0;1},1,5)+WEEKDAY(DATE(YEAR(V6)+{-1;0;1},1,3)),734))/7),"") -> 22 | Y6: =IF(WEEKDAY(V6,2)<6,CHOOSE(MOD(INT((V6-43241)/7),3)+1,IF(MOD(V6-43224,42)=0,"","Nuit"),"Après-midi","Matin"),"") -> Après-midi
B7: 43102 | D7: =IF(MONTH(B7)=MONTH(B$5),1+INT(MIN(MOD(B7-DATE(YEAR(B7)+{-1;0;1},1,5)+WEEKDAY(DATE(YEAR(B7)+{-1;0;1},1,3)),734))/7),"") -> 1 | E7: =IF(WEEKDAY(B7,2)<6,CHOOSE(MOD(INT((B7-43241)/7),3)+1,IF(MOD(B7-43224,42)=0,"","Nuit"),"Après-midi","Matin"),"") -> Après-midi | F7: 43133 | H7: =IF(MONTH(F7)=MONTH(F$5),1+INT(MIN(MOD(F7-DATE(YEAR(F7)+{-1;0;1},1,5)+WEEKDAY(DATE(YEAR(F7)+{-1;0;1},1,3)),734))/7),"") -> 5 | I7: =IF(WEEKDAY(F7,2)<6,CHOOSE(MOD(INT((F7-43241)/7),3)+1,IF(MOD(F7-43224,42)=0,"","Nuit"),"Après-midi","Matin"),"") -> Matin | J7: 43161 | L7: =IF(MONTH(J7)=MONTH(J$5),1+INT(MIN(MOD(J7-DATE(YEAR(J7)+{-1;0;1},1,5)+WEEKDAY(DATE(YEAR(J7)+{-1;0;1},1,3)),734))/7),"") -> 9 | M7: =IF(WEEKDAY(J7,2)<6,CHOOSE(MOD(INT((J7-43241)/7),3)+1,IF(MOD(J7-43224,42)=0,"","Nuit"),"Après-midi","Matin"),"") -> Nuit | N7: 43192 | O7: Lundi de Pâques | P7: =IF(MONTH(N7)=MONTH(N$5),1+INT(MIN(MOD(N7-DATE(YEAR(N7)+{-1;0;1},1,5)+WEEKDAY(DATE(YEAR(N7)+{-1;0;1},1,3)),734))/7),"") -> 14 | Q7: =IF(WEEKDAY(N7,2)<6,CHOOSE(MOD(INT((N7-43241)/7),3)+1,IF(MOD(N7-43224,42)=0,"","Nuit"),"Après-midi","Matin"),"") -> Matin | R7: 43222 | T7: =IF(MONTH(R7)=MONTH(R$5),1+INT(MIN(MOD(R7-DATE(YEAR(R7)+{-1;0;1},1,5)+WEEKDAY(DATE(YEAR(R7)+{-1;0;1},1,3)),734))/7),"") -> 18 | U7: =IF(WEEKDAY(R7,2)<6,CHOOSE(MOD(INT((R7-43241)/7),3)+1,IF(MOD(R7-43224,42)=0,"","Nuit"),"Après-midi","Matin"),"") -> Nuit | V7: 43253 | X7: =IF(MONTH(V7)=MONTH(V$5),1+INT(MIN(MOD(V7-DATE(YEAR(V7)+{-1;0;1},1,5)+WEEKDAY(DATE(YEAR(V7)+{-1;0;1},1,3)),734))/7),"") -> 22 | Y7: =IF(WEEKDAY(V7,2)<6,CHOOSE(MOD(INT((V7-43241)/7),3)+1,IF(MOD(V7-43224,42)=0,"","Nuit"),"Après-midi","Matin"),"")
B8: 43103 | D8: =IF(MONTH(B8)=MONTH(B$5),1+INT(MIN(MOD(B8-DATE(YEAR(B8)+{-1;0;1},1,5)+WEEKDAY(DATE(YEAR(B8)+{-1;0;1},1,3)),734))/7),"") -> 1 | E8: =IF(WEEKDAY(B8,2)<6,CHOOSE(MOD(INT((B8-43241)/7),3)+1,IF(MOD(B8-43224,42)=0,"","Nuit"),"Après-midi","Matin"),"") -> Après-midi | F8: 43134 | H8: =IF(MONTH(F8)=MONTH(F$5),1+INT(MIN(MOD(F8-DATE(YEAR(F8)+{-1;0;1},1,5)+WEEKDAY(DATE(YEAR(F8)+{-1;0;1},1,3)),734))/7),"") -> 5 | I8: =IF(WEEKDAY(F8,2)<6,CHOOSE(MOD(INT((F8-43241)/7),3)+1,IF(MOD(F8-43224,42)=0,"","Nuit"),"Après-midi","Matin"),"") | J8: 43162 | L8: =IF(MONTH(J8)=MONTH(J$5),1+INT(MIN(MOD(J8-DATE(YEAR(J8)+{-1;0;1},1,5)+WEEKDAY(DATE(YEAR(J8)+{-1;0;1},1,3)),734))/7),"") -> 9 | M8: =IF(WEEKDAY(J8,2)<6,CHOOSE(MOD(INT((J8-43241)/7),3)+1,IF(MOD(J8-43224,42)=0,"","Nuit"),"Après-midi","Matin"),"") | N8: 43193 | P8: =IF(MONTH(N8)=MONTH(N$5),1+INT(MIN(MOD(N8-DATE(YEAR(N8)+{-1;0;1},1,5)+WEEKDAY(DATE(YEAR(N8)+{-1;0;1},1,3)),734))/7),"") -> 14 | Q8: =IF(WEEKDAY(N8,2)<6,CHOOSE(MOD(INT((N8-43241)/7),3)+1,IF(MOD(N8-43224,42)=0,"","Nuit"),"Après-midi","Matin"),"") -> Matin | R8: 43223 | T8: =IF(MONTH(R8)=MONTH(R$5),1+INT(MIN(MOD(R8-DATE(YEAR(R8)+{-1;0;1},1,5)+WEEKDAY(DATE(YEAR(R8)+{-1;0;1},1,3)),734))/7),"") -> 18 | U8: =IF(WEEKDAY(R8,2)<6,CHOOSE(MOD(INT((R8-43241)/7),3)+1,IF(MOD(R8-43224,42)=0,"","Nuit"),"Après-midi","Matin"),"") -> Nuit | V8: 43254 | X8: =IF(MONTH(V8)=MONTH(V$5),1+INT(MIN(MOD(V8-DATE(YEAR(V8)+{-1;0;1},1,5)+WEEKDAY(DATE(YEAR(V8)+{-1;0;1},1,3)),734))/7),"") -> 22 | Y8: =IF(WEEKDAY(V8,2)<6,CHOOSE(MOD(INT((V8-43241)/7),3)+1,IF(MOD(V8-43224,42)=0,"","Nuit"),"Après-midi","Matin"),"")
B9: 43104 | D9: =IF(MONTH(B9)=MONTH(B$5),1+INT(MIN(MOD(B9-DATE(YEAR(B9)+{-1;0;1},1,5)+WEEKDAY(DATE(YEAR(B9)+{-1;0;1},1,3)),734))/7),"") -> 1 | E9: =IF(WEEKDAY(B9,2)<6,CHOOSE(MOD(INT((B9-43241)/7),3)+1,IF(MOD(B9-43224,42)=0,"","Nuit"),"Après-midi","Matin"),"") -> Après-midi | F9: 43135 | H9: =IF(MONTH(F9)=MONTH(F$5),1+INT(MIN(MOD(F9-DATE(YEAR(F9)+{-1;0;1},1,5)+WEEKDAY(DATE(YEAR(F9)+{-1;0;1},1,3)),734))/7),"") -> 5 | I9: =IF(WEEKDAY(F9,2)<6,CHOOSE(MOD(INT((F9-43241)/7),3)+1,IF(MOD(F9-43224,42)=0,"","Nuit"),"Après-midi","Matin"),"") | J9: 43163 | L9: =IF(MONTH(J9)=MONTH(J$5),1+INT(MIN(MOD(J9-DATE(YEAR(J9)+{-1;0;1},1,5)+WEEKDAY(DATE(YEAR(J9)+{-1;0;1},1,3)),734))/7),"") -> 9 | M9: =IF(WEEKDAY(J9,2)<6,CHOOSE(MOD(INT((J9-43241)/7),3)+1,IF(MOD(J9-43224,42)=0,"","Nuit"),"Après-midi","Matin"),"") | N9: 43194 | P9: =IF(MONTH(N9)=MONTH(N$5),1+INT(MIN(MOD(N9-DATE(YEAR(N9)+{-1;0;1},1,5)+WEEKDAY(DATE(YEAR(N9)+{-1;0;1},1,3)),734))/7),"") -> 14 | Q9: =IF(WEEKDAY(N9,2)<6,CHOOSE(MOD(INT((N9-43241)/7),3)+1,IF(MOD(N9-43224,42)=0,"","Nuit"),"Après-midi","Matin"),"") -> Matin | R9: 43224 | T9: =IF(MONTH(R9)=MONTH(R$5),1+INT(MIN(MOD(R9-DATE(YEAR(R9)+{-1;0;1},1,5)+WEEKDAY(DATE(YEAR(R9)+{-1;0;1},1,3)),734))/7),"") -> 18 | U9: =IF(WEEKDAY(R9,2)<6,CHOOSE(MOD(INT((R9-43241)/7),3)+1,IF(MOD(R9-43224,42)=0,"","Nuit"),"Après-midi","Matin"),"") | V9: 43255 | X9: =IF(MONTH(V9)=MONTH(V$5),1+INT(MIN(MOD(V9-DATE(YEAR(V9)+{-1;0;1},1,5)+WEEKDAY(DATE(YEAR(V9)+{-1;0;1},1,3)),734))/7),"") -> 23 | Y9: =IF(WEEKDAY(V9,2)<6,CHOOSE(MOD(INT((V9-43241)/7),3)+1,IF(MOD(V9-43224,42)=0,"","Nuit"),"Après-midi","Matin"),"") -> Matin
B10: 43105 | D10: =IF(MONTH(B10)=MONTH(B$5),1+INT(MIN(MOD(B10-DATE(YEAR(B10)+{-1;0;1},1,5)+WEEKDAY(DATE(YEAR(B10)+{-1;0;1},1,3)),734))/7),"") -> 1 | E10: =IF(WEEKDAY(B10,2)<6,CHOOSE(MOD(INT((B10-43241)/7),3)+1,IF(MOD(B10-43224,42)=0,"","Nuit"),"Après-midi","Matin"),"") -> Après-midi | F10: 43136 | H10: =IF(MONTH(F10)=MONTH(F$5),1+INT(MIN(MOD(F10-DATE(YEAR(F10)+{-1;0;1},1,5)+WEEKDAY(DATE(YEAR(F10)+{-1;0;1},1,3)),734))/7),"") -> 6 | I10: =IF(WEEKDAY(F10,2)<6,CHOOSE(MOD(INT((F10-43241)/7),3)+1,IF(MOD(F10-43224,42)=0,"","Nuit"),"Après-midi","Matin"),"") -> Nuit | J10: 43164 | L10: =IF(MONTH(J10)=MONTH(J$5),1+INT(MIN(MOD(J10-DATE(YEAR(J10)+{-1;0;1},1,5)+WEEKDAY(DATE(YEAR(J10)+{-1;0;1},1,3)),734))/7),"") -> 10 | M10: =IF(WEEKDAY(J10,2)<6,CHOOSE(MOD(INT((J10-43241)/7),3)+1,IF(MOD(J10-43224,42)=0,"","Nuit"),"Après-midi","Matin"),"") -> Après-midi | N10: 43195 | P10: =IF(MONTH(N10)=MONTH(N$5),1+INT(MIN(MOD(N10-DATE(YEAR(N10)+{-1;0;1},1,5)+WEEKDAY(DATE(YEAR(N10)+{-1;0;1},1,3)),734))/7),"") -> 14 | Q10: =IF(WEEKDAY(N10,2)<6,CHOOSE(MOD(INT((N10-43241)/7),3)+1,IF(MOD(N10-43224,42)=0,"","Nuit"),"Après-midi","Matin"),"") -> Matin | R10: 43225 | T10: =IF(MONTH(R10)=MONTH(R$5),1+INT(MIN(MOD(R10-DATE(YEAR(R10)+{-1;0;1},1,5)+WEEKDAY(DATE(YEAR(R10)+{-1;0;1},1,3)),734))/7),"") -> 18 | U10: =IF(WEEKDAY(R10,2)<6,CHOOSE(MOD(INT((R10-43241)/7),3)+1,IF(MOD(R10-43224,42)=0,"","Nuit"),"Après-midi","Matin"),"") | V10: 43256 | X10: =IF(MONTH(V10)=MONTH(V$5),1+INT(MIN(MOD(V10-DATE(YEAR(V10)+{-1;0;1},1,5)+WEEKDAY(DATE(YEAR(V10)+{-1;0;1},1,3)),734))/7),"") -> 23 | Y10: =IF(WEEKDAY(V10,2)<6,CHOOSE(MOD(INT((V10-43241)/7),3)+1,IF(MOD(V10-43224,42)=0,"","Nuit"),"Après-midi","Matin"),"") -> Matin
B11: 43106 | D11: =IF(MONTH(B11)=MONTH(B$5),1+INT(MIN(MOD(B11-DATE(YEAR(B11)+{-1;0;1},1,5)+WEEKDAY(DATE(YEAR(B11)+{-1;0;1},1,3)),734))/7),"") -> 1 | E11: =IF(WEEKDAY(B11,2)<6,CHOOSE(MOD(INT((B11-43241)/7),3)+1,IF(MOD(B11-43224,42)=0,"","Nuit"),"Après-midi","Matin"),"") | F11: 43137 | H11: =IF(MONTH(F11)=MONTH(F$5),1+INT(MIN(MOD(F11-DATE(YEAR(F11)+{-1;0;1},1,5)+WEEKDAY(DATE(YEAR(F11)+{-1;0;1},1,3)),734))/7),"") -> 6 | I11: =IF(WEEKDAY(F11,2)<6,CHOOSE(MOD(INT((F11-43241)/7),3)+1,IF(MOD(F11-43224,42)=0,"","Nuit"),"Après-midi","Matin"),"") -> Nuit | J11: 43165 | L11: =IF(MONTH(J11)=MONTH(J$5),1+INT(MIN(MOD(J11-DATE(YEAR(J11)+{-1;0;1},1,5)+WEEKDAY(DATE(YEAR(J11)+{-1;0;1},1,3)),734))/7),"") -> 10 | M11: =IF(WEEKDAY(J11,2)<6,CHOOSE(MOD(INT((J11-43241)/7),3)+1,IF(MOD(J11-43224,42)=0,"","Nuit"),"Après-midi","Matin"),"") -> Après-midi | N11: 43196 | P11: =IF(MONTH(N11)=MONTH(N$5),1+INT(MIN(MOD(N11-DATE(YEAR(N11)+{-1;0;1},1,5)+WEEKDAY(DATE(YEAR(N11)+{-1;0;1},1,3)),734))/7),"") -> 14 | Q11: =IF(WEEKDAY(N11,2)<6,CHOOSE(MOD(INT((N11-43241)/7),3)+1,IF(MOD(N11-43224,42)=0,"","Nuit"),"Après-midi","Matin"),"") -> Matin | R11: 43226 | T11: =IF(MONTH(R11)=MONTH(R$5),1+INT(MIN(MOD(R11-DATE(YEAR(R11)+{-1;0;1},1,5)+WEEKDAY(DATE(YEAR(R11)+{-1;0;1},1,3)),734))/7),"") -> 18 | U11: =IF(WEEKDAY(R11,2)<6,CHOOSE(MOD(INT((R11-43241)/7),3)+1,IF(MOD(R11-43224,42)=0,"","Nuit"),"Après-midi","Matin"),"") | V11: 43257 | X11: =IF(MONTH(V11)=MONTH(V$5),1+INT(MIN(MOD(V11-DATE(YEAR(V11)+{-1;0;1},1,5)+WEEKDAY(DATE(YEAR(V11)+{-1;0;1},1,3)),734))/7),"") -> 23 | Y11: =IF(WEEKDAY(V11,2)<6,CHOOSE(MOD(INT((V11-43241)/7),3)+1,IF(MOD(V11-43224,42)=0,"","Nuit"),"Après-midi","Matin"),"") -> Matin
B12: 43107 | D12: =IF(MONTH(B12)=MONTH(B$5),1+INT(MIN(MOD(B12-DATE(YEAR(B12)+{-1;0;1},1,5)+WEEKDAY(DATE(YEAR(B12)+{-1;0;1},1,3)),734))/7),"") -> 1 | E12: =IF(WEEKDAY(B12,2)<6,CHOOSE(MOD(INT((B12-43241)/7),3)+1,IF(MOD(B12-43224,42)=0,"","Nuit"),"Après-midi","Matin"),"") | F12: 43138 | H12: =IF(MONTH(F12)=MONTH(F$5),1+INT(MIN(MOD(F12-DATE(YEAR(F12)+{-1;0;1},1,5)+WEEKDAY(DATE(YEAR(F12)+{-1;0;1},1,3)),734))/7),"") -> 6 | I12: =IF(WEEKDAY(F12,2)<6,CHOOSE(MOD(INT((F12-43241)/7),3)+1,IF(MOD(F12-43224,42)=0,"","Nuit"),"Après-midi","Matin"),"") -> Nuit | J12: 43166 | L12: =IF(MONTH(J12)=MONTH(J$5),1+INT(MIN(MOD(J12-DATE(YEAR(J12)+{-1;0;1},1,5)+WEEKDAY(DATE(YEAR(J12)+{-1;0;1},1,3)),734))/7),"") -> 10 | M12: =IF(WEEKDAY(J12,2)<6,CHOOSE(MOD(INT((J12-43241)/7),3)+1,IF(MOD(J12-43224,42)=0,"","Nuit"),"Après-midi","Matin"),"") -> Après-midi | N12: 43197 | P12: =IF(MONTH(N12)=MONTH(N$5),1+INT(MIN(MOD(N12-DATE(YEAR(N12)+{-1;0;1},1,5)+WEEKDAY(DATE(YEAR(N12)+{-1;0;1},1,3)),734))/7),"") -> 14 | Q12: =IF(WEEKDAY(N12,2)<6,CHOOSE(MOD(INT((N12-43241)/7),3)+1,IF(MOD(N12-43224,42)=0,"","Nuit"),"Après-midi","Matin"),"") | R12: 43227 | S12: Pont | T12: =IF(MONTH(R12)=MONTH(R$5),1+INT(MIN(MOD(R12-DATE(YEAR(R12)+{-1;0;1},1,5)+WEEKDAY(DATE(YEAR(R12)+{-1;0;1},1,3)),734))/7),"") -> 19 | U12: =IF(WEEKDAY(R12,2)<6,CHOOSE(MOD(INT((R12-43241)/7),3)+1,IF(MOD(R12-43224,42)=0,"","Nuit"),"Après-midi","Matin"),"") -> Après-midi | V12: 43258 | X12: =IF(MONTH(V12)=MONTH(V$5),1+INT(MIN(MOD(V12-DATE(YEAR(V12)+{-1;0;1},1,5)+WEEKDAY(DATE(YEAR(V12)+{-1;0;1},1,3)),734))/7),"") -> 23 | Y12: =IF(WEEKDAY(V12,2)<6,CHOOSE(MOD(INT((V12-43241)/7),3)+1,IF(MOD(V12-43224,42)=0,"","Nuit"),"Après-midi","Matin"),"") -> Matin
B13: 43108 | D13: =IF(MONTH(B13)=MONTH(B$5),1+INT(MIN(MOD(B13-DATE(YEAR(B13)+{-1;0;1},1,5)+WEEKDAY(DATE(YEAR(B13)+{-1;0;1},1,3)),734))/7),"") -> 2 | E13: =IF(WEEKDAY(B13,2)<6,CHOOSE(MOD(INT((B13-43241)/7),3)+1,IF(MOD(B13-43224,42)=0,"","Nuit"),"Après-midi","Matin"),"") -> Matin | F13: 43139 | H13: =IF(MONTH(F13)=MONTH(F$5),1+INT(MIN(MOD(F13-DATE(YEAR(F13)+{-1;0;1},1,5)+WEEKDAY(DATE(YEAR(F13)+{-1;0;1},1,3)),734))/7),"") -> 6 | I13: =IF(WEEKDAY(F13,2)<6,CHOOSE(MOD(INT((F13-43241)/7),3)+1,IF(MOD(F13-43224,42)=0,"","Nuit"),"Après-midi","Matin"),"") -> Nuit | J13: 43167 | L13: =IF(MONTH(J13)=MONTH(J$5),1+INT(MIN(MOD(J13-DATE(YEAR(J13)+{-1;0;1},1,5)+WEEKDAY(DATE(YEAR(J13)+{-1;0;1},1,3)),734))/7),"") -> 10 | M13: =IF(WEEKDAY(J13,2)<6,CHOOSE(MOD(INT((J13-43241)/7),3)+1,IF(MOD(J13-43224,42)=0,"","Nuit"),"Après-midi","Matin"),"") -> Après-midi | N13: 43198 | P13: =IF(MONTH(N13)=MONTH(N$5),1+INT(MIN(MOD(N13-DATE(YEAR(N13)+{-1;0;1},1,5)+WEEKDAY(DATE(YEAR(N13)+{-1;0;1},1,3)),734))/7),"") -> 14 | Q13: =IF(WEEKDAY(N13,2)<6,CHOOSE(MOD(INT((N13-43241)/7),3)+1,IF(MOD(N13-43224,42)=0,"","Nuit"),"Après-midi","Matin"),"") | R13: 43228 | S13: Victoire de 1945 | T13: =IF(MONTH(R13)=MONTH(R$5),1+INT(MIN(MOD(R13-DATE(YEAR(R13)+{-1;0;1},1,5)+WEEKDAY(DATE(YEAR(R13)+{-1;0;1},1,3)),734))/7),"") -> 19 | U13: =IF(WEEKDAY(R13,2)<6,CHOOSE(MOD(INT((R13-43241)/7),3)+1,IF(MOD(R13-43224,42)=0,"","Nuit"),"Après-midi","Matin"),"") -> Après-midi | V13: 43259 | X13: =IF(MONTH(V13)=MONTH(V$5),1+INT(MIN(MOD(V13-DATE(YEAR(V13)+{-1;0;1},1,5)+WEEKDAY(DATE(YEAR(V13)+{-1;0;1},1,3)),734))/7),"") -> 23 | Y13: =IF(WEEKDAY(V13,2)<6,CHOOSE(MOD(INT((V13-43241)/7),3)+1,IF(MOD(V13-43224,42)=0,"","Nuit"),"Après-midi","Matin"),"") -> Matin
B14: 43109 | D14: =IF(MONTH(B14)=MONTH(B$5),1+INT(MIN(MOD(B14-DATE(YEAR(B14)+{-1;0;1},1,5)+WEEKDAY(DATE(YEAR(B14)+{-1;0;1},1,3)),734))/7),"") -> 2 | E14: =IF(WEEKDAY(B14,2)<6,CHOOSE(MOD(INT((B14-43241)/7),3)+1,IF(MOD(B14-43224,42)=0,"","Nuit"),"Après-midi","Matin"),"") -> Matin | F14: 43140 | H14: =IF(MONTH(F14)=MONTH(F$5),1+INT(MIN(MOD(F14-DATE(YEAR(F14)+{-1;0;1},1,5)+WEEKDAY(DATE(YEAR(F14)+{-1;0;1},1,3)),734))/7),"") -> 6 | I14: =IF(WEEKDAY(F14,2)<6,CHOOSE(MOD(INT((F14-43241)/7),3)+1,IF(MOD(F14-43224,42)=0,"","Nuit"),"Après-midi","Matin"),"") | J14: 43168 | L14: =IF(MONTH(J14)=MONTH(J$5),1+INT(MIN(MOD(J14-DATE(YEAR(J14)+{-1;0;1},1,5)+WEEKDAY(DATE(YEAR(J14)+{-1;0;1},1,3)),734))/7),"") -> 10 | M14: =IF(WEEKDAY(J14,2)<6,CHOOSE(MOD(INT((J14-43241)/7),3)+1,IF(MOD(J14-43224,42)=0,"","Nuit"),"Après-midi","Matin"),"") -> Après-midi | N14: 43199 | P14: =IF(MONTH(N14)=MONTH(N$5),1+INT(MIN(MOD(N14-DATE(YEAR(N14)+{-1;0;1},1,5)+WEEKDAY(DATE(YEAR(N14)+{-1;0;1},1,3)),734))/7),"") -> 15 | Q14: =IF(WEEKDAY(N14,2)<6,CHOOSE(MOD(INT((N14-43241)/7),3)+1,IF(MOD(N14-43224,42)=0,"","Nuit"),"Après-midi","Matin"),"") -> Nuit | R14: 43229 | T14: =IF(MONTH(R14)=MONTH(R$5),1+INT(MIN(MOD(R14-DATE(YEAR(R14)+{-1;0;1},1,5)+WEEKDAY(DATE(YEAR(R14)+{-1;0;1},1,3)),734))/7),"") -> 19 | U14: =IF(WEEKDAY(R14,2)<6,CHOOSE(MOD(INT((R14-43241)/7),3)+1,IF(MOD(R14-43224,42)=0,"","Nuit"),"Après-midi","Matin"),"") -> Après-midi | V14: 43260 | X14: =IF(MONTH(V14)=MONTH(V$5),1+INT(MIN(MOD(V14-DATE(YEAR(V14)+{-1;0;1},1,5)+WEEKDAY(DATE(YEAR(V14)+{-1;0;1},1,3)),734))/7),"") -> 23 | Y14: =IF(WEEKDAY(V14,2)<6,CHOOSE(MOD(INT((V14-43241)/7),3)+1,IF(MOD(V14-43224,42)=0,"","Nuit"),"Après-midi","Matin"),"")
B15: 43110 | D15: =IF(MONTH(B15)=MONTH(B$5),1+INT(MIN(MOD(B15-DATE(YEAR(B15)+{-1;0;1},1,5)+WEEKDAY(DATE(YEAR(B15)+{-1;0;1},1,3)),734))/7),"") -> 2 | E15: =IF(WEEKDAY(B15,2)<6,CHOOSE(MOD(INT((B15-43241)/7),3)+1,IF(MOD(B15-43224,42)=0,"","Nuit"),"Après-midi","Matin"),"") -> Matin | F15: 43141 | H15: =IF(MONTH(F15)=MONTH(F$5),1+INT(MIN(MOD(F15-DATE(YEAR(F15)+{-1;0;1},1,5)+WEEKDAY(DATE(YEAR(F15)+{-1;0;1},1,3)),734))/7),"") -> 6 | I15: =IF(WEEKDAY(F15,2)<6,CHOOSE(MOD(INT((F15-43241)/7),3)+1,IF(MOD(F15-43224,42)=0,"","Nuit"),"Après-midi","Matin"),"") | J15: 43169 | L15: =IF(MONTH(J15)=MONTH(J$5),1+INT(MIN(MOD(J15-DATE(YEAR(J15)+{-1;0;1},1,5)+WEEKDAY(DATE(YEAR(J15)+{-1;0;1},1,3)),734))/7),"") -> 10 | M15: =IF(WEEKDAY(J15,2)<6,CHOOSE(MOD(INT((J15-43241)/7),3)+1,IF(MOD(J15-43224,42)=0,"","Nuit"),"Après-midi","Matin"),"") | N15: 43200 | P15: =IF(MONTH(N15)=MONTH(N$5),1+INT(MIN(MOD(N15-DATE(YEAR(N15)+{-1;0;1},1,5)+WEEKDAY(DATE(YEAR(N15)+{-1;0;1},1,3)),734))/7),"") -> 15 | Q15: =IF(WEEKDAY(N15,2)<6,CHOOSE(MOD(INT((N15-43241)/7),3)+1,IF(MOD(N15-43224,42)=0,"","Nuit"),"Après-midi","Matin"),"") -> Nuit | R15: 43230 | S15: Ascension | T15: =IF(MONTH(R15)=MONTH(R$5),1+INT(MIN(MOD(R15-DATE(YEAR(R15)+{-1;0;1},1,5)+WEEKDAY(DATE(YEAR(R15)+{-1;0;1},1,3)),734))/7),"") -> 19 | U15: =IF(WEEKDAY(R15,2)<6,CHOOSE(MOD(INT((R15-43241)/7),3)+1,IF(MOD(R15-43224,42)=0,"","Nuit"),"Après-midi","Matin"),"") -> Après-midi | V15: 43261 | X15: =IF(MONTH(V15)=MONTH(V$5),1+INT(MIN(MOD(V15-DATE(YEAR(V15)+{-1;0;1},1,5)+WEEKDAY(DATE(YEAR(V15)+{-1;0;1},1,3)),734))/7),"") -> 23 | Y15: =IF(WEEKDAY(V15,2)<6,CHOOSE(MOD(INT((V15-43241)/7),3)+1,IF(MOD(V15-43224,42)=0,"","Nuit"),"Après-midi","Matin"),"")
B16: 43111 | D16: =IF(MONTH(B16)=MONTH(B$5),1+INT(MIN(MOD(B16-DATE(YEAR(B16)+{-1;0;1},1,5)+WEEKDAY(DATE(YEAR(B16)+{-1;0;1},1,3)),734))/7),"") -> 2 | E16: =IF(WEEKDAY(B16,2)<6,CHOOSE(MOD(INT((B16-43241)/7),3)+1,IF(MOD(B16-43224,42)=0,"","Nuit"),"Après-midi","Matin"),"") -> Matin | F16: 43142 | H16: =IF(MONTH(F16)=MONTH(F$5),1+INT(MIN(MOD(F16-DATE(YEAR(F16)+{-1;0;1},1,5)+WEEKDAY(DATE(YEAR(F16)+{-1;0;1},1,3)),734))/7),"") -> 6 | I16: =IF(WEEKDAY(F16,2)<6,CHOOSE(MOD(INT((F16-43241)/7),3)+1,IF(MOD(F16-43224,42)=0,"","Nuit"),"Après-midi","Matin"),"") | J16: 43170 | L16: =IF(MONTH(J16)=MONTH(J$5),1+INT(MIN(MOD(J16-DATE(YEAR(J16)+{-1;0;1},1,5)+WEEKDAY(DATE(YEAR(J16)+{-1;0;1},1,3)),734))/7),"") -> 10 | M16: =IF(WEEKDAY(J16,2)<6,CHOOSE(MOD(INT((J16-43241)/7),3)+1,IF(MOD(J16-43224,42)=0,"","Nuit"),"Après-midi","Matin"),"") | N16: 43201 | P16: =IF(MONTH(N16)=MONTH(N$5),1+INT(MIN(MOD(N16-DATE(YEAR(N16)+{-1;0;1},1,5)+WEEKDAY(DATE(YEAR(N16)+{-1;0;1},1,3)),734))/7),"") -> 15 | Q16: =IF(WEEKDAY(N16,2)<6,CHOOSE(MOD(INT((N16-43241)/7),3)+1,IF(MOD(N16-43224,42)=0,"","Nuit"),"Après-midi","Matin"),"") -> Nuit | R16: 43231 | S16: Pont | T16: =IF(MONTH(R16)=MONTH(R$5),1+INT(MIN(MOD(R16-DATE(YEAR(R16)+{-1;0;1},1,5)+WEEKDAY(DATE(YEAR(R16)+{-1;0;1},1,3)),734))/7),"") -> 19 | U16: =IF(WEEKDAY(R16,2)<6,CHOOSE(MOD(INT((R16-43241)/7),3)+1,IF(MOD(R16-43224,42)=0,"","Nuit"),"Après-midi","Matin"),"") -> Après-midi | V16: 43262 | X16: =IF(MONTH(V16)=MONTH(V$5),1+INT(MIN(MOD(V16-DATE(YEAR(V16)+{-1;0;1},1,5)+WEEKDAY(DATE(YEAR(V16)+{-1;0;1},1,3)),734))/7),"") -> 24 | Y16: =IF(WEEKDAY(V16,2)<6,CHOOSE(MOD(INT((V16-43241)/7),3)+1,IF(MOD(V16-43224,42)=0,"","Nuit"),"Après-midi","Matin"),"") -> Nuit
B17: 43112 | D17: =IF(MONTH(B17)=MONTH(B$5),1+INT(MIN(MOD(B17-DATE(YEAR(B17)+{-1;0;1},1,5)+WEEKDAY(DATE(YEAR(B17)+{-1;0;1},1,3)),734))/7),"") -> 2 | E17: =IF(WEEKDAY(B17,2)<6,CHOOSE(MOD(INT((B17-43241)/7),3)+1,IF(MOD(B17-43224,42)=0,"","Nuit"),"Après-midi","Matin"),"") -> Matin | F17: 43143 | H17: =IF(MONTH(F17)=MONTH(F$5),1+INT(MIN(MOD(F17-DATE(YEAR(F17)+{-1;0;1},1,5)+WEEKDAY(DATE(YEAR(F17)+{-1;0;1},1,3)),734))/7),"") -> 7 | I17: =IF(WEEKDAY(F17,2)<6,CHOOSE(MOD(INT((F17-43241)/7),3)+1,IF(MOD(F17-43224,42)=0,"","Nuit"),"Après-midi","Matin"),"") -> Après-midi | J17: 43171 | L17: =IF(MONTH(J17)=MONTH(J$5),1+INT(MIN(MOD(J17-DATE(YEAR(J17)+{-1;0;1},1,5)+WEEKDAY(DATE(YEAR(J17)+{-1;0;1},1,3)),734))/7),"") -> 11 | M17: =IF(WEEKDAY(J17,2)<6,CHOOSE(MOD(INT((J17-43241)/7),3)+1,IF(MOD(J17-43224,42)=0,"","Nuit"),"Après-midi","Matin"),"") -> Matin | N17: 43202 | P17: =IF(MONTH(N17)=MONTH(N$5),1+INT(MIN(MOD(N17-DATE(YEAR(N17)+{-1;0;1},1,5)+WEEKDAY(DATE(YEAR(N17)+{-1;0;1},1,3)),734))/7),"") -> 15 | Q17: =IF(WEEKDAY(N17,2)<6,CHOOSE(MOD(INT((N17-43241)/7),3)+1,IF(MOD(N17-43224,42)=0,"","Nuit"),"Après-midi","Matin"),"") -> Nuit | R17: 43232 | T17: =IF(MONTH(R17)=MONTH(R$5),1+INT(MIN(MOD(R17-DATE(YEAR(R17)+{-1;0;1},1,5)+WEEKDAY(DATE(YEAR(R17)+{-1;0;1},1,3)),734))/7),"") -> 19 | U17: =IF(WEEKDAY(R17,2)<6,CHOOSE(MOD(INT((R17-43241)/7),3)+1,IF(MOD(R17-43224,42)=0,"","Nuit"),"Après-midi","Matin"),"") | V17: 43263 | X17: =IF(MONTH(V17)=MONTH(V$5),1+INT(MIN(MOD(V17-DATE(YEAR(V17)+{-1;0;1},1,5)+WEEKDAY(DATE(YEAR(V17)+{-1;0;1},1,3)),734))/7),"") -> 24 | Y17: =IF(WEEKDAY(V17,2)<6,CHOOSE(MOD(INT((V17-43241)/7),3)+1,IF(MOD(V17-43224,42)=0,"","Nuit"),"Après-midi","Matin"),"") -> Nuit
B18: 43113 | D18: =IF(MONTH(B18)=MONTH(B$5),1+INT(MIN(MOD(B18-DATE(YEAR(B18)+{-1;0;1},1,5)+WEEKDAY(DATE(YEAR(B18)+{-1;0;1},1,3)),734))/7),"") -> 2 | E18: =IF(WEEKDAY(B18,2)<6,CHOOSE(MOD(INT((B18-43241)/7),3)+1,IF(MOD(B18-43224,42)=0,"","Nuit"),"Après-midi","Matin"),"") | F18: 43144 | H18: =IF(MONTH(F18)=MONTH(F$5),1+INT(MIN(MOD(F18-DATE(YEAR(F18)+{-1;0;1},1,5)+WEEKDAY(DATE(YEAR(F18)+{-1;0;1},1,3)),734))/7),"") -> 7 | I18: =IF(WEEKDAY(F18,2)<6,CHOOSE(MOD(INT((F18-43241)/7),3)+1,IF(MOD(F18-43224,42)=0,"","Nuit"),"Après-midi","Matin"),"") -> Après-midi | J18: 43172 | L18: =IF(MONTH(J18)=MONTH(J$5),1+INT(MIN(MOD(J18-DATE(YEAR(J18)+{-1;0;1},1,5)+WEEKDAY(DATE(YEAR(J18)+{-1;0;1},1,3)),734))/7),"") -> 11 | M18: =IF(WEEKDAY(J18,2)<6,CHOOSE(MOD(INT((J18-43241)/7),3)+1,IF(MOD(J18-43224,42)=0,"","Nuit"),"Après-midi","Matin"),"") -> Matin | N18: 43203 | P18: =IF(MONTH(N18)=MONTH(N$5),1+INT(MIN(MOD(N18-DATE(YEAR(N18)+{-1;0;1},1,5)+WEEKDAY(DATE(YEAR(N18)+{-1;0;1},1,3)),734))/7),"") -> 15 | Q18: =IF(WEEKDAY(N18,2)<6,CHOOSE(MOD(INT((N18-43241)/7),3)+1,IF(MOD(N18-43224,42)=0,"","Nuit"),"Après-midi","Matin"),"") -> Nuit | R18: 43233 | T18: =IF(MONTH(R18)=MONTH(R$5),1+INT(MIN(MOD(R18-DATE(YEAR(R18)+{-1;0;1},1,5)+WEEKDAY(DATE(YEAR(R18)+{-1;0;1},1,3)),734))/7),"") -> 19 | U18: =IF(WEEKDAY(R18,2)<6,CHOOSE(MOD(INT((R18-43241)/7),3)+1,IF(MOD(R18-43224,42)=0,"","Nuit"),"Après-midi","Matin"),"") | V18: 43264 | X18: =IF(MONTH(V18)=MONTH(V$5),1+INT(MIN(MOD(V18-DATE(YEAR(V18)+{-1;0;1},1,5)+WEEKDAY(DATE(YEAR(V18)+{-1;0;1},1,3)),734))/7),"") -> 24 | Y18: =IF(WEEKDAY(V18,2)<6,CHOOSE(MOD(INT((V18-43241)/7),3)+1,IF(MOD(V18-43224,42)=0,"","Nuit"),"Après-midi","Matin"),"") -> Nuit
B19: 43114 | D19: =IF(MONTH(B19)=MONTH(B$5),1+INT(MIN(MOD(B19-DATE(YEAR(B19)+{-1;0;1},1,5)+WEEKDAY(DATE(YEAR(B19)+{-1;0;1},1,3)),734))/7),"") -> 2 | E19: =IF(WEEKDAY(B19,2)<6,CHOOSE(MOD(INT((B19-43241)/7),3)+1,IF(MOD(B19-43224,42)=0,"","Nuit"),"Après-midi","Matin"),"") | F19: 43145 | H19: =IF(MONTH(F19)=MONTH(F$5),1+INT(MIN(MOD(F19-DATE(YEAR(F19)+{-1;0;1},1,5)+WEEKDAY(DATE(YEAR(F19)+{-1;0;1},1,3)),734))/7),"") -> 7 | I19: =IF(WEEKDAY(F19,2)<6,CHOOSE(MOD(INT((F19-43241)/7),3)+1,IF(MOD(F19-43224,42)=0,"","Nuit"),"Après-midi","Matin"),"") -> Après-midi | J19: 43173 | L19: =IF(MONTH(J19)=MONTH(J$5),1+INT(MIN(MOD(J19-DATE(YEAR(J19)+{-1;0;1},1,5)+WEEKDAY(DATE(YEAR(J19)+{-1;0;1},1,3)),734))/7),"") -> 11 | M19: =IF(WEEKDAY(J19,2)<6,CHOOSE(MOD(INT((J19-43241)/7),3)+1,IF(MOD(J19-43224,42)=0,"","Nuit"),"Après-midi","Matin"),"") -> Matin | N19: 43204 | P19: =IF(MONTH(N19)=MONTH(N$5),1+INT(MIN(MOD(N19-DATE(YEAR(N19)+{-1;0;1},1,5)+WEEKDAY(DATE(YEAR(N19)+{-1;0;1},1,3)),734))/7),"") -> 15 | Q19: =IF(WEEKDAY(N19,2)<6,CHOOSE(MOD(INT((N19-43241)/7),3)+1,IF(MOD(N19-43224,42)=0,"","Nuit"),"Après-midi","Matin"),"") | R19: 43234 | T19: =IF(MONTH(R19)=MONTH(R$5),1+INT(MIN(MOD(R19-DATE(YEAR(R19)+{-1;0;1},1,5)+WEEKDAY(DATE(YEAR(R19)+{-1;0;1},1,3)),734))/7),"") -> 20 | U19: =IF(WEEKDAY(R19,2)<6,CHOOSE(MOD(INT((R19-43241)/7),3)+1,IF(MOD(R19-43224,42)=0,"","Nuit"),"Après-midi","Matin"),"") -> Matin | V19: 43265 | X19: =IF(MONTH(V19)=MONTH(V$5),1+INT(MIN(MOD(V19-DATE(YEAR(V19)+{-1;0;1},1,5)+WEEKDAY(DATE(YEAR(V19)+{-1;0;1},1,3)),734))/7),"") -> 24 | Y19: =IF(WEEKDAY(V19,2)<6,CHOOSE(MOD(INT((V19-43241)/7),3)+1,IF(MOD(V19-43224,42)=0,"","Nuit"),"Après-midi","Matin"),"") -> Nuit
B20: 43115 | D20: =IF(MONTH(B20)=MONTH(B$5),1+INT(MIN(MOD(B20-DATE(YEAR(B20)+{-1;0;1},1,5)+WEEKDAY(DATE(YEAR(B20)+{-1;0;1},1,3)),734))/7),"") -> 3 | E20: =IF(WEEKDAY(B20,2)<6,CHOOSE(MOD(INT((B20-43241)/7),3)+1,IF(MOD(B20-43224,42)=0,"","Nuit"),"Après-midi","Matin"),"") -> Nuit | F20: 43146 | H20: =IF(MONTH(F20)=MONTH(F$5),1+INT(MIN(MOD(F20-DATE(YEAR(F20)+{-1;0;1},1,5)+WEEKDAY(DATE(YEAR(F20)+{-1;0;1},1,3)),734))/7),"") -> 7 | I20: =IF(WEEKDAY(F20,2)<6,CHOOSE(MOD(INT((F20-43241)/7),3)+1,IF(MOD(F20-43224,42)=0,"","Nuit"),"Après-midi","Matin"),"") -> Après-midi | J20: 43174 | L20: =IF(MONTH(J20)=MONTH(J$5),1+INT(MIN(MOD(J20-DATE(YEAR(J20)+{-1;0;1},1,5)+WEEKDAY(DATE(YEAR(J20)+{-1;0;1},1,3)),734))/7),"") -> 11 | M20: =IF(WEEKDAY(J20,2)<6,CHOOSE(MOD(INT((J20-43241)/7),3)+1,IF(MOD(J20-43224,42)=0,"","Nuit"),"Après-midi","Matin"),"") -> Matin | N20: 43205 | P20: =IF(MONTH(N20)=MONTH(N$5),1+INT(MIN(MOD(N20-DATE(YEAR(N20)+{-1;0;1},1,5)+WEEKDAY(DATE(YEAR(N20)+{-1;0;1},1,3)),734))/7),"") -> 15 | Q20: =IF(WEEKDAY(N20,2)<6,CHOOSE(MOD(INT((N20-43241)/7),3)+1,IF(MOD(N20-43224,42)=0,"","Nuit"),"Après-midi","Matin"),"") | R20: 43235 | T20: =IF(MONTH(R20)=MONTH(R$5),1+INT(MIN(MOD(R20-DATE(YEAR(R20)+{-1;0;1},1,5)+WEEKDAY(DATE(YEAR(R20)+{-1;0;1},1,3)),734))/7),"") -> 20 | U20: =IF(WEEKDAY(R20,2)<6,CHOOSE(MOD(INT((R20-43241)/7),3)+1,IF(MOD(R20-43224,42)=0,"","Nuit"),"Après-midi","Matin"),"") -> Matin | V20: 43266 | X20: =IF(MONTH(V20)=MONTH(V$5),1+INT(MIN(MOD(V20-DATE(YEAR(V20)+{-1;0;1},1,5)+WEEKDAY(DATE(YEAR(V20)+{-1;0;1},1,3)),734))/7),"") -> 24 | Y20: =IF(WEEKDAY(V20,2)<6,CHOOSE(MOD(INT((V20-43241)/7),3)+1,IF(MOD(V20-43224,42)=0,"","Nuit"),"Après-midi","Matin"),"")
B21: 43116 | D21: =IF(MONTH(B21)=MONTH(B$5),1+INT(MIN(MOD(B21-DATE(YEAR(B21)+{-1;0;1},1,5)+WEEKDAY(DATE(YEAR(B21)+{-1;0;1},1,3)),734))/7),"") -> 3 | E21: =IF(WEEKDAY(B21,2)<6,CHOOSE(MOD(INT((B21-43241)/7),3)+1,IF(MOD(B21-43224,42)=0,"","Nuit"),"Après-midi","Matin"),"") -> Nuit | F21: 43147 | H21: =IF(MONTH(F21)=MONTH(F$5),1+INT(MIN(MOD(F21-DATE(YEAR(F21)+{-1;0;1},1,5)+WEEKDAY(DATE(YEAR(F21)+{-1;0;1},1,3)),734))/7),"") -> 7 | I21: =IF(WEEKDAY(F21,2)<6,CHOOSE(MOD(INT((F21-43241)/7),3)+1,IF(MOD(F21-43224,42)=0,"","Nuit"),"Après-midi","Matin"),"") -> Après-midi | J21: 43175 | L21: =IF(MONTH(J21)=MONTH(J$5),1+INT(MIN(MOD(J21-DATE(YEAR(J21)+{-1;0;1},1,5)+WEEKDAY(DATE(YEAR(J21)+{-1;0;1},1,3)),734))/7),"") -> 11 | M21: =IF(WEEKDAY(J21,2)<6,CHOOSE(MOD(INT((J21-43241)/7),3)+1,IF(MOD(J21-43224,42)=0,"","Nuit"),"Après-midi","Matin"),"") -> Matin | N21: 43206 | P21: =IF(MONTH(N21)=MONTH(N$5),1+INT(MIN(MOD(N21-DATE(YEAR(N21)+{-1;0;1},1,5)+WEEKDAY(DATE(YEAR(N21)+{-1;0;1},1,3)),734))/7),"") -> 16 | Q21: =IF(WEEKDAY(N21,2)<6,CHOOSE(MOD(INT((N21-43241)/7),3)+1,IF(MOD(N21-43224,42)=0,"","Nuit"),"Après-midi","Matin"),"") -> Après-midi | R21: 43236 | T21: =IF(MONTH(R21)=MONTH(R$5),1+INT(MIN(MOD(R21-DATE(YEAR(R21)+{-1;0;1},1,5)+WEEKDAY(DATE(YEAR(R21)+{-1;0;1},1,3)),734))/7),"") -> 20 | U21: =IF(WEEKDAY(R21,2)<6,CHOOSE(MOD(INT((R21-43241)/7),3)+1,IF(MOD(R21-43224,42)=0,"","Nuit"),"Après-midi","Matin"),"") -> Matin | V21: 43267 | X21: =IF(MONTH(V21)=MONTH(V$5),1+INT(MIN(MOD(V21-DATE(YEAR(V21)+{-1;0;1},1,5)+WEEKDAY(DATE(YEAR(V21)+{-1;0;1},1,3)),734))/7),"") -> 24 | Y21: =IF(WEEKDAY(V21,2)<6,CHOOSE(MOD(INT((V21-43241)/7),3)+1,IF(MOD(V21-43224,42)=0,"","Nuit"),"Après-midi","Matin"),"")
B22: 43117 | D22: =IF(MONTH(B22)=MONTH(B$5),1+INT(MIN(MOD(B22-DATE(YEAR(B22)+{-1;0;1},1,5)+WEEKDAY(DATE(YEAR(B22)+{-1;0;1},1,3)),734))/7),"") -> 3 | E22: =IF(WEEKDAY(B22,2)<6,CHOOSE(MOD(INT((B22-43241)/7),3)+1,IF(MOD(B22-43224,42)=0,"","Nuit"),"Après-midi","Matin"),"") -> Nuit | F22: 43148 | H22: =IF(MONTH(F22)=MONTH(F$5),1+INT(MIN(MOD(F22-DATE(YEAR(F22)+{-1;0;1},1,5)+WEEKDAY(DATE(YEAR(F22)+{-1;0;1},1,3)),734))/7),"") -> 7 | I22: =IF(WEEKDAY(F22,2)<6,CHOOSE(MOD(INT((F22-43241)/7),3)+1,IF(MOD(F22-43224,42)=0,"","Nuit"),"Après-midi","Matin"),"") | J22: 43176 | L22: =IF(MONTH(J22)=MONTH(J$5),1+INT(MIN(MOD(J22-DATE(YEAR(J22)+{-1;0;1},1,5)+WEEKDAY(DATE(YEAR(J22)+{-1;0;1},1,3)),734))/7),"") -> 11 | M22: =IF(WEEKDAY(J22,2)<6,CHOOSE(MOD(INT((J22-43241)/7),3)+1,IF(MOD(J22-43224,42)=0,"","Nuit"),"Après-midi","Matin"),"") | N22: 43207 | P22: =IF(MONTH(N22)=MONTH(N$5),1+INT(MIN(MOD(N22-DATE(YEAR(N22)+{-1;0;1},1,5)+WEEKDAY(DATE(YEAR(N22)+{-1;0;1},1,3)),734))/7),"") -> 16 | Q22: =IF(WEEKDAY(N22,2)<6,CHOOSE(MOD(INT((N22-43241)/7),3)+1,IF(MOD(N22-43224,42)=0,"","Nuit"),"Après-midi","Matin"),"") -> Après-midi | R22: 43237 | T22: =IF(MONTH(R22)=MONTH(R$5),1+INT(MIN(MOD(R22-DATE(YEAR(R22)+{-1;0;1},1,5)+WEEKDAY(DATE(YEAR(R22)+{-1;0;1},1,3)),734))/7),"") -> 20 | U22: =IF(WEEKDAY(R22,2)<6,CHOOSE(MOD(INT((R22-43241)/7),3)+1,IF(MOD(R22-43224,42)=0,"","Nuit"),"Après-midi","Matin"),"") -> Matin | V22: 43268 | X22: =IF(MONTH(V22)=MONTH(V$5),1+INT(MIN(MOD(V22-DATE(YEAR(V22)+{-1;0;1},1,5)+WEEKDAY(DATE(YEAR(V22)+{-1;0;1},1,3)),734))/7),"") -> 24 | Y22: =IF(WEEKDAY(V22,2)<6,CHOOSE(MOD(INT((V22-43241)/7),3)+1,IF(MOD(V22-43224,42)=0,"","Nuit"),"Après-midi","Matin"),"")
B23: 43118 | D23: =IF(MONTH(B23)=MONTH(B$5),1+INT(MIN(MOD(B23-DATE(YEAR(B23)+{-1;0;1},1,5)+WEEKDAY(DATE(YEAR(B23)+{-1;0;1},1,3)),734))/7),"") -> 3 | E23: =IF(WEEKDAY(B23,2)<6,CHOOSE(MOD(INT((B23-43241)/7),3)+1,IF(MOD(B23-43224,42)=0,"","Nuit"),"Après-midi","Matin"),"") -> Nuit | F23: 43149 | H23: =IF(MONTH(F23)=MONTH(F$5),1+INT(MIN(MOD(F23-DATE(YEAR(F23)+{-1;0;1},1,5)+WEEKDAY(DATE(YEAR(F23)+{-1;0;1},1,3)),734))/7),"") -> 7 | I23: =IF(WEEKDAY(F23,2)<6,CHOOSE(MOD(INT((F23-43241)/7),3)+1,IF(MOD(F23-43224,42)=0,"","Nuit"),"Après-midi","Matin"),"") | J23: 43177 | L23: =IF(MONTH(J23)=MONTH(J$5),1+INT(MIN(MOD(J23-DATE(YEAR(J23)+{-1;0;1},1,5)+WEEKDAY(DATE(YEAR(J23)+{-1;0;1},1,3)),734))/7),"") -> 11 | M23: =IF(WEEKDAY(J23,2)<6,CHOOSE(MOD(INT((J23-43241)/7),3)+1,IF(MOD(J23-43224,42)=0,"","Nuit"),"Après-midi","Matin"),"") | N23: 43208 | P23: =IF(MONTH(N23)=MONTH(N$5),1+INT(MIN(MOD(N23-DATE(YEAR(N23)+{-1;0;1},1,5)+WEEKDAY(DATE(YEAR(N23)+{-1;0;1},1,3)),734))/7),"") -> 16 | Q23: =IF(WEEKDAY(N23,2)<6,CHOOSE(MOD(INT((N23-43241)/7),3)+1,IF(MOD(N23-43224,42)=0,"","Nuit"),"Après-midi","Matin"),"") -> Après-midi | R23: 43238 | T23: =IF(MONTH(R23)=MONTH(R$5),1+INT(MIN(MOD(R23-DATE(YEAR(R23)+{-1;0;1},1,5)+WEEKDAY(DATE(YEAR(R23)+{-1;0;1},1,3)),734))/7),"") -> 20 | U23: =IF(WEEKDAY(R23,2)<6,CHOOSE(MOD(INT((R23-43241)/7),3)+1,IF(MOD(R23-43224,42)=0,"","Nuit"),"Après-midi","Matin"),"") -> Matin | V23: 43269 | X23: =IF(MONTH(V23)=MONTH(V$5),1+INT(MIN(MOD(V23-DATE(YEAR(V23)+{-1;0;1},1,5)+WEEKDAY(DATE(YEAR(V23)+{-1;0;1},1,3)),734))/7),"") -> 25 | Y23: =IF(WEEKDAY(V23,2)<6,CHOOSE(MOD(INT((V23-43241)/7),3)+1,IF(MOD(V23-43224,42)=0,"","Nuit"),"Après-midi","Matin"),"") -> Après-midi
B24: 43119 | D24: =IF(MONTH(B24)=MONTH(B$5),1+INT(MIN(MOD(B24-DATE(YEAR(B24)+{-1;0;1},1,5)+WEEKDAY(DATE(YEAR(B24)+{-1;0;1},1,3)),734))/7),"") -> 3 | E24: =IF(WEEKDAY(B24,2)<6,CHOOSE(MOD(INT((B24-43241)/7),3)+1,IF(MOD(B24-43224,42)=0,"","Nuit"),"Après-midi","Matin"),"") -> Nuit | F24: 43150 | H24: =IF(MONTH(F24)=MONTH(F$5),1+INT(MIN(MOD(F24-DATE(YEAR(F24)+{-1;0;1},1,5)+WEEKDAY(DATE(YEAR(F24)+{-1;0;1},1,3)),734))/7),"") -> 8 | I24: =IF(WEEKDAY(F24,2)<6,CHOOSE(MOD(INT((F24-43241)/7),3)+1,IF(MOD(F24-43224,42)=0,"","Nuit"),"Après-midi","Matin"),"") -> Matin | J24: 43178 | L24: =IF(MONTH(J24)=MONTH(J$5),1+INT(MIN(MOD(J24-DATE(YEAR(J24)+{-1;0;1},1,5)+WEEKDAY(DATE(YEAR(J24)+{-1;0;1},1,3)),734))/7),"") -> 12 | M24: =IF(WEEKDAY(J24,2)<6,CHOOSE(MOD(INT((J24-43241)/7),3)+1,IF(MOD(J24-43224,42)=0,"","Nuit"),"Après-midi","Matin"),"") -> Nuit | N24: 43209 | P24: =IF(MONTH(N24)=MONTH(N$5),1+INT(MIN(MOD(N24-DATE(YEAR(N24)+{-1;0;1},1,5)+WEEKDAY(DATE(YEAR(N24)+{-1;0;1},1,3)),734))/7),"") -> 16 | Q24: =IF(WEEKDAY(N24,2)<6,CHOOSE(MOD(INT((N24-43241)/7),3)+1,IF(MOD(N24-43224,42)=0,"","Nuit"),"Après-midi","Matin"),"") -> Après-midi | R24: 43239 | T24: =IF(MONTH(R24)=MONTH(R$5),1+INT(MIN(MOD(R24-DATE(YEAR(R24)+{-1;0;1},1,5)+WEEKDAY(DATE(YEAR(R24)+{-1;0;1},1,3)),734))/7),"") -> 20 | U24: =IF(WEEKDAY(R24,2)<6,CHOOSE(MOD(INT((R24-43241)/7),3)+1,IF(MOD(R24-43224,42)=0,"","Nuit"),"Après-midi","Matin"),"") | V24: 43270 | X24: =IF(MONTH(V24)=MONTH(V$5),1+INT(MIN(MOD(V24-DATE(YEAR(V24)+{-1;0;1},1,5)+WEEKDAY(DATE(YEAR(V24)+{-1;0;1},1,3)),734))/7),"") -> 25 | Y24: =IF(WEEKDAY(V24,2)<6,CHOOSE(MOD(INT((V24-43241)/7),3)+1,IF(MOD(V24-43224,42)=0,"","Nuit"),"Après-midi","Matin"),"") -> Après-midi
B25: 43120 | D25: =IF(MONTH(B25)=MONTH(B$5),1+INT(MIN(MOD(B25-DATE(YEAR(B25)+{-1;0;1},1,5)+WEEKDAY(DATE(YEAR(B25)+{-1;0;1},1,3)),734))/7),"") -> 3 | E25: =IF(WEEKDAY(B25,2)<6,CHOOSE(MOD(INT((B25-43241)/7),3)+1,IF(MOD(B25-43224,42)=0,"","Nuit"),"Après-midi","Matin"),"") | F25: 43151 | H25: =IF(MONTH(F25)=MONTH(F$5),1+INT(MIN(MOD(F25-DATE(YEAR(F25)+{-1;0;1},1,5)+WEEKDAY(DATE(YEAR(F25)+{-1;0;1},1,3)),734))/7),"") -> 8 | I25: =IF(WEEKDAY(F25,2)<6,CHOOSE(MOD(INT((F25-43241)/7),3)+1,IF(MOD(F25-43224,42)=0,"","Nuit"),"Après-midi","Matin"),"") -> Matin | J25: 43179 | L25: =IF(MONTH(J25)=MONTH(J$5),1+INT(MIN(MOD(J25-DATE(YEAR(J25)+{-1;0;1},1,5)+WEEKDAY(DATE(YEAR(J25)+{-1;0;1},1,3)),734))/7),"") -> 12 | M25: =IF(WEEKDAY(J25,2)<6,CHOOSE(MOD(INT((J25-43241)/7),3)+1,IF(MOD(J25-43224,42)=0,"","Nuit"),"Après-midi","Matin"),"") -> Nuit | N25: 43210 | P25: =IF(MONTH(N25)=MONTH(N$5),1+INT(MIN(MOD(N25-DATE(YEAR(N25)+{-1;0;1},1,5)+WEEKDAY(DATE(YEAR(N25)+{-1;0;1},1,3)),734))/7),"") -> 16 | Q25: =IF(WEEKDAY(N25,2)<6,CHOOSE(MOD(INT((N25-43241)/7),3)+1,IF(MOD(N25-43224,42)=0,"","Nuit"),"Après-midi","Matin"),"") -> Après-midi | R25: 43240 | T25: =IF(MONTH(R25)=MONTH(R$5),1+INT(MIN(MOD(R25-DATE(YEAR(R25)+{-1;0;1},1,5)+WEEKDAY(DATE(YEAR(R25)+{-1;0;1},1,3)),734))/7),"") -> 20 | U25: =IF(WEEKDAY(R25,2)<6,CHOOSE(MOD(INT((R25-43241)/7),3)+1,IF(MOD(R25-43224,42)=0,"","Nuit"),"Après-midi","Matin"),"") | V25: 43271 | X25: =IF(MONTH(V25)=MONTH(V$5),1+INT(MIN(MOD(V25-DATE(YEAR(V25)+{-1;0;1},1,5)+WEEKDAY(DATE(YEAR(V25)+{-1;0;1},1,3)),734))/7),"") -> 25 | Y25: =IF(WEEKDAY(V25,2)<6,CHOOSE(MOD(INT((V25-43241)/7),3)+1,IF(MOD(V25-43224,42)=0,"","Nuit"),"Après-midi","Matin"),"") -> Après-midi
B26: 43121 | D26: =IF(MONTH(B26)=MONTH(B$5),1+INT(MIN(MOD(B26-DATE(YEAR(B26)+{-1;0;1},1,5)+WEEKDAY(DATE(YEAR(B26)+{-1;0;1},1,3)),734))/7),"") -> 3 | E26: =IF(WEEKDAY(B26,2)<6,CHOOSE(MOD(INT((B26-43241)/7),3)+1,IF(MOD(B26-43224,42)=0,"","Nuit"),"Après-midi","Matin"),"") | F26: 43152 | H26: =IF(MONTH(F26)=MONTH(F$5),1+INT(MIN(MOD(F26-DATE(YEAR(F26)+{-1;0;1},1,5)+WEEKDAY(DATE(YEAR(F26)+{-1;0;1},1,3)),734))/7),"") -> 8 | I26: =IF(WEEKDAY(F26,2)<6,CHOOSE(MOD(INT((F26-43241)/7),3)+1,IF(MOD(F26-43224,42)=0,"","Nuit"),"Après-midi","Matin"),"") -> Matin | J26: 43180 | L26: =IF(MONTH(J26)=MONTH(J$5),1+INT(MIN(MOD(J26-DATE(YEAR(J26)+{-1;0;1},1,5)+WEEKDAY(DATE(YEAR(J26)+{-1;0;1},1,3)),734))/7),"") -> 12 | M26: =IF(WEEKDAY(J26,2)<6,CHOOSE(MOD(INT((J26-43241)/7),3)+1,IF(MOD(J26-43224,42)=0,"","Nuit"),"Après-midi","Matin"),"") -> Nuit | N26: 43211 | P26: =IF(MONTH(N26)=MONTH(N$5),1+INT(MIN(MOD(N26-DATE(YEAR(N26)+{-1;0;1},1,5)+WEEKDAY(DATE(YEAR(N26)+{-1;0;1},1,3)),734))/7),"") -> 16 | Q26: =IF(WEEKDAY(N26,2)<6,CHOOSE(MOD(INT((N26-43241)/7),3)+1,IF(MOD(N26-43224,42)=0,"","Nuit"),"Après-midi","Matin"),"") | R26: 43241 | S26: Pentecôte | T26: =IF(MONTH(R26)=MONTH(R$5),1+INT(MIN(MOD(R26-DATE(YEAR(R26)+{-1;0;1},1,5)+WEEKDAY(DATE(YEAR(R26)+{-1;0;1},1,3)),734))/7),"") -> 21 | U26: =IF(WEEKDAY(R26,2)<6,CHOOSE(MOD(INT((R26-43241)/7),3)+1,IF(MOD(R26-43224,42)=0,"","Nuit"),"Après-midi","Matin"),"") -> Nuit | V26: 43272 | X26: =IF(MONTH(V26)=MONTH(V$5),1+INT(MIN(MOD(V26-DATE(YEAR(V26)+{-1;0;1},1,5)+WEEKDAY(DATE(YEAR(V26)+{-1;0;1},1,3)),734))/7),"") -> 25 | Y26: =IF(WEEKDAY(V26,2)<6,CHOOSE(MOD(INT((V26-43241)/7),3)+1,IF(MOD(V26-43224,42)=0,"","Nuit"),"Après-midi","Matin"),"") -> Après-midi
B27: 43122 | D27: =IF(MONTH(B27)=MONTH(B$5),1+INT(MIN(MOD(B27-DATE(YEAR(B27)+{-1;0;1},1,5)+WEEKDAY(DATE(YEAR(B27)+{-1;0;1},1,3)),734))/7),"") -> 4 | E27: =IF(WEEKDAY(B27,2)<6,CHOOSE(MOD(INT((B27-43241)/7),3)+1,IF(MOD(B27-43224,42)=0,"","Nuit"),"Après-midi","Matin"),"") -> Après-midi | F27: 43153 | H27: =IF(MONTH(F27)=MONTH(F$5),1+INT(MIN(MOD(F27-DATE(YEAR(F27)+{-1;0;1},1,5)+WEEKDAY(DATE(YEAR(F27)+{-1;0;1},1,3)),734))/7),"") -> 8 | I27: =IF(WEEKDAY(F27,2)<6,CHOOSE(MOD(INT((F27-43241)/7),3)+1,IF(MOD(F27-43224,42)=0,"","Nuit"),"Après-midi","Matin"),"") -> Matin | J27: 43181 | L27: =IF(MONTH(J27)=MONTH(J$5),1+INT(MIN(MOD(J27-DATE(YEAR(J27)+{-1;0;1},1,5)+WEEKDAY(DATE(YEAR(J27)+{-1;0;1},1,3)),734))/7),"") -> 12 | M27: =IF(WEEKDAY(J27,2)<6,CHOOSE(MOD(INT((J27-43241)/7),3)+1,IF(MOD(J27-43224,42)=0,"","Nuit"),"Après-midi","Matin"),"") -> Nuit | N27: 43212 | P27: =IF(MONTH(N27)=MONTH(N$5),1+INT(MIN(MOD(N27-DATE(YEAR(N27)+{-1;0;1},1,5)+WEEKDAY(DATE(YEAR(N27)+{-1;0;1},1,3)),734))/7),"") -> 16 | Q27: =IF(WEEKDAY(N27,2)<6,CHOOSE(MOD(INT((N27-43241)/7),3)+1,IF(MOD(N27-43224,42)=0,"","Nuit"),"Après-midi","Matin"),"") | R27: 43242 | T27: =IF(MONTH(R27)=MONTH(R$5),1+INT(MIN(MOD(R27-DATE(YEAR(R27)+{-1;0;1},1,5)+WEEKDAY(DATE(YEAR(R27)+{-1;0;1},1,3)),734))/7),"") -> 21 | U27: =IF(WEEKDAY(R27,2)<6,CHOOSE(MOD(INT((R27-43241)/7),3)+1,IF(MOD(R27-43224,42)=0,"","Nuit"),"Après-midi","Matin"),"") -> Nuit | V27: 43273 | X27: =IF(MONTH(V27)=MONTH(V$5),1+INT(MIN(MOD(V27-DATE(YEAR(V27)+{-1;0;1},1,5)+WEEKDAY(DATE(YEAR(V27)+{-1;0;1},1,3)),734))/7),"") -> 25 | Y27: =IF(WEEKDAY(V27,2)<6,CHOOSE(MOD(INT((V27-43241)/7),3)+1,IF(MOD(V27-43224,42)=0,"","Nuit"),"Après-midi","Matin"),"") -> Après-midi
B28: 43123 | D28: =IF(MONTH(B28)=MONTH(B$5),1+INT(MIN(MOD(B28-DATE(YEAR(B28)+{-1;0;1},1,5)+WEEKDAY(DATE(YEAR(B28)+{-1;0;1},1,3)),734))/7),"") -> 4 | E28: =IF(WEEKDAY(B28,2)<6,CHOOSE(MOD(INT((B28-43241)/7),3)+1,IF(MOD(B28-43224,42)=0,"","Nuit"),"Après-midi","Matin"),"") -> Après-midi | F28: 43154 | H28: =IF(MONTH(F28)=MONTH(F$5),1+INT(MIN(MOD(F28-DATE(YEAR(F28)+{-1;0;1},1,5)+WEEKDAY(DATE(YEAR(F28)+{-1;0;1},1,3)),734))/7),"") -> 8 | I28: =IF(WEEKDAY(F28,2)<6,CHOOSE(MOD(INT((F28-43241)/7),3)+1,IF(MOD(F28-43224,42)=0,"","Nuit"),"Après-midi","Matin"),"") -> Matin | J28: 43182 | L28: =IF(MONTH(J28)=MONTH(J$5),1+INT(MIN(MOD(J28-DATE(YEAR(J28)+{-1;0;1},1,5)+WEEKDAY(DATE(YEAR(J28)+{-1;0;1},1,3)),734))/7),"") -> 12 | M28: =IF(WEEKDAY(J28,2)<6,CHOOSE(MOD(INT((J28-43241)/7),3)+1,IF(MOD(J28-43224,42)=0,"","Nuit"),"Après-midi","Matin"),"") | N28: 43213 | P28: =IF(MONTH(N28)=MONTH(N$5),1+INT(MIN(MOD(N28-DATE(YEAR(N28)+{-1;0;1},1,5)+WEEKDAY(DATE(YEAR(N28)+{-1;0;1},1,3)),734))/7),"") -> 17 | Q28: =IF(WEEKDAY(N28,2)<6,CHOOSE(MOD(INT((N28-43241)/7),3)+1,IF(MOD(N28-43224,42)=0,"","Nuit"),"Après-midi","Matin"),"") -> Matin | R28: 43243 | T28: =IF(MONTH(R28)=MONTH(R$5),1+INT(MIN(MOD(R28-DATE(YEAR(R28)+{-1;0;1},1,5)+WEEKDAY(DATE(YEAR(R28)+{-1;0;1},1,3)),734))/7),"") -> 21 | U28: =IF(WEEKDAY(R28,2)<6,CHOOSE(MOD(INT((R28-43241)/7),3)+1,IF(MOD(R28-43224,42)=0,"","Nuit"),"Après-midi","Matin"),"") -> Nuit | V28: 43274 | X28: =IF(MONTH(V28)=MONTH(V$5),1+INT(MIN(MOD(V28-DATE(YEAR(V28)+{-1;0;1},1,5)+WEEKDAY(DATE(YEAR(V28)+{-1;0;1},1,3)),734))/7),"") -> 25 | Y28: =IF(WEEKDAY(V28,2)<6,CHOOSE(MOD(INT((V28-43241)/7),3)+1,IF(MOD(V28-43224,42)=0,"","Nuit"),"Après-midi","Matin"),"")
B29: 43124 | D29: =IF(MONTH(B29)=MONTH(B$5),1+INT(MIN(MOD(B29-DATE(YEAR(B29)+{-1;0;1},1,5)+WEEKDAY(DATE(YEAR(B29)+{-1;0;1},1,3)),734))/7),"") -> 4 | E29: =IF(WEEKDAY(B29,2)<6,CHOOSE(MOD(INT((B29-43241)/7),3)+1,IF(MOD(B29-43224,42)=0,"","Nuit"),"Après-midi","Matin"),"") -> Après-midi | F29: 43155 | H29: =IF(MONTH(F29)=MONTH(F$5),1+INT(MIN(MOD(F29-DATE(YEAR(F29)+{-1;0;1},1,5)+WEEKDAY(DATE(YEAR(F29)+{-1;0;1},1,3)),734))/7),"") -> 8 | I29: =IF(WEEKDAY(F29,2)<6,CHOOSE(MOD(INT((F29-43241)/7),3)+1,IF(MOD(F29-43224,42)=0,"","Nuit"),"Après-midi","Matin"),"") | J29: 43183 | L29: =IF(MONTH(J29)=MONTH(J$5),1+INT(MIN(MOD(J29-DATE(YEAR(J29)+{-1;0;1},1,5)+WEEKDAY(DATE(YEAR(J29)+{-1;0;1},1,3)),734))/7),"") -> 12 | M29: =IF(WEEKDAY(J29,2)<6,CHOOSE(MOD(INT((J29-43241)/7),3)+1,IF(MOD(J29-43224,42)=0,"","Nuit"),"Après-midi","Matin"),"") | N29: 43214 | P29: =IF(MONTH(N29)=MONTH(N$5),1+INT(MIN(MOD(N29-DATE(YEAR(N29)+{-1;0;1},1,5)+WEEKDAY(DATE(YEAR(N29)+{-1;0;1},1,3)),734))/7),"") -> 17 | Q29: =IF(WEEKDAY(N29,2)<6,CHOOSE(MOD(INT((N29-43241)/7),3)+1,IF(MOD(N29-43224,42)=0,"","Nuit"),"Après-midi","Matin"),"") -> Matin | R29: 43244 | T29: =IF(MONTH(R29)=MONTH(R$5),1+INT(MIN(MOD(R29-DATE(YEAR(R29)+{-1;0;1},1,5)+WEEKDAY(DATE(YEAR(R29)+{-1;0;1},1,3)),734))/7),"") -> 21 | U29: =IF(WEEKDAY(R29,2)<6,CHOOSE(MOD(INT((R29-43241)/7),3)+1,IF(MOD(R29-43224,42)=0,"","Nuit"),"Après-midi","Matin"),"") -> Nuit | V29: 43275 | X29: =IF(MONTH(V29)=MONTH(V$5),1+INT(MIN(MOD(V29-DATE(YEAR(V29)+{-1;0;1},1,5)+WEEKDAY(DATE(YEAR(V29)+{-1;0;1},1,3)),734))/7),"") -> 25 | Y29: =IF(WEEKDAY(V29,2)<6,CHOOSE(MOD(INT((V29-43241)/7),3)+1,IF(MOD(V29-43224,42)=0,"","Nuit"),"Après-midi","Matin"),"")
B30: 43125 | D30: =IF(MONTH(B30)=MONTH(B$5),1+INT(MIN(MOD(B30-DATE(YEAR(B30)+{-1;0;1},1,5)+WEEKDAY(DATE(YEAR(B30)+{-1;0;1},1,3)),734))/7),"") -> 4 | E30: =IF(WEEKDAY(B30,2)<6,CHOOSE(MOD(INT((B30-43241)/7),3)+1,IF(MOD(B30-43224,42)=0,"","Nuit"),"Après-midi","Matin"),"") -> Après-midi | F30: 43156 | H30: =IF(MONTH(F30)=MONTH(F$5),1+INT(MIN(MOD(F30-DATE(YEAR(F30)+{-1;0;1},1,5)+WEEKDAY(DATE(YEAR(F30)+{-1;0;1},1,3)),734))/7),"") -> 8 | I30: =IF(WEEKDAY(F30,2)<6,CHOOSE(MOD(INT((F30-43241)/7),3)+1,IF(MOD(F30-43224,42)=0,"","Nuit"),"Après-midi","Matin"),"") | J30: 43184 | L30: =IF(MONTH(J30)=MONTH(J$5),1+INT(MIN(MOD(J30-DATE(YEAR(J30)+{-1;0;1},1,5)+WEEKDAY(DATE(YEAR(J30)+{-1;0;1},1,3)),734))/7),"") -> 12 | M30: =IF(WEEKDAY(J30,2)<6,CHOOSE(MOD(INT((J30-43241)/7),3)+1,IF(MOD(J30-43224,42)=0,"","Nuit"),"Après-midi","Matin"),"") | N30: 43215 | P30: =IF(MONTH(N30)=MONTH(N$5),1+INT(MIN(MOD(N30-DATE(YEAR(N30)+{-1;0;1},1,5)+WEEKDAY(DATE(YEAR(N30)+{-1;0;1},1,3)),734))/7),"") -> 17 | Q30: =IF(WEEKDAY(N30,2)<6,CHOOSE(MOD(INT((N30-43241)/7),3)+1,IF(MOD(N30-43224,42)=0,"","Nuit"),"Après-midi","Matin"),"") -> Matin | R30: 43245 | T30: =IF(MONTH(R30)=MONTH(R$5),1+INT(MIN(MOD(R30-DATE(YEAR(R30)+{-1;0;1},1,5)+WEEKDAY(DATE(YEAR(R30)+{-1;0;1},1,3)),734))/7),"") -> 21 | U30: =IF(WEEKDAY(R30,2)<6,CHOOSE(MOD(INT((R30-43241)/7),3)+1,IF(MOD(R30-43224,42)=0,"","Nuit"),"Après-midi","Matin"),"") -> Nuit | V30: 43276 | X30: =IF(MONTH(V30)=MONTH(V$5),1+INT(MIN(MOD(V30-DATE(YEAR(V30)+{-1;0;1},1,5)+WEEKDAY(DATE(YEAR(V30)+{-1;0;1},1,3)),734))/7),"") -> 26 | Y30: =IF(WEEKDAY(V30,2)<6,CHOOSE(MOD(INT((V30-43241)/7),3)+1,IF(MOD(V30-43224,42)=0,"","Nuit"),"Après-midi","Matin"),"") -> Matin
B31: 43126 | D31: =IF(MONTH(B31)=MONTH(B$5),1+INT(MIN(MOD(B31-DATE(YEAR(B31)+{-1;0;1},1,5)+WEEKDAY(DATE(YEAR(B31)+{-1;0;1},1,3)),734))/7),"") -> 4 | E31: =IF(WEEKDAY(B31,2)<6,CHOOSE(MOD(INT((B31-43241)/7),3)+1,IF(MOD(B31-43224,42)=0,"","Nuit"),"Après-midi","Matin"),"") -> Après-midi | F31: 43157 | H31: =IF(MONTH(F31)=MONTH(F$5),1+INT(MIN(MOD(F31-DATE(YEAR(F31)+{-1;0;1},1,5)+WEEKDAY(DATE(YEAR(F31)+{-1;0;1},1,3)),734))/7),"") -> 9 | I31: =IF(WEEKDAY(F31,2)<6,CHOOSE(MOD(INT((F31-43241)/7),3)+1,IF(MOD(F31-43224,42)=0,"","Nuit"),"Après-midi","Matin"),"") -> Nuit | J31: 43185 | L31: =IF(MONTH(J31)=MONTH(J$5),1+INT(MIN(MOD(J31-DATE(YEAR(J31)+{-1;0;1},1,5)+WEEKDAY(DATE(YEAR(J31)+{-1;0;1},1,3)),734))/7),"") -> 13 | M31: =IF(WEEKDAY(J31,2)<6,CHOOSE(MOD(INT((J31-43241)/7),3)+1,IF(MOD(J31-43224,42)=0,"","Nuit"),"Après-midi","Matin"),"") -> Après-midi | N31: 43216 | P31: =IF(MONTH(N31)=MONTH(N$5),1+INT(MIN(MOD(N31-DATE(YEAR(N31)+{-1;0;1},1,5)+WEEKDAY(DATE(YEAR(N31)+{-1;0;1},1,3)),734))/7),"") -> 17 | Q31: =IF(WEEKDAY(N31,2)<6,CHOOSE(MOD(INT((N31-43241)/7),3)+1,IF(MOD(N31-43224,42)=0,"","Nuit"),"Après-midi","Matin"),"") -> Matin | R31: 43246 | T31: =IF(MONTH(R31)=MONTH(R$5),1+INT(MIN(MOD(R31-DATE(YEAR(R31)+{-1;0;1},1,5)+WEEKDAY(DATE(YEAR(R31)+{-1;0;1},1,3)),734))/7),"") -> 21 | U31: =IF(WEEKDAY(R31,2)<6,CHOOSE(MOD(INT((R31-43241)/7),3)+1,IF(MOD(R31-43224,42)=0,"","Nuit"),"Après-midi","Matin"),"") | V31: 43277 | X31: =IF(MONTH(V31)=MONTH(V$5),1+INT(MIN(MOD(V31-DATE(YEAR(V31)+{-1;0;1},1,5)+WEEKDAY(DATE(YEAR(V31)+{-1;0;1},1,3)),734))/7),"") -> 26 | Y31: =IF(WEEKDAY(V31,2)<6,CHOOSE(MOD(INT((V31-43241)/7),3)+1,IF(MOD(V31-43224,42)=0,"","Nuit"),"Après-midi","Matin"),"") -> Matin
B32: 43127 | D32: =IF(MONTH(B32)=MONTH(B$5),1+INT(MIN(MOD(B32-DATE(YEAR(B32)+{-1;0;1},1,5)+WEEKDAY(DATE(YEAR(B32)+{-1;0;1},1,3)),734))/7),"") -> 4 | E32: =IF(WEEKDAY(B32,2)<6,CHOOSE(MOD(INT((B32-43241)/7),3)+1,IF(MOD(B32-43224,42)=0,"","Nuit"),"Après-midi","Matin"),"") | F32: 43158 | H32: =IF(MONTH(F32)=MONTH(F$5),1+INT(MIN(MOD(F32-DATE(YEAR(F32)+{-1;0;1},1,5)+WEEKDAY(DATE(YEAR(F32)+{-1;0;1},1,3)),734))/7),"") -> 9 | I32: =IF(WEEKDAY(F32,2)<6,CHOOSE(MOD(INT((F32-43241)/7),3)+1,IF(MOD(F32-43224,42)=0,"","Nuit"),"Après-midi","Matin"),"") -> Nuit | J32: 43186 | L32: =IF(MONTH(J32)=MONTH(J$5),1+INT(MIN(MOD(J32-DATE(YEAR(J32)+{-1;0;1},1,5)+WEEKDAY(DATE(YEAR(J32)+{-1;0;1},1,3)),734))/7),"") -> 13 | M32: =IF(WEEKDAY(J32,2)<6,CHOOSE(MOD(INT((J32-43241)/7),3)+1,IF(MOD(J32-43224,42)=0,"","Nuit"),"Après-midi","Matin"),"") -> Après-midi | N32: 43217 | P32: =IF(MONTH(N32)=MONTH(N$5),1+INT(MIN(MOD(N32-DATE(YEAR(N32)+{-1;0;1},1,5)+WEEKDAY(DATE(YEAR(N32)+{-1;0;1},1,3)),734))/7),"") -> 17 | Q32: =IF(WEEKDAY(N32,2)<6,CHOOSE(MOD(INT((N32-43241)/7),3)+1,IF(MOD(N32-43224,42)=0,"","Nuit"),"Après-midi","Matin"),"") -> Matin | R32: 43247 | T32: =IF(MONTH(R32)=MONTH(R$5),1+INT(MIN(MOD(R32-DATE(YEAR(R32)+{-1;0;1},1,5)+WEEKDAY(DATE(YEAR(R32)+{-1;0;1},1,3)),734))/7),"") -> 21 | U32: =IF(WEEKDAY(R32,2)<6,CHOOSE(MOD(INT((R32-43241)/7),3)+1,IF(MOD(R32-43224,42)=0,"","Nuit"),"Après-midi","Matin"),"") | V32: 43278 | X32: =IF(MONTH(V32)=MONTH(V$5),1+INT(MIN(MOD(V32-DATE(YEAR(V32)+{-1;0;1},1,5)+WEEKDAY(DATE(YEAR(V32)+{-1;0;1},1,3)),734))/7),"") -> 26 | Y32: =IF(WEEKDAY(V32,2)<6,CHOOSE(MOD(INT((V32-43241)/7),3)+1,IF(MOD(V32-43224,42)=0,"","Nuit"),"Après-midi","Matin"),"") -> Matin
B33: 43128 | D33: =IF(MONTH(B33)=MONTH(B$5),1+INT(MIN(MOD(B33-DATE(YEAR(B33)+{-1;0;1},1,5)+WEEKDAY(DATE(YEAR(B33)+{-1;0;1},1,3)),734))/7),"") -> 4 | E33: =IF(WEEKDAY(B33,2)<6,CHOOSE(MOD(INT((B33-43241)/7),3)+1,IF(MOD(B33-43224,42)=0,"","Nuit"),"Après-midi","Matin"),"") | F33: 43159 | H33: =IF(MONTH(F33)=MONTH(F$5),1+INT(MIN(MOD(F33-DATE(YEAR(F33)+{-1;0;1},1,5)+WEEKDAY(DATE(YEAR(F33)+{-1;0;1},1,3)),734))/7),"") -> 9 | I33: =IF(WEEKDAY(F33,2)<6,CHOOSE(MOD(INT((F33-43241)/7),3)+1,IF(MOD(F33-43224,42)=0,"","Nuit"),"Après-midi","Matin"),"") -> Nuit | J33: 43187 | L33: =IF(MONTH(J33)=MONTH(J$5),1+INT(MIN(MOD(J33-DATE(YEAR(J33)+{-1;0;1},1,5)+WEEKDAY(DATE(YEAR(J33)+{-1;0;1},1,3)),734))/7),"") -> 13 | M33: =IF(WEEKDAY(J33,2)<6,CHOOSE(MOD(INT((J33-43241)/7),3)+1,IF(MOD(J33-43224,42)=0,"","Nuit"),"Après-midi","Matin"),"") -> Après-midi | N33: 43218 | P33: =IF(MONTH(N33)=MONTH(N$5),1+INT(MIN(MOD(N33-DATE(YEAR(N33)+{-1;0;1},1,5)+WEEKDAY(DATE(YEAR(N33)+{-1;0;1},1,3)),734))/7),"") -> 17 | Q33: =IF(WEEKDAY(N33,2)<6,CHOOSE(MOD(INT((N33-43241)/7),3)+1,IF(MOD(N33-43224,42)=0,"","Nuit"),"Après-midi","Matin"),"") | R33: 43248 | T33: =IF(MONTH(R33)=MONTH(R$5),1+INT(MIN(MOD(R33-DATE(YEAR(R33)+{-1;0;1},1,5)+WEEKDAY(DATE(YEAR(R33)+{-1;0;1},1,3)),734))/7),"") -> 22 | U33: =IF(WEEKDAY(R33,2)<6,CHOOSE(MOD(INT((R33-43241)/7),3)+1,IF(MOD(R33-43224,42)=0,"","Nuit"),"Après-midi","Matin"),"") -> Après-midi | V33: 43279 | X33: =IF(MONTH(V33)=MONTH(V$5),1+INT(MIN(MOD(V33-DATE(YEAR(V33)+{-1;0;1},1,5)+WEEKDAY(DATE(YEAR(V33)+{-1;0;1},1,3)),734))/7),"") -> 26 | Y33: =IF(WEEKDAY(V33,2)<6,CHOOSE(MOD(INT((V33-43241)/7),3)+1,IF(MOD(V33-43224,42)=0,"","Nuit"),"Après-midi","Matin"),"") -> Matin
B34: 43129 | D34: =IF(MONTH(B34)=MONTH(B$5),1+INT(MIN(MOD(B34-DATE(YEAR(B34)+{-1;0;1},1,5)+WEEKDAY(DATE(YEAR(B34)+{-1;0;1},1,3)),734))/7),"") -> 5 | E34: =IF(WEEKDAY(B34,2)<6,CHOOSE(MOD(INT((B34-43241)/7),3)+1,IF(MOD(B34-43224,42)=0,"","Nuit"),"Après-midi","Matin"),"") -> Matin | F34: 43160 | H34: =IF(MONTH(F34)=MONTH(F$5),1+INT(MIN(MOD(F34-DATE(YEAR(F34)+{-1;0;1},1,5)+WEEKDAY(DATE(YEAR(F34)+{-1;0;1},1,3)),734))/7),"") | I34: =IF(WEEKDAY(F34,2)<6,CHOOSE(MOD(INT((F34-43241)/7),3)+1,IF(MOD(F34-43224,42)=0,"","Nuit"),"Après-midi","Matin"),"") -> Nuit | J34: 43188 | L34: =IF(MONTH(J34)=MONTH(J$5),1+INT(MIN(MOD(J34-DATE(YEAR(J34)+{-1;0;1},1,5)+WEEKDAY(DATE(YEAR(J34)+{-1;0;1},1,3)),734))/7),"") -> 13 | M34: =IF(WEEKDAY(J34,2)<6,CHOOSE(MOD(INT((J34-43241)/7),3)+1,IF(MOD(J34-43224,42)=0,"","Nuit"),"Après-midi","Matin"),"") -> Après-midi | N34: 43219 | P34: =IF(MONTH(N34)=MONTH(N$5),1+INT(MIN(MOD(N34-DATE(YEAR(N34)+{-1;0;1},1,5)+WEEKDAY(DATE(YEAR(N34)+{-1;0;1},1,3)),734))/7),"") -> 17 | Q34: =IF(WEEKDAY(N34,2)<6,CHOOSE(MOD(INT((N34-43241)/7),3)+1,IF(MOD(N34-43224,42)=0,"","Nuit"),"Après-midi","Matin"),"") | R34: 43249 | T34: =IF(MONTH(R34)=MONTH(R$5),1+INT(MIN(MOD(R34-DATE(YEAR(R34)+{-1;0;1},1,5)+WEEKDAY(DATE(YEAR(R34)+{-1;0;1},1,3)),734))/7),"") -> 22 | U34: =IF(WEEKDAY(R34,2)<6,CHOOSE(MOD(INT((R34-43241)/7),3)+1,IF(MOD(R34-43224,42)=0,"","Nuit"),"Après-midi","Matin"),"") -> Après-midi | V34: 43280 | X34: =IF(MONTH(V34)=MONTH(V$5),1+INT(MIN(MOD(V34-DATE(YEAR(V34)+{-1;0;1},1,5)+WEEKDAY(DATE(YEAR(V34)+{-1;0;1},1,3)),734))/7),"") -> 26 | Y34: =IF(WEEKDAY(V34,2)<6,CHOOSE(MOD(INT((V34-43241)/7),3)+1,IF(MOD(V34-43224,42)=0,"","Nuit"),"Après-midi","Matin"),"") -> Matin
B35: 43130 | D35: =IF(MONTH(B35)=MONTH(B$5),1+INT(MIN(MOD(B35-DATE(YEAR(B35)+{-1;0;1},1,5)+WEEKDAY(DATE(YEAR(B35)+{-1;0;1},1,3)),734))/7),"") -> 5 | E35: =IF(WEEKDAY(B35,2)<6,CHOOSE(MOD(INT((B35-43241)/7),3)+1,IF(MOD(B35-43224,42)=0,"","Nuit"),"Après-midi","Matin"),"") -> Matin | F35: 43161 | H35: =IF(MONTH(F35)=MONTH(F$5),1+INT(MIN(MOD(F35-DATE(YEAR(F35)+{-1;0;1},1,5)+WEEKDAY(DATE(YEAR(F35)+{-1;0;1},1,3)),734))/7),"") | I35: =IF(WEEKDAY(F35,2)<6,CHOOSE(MOD(INT((F35-43241)/7),3)+1,IF(MOD(F35-43224,42)=0,"","Nuit"),"Après-midi","Matin"),"") -> Nuit | J35: 43189 | L35: =IF(MONTH(J35)=MONTH(J$5),1+INT(MIN(MOD(J35-DATE(YEAR(J35)+{-1;0;1},1,5)+WEEKDAY(DATE(YEAR(J35)+{-1;0;1},1,3)),734))/7),"") -> 13 | M35: =IF(WEEKDAY(J35,2)<6,CHOOSE(MOD(INT((J35-43241)/7),3)+1,IF(MOD(J35-43224,42)=0,"","Nuit"),"Après-midi","Matin"),"") -> Après-midi | N35: 43220 | O35: Pont | P35: =IF(MONTH(N35)=MONTH(N$5),1+INT(MIN(MOD(N35-DATE(YEAR(N35)+{-1;0;1},1,5)+WEEKDAY(DATE(YEAR(N35)+{-1;0;1},1,3)),734))/7),"") -> 18 | Q35: =IF(WEEKDAY(N35,2)<6,CHOOSE(MOD(INT((N35-43241)/7),3)+1,IF(MOD(N35-43224,42)=0,"","Nuit"),"Après-midi","Matin"),"") -> Nuit | R35: 43250 | T35: =IF(MONTH(R35)=MONTH(R$5),1+INT(MIN(MOD(R35-DATE(YEAR(R35)+{-1;0;1},1,5)+WEEKDAY(DATE(YEAR(R35)+{-1;0;1},1,3)),734))/7),"") -> 22 | U35: =IF(WEEKDAY(R35,2)<6,CHOOSE(MOD(INT((R35-43241)/7),3)+1,IF(MOD(R35-43224,42)=0,"","Nuit"),"Après-midi","Matin"),"") -> Après-midi | V35: 43281 | X35: =IF(MONTH(V35)=MONTH(V$5),1+INT(MIN(MOD(V35-DATE(YEAR(V35)+{-1;0;1},1,5)+WEEKDAY(DATE(YEAR(V35)+{-1;0;1},1,3)),734))/7),"") -> 26 | Y35: =IF(WEEKDAY(V35,2)<6,CHOOSE(MOD(INT((V35-43241)/7),3)+1,IF(MOD(V35-43224,42)=0,"","Nuit"),"Après-midi","Matin"),"")
B36: 43131 | D36: =IF(MONTH(B36)=MONTH(B$5),1+INT(MIN(MOD(B36-DATE(YEAR(B36)+{-1;0;1},1,5)+WEEKDAY(DATE(YEAR(B36)+{-1;0;1},1,3)),734))/7),"") -> 5 | E36: =IF(WEEKDAY(B36,2)<6,CHOOSE(MOD(INT((B36-43241)/7),3)+1,IF(MOD(B36-43224,42)=0,"","Nuit"),"Après-midi","Matin"),"") -> Matin | F36: 43162 | H36: =IF(MONTH(F36)=MONTH(F$5),1+INT(MIN(MOD(F36-DATE(YEAR(F36)+{-1;0;1},1,5)+WEEKDAY(DATE(YEAR(F36)+{-1;0;1},1,3)),734))/7),"") | I36: =IF(WEEKDAY(F36,2)<6,CHOOSE(MOD(INT((F36-43241)/7),3)+1,IF(MOD(F36-43224,42)=0,"","Nuit"),"Après-midi","Matin"),"") | J36: 43190 | L36: =IF(MONTH(J36)=MONTH(J$5),1+INT(MIN(MOD(J36-DATE(YEAR(J36)+{-1;0;1},1,5)+WEEKDAY(DATE(YEAR(J36)+{-1;0;1},1,3)),734))/7),"") -> 13 | M36: =IF(WEEKDAY(J36,2)<6,CHOOSE(MOD(INT((J36-43241)/7),3)+1,IF(MOD(J36-43224,42)=0,"","Nuit"),"Après-midi","Matin"),"") | N36: 43221 | O36: Fête du travail | P36: =IF(MONTH(N36)=MONTH(N$5),1+INT(MIN(MOD(N36-DATE(YEAR(N36)+{-1;0;1},1,5)+WEEKDAY(DATE(YEAR(N36)+{-1;0;1},1,3)),734))/7),"") | Q36: =IF(WEEKDAY(N36,2)<6,CHOOSE(MOD(INT((N36-43241)/7),3)+1,IF(MOD(N36-43224,42)=0,"","Nuit"),"Après-midi","Matin"),"") -> Nuit | R36: 43251 | T36: =IF(MONTH(R36)=MONTH(R$5),1+INT(MIN(MOD(R36-DATE(YEAR(R36)+{-1;0;1},1,5)+WEEKDAY(DATE(YEAR(R36)+{-1;0;1},1,3)),734))/7),"") -> 22 | U36: =IF(WEEKDAY(R36,2)<6,CHOOSE(MOD(INT((R36-43241)/7),3)+1,IF(MOD(R36-43224,42)=0,"","Nuit"),"Après-midi","Matin"),"") -> Après-midi | V36: 43282 | X36: =IF(MONTH(V36)=MONTH(V$5),1+INT(MIN(MOD(V36-DATE(YEAR(V36)+{-1;0;1},1,5)+WEEKDAY(DATE(YEAR(V36)+{-1;0;1},1,3)),734))/7),"") | Y36: =IF(WEEKDAY(V36,2)<6,CHOOSE(MOD(INT((V36-43241)/7),3)+1,IF(MOD(V36-43224,42)=0,"","Nuit"),"Après-midi","Matin"),"")
B40: 7 | F40: 8 | J40: 9 | N40: 10 | R40: 11 | V40: 12
B41: =DATE($F$1,B40,1) -> 43282 | F41: =DATE($F$1,F40,1) -> 43313 | J41: =DATE($F$1,J40,1) -> 43344 | N41: =DATE($F$1,N40,1) -> 43374 | R41: =DATE($F$1,R40,1) -> 43405 | V41: =DATE($F$1,V40,1) -> 43435
B42: {=DATE($F$1,B40,ROW(1:31))} -> 43282 | C42: {=IFERROR(VLOOKUP(B42:B72,JF!$D:$E,2,0),"")&IF(COUNTIF(JF!$G:$G,calend!B42:B72),Pont," ")} | D42: =IF(MONTH(B42)=MONTH(B$41),1+INT(MIN(MOD(B42-DATE(YEAR(B42)+{-1;0;1},1,5)+WEEKDAY(DATE(YEAR(B42)+{-1;0;1},1,3)),734))/7),"") -> 26 | E42: =IF(WEEKDAY(B42,2)<6,CHOOSE(MOD(INT((B42-43241)/7),3)+1,IF(MOD(B42-43224,42)=0,"","Nuit"),"Après-midi","Matin"),"") | F42: {=DATE($F$1,F40,ROW(1:31))} -> 43313 | G42: {=IFERROR(VLOOKUP(F42:F72,JF!$D:$E,2,0),"")&IF(COUNTIF(JF!$G:$G,calend!F42:F72),Pont," ")} | H42: =IF(MONTH(F42)=MONTH(F$41),1+INT(MIN(MOD(F42-DATE(YEAR(F42)+{-1;0;1},1,5)+WEEKDAY(DATE(YEAR(F42)+{-1;0;1},1,3)),734))/7),"") -> 31 | I42: =IF(WEEKDAY(F42,2)<6,CHOOSE(MOD(INT((F42-43241)/7),3)+1,IF(MOD(F42-43224,42)=0,"","Nuit"),"Après-midi","Matin"),"") -> Après-midi | J42: {=DATE($F$1,J40,ROW(1:31))} -> 43344 | K42: {=IFERROR(VLOOKUP(J42:J72,JF!$D:$E,2,0),"")&IF(COUNTIF(JF!$G:$G,calend!J42:J72),Pont," ")} | L42: =IF(MONTH(J42)=MONTH(J$41),1+INT(MIN(MOD(J42-DATE(YEAR(J42)+{-1;0;1},1,5)+WEEKDAY(DATE(YEAR(J42)+{-1;0;1},1,3)),734))/7),"") -> 35 | M42: =IF(WEEKDAY(J42,2)<6,CHOOSE(MOD(INT((J42-43241)/7),3)+1,IF(MOD(J42-43224,42)=0,"","Nuit"),"Après-midi","Matin"),"") | N42: {=DATE($F$1,N40,ROW(1:31))} -> 43374 | O42: {=IFERROR(VLOOKUP(N42:N72,JF!$D:$E,2,0),"")&IF(COUNTIF(JF!$G:$G,calend!N42:N72),Pont," ")} | P42: =IF(MONTH(N42)=MONTH(N$41),1+INT(MIN(MOD(N42-DATE(YEAR(N42)+{-1;0;1},1,5)+WEEKDAY(DATE(YEAR(N42)+{-1;0;1},1,3)),734))/7),"") -> 40 | Q42: =IF(WEEKDAY(N42,2)<6,CHOOSE(MOD(INT((N42-43241)/7),3)+1,IF(MOD(N42-43224,42)=0,"","Nuit"),"Après-midi","Matin"),"") -> Après-midi | R42: {=DATE($F$1,R40,ROW(1:31))} -> 43405 | S42: {=IFERROR(VLOOKUP(R42:R72,JF!$D:$E,2,0),"")&IF(COUNTIF(JF!$G:$G,calend!R42:R72),Pont," ")} -> Toussaint | T42: =IF(MONTH(R42)=MONTH(R$41),1+INT(MIN(MOD(R42-DATE(YEAR(R42)+{-1;0;1},1,5)+WEEKDAY(DATE(YEAR(R42)+{-1;0;1},1,3)),734))/7),"") -> 44 | U42: =IF(WEEKDAY(R42,2)<6,CHOOSE(MOD(INT((R42-43241)/7),3)+1,IF(MOD(R42-43224,42)=0,"","Nuit"),"Après-midi","Matin"),"") -> Matin | V42: {=DATE($F$1,V40,ROW(1:31))} -> 43435 | W42: {=IFERROR(VLOOKUP(V42:V72,JF!$D:$E,2,0),"")&IF(COUNTIF(JF!$G:$G,calend!V42:V72),Pont," ")} | X42: =IF(MONTH(V42)=MONTH(V$41),1+INT(MIN(MOD(V42-DATE(YEAR(V42)+{-1;0;1},1,5)+WEEKDAY(DATE(YEAR(V42)+{-1;0;1},1,3)),734))/7),"") -> 48 | Y42: =IF(WEEKDAY(V42,2)<6,CHOOSE(MOD(INT((V42-43241)/7),3)+1,IF(MOD(V42-43224,42)=0,"","Nuit"),"Après-midi","Matin"),"")
B43: 43283 | D43: =IF(MONTH(B43)=MONTH(B$41),1+INT(MIN(MOD(B43-DATE(YEAR(B43)+{-1;0;1},1,5)+WEEKDAY(DATE(YEAR(B43)+{-1;0;1},1,3)),734))/7),"") -> 27 | E43: =IF(WEEKDAY(B43,2)<6,CHOOSE(MOD(INT((B43-43241)/7),3)+1,IF(MOD(B43-43224,42)=0,"","Nuit"),"Après-midi","Matin"),"") -> Nuit | F43: 43314 | H43: =IF(MONTH(F43)=MONTH(F$41),1+INT(MIN(MOD(F43-DATE(YEAR(F43)+{-1;0;1},1,5)+WEEKDAY(DATE(YEAR(F43)+{-1;0;1},1,3)),734))/7),"") -> 31 | I43: =IF(WEEKDAY(F43,2)<6,CHOOSE(MOD(INT((F43-43241)/7),3)+1,IF(MOD(F43-43224,42)=0,"","Nuit"),"Après-midi","Matin"),"") -> Après-midi | J43: 43345 | L43: =IF(MONTH(J43)=MONTH(J$41),1+INT(MIN(MOD(J43-DATE(YEAR(J43)+{-1;0;1},1,5)+WEEKDAY(DATE(YEAR(J43)+{-1;0;1},1,3)),734))/7),"") -> 35 | M43: =IF(WEEKDAY(J43,2)<6,CHOOSE(MOD(INT((J43-43241)/7),3)+1,IF(MOD(J43-43224,42)=0,"","Nuit"),"Après-midi","Matin"),"") | N43: 43375 | P43: =IF(MONTH(N43)=MONTH(N$41),1+INT(MIN(MOD(N43-DATE(YEAR(N43)+{-1;0;1},1,5)+WEEKDAY(DATE(YEAR(N43)+{-1;0;1},1,3)),734))/7),"") -> 40 | Q43: =IF(WEEKDAY(N43,2)<6,CHOOSE(MOD(INT((N43-43241)/7),3)+1,IF(MOD(N43-43224,42)=0,"","Nuit"),"Après-midi","Matin"),"") -> Après-midi | R43: 43406 | S43: Pont | T43: =IF(MONTH(R43)=MONTH(R$41),1+INT(MIN(MOD(R43-DATE(YEAR(R43)+{-1;0;1},1,5)+WEEKDAY(DATE(YEAR(R43)+{-1;0;1},1,3)),734))/7),"") -> 44 | U43: =IF(WEEKDAY(R43,2)<6,CHOOSE(MOD(INT((R43-43241)/7),3)+1,IF(MOD(R43-43224,42)=0,"","Nuit"),"Après-midi","Matin"),"") -> Matin | V43: 43436 | X43: =IF(MONTH(V43)=MONTH(V$41),1+INT(MIN(MOD(V43-DATE(YEAR(V43)+{-1;0;1},1,5)+WEEKDAY(DATE(YEAR(V43)+{-1;0;1},1,3)),734))/7),"") -> 48 | Y43: =IF(WEEKDAY(V43,2)<6,CHOOSE(MOD(INT((V43-43241)/7),3)+1,IF(MOD(V43-43224,42)=0,"","Nuit"),"Après-midi","Matin"),"")
B44: 43284 | D44: =IF(MONTH(B44)=MONTH(B$41),1+INT(MIN(MOD(B44-DATE(YEAR(B44)+{-1;0;1},1,5)+WEEKDAY(DATE(YEAR(B44)+{-1;0;1},1,3)),734))/7),"") -> 27 | E44: =IF(WEEKDAY(B44,2)<6,CHOOSE(MOD(INT((B44-43241)/7),3)+1,IF(MOD(B44-43224,42)=0,"","Nuit"),"Après-midi","Matin"),"") -> Nuit | F44: 43315 | H44: =IF(MONTH(F44)=MONTH(F$41),1+INT(MIN(MOD(F44-DATE(YEAR(F44)+{-1;0;1},1,5)+WEEKDAY(DATE(YEAR(F44)+{-1;0;1},1,3)),734))/7),"") -> 31 | I44: =IF(WEEKDAY(F44,2)<6,CHOOSE(MOD(INT((F44-43241)/7),3)+1,IF(MOD(F44-43224,42)=0,"","Nuit"),"Après-midi","Matin"),"") -> Après-midi | J44: 43346 | L44: =IF(MONTH(J44)=MONTH(J$41),1+INT(MIN(MOD(J44-DATE(YEAR(J44)+{-1;0;1},1,5)+WEEKDAY(DATE(YEAR(J44)+{-1;0;1},1,3)),734))/7),"") -> 36 | M44: =IF(WEEKDAY(J44,2)<6,CHOOSE(MOD(INT((J44-43241)/7),3)+1,IF(MOD(J44-43224,42)=0,"","Nuit"),"Après-midi","Matin"),"") -> Nuit | N44: 43376 | P44: =IF(MONTH(N44)=MONTH(N$41),1+INT(MIN(MOD(N44-DATE(YEAR(N44)+{-1;0;1},1,5)+WEEKDAY(DATE(YEAR(N44)+{-1;0;1},1,3)),734))/7),"") -> 40 | Q44: =IF(WEEKDAY(N44,2)<6,CHOOSE(MOD(INT((N44-43241)/7),3)+1,IF(MOD(N44-43224,42)=0,"","Nuit"),"Après-midi","Matin"),"") -> Après-midi | R44: 43407 | T44: =IF(MONTH(R44)=MONTH(R$41),1+INT(MIN(MOD(R44-DATE(YEAR(R44)+{-1;0;1},1,5)+WEEKDAY(DATE(YEAR(R44)+{-1;0;1},1,3)),734))/7),"") -> 44 | U44: =IF(WEEKDAY(R44,2)<6,CHOOSE(MOD(INT((R44-43241)/7),3)+1,IF(MOD(R44-43224,42)=0,"","Nuit"),"Après-midi","Matin"),"") | V44: 43437 | X44: =IF(MONTH(V44)=MONTH(V$41),1+INT(MIN(MOD(V44-DATE(YEAR(V44)+{-1;0;1},1,5)+WEEKDAY(DATE(YEAR(V44)+{-1;0;1},1,3)),734))/7),"") -> 49 | Y44: =IF(WEEKDAY(V44,2)<6,CHOOSE(MOD(INT((V44-43241)/7),3)+1,IF(MOD(V44-43224,42)=0,"","Nuit"),"Après-midi","Matin"),"") -> Après-midi
