Workbook
Name Lmois: Stats!$L$1:$L$12

Sheet Stats
K1: 2015 | L1: =DATE(2000,ROW(),1) -> 36526
C2: Total | D2: Total année | E2: Total mois | K2: 2016 | L2: =DATE(2000,ROW(),1) -> 36557
D3: 2015 | E3: 36617 | F3: 2015 | K3: 2017 | L3: =DATE(2000,ROW(),1) -> 36586
B4: JAUNE | C4: =IF($B4="","",SUMIF(CC!C:C,"*"&Stats!$B4&"*",CC!D:D)) -> 204 | D4: {=SUM((YEAR(CC!$B$2:$B$15)=$D$3)*(IFERROR(SEARCH($B4,CC!$C$2:$C$15)>1,FALSE))*(CC!$D$2:$D$15))} -> 204 | E4: {=SUM((YEAR(CC!$B$2:$B$15)=$F$3)*(MONTH(CC!$B$2:$B$15)=MONTH($E$3))*(IFERROR(SEARCH($B4,CC!$C$2:$C$15)>1,FALSE))*(CC!$D$2:$D$15))} -> 67 | K4: 2018 | L4: =DATE(2000,ROW(),1) -> 36617
B5: VIOLET | C5: =IF($B5="","",SUMIF(CC!C:C,"*"&Stats!$B5&"*",CC!D:D)) -> 205 | D5: {=SUM((YEAR(CC!$B$2:$B$15)=$D$3)*(IFERROR(SEARCH($B5,CC!$C$2:$C$15)>1,FALSE))*(CC!$D$2:$D$15))} -> 205 | E5: {=SUM((YEAR(CC!$B$2:$B$15)=$F$3)*(MONTH(CC!$B$2:$B$15)=MONTH($E$3))*(IFERROR(SEARCH($B5,CC!$C$2:$C$15)>1,FALSE))*(CC!$D$2:$D$15))} -> 53 | K5: 2019 | L5: =DATE(2000,ROW(),1) -> 36647
B6: ROUGE | C6: =IF($B6="","",SUMIF(CC!C:C,"*"&Stats!$B6&"*",CC!D:D)) -> 156 | D6: {=SUM((YEAR(CC!$B$2:$B$15)=$D$3)*(IFERROR(SEARCH($B6,CC!$C$2:$C$15)>1,FALSE))*(CC!$D$2:$D$15))} -> 156 | E6: {=SUM((YEAR(CC!$B$2:$B$15)=$F$3)*(MONTH(CC!$B$2:$B$15)=MONTH($E$3))*(IFERROR(SEARCH($B6,CC!$C$2:$C$15)>1,FALSE))*(CC!$D$2:$D$15))} -> 25 | K6: 2020 | L6: =DATE(2000,ROW(),1) -> 36678
K7: 2021 | L7: =DATE(2000,ROW(),1) -> 36708
K8: 2022 | L8: =DATE(2000,ROW(),1) -> 36739
K9: 2023 | L9: =DATE(2000,ROW(),1) -> 36770
K10: 2024 | L10: =DATE(2000,ROW(),1) -> 36800
K11: 2025 | L11: =DATE(2000,ROW(),1) -> 36831
K12: 2026 | L12: =DATE(2000,ROW(),1) -> 36861

Sheet CC
B1: Date | C1: Intitulé | D1: Quantité
B2: 42123 | C2: GVC280415 :*426934263 JAUNE 4235436 | D2: 3
B3: 42122 | C3: GVC270415 :*426934263 ROUGE 36423 | D3: 4
B4: 42121 | C4: GVC250415 :*426934263 ROUGE 2495853 | D4: 21
B5: 42108 | C5: GVC250415 :*426934263 VIOLET 2460321 | D5: 53
B6: 42106 | C6: GVC240415 :*426934263 JAUNE 2546 | D6: 64
B7: 42092 | C7: GVC250415 :*426934263 VIOLET 2543564 | D7: 72
B8: 42086 | C8: GVC250415 :*426934263 ROUGE 6543 | D8: 21
B9: 42081 | C9: GVC250415 :*426934263 VIOLET 764532 | D9: 46
B10: 42068 | C10: GVC270415 :*426934263 JAUNE 45356342 | D10: 86
B11: 42063 | C11: GVC250415 :*426934263 VIOLET 2305292354 | D11: 34
B12: 42054 | C12: GVC250415 :*426934263 ROUGE 123410 | D12: 75
B13: 42040 | C13: GVC230415 :*426934263 JAUNE 321595 | D13: 6
... B15: 42010 | C15: GVC200415 :*426934263 ROUGE 23459 | D15: 35
