Workbook

Sheet Tableau
A1: affichable | B1: VRAI
A3: Étiquettes de lignes | B3: Somme de Cout_voiture_euros-Mi | C3: Somme de Nbre_score | D3: Somme de Valeur_cible
A4: brun | B4: 47300 | C4: 53151 | D4: 16
A5: argile | B5: 17000 | C5: 10104 | D5: 4
A6: avocat | B6: 9500 | C6: 10300 | D6: 4
A7: aurore | B7: 11800 | C7: 10306 | D7: 4
A8: acajou | B8: 9000 | C8: 22441 | D8: 4
A9: cerise | B9: 31000 | C9: 500 | D9: 4
A10: asperge | B10: 19000 | C10: 0 | D10: 2
A11: aubergine | B11: 12000 | C11: 500 | D11: 2
A12: gris | B12: 24500 | C12: 304 | D12: 4
A13: ambre jaune | B13: 13000 | C13: 4 | D13: 2
A14: ambre rouge | B14: 11500 | C14: 300 | D14: 2
A15: ébène | B15: 16500 | C15: 404 | D15: 1
... A21: Total général | B21: 147000 | C21: 74967 | D21: 32

Sheet N1
A1: voiture-i | B1: pool_de_voitures-Pi | C1: Cout_voiture_euros-Mi | D1: voiture_score_1-S1 | E1: Voiture_score_2-S2 | F1: Voiture_Score_3-S3 | G1: Nbre_score | H1: Valeur_cible | I1: affichable
A2: absinthe | B2: bleu ciel | C2: 11000 | D2: 16 | E2: 8 | F2: 69 | G2: =VALUE(CONCATENATE(IF(LEN(D2)=2,D2,"0"&D2),IF(LEN(E2)=2,E2,"0"&E2),IF(LEN(F2)=2,F2,"0"&F2))) -> 160869 | H2: =VLOOKUP(B2,'N2'!$A$2:$B$8,2,0) -> 0 | I2: =SUMPRODUCT((B$2:B$23=B2)*(G$2:G$23<=G2))<=H2 -> FALSE
A3: abricot | B3: brun | C3: 10000 | D3: 8 | E3: 54 | F3: 2 | G3: =VALUE(CONCATENATE(IF(LEN(D3)=2,D3,"0"&D3),IF(LEN(E3)=2,E3,"0"&E3),IF(LEN(F3)=2,F3,"0"&F3))) -> 85402 | H3: =VLOOKUP(B3,'N2'!$A$2:$B$8,2,0) -> 4 | I3: =SUMPRODUCT((B$2:B$23=B3)*(G$2:G$23<=G3))<=H3 -> FALSE
A4: acajou | B4: brun | C4: 9000 | D4: 2 | E4: 24 | F4: 41 | G4: =VALUE(CONCATENATE(IF(LEN(D4)=2,D4,"0"&D4),IF(LEN(E4)=2,E4,"0"&E4),IF(LEN(F4)=2,F4,"0"&F4))) -> 22441 | H4: =VLOOKUP(B4,'N2'!$A$2:$B$8,2,0) -> 4 | I4: =SUMPRODUCT((B$2:B$23=B4)*(G$2:G$23<=G4))<=H4 -> TRUE
A5: aigue-marine | B5: brun | C5: 14000 | D5: 8 | E5: 14 | F5: 6 | G5: =VALUE(CONCATENATE(IF(LEN(D5)=2,D5,"0"&D5),IF(LEN(E5)=2,E5,"0"&E5),IF(LEN(F5)=2,F5,"0"&F5))) -> 81406 | H5: =VLOOKUP(B5,'N2'!$A$2:$B$8,2,0) -> 4 | I5: =SUMPRODUCT((B$2:B$23=B5)*(G$2:G$23<=G5))<=H5 -> FALSE
A6: argile | B6: brun | C6: 17000 | D6: 1 | E6: 1 | F6: 4 | G6: =VALUE(CONCATENATE(IF(LEN(D6)=2,D6,"0"&D6),IF(LEN(E6)=2,E6,"0"&E6),IF(LEN(F6)=2,F6,"0"&F6))) -> 10104 | H6: =VLOOKUP(B6,'N2'!$A$2:$B$8,2,0) -> 4 | I6: =SUMPRODUCT((B$2:B$23=B6)*(G$2:G$23<=G6))<=H6 -> TRUE
A7: avocat | B7: brun | C7: 9500 | D7: 1 | E7: 3 | F7: 0 | G7: =VALUE(CONCATENATE(IF(LEN(D7)=2,D7,"0"&D7),IF(LEN(E7)=2,E7,"0"&E7),IF(LEN(F7)=2,F7,"0"&F7))) -> 10300 | H7: =VLOOKUP(B7,'N2'!$A$2:$B$8,2,0) -> 4 | I7: =SUMPRODUCT((B$2:B$23=B7)*(G$2:G$23<=G7))<=H7 -> TRUE
A8: aurore | B8: brun | C8: 11800 | D8: 1 | E8: 3 | F8: 6 | G8: =VALUE(CONCATENATE(IF(LEN(D8)=2,D8,"0"&D8),IF(LEN(E8)=2,E8,"0"&E8),IF(LEN(F8)=2,F8,"0"&F8))) -> 10306 | H8: =VLOOKUP(B8,'N2'!$A$2:$B$8,2,0) -> 4 | I8: =SUMPRODUCT((B$2:B$23=B8)*(G$2:G$23<=G8))<=H8 -> TRUE
A9: asperge | B9: cerise | C9: 19000 | D9: 0 | E9: 0 | F9: 0 | G9: =VALUE(CONCATENATE(IF(LEN(D9)=2,D9,"0"&D9),IF(LEN(E9)=2,E9,"0"&E9),IF(LEN(F9)=2,F9,"0"&F9))) -> 0 | H9: =VLOOKUP(B9,'N2'!$A$2:$B$8,2,0) -> 2 | I9: =SUMPRODUCT((B$2:B$23=B9)*(G$2:G$23<=G9))<=H9 -> TRUE
A10: aubergine | B10: cerise | C10: 12000 | D10: 0 | E10: 5 | F10: 0 | G10: =VALUE(CONCATENATE(IF(LEN(D10)=2,D10,"0"&D10),IF(LEN(E10)=2,E10,"0"&E10),IF(LEN(F10)=2,F10,"0"&F10))) -> 500 | H10: =VLOOKUP(B10,'N2'!$A$2:$B$8,2,0) -> 2 | I10: =SUMPRODUCT((B$2:B$23=B10)*(G$2:G$23<=G10))<=H10 -> TRUE
A11: aile de corbeau | B11: cerise | C11: 11000 | D11: 1 | E11: 1 | F11: 8 | G11: =VALUE(CONCATENATE(IF(LEN(D11)=2,D11,"0"&D11),IF(LEN(E11)=2,E11,"0"&E11),IF(LEN(F11)=2,F11,"0"&F11))) -> 10108 | H11: =VLOOKUP(B11,'N2'!$A$2:$B$8,2,0) -> 2 | I11: =SUMPRODUCT((B$2:B$23=B11)*(G$2:G$23<=G11))<=H11 -> FALSE
A12: albâtre | B12: cerise | C12: 16000 | D12: 1 | E12: 4 | F12: 6 | G12: =VALUE(CONCATENATE(IF(LEN(D12)=2,D12,"0"&D12),IF(LEN(E12)=2,E12,"0"&E12),IF(LEN(F12)=2,F12,"0"&F12))) -> 10406 | H12: =VLOOKUP(B12,'N2'!$A$2:$B$8,2,0) -> 2 | I12: =SUMPRODUCT((B$2:B$23=B12)*(G$2:G$23<=G12))<=H12 -> FALSE
A13: ardoise | B13: ébène | C13: 16500 | D13: 0 | E13: 4 | F13: 4 | G13: =VALUE(CONCATENATE(IF(LEN(D13)=2,D13,"0"&D13),IF(LEN(E13)=2,E13,"0"&E13),IF(LEN(F13)=2,F13,"0"&F13))) -> 404 | H13: =VLOOKUP(B13,'N2'!$A$2:$B$8,2,0) -> 1 | I13: =SUMPRODUCT((B$2:B$23=B13)*(G$2:G$23<=G13))<=H13 -> TRUE
... A23: auburn | B23: parme | C23: 12700 | D23: 1 | E23: 1 | F23: 6 | G23: =VALUE(CONCATENATE(IF(LEN(D23)=2,D23,"0"&D23),IF(LEN(E23)=2,E23,"0"&E23),IF(LEN(F23)=2,F23,"0"&F23))) -> 10106 | H23: =VLOOKUP(B23,'N2'!$A$2:$B$8,2,0) -> 6 | I23: =SUMPRODUCT((B$2:B$23=B23)*(G$2:G$23<=G23))<=H23 -> TRUE

Sheet N2
A1: pool_de_voitures-Pi | B1: Valeur cible CPj
A2: brun | B2: 4
A3: bleu ciel | B3: 0
A4: cerise | B4: 2
A5: ébène | B5: 1
A6: gris | B6: 2
A7: mauve | B7: 1
A8: parme | B8: 6
