Workbook

Sheet Périmétre
B3: Les parents niveau 0
B5: 063INKITOP28
B6: 063INMODOPBSL
B7: 063INMODOPP
B8: 063INMODOPS2
B9: 063INMODOPS2V
B10: 063MODOPP-P
B11: 063MODOPS2-P
B12: 064INMODOPP
A15: Parents | B15: FLG | C15: Article | D15: Intitulé | E15: Quantité besoin | F15: Niveau | G15: Composé
A16: 064INMODOPP | C16: 0633911_EMB | D16: BOITE NOUVELLE TROUSSE | E16: 1 | F16: 1 | G16: 064INMODOPP
A17: 064INMODOPP | C17: 1633046_EMB | D17: ETIQ. AUTO. 63x22 | E17: 2 | F17: 1 | G17: 064INMODOPP
A18: 064INMODOPP | C18: 1633381_EMB | D18: ETIQ.RONDE Ø30 TRANSPARENT | E18: 2 | F18: 1 | G18: 064INMODOPP
A19: 064INMODOPP | C19: 063MODOPP_NOT | D19: NOTICE MODULE AXIOM PROTH. | E19: 1 | F19: 2 | G19: 064INMODOPPAA
A20: 064INMODOPP | C20: 063MUM100SA | D20: MANDRIN MULTI UNIT S | E20: 1 | F20: 2 | G20: 064INMODOPPAA
A21: 064INMODOPP | C21: 063MUW100A | D21: CLE MULTI-UNIT | E21: 1 | F21: 2 | G21: 064INMODOPPAA
A22: 064INMODOPP | C22: 063OI3210-X | D22: CLE HEXAGONALE LONGUE / VIS | E22: 1 | F22: 2 | G22: 064INMODOPPAA
A23: 064INMODOPP | C23: 063OI3211-X | D23: CLE HEXAGONALE COURTE / VIS | E23: 1 | F23: 2 | G23: 064INMODOPPAA
A24: 064INMODOPP | C24: 063OI3271 | D24: MANDRIN HEXAGONAL COURT / VIS | E24: 1 | F24: 2 | G24: 064INMODOPPAA
A25: 064INMODOPP | C25: 063OI3277 | D25: MANDRIN HEXAGONAL LONG / VIS | E25: 1 | F25: 2 | G25: 064INMODOPPAA
A26: 064INMODOPP | C26: 063OI3747 | D26: CLE DYNAMOMETRIQUE PROTHETIQUE | E26: 1 | F26: 2 | G26: 064INMODOPPAA
A27: 064INMODOPP | C27: 063MUW101A | D27: AXE CLE MULTI-UNIT | E27: 1 | F27: 3 | G27: 063MUW100A
A28: 064INMODOPP | B28: * | C28: 063OI3201 | D28: TETE DE MANDRIN | E28: 3 | F28: 3 | G28: *
A29: 064INMODOPP | C29: 063OI3206 | D29: AXE CLE 6 PANS LONGUE | E29: 1 | F29: 3 | G29: 063OI3210-X
A30: 064INMODOPP | C30: 063OI3208 | D30: AXE CLE 6 PANS COURTE | E30: 1 | F30: 3 | G30: 063OI3211-X
A31: 064INMODOPP | B31: * | C31: 063OI3220 | D31: PION D'ASSEMBLAGE | E31: 3 | F31: 3 | G31: *
A32: 064INMODOPP | B32: * | C32: 063OI3230 | D32: COUPELLE DE TOURNEVIS | E32: 3 | F32: 3 | G32: *
A33: 064INMODOPP | C33: 063OI3747-X | D33: CLE DYNAMOMETRIQUE PROTHETIQUE | E33: 1 | F33: 3 | G33: 063OI3747
A34: 064INMODOPP | C34: 064OI3431OPP | D34: INSERT 3/4 PROTH. AXIOM | E34: 1 | F34: 3 | G34: 064INMODOPPVAA
A35: 064INMODOPP | C35: 064OI3441OPP | D35: INSERT 1/4 PROTH AXIOM | E35: 1 | F35: 3 | G35: 064INMODOPPVAA
A36: 064INMODOPP | B36: * | C36: MINR3440B | D36: 1.4112-X90CrMoV18 | E36: 0.055 | F36: 3 | G36: *
A37: 064INMODOPP | C37: 063OI3421W | D37: PLAQUE PRINCIPALE | E37: 1 | F37: 4 | G37: 063OI3420W
A38: 064INMODOPP | C38: 063OI3422 | D38: CHAUSSETTE | E38: 2 | F38: 4 | G38: 063OI3420W
A39: 064INMODOPP | C39: 063OI3423 | D39: CAPOT TRANSPARENT | E39: 2 | F39: 4 | G39: 063OI3420W
A40: 064INMODOPP | C40: 063OI3424-X | D40: PLAQUE LATERALE | E40: 2 | F40: 4 | G40: 063OI3420W
A41: 064INMODOPP | C41: 063OI3450 | D41: OEILLET GRIS Ø7.0 | E41: 12 | F41: 4 | G41: 064OI3431OPP
A42: 064INMODOPP | B42: * | C42: 063OI3451 | D42: OEILLET GRIS Ø2.35 | E42: 9 | F42: 4 | G42: *
A43: 064INMODOPP | C43: 063OI3460 | D43: SUPPORT INSTRUMENTS 4 | E43: 4 | F43: 4 | G43: 064OI3431OPP
A44: 064INMODOPP | C44: 063OI3742 | D44: ROCHET | E44: 1 | F44: 4 | G44: 063OI3747-X
A45: 064INMODOPP | C45: 063OI3746 | D45: SOUS ASSEMBLAGE | E45: 1 | F45: 4 | G45: 063OI3747-X
...

Sheet Feuil1
B1: 063INKITOP28 | C1: 063INMODOPBSL | D1: 063INMODOPP | E1: 063INMODOPS2 | F1: 063INMODOPS2V | G1: 063MODOPP-P | H1: 063MODOPS2-P | I1: 064INMODOPP
A2: 0633911_EMB | B2: {=IFERROR(MATCH(B$1&$A2,Périmétre!$A$16:$A$544&Périmétre!$C$16:$C$544,0),"")} -> 47 | C2: {=IFERROR(MATCH(C$1&$A2,Périmétre!$A$16:$A$544&Périmétre!$C$16:$C$544,0),"")} -> 147 | D2: {=IFERROR(MATCH(D$1&$A2,Périmétre!$A$16:$A$544&Périmétre!$C$16:$C$544,0),"")} -> 362 | E2: {=IFERROR(MATCH(E$1&$A2,Périmétre!$A$16:$A$544&Périmétre!$C$16:$C$544,0),"")} -> 410 | F2: {=IFERROR(MATCH(F$1&$A2,Périmétre!$A$16:$A$544&Périmétre!$C$16:$C$544,0),"")} -> 510 | G2: {=IFERROR(MATCH(G$1&$A2,Périmétre!$A$16:$A$544&Périmétre!$C$16:$C$544,0),"")} -> 213 | H2: {=IFERROR(MATCH(H$1&$A2,Périmétre!$A$16:$A$544&Périmétre!$C$16:$C$544,0),"")} -> 262 | I2: {=IFERROR(MATCH(I$1&$A2,Périmétre!$A$16:$A$544&Périmétre!$C$16:$C$544,0),"")} -> 1
A3: 1633046_EMB | B3: {=IFERROR(MATCH(B$1&$A3,Périmétre!$A$16:$A$544&Périmétre!$C$16:$C$544,0),"")} -> 110 | C3: {=IFERROR(MATCH(C$1&$A3,Périmétre!$A$16:$A$544&Périmétre!$C$16:$C$544,0),"")} -> 207 | D3: {=IFERROR(MATCH(D$1&$A3,Périmétre!$A$16:$A$544&Périmétre!$C$16:$C$544,0),"")} -> 400 | E3: {=IFERROR(MATCH(E$1&$A3,Périmétre!$A$16:$A$544&Périmétre!$C$16:$C$544,0),"")} -> 493 | F3: {=IFERROR(MATCH(F$1&$A3,Périmétre!$A$16:$A$544&Périmétre!$C$16:$C$544,0),"")} -> 528 | G3: {=IFERROR(MATCH(G$1&$A3,Périmétre!$A$16:$A$544&Périmétre!$C$16:$C$544,0),"")} -> 252 | H3: {=IFERROR(MATCH(H$1&$A3,Périmétre!$A$16:$A$544&Périmétre!$C$16:$C$544,0),"")} -> 346 | I3: {=IFERROR(MATCH(I$1&$A3,Périmétre!$A$16:$A$544&Périmétre!$C$16:$C$544,0),"")} -> 2
A4: 1633381_EMB | B4: {=IFERROR(MATCH(B$1&$A4,Périmétre!$A$16:$A$544&Périmétre!$C$16:$C$544,0),"")} -> 111 | C4: {=IFERROR(MATCH(C$1&$A4,Périmétre!$A$16:$A$544&Périmétre!$C$16:$C$544,0),"")} -> 208 | D4: {=IFERROR(MATCH(D$1&$A4,Périmétre!$A$16:$A$544&Périmétre!$C$16:$C$544,0),"")} -> 401 | E4: {=IFERROR(MATCH(E$1&$A4,Périmétre!$A$16:$A$544&Périmétre!$C$16:$C$544,0),"")} -> 494 | F4: {=IFERROR(MATCH(F$1&$A4,Périmétre!$A$16:$A$544&Périmétre!$C$16:$C$544,0),"")} -> 529 | G4: {=IFERROR(MATCH(G$1&$A4,Périmétre!$A$16:$A$544&Périmétre!$C$16:$C$544,0),"")} -> 253 | H4: {=IFERROR(MATCH(H$1&$A4,Périmétre!$A$16:$A$544&Périmétre!$C$16:$C$544,0),"")} -> 347 | I4: {=IFERROR(MATCH(I$1&$A4,Périmétre!$A$16:$A$544&Périmétre!$C$16:$C$544,0),"")} -> 3
A5: 063MODOPP_NOT | B5: {=IFERROR(MATCH(B$1&$A5,Périmétre!$A$16:$A$544&Périmétre!$C$16:$C$544,0),"")} | C5: {=IFERROR(MATCH(C$1&$A5,Périmétre!$A$16:$A$544&Périmétre!$C$16:$C$544,0),"")} | D5: {=IFERROR(MATCH(D$1&$A5,Périmétre!$A$16:$A$544&Périmétre!$C$16:$C$544,0),"")} | E5: {=IFERROR(MATCH(E$1&$A5,Périmétre!$A$16:$A$544&Périmétre!$C$16:$C$544,0),"")} | F5: {=IFERROR(MATCH(F$1&$A5,Périmétre!$A$16:$A$544&Périmétre!$C$16:$C$544,0),"")} | G5: {=IFERROR(MATCH(G$1&$A5,Périmétre!$A$16:$A$544&Périmétre!$C$16:$C$544,0),"")} | H5: {=IFERROR(MATCH(H$1&$A5,Périmétre!$A$16:$A$544&Périmétre!$C$16:$C$544,0),"")} | I5: {=IFERROR(MATCH(I$1&$A5,Périmétre!$A$16:$A$544&Périmétre!$C$16:$C$544,0),"")} -> 4
A6: 063MUM100SA | B6: {=IFERROR(MATCH(B$1&$A6,Périmétre!$A$16:$A$544&Périmétre!$C$16:$C$544,0),"")} | C6: {=IFERROR(MATCH(C$1&$A6,Périmétre!$A$16:$A$544&Périmétre!$C$16:$C$544,0),"")} | D6: {=IFERROR(MATCH(D$1&$A6,Périmétre!$A$16:$A$544&Périmétre!$C$16:$C$544,0),"")} | E6: {=IFERROR(MATCH(E$1&$A6,Périmétre!$A$16:$A$544&Périmétre!$C$16:$C$544,0),"")} | F6: {=IFERROR(MATCH(F$1&$A6,Périmétre!$A$16:$A$544&Périmétre!$C$16:$C$544,0),"")} | G6: {=IFERROR(MATCH(G$1&$A6,Périmétre!$A$16:$A$544&Périmétre!$C$16:$C$544,0),"")} | H6: {=IFERROR(MATCH(H$1&$A6,Périmétre!$A$16:$A$544&Périmétre!$C$16:$C$544,0),"")} | I6: {=IFERROR(MATCH(I$1&$A6,Périmétre!$A$16:$A$544&Périmétre!$C$16:$C$544,0),"")} -> 5
A7: 063MUW100A | B7: {=IFERROR(MATCH(B$1&$A7,Périmétre!$A$16:$A$544&Périmétre!$C$16:$C$544,0),"")} | C7: {=IFERROR(MATCH(C$1&$A7,Périmétre!$A$16:$A$544&Périmétre!$C$16:$C$544,0),"")} | D7: {=IFERROR(MATCH(D$1&$A7,Périmétre!$A$16:$A$544&Périmétre!$C$16:$C$544,0),"")} | E7: {=IFERROR(MATCH(E$1&$A7,Périmétre!$A$16:$A$544&Périmétre!$C$16:$C$544,0),"")} | F7: {=IFERROR(MATCH(F$1&$A7,Périmétre!$A$16:$A$544&Périmétre!$C$16:$C$544,0),"")} | G7: {=IFERROR(MATCH(G$1&$A7,Périmétre!$A$16:$A$544&Périmétre!$C$16:$C$544,0),"")} | H7: {=IFERROR(MATCH(H$1&$A7,Périmétre!$A$16:$A$544&Périmétre!$C$16:$C$544,0),"")} | I7: {=IFERROR(MATCH(I$1&$A7,Périmétre!$A$16:$A$544&Périmétre!$C$16:$C$544,0),"")} -> 6
A8: 063OI3210-X | B8: {=IFERROR(MATCH(B$1&$A8,Périmétre!$A$16:$A$544&Périmétre!$C$16:$C$544,0),"")} | C8: {=IFERROR(MATCH(C$1&$A8,Périmétre!$A$16:$A$544&Périmétre!$C$16:$C$544,0),"")} | D8: {=IFERROR(MATCH(D$1&$A8,Périmétre!$A$16:$A$544&Périmétre!$C$16:$C$544,0),"")} -> 366 | E8: {=IFERROR(MATCH(E$1&$A8,Périmétre!$A$16:$A$544&Périmétre!$C$16:$C$544,0),"")} | F8: {=IFERROR(MATCH(F$1&$A8,Périmétre!$A$16:$A$544&Périmétre!$C$16:$C$544,0),"")} | G8: {=IFERROR(MATCH(G$1&$A8,Périmétre!$A$16:$A$544&Périmétre!$C$16:$C$544,0),"")} -> 218 | H8: {=IFERROR(MATCH(H$1&$A8,Périmétre!$A$16:$A$544&Périmétre!$C$16:$C$544,0),"")} | I8: {=IFERROR(MATCH(I$1&$A8,Périmétre!$A$16:$A$544&Périmétre!$C$16:$C$544,0),"")} -> 7
A9: 063OI3211-X | B9: {=IFERROR(MATCH(B$1&$A9,Périmétre!$A$16:$A$544&Périmétre!$C$16:$C$544,0),"")} | C9: {=IFERROR(MATCH(C$1&$A9,Périmétre!$A$16:$A$544&Périmétre!$C$16:$C$544,0),"")} | D9: {=IFERROR(MATCH(D$1&$A9,Périmétre!$A$16:$A$544&Périmétre!$C$16:$C$544,0),"")} -> 367 | E9: {=IFERROR(MATCH(E$1&$A9,Périmétre!$A$16:$A$544&Périmétre!$C$16:$C$544,0),"")} | F9: {=IFERROR(MATCH(F$1&$A9,Périmétre!$A$16:$A$544&Périmétre!$C$16:$C$544,0),"")} | G9: {=IFERROR(MATCH(G$1&$A9,Périmétre!$A$16:$A$544&Périmétre!$C$16:$C$544,0),"")} -> 219 | H9: {=IFERROR(MATCH(H$1&$A9,Périmétre!$A$16:$A$544&Périmétre!$C$16:$C$544,0),"")} | I9: {=IFERROR(MATCH(I$1&$A9,Périmétre!$A$16:$A$544&Périmétre!$C$16:$C$544,0),"")} -> 8
A10: 063OI3271 | B10: {=IFERROR(MATCH(B$1&$A10,Périmétre!$A$16:$A$544&Périmétre!$C$16:$C$544,0),"")} | C10: {=IFERROR(MATCH(C$1&$A10,Périmétre!$A$16:$A$544&Périmétre!$C$16:$C$544,0),"")} | D10: {=IFERROR(MATCH(D$1&$A10,Périmétre!$A$16:$A$544&Périmétre!$C$16:$C$544,0),"")} -> 370 | E10: {=IFERROR(MATCH(E$1&$A10,Périmétre!$A$16:$A$544&Périmétre!$C$16:$C$544,0),"")} | F10: {=IFERROR(MATCH(F$1&$A10,Périmétre!$A$16:$A$544&Périmétre!$C$16:$C$544,0),"")} | G10: {=IFERROR(MATCH(G$1&$A10,Périmétre!$A$16:$A$544&Périmétre!$C$16:$C$544,0),"")} -> 222 | H10: {=IFERROR(MATCH(H$1&$A10,Périmétre!$A$16:$A$544&Périmétre!$C$16:$C$544,0),"")} | I10: {=IFERROR(MATCH(I$1&$A10,Périmétre!$A$16:$A$544&Périmétre!$C$16:$C$544,0),"")} -> 9
A11: 063OI3277 | B11: {=IFERROR(MATCH(B$1&$A11,Périmétre!$A$16:$A$544&Périmétre!$C$16:$C$544,0),"")} | C11: {=IFERROR(MATCH(C$1&$A11,Périmétre!$A$16:$A$544&Périmétre!$C$16:$C$544,0),"")} | D11: {=IFERROR(MATCH(D$1&$A11,Périmétre!$A$16:$A$544&Périmétre!$C$16:$C$544,0),"")} -> 371 | E11: {=IFERROR(MATCH(E$1&$A11,Périmétre!$A$16:$A$544&Périmétre!$C$16:$C$544,0),"")} -> 433 | F11: {=IFERROR(MATCH(F$1&$A11,Périmétre!$A$16:$A$544&Périmétre!$C$16:$C$544,0),"")} | G11: {=IFERROR(MATCH(G$1&$A11,Périmétre!$A$16:$A$544&Périmétre!$C$16:$C$544,0),"")} -> 223 | H11: {=IFERROR(MATCH(H$1&$A11,Périmétre!$A$16:$A$544&Périmétre!$C$16:$C$544,0),"")} -> 286 | I11: {=IFERROR(MATCH(I$1&$A11,Périmétre!$A$16:$A$544&Périmétre!$C$16:$C$544,0),"")} -> 10
A12: 063OI3747 | B12: {=IFERROR(MATCH(B$1&$A12,Périmétre!$A$16:$A$544&Périmétre!$C$16:$C$544,0),"")} | C12: {=IFERROR(MATCH(C$1&$A12,Périmétre!$A$16:$A$544&Périmétre!$C$16:$C$544,0),"")} | D12: {=IFERROR(MATCH(D$1&$A12,Périmétre!$A$16:$A$544&Périmétre!$C$16:$C$544,0),"")} -> 390 | E12: {=IFERROR(MATCH(E$1&$A12,Périmétre!$A$16:$A$544&Périmétre!$C$16:$C$544,0),"")} | F12: {=IFERROR(MATCH(F$1&$A12,Périmétre!$A$16:$A$544&Périmétre!$C$16:$C$544,0),"")} | G12: {=IFERROR(MATCH(G$1&$A12,Périmétre!$A$16:$A$544&Périmétre!$C$16:$C$544,0),"")} -> 242 | H12: {=IFERROR(MATCH(H$1&$A12,Périmétre!$A$16:$A$544&Périmétre!$C$16:$C$544,0),"")} | I12: {=IFERROR(MATCH(I$1&$A12,Périmétre!$A$16:$A$544&Périmétre!$C$16:$C$544,0),"")} -> 11
A13: 063MUW101A | B13: {=IFERROR(MATCH(B$1&$A13,Périmétre!$A$16:$A$544&Périmétre!$C$16:$C$544,0),"")} | C13: {=IFERROR(MATCH(C$1&$A13,Périmétre!$A$16:$A$544&Périmétre!$C$16:$C$544,0),"")} | D13: {=IFERROR(MATCH(D$1&$A13,Périmétre!$A$16:$A$544&Périmétre!$C$16:$C$544,0),"")} | E13: {=IFERROR(MATCH(E$1&$A13,Périmétre!$A$16:$A$544&Périmétre!$C$16:$C$544,0),"")} | F13: {=IFERROR(MATCH(F$1&$A13,Périmétre!$A$16:$A$544&Périmétre!$C$16:$C$544,0),"")} | G13: {=IFERROR(MATCH(G$1&$A13,Périmétre!$A$16:$A$544&Périmétre!$C$16:$C$544,0),"")} | H13: {=IFERROR(MATCH(H$1&$A13,Périmétre!$A$16:$A$544&Périmétre!$C$16:$C$544,0),"")} | I13: {=IFERROR(MATCH(I$1&$A13,Périmétre!$A$16:$A$544&Périmétre!$C$16:$C$544,0),"")} -> 12
... A31: 063OI3746 | B31: {=IFERROR(MATCH(B$1&$A31,Périmétre!$A$16:$A$544&Périmétre!$C$16:$C$544,0),"")} | C31: {=IFERROR(MATCH(C$1&$A31,Périmétre!$A$16:$A$544&Périmétre!$C$16:$C$544,0),"")} | D31: {=IFERROR(MATCH(D$1&$A31,Périmétre!$A$16:$A$544&Périmétre!$C$16:$C$544,0),"")} -> 389 | E31: {=IFERROR(MATCH(E$1&$A31,Périmétre!$A$16:$A$544&Périmétre!$C$16:$C$544,0),"")} | F31: {=IFERROR(MATCH(F$1&$A31,Périmétre!$A$16:$A$544&Périmétre!$C$16:$C$544,0),"")} | G31: {=IFERROR(MATCH(G$1&$A31,Périmétre!$A$16:$A$544&Périmétre!$C$16:$C$544,0),"")} -> 241 | H31: {=IFERROR(MATCH(H$1&$A31,Périmétre!$A$16:$A$544&Périmétre!$C$16:$C$544,0),"")} | I31: {=IFERROR(MATCH(I$1&$A31,Périmétre!$A$16:$A$544&Périmétre!$C$16:$C$544,0),"")} -> 30
A32: 1631522 | B32: {=IFERROR(MATCH(B$1&$A32,Périmétre!$A$16:$A$544&Périmétre!$C$16:$C$544,0),"")} -> 109 | C32: {=IFERROR(MATCH(C$1&$A32,Périmétre!$A$16:$A$544&Périmétre!$C$16:$C$544,0),"")} | D32: {=IFERROR(MATCH(D$1&$A32,Périmétre!$A$16:$A$544&Périmétre!$C$16:$C$544,0),"")} -> 399 | E32: {=IFERROR(MATCH(E$1&$A32,Périmétre!$A$16:$A$544&Périmétre!$C$16:$C$544,0),"")} -> 492 | F32: {=IFERROR(MATCH(F$1&$A32,Périmétre!$A$16:$A$544&Périmétre!$C$16:$C$544,0),"")} | G32: {=IFERROR(MATCH(G$1&$A32,Périmétre!$A$16:$A$544&Périmétre!$C$16:$C$544,0),"")} -> 251 | H32: {=IFERROR(MATCH(H$1&$A32,Périmétre!$A$16:$A$544&Périmétre!$C$16:$C$544,0),"")} -> 345 | I32: {=IFERROR(MATCH(I$1&$A32,Périmétre!$A$16:$A$544&Périmétre!$C$16:$C$544,0),"")} -> 31
A33: MINR4440B | B33: {=IFERROR(MATCH(B$1&$A33,Périmétre!$A$16:$A$544&Périmétre!$C$16:$C$544,0),"")} | C33: {=IFERROR(MATCH(C$1&$A33,Périmétre!$A$16:$A$544&Périmétre!$C$16:$C$544,0),"")} | D33: {=IFERROR(MATCH(D$1&$A33,Périmétre!$A$16:$A$544&Périmétre!$C$16:$C$544,0),"")} -> 406 | E33: {=IFERROR(MATCH(E$1&$A33,Périmétre!$A$16:$A$544&Périmétre!$C$16:$C$544,0),"")} -> 500 | F33: {=IFERROR(MATCH(F$1&$A33,Périmétre!$A$16:$A$544&Périmétre!$C$16:$C$544,0),"")} | G33: {=IFERROR(MATCH(G$1&$A33,Périmétre!$A$16:$A$544&Périmétre!$C$16:$C$544,0),"")} -> 258 | H33: {=IFERROR(MATCH(H$1&$A33,Périmétre!$A$16:$A$544&Périmétre!$C$16:$C$544,0),"")} -> 352 | I33: {=IFERROR(MATCH(I$1&$A33,Périmétre!$A$16:$A$544&Périmétre!$C$16:$C$544,0),"")} -> 32
A34: MINR54C27A | B34: {=IFERROR(MATCH(B$1&$A34,Périmétre!$A$16:$A$544&Périmétre!$C$16:$C$544,0),"")} | C34: {=IFERROR(MATCH(C$1&$A34,Périmétre!$A$16:$A$544&Périmétre!$C$16:$C$544,0),"")} | D34: {=IFERROR(MATCH(D$1&$A34,Périmétre!$A$16:$A$544&Périmétre!$C$16:$C$544,0),"")} | E34: {=IFERROR(MATCH(E$1&$A34,Périmétre!$A$16:$A$544&Périmétre!$C$16:$C$544,0),"")} -> 502 | F34: {=IFERROR(MATCH(F$1&$A34,Périmétre!$A$16:$A$544&Périmétre!$C$16:$C$544,0),"")} | G34: {=IFERROR(MATCH(G$1&$A34,Périmétre!$A$16:$A$544&Périmétre!$C$16:$C$544,0),"")} | H34: {=IFERROR(MATCH(H$1&$A34,Périmétre!$A$16:$A$544&Périmétre!$C$16:$C$544,0),"")} -> 354 | I34: {=IFERROR(MATCH(I$1&$A34,Périmétre!$A$16:$A$544&Périmétre!$C$16:$C$544,0),"")} -> 33
A35: MTIR8TA6V | B35: {=IFERROR(MATCH(B$1&$A35,Périmétre!$A$16:$A$544&Périmétre!$C$16:$C$544,0),"")} | C35: {=IFERROR(MATCH(C$1&$A35,Périmétre!$A$16:$A$544&Périmétre!$C$16:$C$544,0),"")} | D35: {=IFERROR(MATCH(D$1&$A35,Périmétre!$A$16:$A$544&Périmétre!$C$16:$C$544,0),"")} -> 409 | E35: {=IFERROR(MATCH(E$1&$A35,Périmétre!$A$16:$A$544&Périmétre!$C$16:$C$544,0),"")} -> 509 | F35: {=IFERROR(MATCH(F$1&$A35,Périmétre!$A$16:$A$544&Périmétre!$C$16:$C$544,0),"")} | G35: {=IFERROR(MATCH(G$1&$A35,Périmétre!$A$16:$A$544&Périmétre!$C$16:$C$544,0),"")} -> 261 | H35: {=IFERROR(MATCH(H$1&$A35,Périmétre!$A$16:$A$544&Périmétre!$C$16:$C$544,0),"")} -> 361 | I35: {=IFERROR(MATCH(I$1&$A35,Périmétre!$A$16:$A$544&Périmétre!$C$16:$C$544,0),"")} -> 34
A36: 063OI3424 | B36: {=IFERROR(MATCH(B$1&$A36,Périmétre!$A$16:$A$544&Périmétre!$C$16:$C$544,0),"")} | C36: {=IFERROR(MATCH(C$1&$A36,Périmétre!$A$16:$A$544&Périmétre!$C$16:$C$544,0),"")} -> 151 | D36: {=IFERROR(MATCH(D$1&$A36,Périmétre!$A$16:$A$544&Périmétre!$C$16:$C$544,0),"")} -> 375 | E36: {=IFERROR(MATCH(E$1&$A36,Périmétre!$A$16:$A$544&Périmétre!$C$16:$C$544,0),"")} -> 437 | F36: {=IFERROR(MATCH(F$1&$A36,Périmétre!$A$16:$A$544&Périmétre!$C$16:$C$544,0),"")} -> 514 | G36: {=IFERROR(MATCH(G$1&$A36,Périmétre!$A$16:$A$544&Périmétre!$C$16:$C$544,0),"")} -> 227 | H36: {=IFERROR(MATCH(H$1&$A36,Périmétre!$A$16:$A$544&Périmétre!$C$16:$C$544,0),"")} -> 290 | I36: {=IFERROR(MATCH(I$1&$A36,Périmétre!$A$16:$A$544&Périmétre!$C$16:$C$544,0),"")} -> 35
A37: 063OI3430W | B37: {=IFERROR(MATCH(B$1&$A37,Périmétre!$A$16:$A$544&Périmétre!$C$16:$C$544,0),"")} | C37: {=IFERROR(MATCH(C$1&$A37,Périmétre!$A$16:$A$544&Périmétre!$C$16:$C$544,0),"")} -> 153 | D37: {=IFERROR(MATCH(D$1&$A37,Périmétre!$A$16:$A$544&Périmétre!$C$16:$C$544,0),"")} | E37: {=IFERROR(MATCH(E$1&$A37,Périmétre!$A$16:$A$544&Périmétre!$C$16:$C$544,0),"")} -> 439 | F37: {=IFERROR(MATCH(F$1&$A37,Périmétre!$A$16:$A$544&Périmétre!$C$16:$C$544,0),"")} -> 516 | G37: {=IFERROR(MATCH(G$1&$A37,Périmétre!$A$16:$A$544&Périmétre!$C$16:$C$544,0),"")} | H37: {=IFERROR(MATCH(H$1&$A37,Périmétre!$A$16:$A$544&Périmétre!$C$16:$C$544,0),"")} -> 292 | I37: {=IFERROR(MATCH(I$1&$A37,Périmétre!$A$16:$A$544&Périmétre!$C$16:$C$544,0),"")} -> 36
A38: 063OI3440W | B38: {=IFERROR(MATCH(B$1&$A38,Périmétre!$A$16:$A$544&Périmétre!$C$16:$C$544,0),"")} | C38: {=IFERROR(MATCH(C$1&$A38,Périmétre!$A$16:$A$544&Périmétre!$C$16:$C$544,0),"")} -> 155 | D38: {=IFERROR(MATCH(D$1&$A38,Périmétre!$A$16:$A$544&Périmétre!$C$16:$C$544,0),"")} | E38: {=IFERROR(MATCH(E$1&$A38,Périmétre!$A$16:$A$544&Périmétre!$C$16:$C$544,0),"")} -> 441 | F38: {=IFERROR(MATCH(F$1&$A38,Périmétre!$A$16:$A$544&Périmétre!$C$16:$C$544,0),"")} -> 518 | G38: {=IFERROR(MATCH(G$1&$A38,Périmétre!$A$16:$A$544&Périmétre!$C$16:$C$544,0),"")} | H38: {=IFERROR(MATCH(H$1&$A38,Périmétre!$A$16:$A$544&Périmétre!$C$16:$C$544,0),"")} -> 294 | I38: {=IFERROR(MATCH(I$1&$A38,Périmétre!$A$16:$A$544&Périmétre!$C$16:$C$544,0),"")} -> 37
A39: 063OI3741 | B39: {=IFERROR(MATCH(B$1&$A39,Périmétre!$A$16:$A$544&Périmétre!$C$16:$C$544,0),"")} | C39: {=IFERROR(MATCH(C$1&$A39,Périmétre!$A$16:$A$544&Périmétre!$C$16:$C$544,0),"")} | D39: {=IFERROR(MATCH(D$1&$A39,Périmétre!$A$16:$A$544&Périmétre!$C$16:$C$544,0),"")} -> 384 | E39: {=IFERROR(MATCH(E$1&$A39,Périmétre!$A$16:$A$544&Périmétre!$C$16:$C$544,0),"")} | F39: {=IFERROR(MATCH(F$1&$A39,Périmétre!$A$16:$A$544&Périmétre!$C$16:$C$544,0),"")} | G39: {=IFERROR(MATCH(G$1&$A39,Périmétre!$A$16:$A$544&Périmétre!$C$16:$C$544,0),"")} -> 236 | H39: {=IFERROR(MATCH(H$1&$A39,Périmétre!$A$16:$A$544&Périmétre!$C$16:$C$544,0),"")} | I39: {=IFERROR(MATCH(I$1&$A39,Périmétre!$A$16:$A$544&Périmétre!$C$16:$C$544,0),"")} -> 38
A40: 063OI3743 | B40: {=IFERROR(MATCH(B$1&$A40,Périmétre!$A$16:$A$544&Périmétre!$C$16:$C$544,0),"")} | C40: {=IFERROR(MATCH(C$1&$A40,Périmétre!$A$16:$A$544&Périmétre!$C$16:$C$544,0),"")} | D40: {=IFERROR(MATCH(D$1&$A40,Périmétre!$A$16:$A$544&Périmétre!$C$16:$C$544,0),"")} -> 386 | E40: {=IFERROR(MATCH(E$1&$A40,Périmétre!$A$16:$A$544&Périmétre!$C$16:$C$544,0),"")} | F40: {=IFERROR(MATCH(F$1&$A40,Périmétre!$A$16:$A$544&Périmétre!$C$16:$C$544,0),"")} | G40: {=IFERROR(MATCH(G$1&$A40,Périmétre!$A$16:$A$544&Périmétre!$C$16:$C$544,0),"")} -> 238 | H40: {=IFERROR(MATCH(H$1&$A40,Périmétre!$A$16:$A$544&Périmétre!$C$16:$C$544,0),"")} | I40: {=IFERROR(MATCH(I$1&$A40,Périmétre!$A$16:$A$544&Périmétre!$C$16:$C$544,0),"")} -> 39
A41: 063OI3744 | B41: {=IFERROR(MATCH(B$1&$A41,Périmétre!$A$16:$A$544&Périmétre!$C$16:$C$544,0),"")} | C41: {=IFERROR(MATCH(C$1&$A41,Périmétre!$A$16:$A$544&Périmétre!$C$16:$C$544,0),"")} | D41: {=IFERROR(MATCH(D$1&$A41,Périmétre!$A$16:$A$544&Périmétre!$C$16:$C$544,0),"")} -> 387 | E41: {=IFERROR(MATCH(E$1&$A41,Périmétre!$A$16:$A$544&Périmétre!$C$16:$C$544,0),"")} | F41: {=IFERROR(MATCH(F$1&$A41,Périmétre!$A$16:$A$544&Périmétre!$C$16:$C$544,0),"")} | G41: {=IFERROR(MATCH(G$1&$A41,Périmétre!$A$16:$A$544&Périmétre!$C$16:$C$544,0),"")} -> 239 | H41: {=IFERROR(MATCH(H$1&$A41,Périmétre!$A$16:$A$544&Périmétre!$C$16:$C$544,0),"")} | I41: {=IFERROR(MATCH(I$1&$A41,Périmétre!$A$16:$A$544&Périmétre!$C$16:$C$544,0),"")} -> 40
A42: 063OI3745 | B42: {=IFERROR(MATCH(B$1&$A42,Périmétre!$A$16:$A$544&Périmétre!$C$16:$C$544,0),"")} | C42: {=IFERROR(MATCH(C$1&$A42,Périmétre!$A$16:$A$544&Périmétre!$C$16:$C$544,0),"")} | D42: {=IFERROR(MATCH(D$1&$A42,Périmétre!$A$16:$A$544&Périmétre!$C$16:$C$544,0),"")} -> 388 | E42: {=IFERROR(MATCH(E$1&$A42,Périmétre!$A$16:$A$544&Périmétre!$C$16:$C$544,0),"")} | F42: {=IFERROR(MATCH(F$1&$A42,Périmétre!$A$16:$A$544&Périmétre!$C$16:$C$544,0),"")} | G42: {=IFERROR(MATCH(G$1&$A42,Périmétre!$A$16:$A$544&Périmétre!$C$16:$C$544,0),"")} -> 240 | H42: {=IFERROR(MATCH(H$1&$A42,Périmétre!$A$16:$A$544&Périmétre!$C$16:$C$544,0),"")} | I42: {=IFERROR(MATCH(I$1&$A42,Périmétre!$A$16:$A$544&Périmétre!$C$16:$C$544,0),"")} -> 41
A43: MTIR4TA6V | B43: {=IFERROR(MATCH(B$1&$A43,Périmétre!$A$16:$A$544&Périmétre!$C$16:$C$544,0),"")} | C43: {=IFERROR(MATCH(C$1&$A43,Périmétre!$A$16:$A$544&Périmétre!$C$16:$C$544,0),"")} -> 209 | D43: {=IFERROR(MATCH(D$1&$A43,Périmétre!$A$16:$A$544&Périmétre!$C$16:$C$544,0),"")} -> 408 | E43: {=IFERROR(MATCH(E$1&$A43,Périmétre!$A$16:$A$544&Périmétre!$C$16:$C$544,0),"")} -> 507 | F43: {=IFERROR(MATCH(F$1&$A43,Périmétre!$A$16:$A$544&Périmétre!$C$16:$C$544,0),"")} | G43: {=IFERROR(MATCH(G$1&$A43,Périmétre!$A$16:$A$544&Périmétre!$C$16:$C$544,0),"")} -> 260 | H43: {=IFERROR(MATCH(H$1&$A43,Périmétre!$A$16:$A$544&Périmétre!$C$16:$C$544,0),"")} -> 359 | I43: {=IFERROR(MATCH(I$1&$A43,Périmétre!$A$16:$A$544&Périmétre!$C$16:$C$544,0),"")} -> 42
A44: MINR1-18PHYNOX | B44: {=IFERROR(MATCH(B$1&$A44,Périmétre!$A$16:$A$544&Périmétre!$C$16:$C$544,0),"")} | C44: {=IFERROR(MATCH(C$1&$A44,Périmétre!$A$16:$A$544&Périmétre!$C$16:$C$544,0),"")} | D44: {=IFERROR(MATCH(D$1&$A44,Périmétre!$A$16:$A$544&Périmétre!$C$16:$C$544,0),"")} -> 402 | E44: {=IFERROR(MATCH(E$1&$A44,Périmétre!$A$16:$A$544&Périmétre!$C$16:$C$544,0),"")} | F44: {=IFERROR(MATCH(F$1&$A44,Périmétre!$A$16:$A$544&Périmétre!$C$16:$C$544,0),"")} | G44: {=IFERROR(MATCH(G$1&$A44,Périmétre!$A$16:$A$544&Périmétre!$C$16:$C$544,0),"")} -> 254 | H44: {=IFERROR(MATCH(H$1&$A44,Périmétre!$A$16:$A$544&Périmétre!$C$16:$C$544,0),"")} | I44: {=IFERROR(MATCH(I$1&$A44,Périmétre!$A$16:$A$544&Périmétre!$C$16:$C$544,0),"")} -> 43
... A98: 063OPTA28250A | B98: {=IFERROR(MATCH(B$1&$A98,Périmétre!$A$16:$A$544&Périmétre!$C$16:$C$544,0),"")} -> 97 | C98: {=IFERROR(MATCH(C$1&$A98,Périmétre!$A$16:$A$544&Périmétre!$C$16:$C$544,0),"")} | D98: {=IFERROR(MATCH(D$1&$A98,Périmétre!$A$16:$A$544&Périmétre!$C$16:$C$544,0),"")} | E98: {=IFERROR(MATCH(E$1&$A98,Périmétre!$A$16:$A$544&Périmétre!$C$16:$C$544,0),"")} | F98: {=IFERROR(MATCH(F$1&$A98,Périmétre!$A$16:$A$544&Périmétre!$C$16:$C$544,0),"")} | G98: {=IFERROR(MATCH(G$1&$A98,Périmétre!$A$16:$A$544&Périmétre!$C$16:$C$544,0),"")} | H98: {=IFERROR(MATCH(H$1&$A98,Périmétre!$A$16:$A$544&Périmétre!$C$16:$C$544,0),"")} | I98: {=IFERROR(MATCH(I$1&$A98,Périmétre!$A$16:$A$544&Périmétre!$C$16:$C$544,0),"")}
A99: 16310151 | B99: {=IFERROR(MATCH(B$1&$A99,Périmétre!$A$16:$A$544&Périmétre!$C$16:$C$544,0),"")} -> 98 | C99: {=IFERROR(MATCH(C$1&$A99,Périmétre!$A$16:$A$544&Périmétre!$C$16:$C$544,0),"")} | D99: {=IFERROR(MATCH(D$1&$A99,Périmétre!$A$16:$A$544&Périmétre!$C$16:$C$544,0),"")} | E99: {=IFERROR(MATCH(E$1&$A99,Périmétre!$A$16:$A$544&Périmétre!$C$16:$C$544,0),"")} | F99: {=IFERROR(MATCH(F$1&$A99,Périmétre!$A$16:$A$544&Périmétre!$C$16:$C$544,0),"")} | G99: {=IFERROR(MATCH(G$1&$A99,Périmétre!$A$16:$A$544&Périmétre!$C$16:$C$544,0),"")} | H99: {=IFERROR(MATCH(H$1&$A99,Périmétre!$A$16:$A$544&Périmétre!$C$16:$C$544,0),"")} | I99: {=IFERROR(MATCH(I$1&$A99,Périmétre!$A$16:$A$544&Périmétre!$C$16:$C$544,0),"")}
A100: 16310264 | B100: {=IFERROR(MATCH(B$1&$A100,Périmétre!$A$16:$A$544&Périmétre!$C$16:$C$544,0),"")} -> 99 | C100: {=IFERROR(MATCH(C$1&$A100,Périmétre!$A$16:$A$544&Périmétre!$C$16:$C$544,0),"")} | D100: {=IFERROR(MATCH(D$1&$A100,Périmétre!$A$16:$A$544&Périmétre!$C$16:$C$544,0),"")} | E100: {=IFERROR(MATCH(E$1&$A100,Périmétre!$A$16:$A$544&Périmétre!$C$16:$C$544,0),"")} | F100: {=IFERROR(MATCH(F$1&$A100,Périmétre!$A$16:$A$544&Périmétre!$C$16:$C$544,0),"")} | G100: {=IFERROR(MATCH(G$1&$A100,Périmétre!$A$16:$A$544&Périmétre!$C$16:$C$544,0),"")} | H100: {=IFERROR(MATCH(H$1&$A100,Périmétre!$A$16:$A$544&Périmétre!$C$16:$C$544,0),"")} | I100: {=IFERROR(MATCH(I$1&$A100,Périmétre!$A$16:$A$544&Périmétre!$C$16:$C$544,0),"")}
A101: 16314442 | B101: {=IFERROR(MATCH(B$1&$A101,Périmétre!$A$16:$A$544&Périmétre!$C$16:$C$544,0),"")} -> 100 | C101: {=IFERROR(MATCH(C$1&$A101,Périmétre!$A$16:$A$544&Périmétre!$C$16:$C$544,0),"")} | D101: {=IFERROR(MATCH(D$1&$A101,Périmétre!$A$16:$A$544&Périmétre!$C$16:$C$544,0),"")} | E101: {=IFERROR(MATCH(E$1&$A101,Périmétre!$A$16:$A$544&Périmétre!$C$16:$C$544,0),"")} | F101: {=IFERROR(MATCH(F$1&$A101,Périmétre!$A$16:$A$544&Périmétre!$C$16:$C$544,0),"")} | G101: {=IFERROR(MATCH(G$1&$A101,Périmétre!$A$16:$A$544&Périmétre!$C$16:$C$544,0),"")} | H101: {=IFERROR(MATCH(H$1&$A101,Périmétre!$A$16:$A$544&Périmétre!$C$16:$C$544,0),"")} | I101: {=IFERROR(MATCH(I$1&$A101,Périmétre!$A$16:$A$544&Périmétre!$C$16:$C$544,0),"")}
A102: 16314443 | B102: {=IFERROR(MATCH(B$1&$A102,Périmétre!$A$16:$A$544&Périmétre!$C$16:$C$544,0),"")} -> 101 | C102: {=IFERROR(MATCH(C$1&$A102,Périmétre!$A$16:$A$544&Périmétre!$C$16:$C$544,0),"")} | D102: {=IFERROR(MATCH(D$1&$A102,Périmétre!$A$16:$A$544&Périmétre!$C$16:$C$544,0),"")} | E102: {=IFERROR(MATCH(E$1&$A102,Périmétre!$A$16:$A$544&Périmétre!$C$16:$C$544,0),"")} | F102: {=IFERROR(MATCH(F$1&$A102,Périmétre!$A$16:$A$544&Périmétre!$C$16:$C$544,0),"")} | G102: {=IFERROR(MATCH(G$1&$A102,Périmétre!$A$16:$A$544&Périmétre!$C$16:$C$544,0),"")} | H102: {=IFERROR(MATCH(H$1&$A102,Périmétre!$A$16:$A$544&Périmétre!$C$16:$C$544,0),"")} | I102: {=IFERROR(MATCH(I$1&$A102,Périmétre!$A$16:$A$544&Périmétre!$C$16:$C$544,0),"")}
A103: 16314444 | B103: {=IFERROR(MATCH(B$1&$A103,Périmétre!$A$16:$A$544&Périmétre!$C$16:$C$544,0),"")} -> 102 | C103: {=IFERROR(MATCH(C$1&$A103,Périmétre!$A$16:$A$544&Périmétre!$C$16:$C$544,0),"")} | D103: {=IFERROR(MATCH(D$1&$A103,Périmétre!$A$16:$A$544&Périmétre!$C$16:$C$544,0),"")} | E103: {=IFERROR(MATCH(E$1&$A103,Périmétre!$A$16:$A$544&Périmétre!$C$16:$C$544,0),"")} | F103: {=IFERROR(MATCH(F$1&$A103,Périmétre!$A$16:$A$544&Périmétre!$C$16:$C$544,0),"")} | G103: {=IFERROR(MATCH(G$1&$A103,Périmétre!$A$16:$A$544&Périmétre!$C$16:$C$544,0),"")} | H103: {=IFERROR(MATCH(H$1&$A103,Périmétre!$A$16:$A$544&Périmétre!$C$16:$C$544,0),"")} | I103: {=IFERROR(MATCH(I$1&$A103,Périmétre!$A$16:$A$544&Périmétre!$C$16:$C$544,0),"")}
A104: 16314448 | B104: {=IFERROR(MATCH(B$1&$A104,Périmétre!$A$16:$A$544&Périmétre!$C$16:$C$544,0),"")} -> 103 | C104: {=IFERROR(MATCH(C$1&$A104,Périmétre!$A$16:$A$544&Périmétre!$C$16:$C$544,0),"")} | D104: {=IFERROR(MATCH(D$1&$A104,Périmétre!$A$16:$A$544&Périmétre!$C$16:$C$544,0),"")} | E104: {=IFERROR(MATCH(E$1&$A104,Périmétre!$A$16:$A$544&Périmétre!$C$16:$C$544,0),"")} | F104: {=IFERROR(MATCH(F$1&$A104,Périmétre!$A$16:$A$544&Périmétre!$C$16:$C$544,0),"")} | G104: {=IFERROR(MATCH(G$1&$A104,Périmétre!$A$16:$A$544&Périmétre!$C$16:$C$544,0),"")} | H104: {=IFERROR(MATCH(H$1&$A104,Périmétre!$A$16:$A$544&Périmétre!$C$16:$C$544,0),"")} | I104: {=IFERROR(MATCH(I$1&$A104,Périmétre!$A$16:$A$544&Périmétre!$C$16:$C$544,0),"")}
A105: 16314449 | B105: {=IFERROR(MATCH(B$1&$A105,Périmétre!$A$16:$A$544&Périmétre!$C$16:$C$544,0),"")} -> 104 | C105: {=IFERROR(MATCH(C$1&$A105,Périmétre!$A$16:$A$544&Périmétre!$C$16:$C$544,0),"")} | D105: {=IFERROR(MATCH(D$1&$A105,Périmétre!$A$16:$A$544&Périmétre!$C$16:$C$544,0),"")} | E105: {=IFERROR(MATCH(E$1&$A105,Périmétre!$A$16:$A$544&Périmétre!$C$16:$C$544,0),"")} | F105: {=IFERROR(MATCH(F$1&$A105,Périmétre!$A$16:$A$544&Périmétre!$C$16:$C$544,0),"")} | G105: {=IFERROR(MATCH(G$1&$A105,Périmétre!$A$16:$A$544&Périmétre!$C$16:$C$544,0),"")} | H105: {=IFERROR(MATCH(H$1&$A105,Périmétre!$A$16:$A$544&Périmétre!$C$16:$C$544,0),"")} | I105: {=IFERROR(MATCH(I$1&$A105,Périmétre!$A$16:$A$544&Périmétre!$C$16:$C$544,0),"")}
A106: 16314455 | B106: {=IFERROR(MATCH(B$1&$A106,Périmétre!$A$16:$A$544&Périmétre!$C$16:$C$544,0),"")} -> 105 | C106: {=IFERROR(MATCH(C$1&$A106,Périmétre!$A$16:$A$544&Périmétre!$C$16:$C$544,0),"")} | D106: {=IFERROR(MATCH(D$1&$A106,Périmétre!$A$16:$A$544&Périmétre!$C$16:$C$544,0),"")} | E106: {=IFERROR(MATCH(E$1&$A106,Périmétre!$A$16:$A$544&Périmétre!$C$16:$C$544,0),"")} | F106: {=IFERROR(MATCH(F$1&$A106,Périmétre!$A$16:$A$544&Périmétre!$C$16:$C$544,0),"")} | G106: {=IFERROR(MATCH(G$1&$A106,Périmétre!$A$16:$A$544&Périmétre!$C$16:$C$544,0),"")} | H106: {=IFERROR(MATCH(H$1&$A106,Périmétre!$A$16:$A$544&Périmétre!$C$16:$C$544,0),"")} | I106: {=IFERROR(MATCH(I$1&$A106,Périmétre!$A$16:$A$544&Périmétre!$C$16:$C$544,0),"")}
A107: 16314456-X | B107: {=IFERROR(MATCH(B$1&$A107,Périmétre!$A$16:$A$544&Périmétre!$C$16:$C$544,0),"")} -> 106 | C107: {=IFERROR(MATCH(C$1&$A107,Périmétre!$A$16:$A$544&Périmétre!$C$16:$C$544,0),"")} | D107: {=IFERROR(MATCH(D$1&$A107,Périmétre!$A$16:$A$544&Périmétre!$C$16:$C$544,0),"")} | E107: {=IFERROR(MATCH(E$1&$A107,Périmétre!$A$16:$A$544&Périmétre!$C$16:$C$544,0),"")} | F107: {=IFERROR(MATCH(F$1&$A107,Périmétre!$A$16:$A$544&Périmétre!$C$16:$C$544,0),"")} | G107: {=IFERROR(MATCH(G$1&$A107,Périmétre!$A$16:$A$544&Périmétre!$C$16:$C$544,0),"")} | H107: {=IFERROR(MATCH(H$1&$A107,Périmétre!$A$16:$A$544&Périmétre!$C$16:$C$544,0),"")} | I107: {=IFERROR(MATCH(I$1&$A107,Périmétre!$A$16:$A$544&Périmétre!$C$16:$C$544,0),"")}
A108: 16314457-X | B108: {=IFERROR(MATCH(B$1&$A108,Périmétre!$A$16:$A$544&Périmétre!$C$16:$C$544,0),"")} -> 107 | C108: {=IFERROR(MATCH(C$1&$A108,Périmétre!$A$16:$A$544&Périmétre!$C$16:$C$544,0),"")} | D108: {=IFERROR(MATCH(D$1&$A108,Périmétre!$A$16:$A$544&Périmétre!$C$16:$C$544,0),"")} | E108: {=IFERROR(MATCH(E$1&$A108,Périmétre!$A$16:$A$544&Périmétre!$C$16:$C$544,0),"")} | F108: {=IFERROR(MATCH(F$1&$A108,Périmétre!$A$16:$A$544&Périmétre!$C$16:$C$544,0),"")} | G108: {=IFERROR(MATCH(G$1&$A108,Périmétre!$A$16:$A$544&Périmétre!$C$16:$C$544,0),"")} | H108: {=IFERROR(MATCH(H$1&$A108,Périmétre!$A$16:$A$544&Périmétre!$C$16:$C$544,0),"")} | I108: {=IFERROR(MATCH(I$1&$A108,Périmétre!$A$16:$A$544&Périmétre!$C$16:$C$544,0),"")}
A109: 16315131 | B109: {=IFERROR(MATCH(B$1&$A109,Périmétre!$A$16:$A$544&Périmétre!$C$16:$C$544,0),"")} -> 108 | C109: {=IFERROR(MATCH(C$1&$A109,Périmétre!$A$16:$A$544&Périmétre!$C$16:$C$544,0),"")} | D109: {=IFERROR(MATCH(D$1&$A109,Périmétre!$A$16:$A$544&Périmétre!$C$16:$C$544,0),"")} | E109: {=IFERROR(MATCH(E$1&$A109,Périmétre!$A$16:$A$544&Périmétre!$C$16:$C$544,0),"")} -> 491 | F109: {=IFERROR(MATCH(F$1&$A109,Périmétre!$A$16:$A$544&Périmétre!$C$16:$C$544,0),"")} | G109: {=IFERROR(MATCH(G$1&$A109,Périmétre!$A$16:$A$544&Périmétre!$C$16:$C$544,0),"")} | H109: {=IFERROR(MATCH(H$1&$A109,Périmétre!$A$16:$A$544&Périmétre!$C$16:$C$544,0),"")} -> 344 | I109: {=IFERROR(MATCH(I$1&$A109,Périmétre!$A$16:$A$544&Périmétre!$C$16:$C$544,0),"")}
A110: 1631522 | B110: {=IFERROR(MATCH(B$1&$A110,Périmétre!$A$16:$A$544&Périmétre!$C$16:$C$544,0),"")} -> 109 | C110: {=IFERROR(MATCH(C$1&$A110,Périmétre!$A$16:$A$544&Périmétre!$C$16:$C$544,0),"")} | D110: {=IFERROR(MATCH(D$1&$A110,Périmétre!$A$16:$A$544&Périmétre!$C$16:$C$544,0),"")} -> 399 | E110: {=IFERROR(MATCH(E$1&$A110,Périmétre!$A$16:$A$544&Périmétre!$C$16:$C$544,0),"")} -> 492 | F110: {=IFERROR(MATCH(F$1&$A110,Périmétre!$A$16:$A$544&Périmétre!$C$16:$C$544,0),"")} | G110: {=IFERROR(MATCH(G$1&$A110,Périmétre!$A$16:$A$544&Périmétre!$C$16:$C$544,0),"")} -> 251 | H110: {=IFERROR(MATCH(H$1&$A110,Périmétre!$A$16:$A$544&Périmétre!$C$16:$C$544,0),"")} -> 345 | I110: {=IFERROR(MATCH(I$1&$A110,Périmétre!$A$16:$A$544&Périmétre!$C$16:$C$544,0),"")} -> 31
...
