Workbook

Sheet Périmétre
B3: Les parents niveau 0
B5: 063INKITOP28
B6: 063INMODOPBSL
B7: 063INMODOPP
B8: 063INMODOPS2
B9: 063INMODOPS2V
B10: 063MODOPP-P
B11: 063MODOPS2-P
B12: 064INMODOPP
A15: Parents | B15: FLG | C15: Article | D15: Intitulé | E15: Quantité besoin | F15: Niveau | G15: Composé
A16: 064INMODOPP | C16: 0633911_EMB | D16: BOITE NOUVELLE TROUSSE | E16: 1 | F16: 1 | G16: 064INMODOPP
A17: 064INMODOPP | C17: 1633046_EMB | D17: ETIQ. AUTO. 63x22 | E17: 2 | F17: 1 | G17: 064INMODOPP
A18: 064INMODOPP | C18: 1633381_EMB | D18: ETIQ.RONDE Ø30 TRANSPARENT | E18: 2 | F18: 1 | G18: 064INMODOPP
A19: 064INMODOPP | C19: 063MODOPP_NOT | D19: NOTICE MODULE AXIOM PROTH. | E19: 1 | F19: 2 | G19: 064INMODOPPAA
A20: 064INMODOPP | C20: 063MUM100SA | D20: MANDRIN MULTI UNIT S | E20: 1 | F20: 2 | G20: 064INMODOPPAA
A21: 064INMODOPP | C21: 063MUW100A | D21: CLE MULTI-UNIT | E21: 1 | F21: 2 | G21: 064INMODOPPAA
A22: 064INMODOPP | C22: 063OI3210-X | D22: CLE HEXAGONALE LONGUE / VIS | E22: 1 | F22: 2 | G22: 064INMODOPPAA
A23: 064INMODOPP | C23: 063OI3211-X | D23: CLE HEXAGONALE COURTE / VIS | E23: 1 | F23: 2 | G23: 064INMODOPPAA
A24: 064INMODOPP | C24: 063OI3271 | D24: MANDRIN HEXAGONAL COURT / VIS | E24: 1 | F24: 2 | G24: 064INMODOPPAA
A25: 064INMODOPP | C25: 063OI3277 | D25: MANDRIN HEXAGONAL LONG / VIS | E25: 1 | F25: 2 | G25: 064INMODOPPAA
A26: 064INMODOPP | C26: 063OI3747 | D26: CLE DYNAMOMETRIQUE PROTHETIQUE | E26: 1 | F26: 2 | G26: 064INMODOPPAA
A27: 064INMODOPP | C27: 063MUW101A | D27: AXE CLE MULTI-UNIT | E27: 1 | F27: 3 | G27: 063MUW100A
A28: 064INMODOPP | B28: * | C28: 063OI3201 | D28: TETE DE MANDRIN | E28: 3 | F28: 3 | G28: *
A29: 064INMODOPP | C29: 063OI3206 | D29: AXE CLE 6 PANS LONGUE | E29: 1 | F29: 3 | G29: 063OI3210-X
A30: 064INMODOPP | C30: 063OI3208 | D30: AXE CLE 6 PANS COURTE | E30: 1 | F30: 3 | G30: 063OI3211-X
A31: 064INMODOPP | B31: * | C31: 063OI3220 | D31: PION D'ASSEMBLAGE | E31: 3 | F31: 3 | G31: *
A32: 064INMODOPP | B32: * | C32: 063OI3230 | D32: COUPELLE DE TOURNEVIS | E32: 3 | F32: 3 | G32: *
A33: 064INMODOPP | C33: 063OI3747-X | D33: CLE DYNAMOMETRIQUE PROTHETIQUE | E33: 1 | F33: 3 | G33: 063OI3747
A34: 064INMODOPP | C34: 064OI3431OPP | D34: INSERT 3/4 PROTH. AXIOM | E34: 1 | F34: 3 | G34: 064INMODOPPVAA
A35: 064INMODOPP | C35: 064OI3441OPP | D35: INSERT 1/4 PROTH AXIOM | E35: 1 | F35: 3 | G35: 064INMODOPPVAA
A36: 064INMODOPP | B36: * | C36: MINR3440B | D36: 1.4112-X90CrMoV18 | E36: 0.055 | F36: 3 | G36: *
A37: 064INMODOPP | C37: 063OI3421W | D37: PLAQUE PRINCIPALE | E37: 1 | F37: 4 | G37: 063OI3420W
A38: 064INMODOPP | C38: 063OI3422 | D38: CHAUSSETTE | E38: 2 | F38: 4 | G38: 063OI3420W
A39: 064INMODOPP | C39: 063OI3423 | D39: CAPOT TRANSPARENT | E39: 2 | F39: 4 | G39: 063OI3420W
A40: 064INMODOPP | C40: 063OI3424-X | D40: PLAQUE LATERALE | E40: 2 | F40: 4 | G40: 063OI3420W
A41: 064INMODOPP | C41: 063OI3450 | D41: OEILLET GRIS Ø7.0 | E41: 12 | F41: 4 | G41: 064OI3431OPP
A42: 064INMODOPP | B42: * | C42: 063OI3451 | D42: OEILLET GRIS Ø2.35 | E42: 9 | F42: 4 | G42: *
A43: 064INMODOPP | C43: 063OI3460 | D43: SUPPORT INSTRUMENTS 4 | E43: 4 | F43: 4 | G43: 064OI3431OPP
A44: 064INMODOPP | C44: 063OI3742 | D44: ROCHET | E44: 1 | F44: 4 | G44: 063OI3747-X
A45: 064INMODOPP | C45: 063OI3746 | D45: SOUS ASSEMBLAGE | E45: 1 | F45: 4 | G45: 063OI3747-X
A46: 064INMODOPP | C46: 1631522 | D46: RESSORT DIA 2.6X0.35X7.5 | E46: 1 | F46: 4 | G46: 063OI3747-X
A47: 064INMODOPP | B47: * | C47: MINR4440B | D47: 1.4112-X90CrMoV18 | E47: 0.03 | F47: 4 | G47: *
A48: 064INMODOPP | B48: * | C48: MINR54C27A | D48: 1.4197-X22CrMoNiS13-1 | E48: 0.041 | F48: 4 | G48: *
A49: 064INMODOPP | B49: * | C49: MTIR8TA6V | D49: 3.7165.1-Ti-6Al-4VELI | E49: 0.048 | F49: 4 | G49: *
A50: 064INMODOPP | C50: 063OI3424 | D50: PLAQUE LATERALE | E50: 2 | F50: 5 | G50: 063OI3424-X
A51: 064INMODOPP | C51: 063OI3430W | D51: PLAQUE 3/4 BLANCHE | E51: 1 | F51: 5 | G51: 064OI3431OPP-X
A52: 064INMODOPP | C52: 063OI3440W | D52: PLAQUE 1/4 BLANCHE | E52: 1 | F52: 5 | G52: 064OI3441OPP-X
A53: 064INMODOPP | C53: 063OI3741 | D53: TETE | E53: 1 | F53: 5 | G53: 063OI3746
A54: 064INMODOPP | C54: 063OI3743 | D54: CORPS | E54: 1 | F54: 5 | G54: 063OI3746
A55: 064INMODOPP | C55: 063OI3744 | D55: TIGE FLEXIBLE | E55: 1 | F55: 5 | G55: 063OI3746
A56: 064INMODOPP | C56: 063OI3745 | D56: BOUTON | E56: 1 | F56: 5 | G56: 063OI3746
A57: 064INMODOPP | B57: * | C57: MTIR4TA6V | D57: 3.7165.1-Ti-6Al-4VELI | E57: 0.056 | F57: 5 | G57: *
A58: 064INMODOPP | C58: MINR1-18PHYNOX | D58: 2.4711-CoCr20Ni15Mo | E58: 0.068 | F58: 6 | G58: 063OI3744
A59: 064INMODOPP | C59: MINR10316LK | D59: 1.4598-X2CrNiMoCuS17-10-2 | E59: 0.035 | F59: 6 | G59: 063OI3741
A60: 064INMODOPP | C60: MINR16316LK | D60: 1.4598-X2CrNiMoCuS17-10-2 | E60: 0.085 | F60: 6 | G60: 063OI3743
A61: 064INMODOPP | C61: MINR5316LK | D61: 1.4598-X2CrNiMoCuS17-10-2 | E61: 0.012 | F61: 6 | G61: 063OI3745
A62: 063INKITOP28 | C62: 0633911_EMB | D62: BOITE NOUVELLE TROUSSE | E62: 1 | F62: 2 | G62: 063INMODOP28
A63: 063INKITOP28 | C63: 063FT20-X | D63: FRAISE BOULE Ø2.0 | E63: 1 | F63: 3 | G63: 063INMODOP28AA
A64: 063INKITOP28 | C64: 063FT20A | D64: FRAISE BOULE Ø2 | E64: 1 | F64: 4 | G64: 063FT20-X
A65: 063INKITOP28 | C65: 063INCPMAA | D65: CLE PORTE MANDRIN | E65: 1 | F65: 3 | G65: 063INMODOP28AA
A66: 063INKITOP28 | C66: 063INEXM100A | D66: EXTENSION DE MANDRIN | E66: 1 | F66: 3 | G66: 063INMODOP28AA
A67: 063INKITOP28 | C67: 063INEXM101A | D67: EXTENSION DE MANDRIN | E67: 1 | F67: 4 | G67: 063INEXM100A
A68: 063INKITOP28 | B68: * | C68: 063INEXM102A | D68: ERGOT EXTENSION DE MANDRIN | E68: 2 | F68: 4 | G68: *
A69: 063INKITOP28 | C69: 063INMODOP28 | D69: MODULE CHIRURGIE AXIOM Ø2.8 | E69: 1 | F69: 1 | G69: 063INKITOP28
A70: 063INKITOP28 | C70: 063MODOP28_NOT | D70: NOTICE MODULE AXIOM CHIRURGIE | E70: 1 | F70: 1 | G70: 063INKITOP28
A71: 063INKITOP28 | C71: 063OI3201 | D71: TETE DE MANDRIN | E71: 1 | F71: 4 | G71: 063OPCV028AA
A72: 063INKITOP28 | C72: 063OI3212A | D72: EMBOUT + PION | E72: 1 | F72: 4 | G72: 063OI3215A
A73: 063INKITOP28 | C73: 063OI3213A | D73: PION | E73: 1 | F73: 5 | G73: 063OI3212A
A74: 063INKITOP28 | C74: 063OI3214A | D74: CORPS DE CLE | E74: 1 | F74: 4 | G74: 063OI3215A
A75: 063INKITOP28 | C75: 063OI3215A | D75: CLE A CLIQUET | E75: 1 | F75: 3 | G75: 063INMODOP28AA
A76: 063INKITOP28 | C76: 063OI3216A | D76: TETE DE CLE | E76: 1 | F76: 4 | G76: 063OI3215A
A77: 063INKITOP28 | C77: 063OI3217A | D77: DOIGT DE BLOCAGE | E77: 1 | F77: 4 | G77: 063OI3215A
A78: 063INKITOP28 | C78: 063OI3218A | D78: EMBOUT | E78: 1 | F78: 5 | G78: 063OI3212A
A79: 063INKITOP28 | C79: 063OI3219 | D79: RESSORT DIA 2.8X0.3X7.5 | E79: 1 | F79: 4 | G79: 063OPOP028A
A80: 063INKITOP28 | C80: 063OI3220 | D80: PION D'ASSEMBLAGE | E80: 1 | F80: 4 | G80: 063OPCV028AA
A81: 063INKITOP28 | B81: * | C81: 063OI3230 | D81: COUPELLE DE TOURNEVIS | E81: 2 | F81: 4 | G81: *
A82: 063INKITOP28 | C82: 063OI3233 | D82: CORPS CLE PORTE MANDRIN | E82: 1 | F82: 4 | G82: 063INCPMAA
A83: 063INKITOP28 | C83: 063OI3234 | D83: AXE CLE PORTE MANDRIN | E83: 1 | F83: 4 | G83: 063INCPMAA
A84: 063INKITOP28 | C84: 063OI3421W | D84: PLAQUE PRINCIPALE | E84: 1 | F84: 5 | G84: 063OI3420W
A85: 063INKITOP28 | C85: 063OI3422 | D85: CHAUSSETTE | E85: 2 | F85: 5 | G85: 063OI3420W
A86: 063INKITOP28 | C86: 063OI3423 | D86: CAPOT TRANSPARENT | E86: 2 | F86: 5 | G86: 063OI3420W
A87: 063INKITOP28 | C87: 063OI3424-X | D87: PLAQUE LATERALE | E87: 2 | F87: 5 | G87: 063OI3420W
A88: 063INKITOP28 | C88: 063OI3431OP28 | D88: INSERT 3/4 CHIRURGIE | E88: 1 | F88: 4 | G88: 063INMODOP28VAA
A89: 063INKITOP28 | C89: 063OI3441OP28 | D89: INSERT 1/4 CHIRURGIE | E89: 1 | F89: 4 | G89: 063INMODOP28VAA
A90: 063INKITOP28 | B90: * | C90: 063OI3449 | D90: OEILLET ORANGE Ø2.35 | E90: 3 | F90: 5 | G90: *
A91: 063INKITOP28 | B91: * | C91: 063OI3765 | D91: BAGUE COULEUR ORANGE | E91: 2 | F91: 4 | G91: *
A92: 063INKITOP28 | C92: 063OPCF100A | D92: OUTIL PREHENSION | E92: 1 | F92: 3 | G92: 063INMODOP28AA
A93: 063INKITOP28 | C93: 063OPCV028A | D93: AXE CLE MANUELLE | E93: 1 | F93: 4 | G93: 063OPCV028AA
A94: 063INKITOP28 | C94: 063OPCV028AA | D94: CLE MANUELLE | E94: 1 | F94: 3 | G94: 063INMODOP28AA
A95: 063INKITOP28 | C95: 063OPFC28_NOT | D95: FILM CALIBRAGE AXIOM Ø2.8 | E95: 1 | F95: 2 | G95: 063INMODOP28
A96: 063INKITOP28 | C96: 063OPFE26250A | D96: FORET ETAGE AXIOM Ø2.6 x 25 | E96: 1 | F96: 3 | G96: 063INMODOP28AA
A97: 063INKITOP28 | C97: 063OPFI20250C | D97: FORET INITIAL Ø2.0x 25.0 | E97: 1 | F97: 3 | G97: 063INMODOP28AA
A98: 063INKITOP28 | C98: 063OPFI20250C-X | D98: FORET INITIAL Ø2.0x 25.0 | E98: 1 | F98: 4 | G98: 063OPFI20250C
A99: 063INKITOP28 | C99: 063OPIP100A | D99: PIECE IMPACTION | E99: 1 | F99: 2 | G99: 1636920
A100: 063INKITOP28 | C100: 063OPIP200A | D100: PIECE IMPACTION | E100: 1 | F100: 2 | G100: 1636920
A101: 063INKITOP28 | C101: 063OPIP400A | D101: PIECE IMPACTION | E101: 1 | F101: 2 | G101: 1636920
A102: 063INKITOP28 | C102: 063OPJD026A | D102: JAUGE Ø2.6 | E102: 1 | F102: 3 | G102: 063INMODOP28AA
A103: 063INKITOP28 | C103: 063OPJD028A | D103: JAUGE PROFONDEUR | E103: 1 | F103: 3 | G103: 063INMODOP28AA
A104: 063INKITOP28 | C104: 063OPMV028A | D104: MANDRIN IMPLANT Ø2.8 | E104: 1 | F104: 3 | G104: 063INMODOP28AA
A105: 063INKITOP28 | C105: 063OPOP028A | D105: CLE DE PREHENSION | E105: 1 | F105: 3 | G105: 063INMODOP28AA
...

Sheet Feuil1
B1: 063INKITOP28 | C1: 063INMODOPBSL | D1: 063INMODOPP | E1: 063INMODOPS2 | F1: 063INMODOPS2V | G1: 063MODOPP-P | H1: 063MODOPS2-P | I1: 064INMODOPP
A2: 0633911_EMB | B2: {=IFERROR(MATCH(B$1&$A2,Périmétre!$A$16:$A$544&Périmétre!$C$16:$C$544,0),"")} -> 47 | C2: {=IFERROR(MATCH(C$1&$A2,Périmétre!$A$16:$A$544&Périmétre!$C$16:$C$544,0),"")} -> 147 | D2: {=IFERROR(MATCH(D$1&$A2,Périmétre!$A$16:$A$544&Périmétre!$C$16:$C$544,0),"")} -> 362 | E2: {=IFERROR(MATCH(E$1&$A2,Périmétre!$A$16:$A$544&Périmétre!$C$16:$C$544,0),"")} -> 410 | F2: {=IFERROR(MATCH(F$1&$A2,Périmétre!$A$16:$A$544&Périmétre!$C$16:$C$544,0),"")} -> 510 | G2: {=IFERROR(MATCH(G$1&$A2,Périmétre!$A$16:$A$544&Périmétre!$C$16:$C$544,0),"")} -> 213 | H2: {=IFERROR(MATCH(H$1&$A2,Périmétre!$A$16:$A$544&Périmétre!$C$16:$C$544,0),"")} -> 262 | I2: {=IFERROR(MATCH(I$1&$A2,Périmétre!$A$16:$A$544&Périmétre!$C$16:$C$544,0),"")} -> 1
A3: 1633046_EMB | B3: {=IFERROR(MATCH(B$1&$A3,Périmétre!$A$16:$A$544&Périmétre!$C$16:$C$544,0),"")} -> 110 | C3: {=IFERROR(MATCH(C$1&$A3,Périmétre!$A$16:$A$544&Périmétre!$C$16:$C$544,0),"")} -> 207 | D3: {=IFERROR(MATCH(D$1&$A3,Périmétre!$A$16:$A$544&Périmétre!$C$16:$C$544,0),"")} -> 400 | E3: {=IFERROR(MATCH(E$1&$A3,Périmétre!$A$16:$A$544&Périmétre!$C$16:$C$544,0),"")} -> 493 | F3: {=IFERROR(MATCH(F$1&$A3,Périmétre!$A$16:$A$544&Périmétre!$C$16:$C$544,0),"")} -> 528 | G3: {=IFERROR(MATCH(G$1&$A3,Périmétre!$A$16:$A$544&Périmétre!$C$16:$C$544,0),"")} -> 252 | H3: {=IFERROR(MATCH(H$1&$A3,Périmétre!$A$16:$A$544&Périmétre!$C$16:$C$544,0),"")} -> 346 | I3: {=IFERROR(MATCH(I$1&$A3,Périmétre!$A$16:$A$544&Périmétre!$C$16:$C$544,0),"")} -> 2
A4: 1633381_EMB | B4: {=IFERROR(MATCH(B$1&$A4,Périmétre!$A$16:$A$544&Périmétre!$C$16:$C$544,0),"")} -> 111 | C4: {=IFERROR(MATCH(C$1&$A4,Périmétre!$A$16:$A$544&Périmétre!$C$16:$C$544,0),"")} -> 208 | D4: {=IFERROR(MATCH(D$1&$A4,Périmétre!$A$16:$A$544&Périmétre!$C$16:$C$544,0),"")} -> 401 | E4: {=IFERROR(MATCH(E$1&$A4,Périmétre!$A$16:$A$544&Périmétre!$C$16:$C$544,0),"")} -> 494 | F4: {=IFERROR(MATCH(F$1&$A4,Périmétre!$A$16:$A$544&Périmétre!$C$16:$C$544,0),"")} -> 529 | G4: {=IFERROR(MATCH(G$1&$A4,Périmétre!$A$16:$A$544&Périmétre!$C$16:$C$544,0),"")} -> 253 | H4: {=IFERROR(MATCH(H$1&$A4,Périmétre!$A$16:$A$544&Périmétre!$C$16:$C$544,0),"")} -> 347 | I4: {=IFERROR(MATCH(I$1&$A4,Périmétre!$A$16:$A$544&Périmétre!$C$16:$C$544,0),"")} -> 3
A5: 063MODOPP_NOT | B5: {=IFERROR(MATCH(B$1&$A5,Périmétre!$A$16:$A$544&Périmétre!$C$16:$C$544,0),"")} | C5: {=IFERROR(MATCH(C$1&$A5,Périmétre!$A$16:$A$544&Périmétre!$C$16:$C$544,0),"")} | D5: {=IFERROR(MATCH(D$1&$A5,Périmétre!$A$16:$A$544&Périmétre!$C$16:$C$544,0),"")} | E5: {=IFERROR(MATCH(E$1&$A5,Périmétre!$A$16:$A$544&Périmétre!$C$16:$C$544,0),"")} | F5: {=IFERROR(MATCH(F$1&$A5,Périmétre!$A$16:$A$544&Périmétre!$C$16:$C$544,0),"")} | G5: {=IFERROR(MATCH(G$1&$A5,Périmétre!$A$16:$A$544&Périmétre!$C$16:$C$544,0),"")} | H5: {=IFERROR(MATCH(H$1&$A5,Périmétre!$A$16:$A$544&Périmétre!$C$16:$C$544,0),"")} | I5: {=IFERROR(MATCH(I$1&$A5,Périmétre!$A$16:$A$544&Périmétre!$C$16:$C$544,0),"")} -> 4
A6: 063MUM100SA | B6: {=IFERROR(MATCH(B$1&$A6,Périmétre!$A$16:$A$544&Périmétre!$C$16:$C$544,0),"")} | C6: {=IFERROR(MATCH(C$1&$A6,Périmétre!$A$16:$A$544&Périmétre!$C$16:$C$544,0),"")} | D6: {=IFERROR(MATCH(D$1&$A6,Périmétre!$A$16:$A$544&Périmétre!$C$16:$C$544,0),"")} | E6: {=IFERROR(MATCH(E$1&$A6,Périmétre!$A$16:$A$544&Périmétre!$C$16:$C$544,0),"")} | F6: {=IFERROR(MATCH(F$1&$A6,Périmétre!$A$16:$A$544&Périmétre!$C$16:$C$544,0),"")} | G6: {=IFERROR(MATCH(G$1&$A6,Périmétre!$A$16:$A$544&Périmétre!$C$16:$C$544,0),"")} | H6: {=IFERROR(MATCH(H$1&$A6,Périmétre!$A$16:$A$544&Périmétre!$C$16:$C$544,0),"")} | I6: {=IFERROR(MATCH(I$1&$A6,Périmétre!$A$16:$A$544&Périmétre!$C$16:$C$544,0),"")} -> 5
A7: 063MUW100A | B7: {=IFERROR(MATCH(B$1&$A7,Périmétre!$A$16:$A$544&Périmétre!$C$16:$C$544,0),"")} | C7: {=IFERROR(MATCH(C$1&$A7,Périmétre!$A$16:$A$544&Périmétre!$C$16:$C$544,0),"")} | D7: {=IFERROR(MATCH(D$1&$A7,Périmétre!$A$16:$A$544&Périmétre!$C$16:$C$544,0),"")} | E7: {=IFERROR(MATCH(E$1&$A7,Périmétre!$A$16:$A$544&Périmétre!$C$16:$C$544,0),"")} | F7: {=IFERROR(MATCH(F$1&$A7,Périmétre!$A$16:$A$544&Périmétre!$C$16:$C$544,0),"")} | G7: {=IFERROR(MATCH(G$1&$A7,Périmétre!$A$16:$A$544&Périmétre!$C$16:$C$544,0),"")} | H7: {=IFERROR(MATCH(H$1&$A7,Périmétre!$A$16:$A$544&Périmétre!$C$16:$C$544,0),"")} | I7: {=IFERROR(MATCH(I$1&$A7,Périmétre!$A$16:$A$544&Périmétre!$C$16:$C$544,0),"")} -> 6
A8: 063OI3210-X | B8: {=IFERROR(MATCH(B$1&$A8,Périmétre!$A$16:$A$544&Périmétre!$C$16:$C$544,0),"")} | C8: {=IFERROR(MATCH(C$1&$A8,Périmétre!$A$16:$A$544&Périmétre!$C$16:$C$544,0),"")} | D8: {=IFERROR(MATCH(D$1&$A8,Périmétre!$A$16:$A$544&Périmétre!$C$16:$C$544,0),"")} -> 366 | E8: {=IFERROR(MATCH(E$1&$A8,Périmétre!$A$16:$A$544&Périmétre!$C$16:$C$544,0),"")} | F8: {=IFERROR(MATCH(F$1&$A8,Périmétre!$A$16:$A$544&Périmétre!$C$16:$C$544,0),"")} | G8: {=IFERROR(MATCH(G$1&$A8,Périmétre!$A$16:$A$544&Périmétre!$C$16:$C$544,0),"")} -> 218 | H8: {=IFERROR(MATCH(H$1&$A8,Périmétre!$A$16:$A$544&Périmétre!$C$16:$C$544,0),"")} | I8: {=IFERROR(MATCH(I$1&$A8,Périmétre!$A$16:$A$544&Périmétre!$C$16:$C$544,0),"")} -> 7
A9: 063OI3211-X | B9: {=IFERROR(MATCH(B$1&$A9,Périmétre!$A$16:$A$544&Périmétre!$C$16:$C$544,0),"")} | C9: {=IFERROR(MATCH(C$1&$A9,Périmétre!$A$16:$A$544&Périmétre!$C$16:$C$544,0),"")} | D9: {=IFERROR(MATCH(D$1&$A9,Périmétre!$A$16:$A$544&Périmétre!$C$16:$C$544,0),"")} -> 367 | E9: {=IFERROR(MATCH(E$1&$A9,Périmétre!$A$16:$A$544&Périmétre!$C$16:$C$544,0),"")} | F9: {=IFERROR(MATCH(F$1&$A9,Périmétre!$A$16:$A$544&Périmétre!$C$16:$C$544,0),"")} | G9: {=IFERROR(MATCH(G$1&$A9,Périmétre!$A$16:$A$544&Périmétre!$C$16:$C$544,0),"")} -> 219 | H9: {=IFERROR(MATCH(H$1&$A9,Périmétre!$A$16:$A$544&Périmétre!$C$16:$C$544,0),"")} | I9: {=IFERROR(MATCH(I$1&$A9,Périmétre!$A$16:$A$544&Périmétre!$C$16:$C$544,0),"")} -> 8
A10: 063OI3271 | B10: {=IFERROR(MATCH(B$1&$A10,Périmétre!$A$16:$A$544&Périmétre!$C$16:$C$544,0),"")} | C10: {=IFERROR(MATCH(C$1&$A10,Périmétre!$A$16:$A$544&Périmétre!$C$16:$C$544,0),"")} | D10: {=IFERROR(MATCH(D$1&$A10,Périmétre!$A$16:$A$544&Périmétre!$C$16:$C$544,0),"")} -> 370 | E10: {=IFERROR(MATCH(E$1&$A10,Périmétre!$A$16:$A$544&Périmétre!$C$16:$C$544,0),"")} | F10: {=IFERROR(MATCH(F$1&$A10,Périmétre!$A$16:$A$544&Périmétre!$C$16:$C$544,0),"")} | G10: {=IFERROR(MATCH(G$1&$A10,Périmétre!$A$16:$A$544&Périmétre!$C$16:$C$544,0),"")} -> 222 | H10: {=IFERROR(MATCH(H$1&$A10,Périmétre!$A$16:$A$544&Périmétre!$C$16:$C$544,0),"")} | I10: {=IFERROR(MATCH(I$1&$A10,Périmétre!$A$16:$A$544&Périmétre!$C$16:$C$544,0),"")} -> 9
A11: 063OI3277 | B11: {=IFERROR(MATCH(B$1&$A11,Périmétre!$A$16:$A$544&Périmétre!$C$16:$C$544,0),"")} | C11: {=IFERROR(MATCH(C$1&$A11,Périmétre!$A$16:$A$544&Périmétre!$C$16:$C$544,0),"")} | D11: {=IFERROR(MATCH(D$1&$A11,Périmétre!$A$16:$A$544&Périmétre!$C$16:$C$544,0),"")} -> 371 | E11: {=IFERROR(MATCH(E$1&$A11,Périmétre!$A$16:$A$544&Périmétre!$C$16:$C$544,0),"")} -> 433 | F11: {=IFERROR(MATCH(F$1&$A11,Périmétre!$A$16:$A$544&Périmétre!$C$16:$C$544,0),"")} | G11: {=IFERROR(MATCH(G$1&$A11,Périmétre!$A$16:$A$544&Périmétre!$C$16:$C$544,0),"")} -> 223 | H11: {=IFERROR(MATCH(H$1&$A11,Périmétre!$A$16:$A$544&Périmétre!$C$16:$C$544,0),"")} -> 286 | I11: {=IFERROR(MATCH(I$1&$A11,Périmétre!$A$16:$A$544&Périmétre!$C$16:$C$544,0),"")} -> 10
A12: 063OI3747 | B12: {=IFERROR(MATCH(B$1&$A12,Périmétre!$A$16:$A$544&Périmétre!$C$16:$C$544,0),"")} | C12: {=IFERROR(MATCH(C$1&$A12,Périmétre!$A$16:$A$544&Périmétre!$C$16:$C$544,0),"")} | D12: {=IFERROR(MATCH(D$1&$A12,Périmétre!$A$16:$A$544&Périmétre!$C$16:$C$544,0),"")} -> 390 | E12: {=IFERROR(MATCH(E$1&$A12,Périmétre!$A$16:$A$544&Périmétre!$C$16:$C$544,0),"")} | F12: {=IFERROR(MATCH(F$1&$A12,Périmétre!$A$16:$A$544&Périmétre!$C$16:$C$544,0),"")} | G12: {=IFERROR(MATCH(G$1&$A12,Périmétre!$A$16:$A$544&Périmétre!$C$16:$C$544,0),"")} -> 242 | H12: {=IFERROR(MATCH(H$1&$A12,Périmétre!$A$16:$A$544&Périmétre!$C$16:$C$544,0),"")} | I12: {=IFERROR(MATCH(I$1&$A12,Périmétre!$A$16:$A$544&Périmétre!$C$16:$C$544,0),"")} -> 11
A13: 063MUW101A | B13: {=IFERROR(MATCH(B$1&$A13,Périmétre!$A$16:$A$544&Périmétre!$C$16:$C$544,0),"")} | C13: {=IFERROR(MATCH(C$1&$A13,Périmétre!$A$16:$A$544&Périmétre!$C$16:$C$544,0),"")} | D13: {=IFERROR(MATCH(D$1&$A13,Périmétre!$A$16:$A$544&Périmétre!$C$16:$C$544,0),"")} | E13: {=IFERROR(MATCH(E$1&$A13,Périmétre!$A$16:$A$544&Périmétre!$C$16:$C$544,0),"")} | F13: {=IFERROR(MATCH(F$1&$A13,Périmétre!$A$16:$A$544&Périmétre!$C$16:$C$544,0),"")} | G13: {=IFERROR(MATCH(G$1&$A13,Périmétre!$A$16:$A$544&Périmétre!$C$16:$C$544,0),"")} | H13: {=IFERROR(MATCH(H$1&$A13,Périmétre!$A$16:$A$544&Périmétre!$C$16:$C$544,0),"")} | I13: {=IFERROR(MATCH(I$1&$A13,Périmétre!$A$16:$A$544&Périmétre!$C$16:$C$544,0),"")} -> 12
... A31: 063OI3746 | B31: {=IFERROR(MATCH(B$1&$A31,Périmétre!$A$16:$A$544&Périmétre!$C$16:$C$544,0),"")} | C31: {=IFERROR(MATCH(C$1&$A31,Périmétre!$A$16:$A$544&Périmétre!$C$16:$C$544,0),"")} | D31: {=IFERROR(MATCH(D$1&$A31,Périmétre!$A$16:$A$544&Périmétre!$C$16:$C$544,0),"")} -> 389 | E31: {=IFERROR(MATCH(E$1&$A31,Périmétre!$A$16:$A$544&Périmétre!$C$16:$C$544,0),"")} | F31: {=IFERROR(MATCH(F$1&$A31,Périmétre!$A$16:$A$544&Périmétre!$C$16:$C$544,0),"")} | G31: {=IFERROR(MATCH(G$1&$A31,Périmétre!$A$16:$A$544&Périmétre!$C$16:$C$544,0),"")} -> 241 | H31: {=IFERROR(MATCH(H$1&$A31,Périmétre!$A$16:$A$544&Périmétre!$C$16:$C$544,0),"")} | I31: {=IFERROR(MATCH(I$1&$A31,Périmétre!$A$16:$A$544&Périmétre!$C$16:$C$544,0),"")} -> 30
A32: 1631522 | B32: {=IFERROR(MATCH(B$1&$A32,Périmétre!$A$16:$A$544&Périmétre!$C$16:$C$544,0),"")} -> 109 | C32: {=IFERROR(MATCH(C$1&$A32,Périmétre!$A$16:$A$544&Périmétre!$C$16:$C$544,0),"")} | D32: {=IFERROR(MATCH(D$1&$A32,Périmétre!$A$16:$A$544&Périmétre!$C$16:$C$544,0),"")} -> 399 | E32: {=IFERROR(MATCH(E$1&$A32,Périmétre!$A$16:$A$544&Périmétre!$C$16:$C$544,0),"")} -> 492 | F32: {=IFERROR(MATCH(F$1&$A32,Périmétre!$A$16:$A$544&Périmétre!$C$16:$C$544,0),"")} | G32: {=IFERROR(MATCH(G$1&$A32,Périmétre!$A$16:$A$544&Périmétre!$C$16:$C$544,0),"")} -> 251 | H32: {=IFERROR(MATCH(H$1&$A32,Périmétre!$A$16:$A$544&Périmétre!$C$16:$C$544,0),"")} -> 345 | I32: {=IFERROR(MATCH(I$1&$A32,Périmétre!$A$16:$A$544&Périmétre!$C$16:$C$544,0),"")} -> 31
A33: MINR4440B | B33: {=IFERROR(MATCH(B$1&$A33,Périmétre!$A$16:$A$544&Périmétre!$C$16:$C$544,0),"")} | C33: {=IFERROR(MATCH(C$1&$A33,Périmétre!$A$16:$A$544&Périmétre!$C$16:$C$544,0),"")} | D33: {=IFERROR(MATCH(D$1&$A33,Périmétre!$A$16:$A$544&Périmétre!$C$16:$C$544,0),"")} -> 406 | E33: {=IFERROR(MATCH(E$1&$A33,Périmétre!$A$16:$A$544&Périmétre!$C$16:$C$544,0),"")} -> 500 | F33: {=IFERROR(MATCH(F$1&$A33,Périmétre!$A$16:$A$544&Périmétre!$C$16:$C$544,0),"")} | G33: {=IFERROR(MATCH(G$1&$A33,Périmétre!$A$16:$A$544&Périmétre!$C$16:$C$544,0),"")} -> 258 | H33: {=IFERROR(MATCH(H$1&$A33,Périmétre!$A$16:$A$544&Périmétre!$C$16:$C$544,0),"")} -> 352 | I33: {=IFERROR(MATCH(I$1&$A33,Périmétre!$A$16:$A$544&Périmétre!$C$16:$C$544,0),"")} -> 32
A34: MINR54C27A | B34: {=IFERROR(MATCH(B$1&$A34,Périmétre!$A$16:$A$544&Périmétre!$C$16:$C$544,0),"")} | C34: {=IFERROR(MATCH(C$1&$A34,Périmétre!$A$16:$A$544&Périmétre!$C$16:$C$544,0),"")} | D34: {=IFERROR(MATCH(D$1&$A34,Périmétre!$A$16:$A$544&Périmétre!$C$16:$C$544,0),"")} | E34: {=IFERROR(MATCH(E$1&$A34,Périmétre!$A$16:$A$544&Périmétre!$C$16:$C$544,0),"")} -> 502 | F34: {=IFERROR(MATCH(F$1&$A34,Périmétre!$A$16:$A$544&Périmétre!$C$16:$C$544,0),"")} | G34: {=IFERROR(MATCH(G$1&$A34,Périmétre!$A$16:$A$544&Périmétre!$C$16:$C$544,0),"")} | H34: {=IFERROR(MATCH(H$1&$A34,Périmétre!$A$16:$A$544&Périmétre!$C$16:$C$544,0),"")} -> 354 | I34: {=IFERROR(MATCH(I$1&$A34,Périmétre!$A$16:$A$544&Périmétre!$C$16:$C$544,0),"")} -> 33
A35: MTIR8TA6V | B35: {=IFERROR(MATCH(B$1&$A35,Périmétre!$A$16:$A$544&Périmétre!$C$16:$C$544,0),"")} | C35: {=IFERROR(MATCH(C$1&$A35,Périmétre!$A$16:$A$544&Périmétre!$C$16:$C$544,0),"")} | D35: {=IFERROR(MATCH(D$1&$A35,Périmétre!$A$16:$A$544&Périmétre!$C$16:$C$544,0),"")} -> 409 | E35: {=IFERROR(MATCH(E$1&$A35,Périmétre!$A$16:$A$544&Périmétre!$C$16:$C$544,0),"")} -> 509 | F35: {=IFERROR(MATCH(F$1&$A35,Périmétre!$A$16:$A$544&Périmétre!$C$16:$C$544,0),"")} | G35: {=IFERROR(MATCH(G$1&$A35,Périmétre!$A$16:$A$544&Périmétre!$C$16:$C$544,0),"")} -> 261 | H35: {=IFERROR(MATCH(H$1&$A35,Périmétre!$A$16:$A$544&Périmétre!$C$16:$C$544,0),"")} -> 361 | I35: {=IFERROR(MATCH(I$1&$A35,Périmétre!$A$16:$A$544&Périmétre!$C$16:$C$544,0),"")} -> 34
A36: 063OI3424 | B36: {=IFERROR(MATCH(B$1&$A36,Périmétre!$A$16:$A$544&Périmétre!$C$16:$C$544,0),"")} | C36: {=IFERROR(MATCH(C$1&$A36,Périmétre!$A$16:$A$544&Périmétre!$C$16:$C$544,0),"")} -> 151 | D36: {=IFERROR(MATCH(D$1&$A36,Périmétre!$A$16:$A$544&Périmétre!$C$16:$C$544,0),"")} -> 375 | E36: {=IFERROR(MATCH(E$1&$A36,Périmétre!$A$16:$A$544&Périmétre!$C$16:$C$544,0),"")} -> 437 | F36: {=IFERROR(MATCH(F$1&$A36,Périmétre!$A$16:$A$544&Périmétre!$C$16:$C$544,0),"")} -> 514 | G36: {=IFERROR(MATCH(G$1&$A36,Périmétre!$A$16:$A$544&Périmétre!$C$16:$C$544,0),"")} -> 227 | H36: {=IFERROR(MATCH(H$1&$A36,Périmétre!$A$16:$A$544&Périmétre!$C$16:$C$544,0),"")} -> 290 | I36: {=IFERROR(MATCH(I$1&$A36,Périmétre!$A$16:$A$544&Périmétre!$C$16:$C$544,0),"")} -> 35
A37: 063OI3430W | B37: {=IFERROR(MATCH(B$1&$A37,Périmétre!$A$16:$A$544&Périmétre!$C$16:$C$544,0),"")} | C37: {=IFERROR(MATCH(C$1&$A37,Périmétre!$A$16:$A$544&Périmétre!$C$16:$C$544,0),"")} -> 153 | D37: {=IFERROR(MATCH(D$1&$A37,Périmétre!$A$16:$A$544&Périmétre!$C$16:$C$544,0),"")} | E37: {=IFERROR(MATCH(E$1&$A37,Périmétre!$A$16:$A$544&Périmétre!$C$16:$C$544,0),"")} -> 439 | F37: {=IFERROR(MATCH(F$1&$A37,Périmétre!$A$16:$A$544&Périmétre!$C$16:$C$544,0),"")} -> 516 | G37: {=IFERROR(MATCH(G$1&$A37,Périmétre!$A$16:$A$544&Périmétre!$C$16:$C$544,0),"")} | H37: {=IFERROR(MATCH(H$1&$A37,Périmétre!$A$16:$A$544&Périmétre!$C$16:$C$544,0),"")} -> 292 | I37: {=IFERROR(MATCH(I$1&$A37,Périmétre!$A$16:$A$544&Périmétre!$C$16:$C$544,0),"")} -> 36
A38: 063OI3440W | B38: {=IFERROR(MATCH(B$1&$A38,Périmétre!$A$16:$A$544&Périmétre!$C$16:$C$544,0),"")} | C38: {=IFERROR(MATCH(C$1&$A38,Périmétre!$A$16:$A$544&Périmétre!$C$16:$C$544,0),"")} -> 155 | D38: {=IFERROR(MATCH(D$1&$A38,Périmétre!$A$16:$A$544&Périmétre!$C$16:$C$544,0),"")} | E38: {=IFERROR(MATCH(E$1&$A38,Périmétre!$A$16:$A$544&Périmétre!$C$16:$C$544,0),"")} -> 441 | F38: {=IFERROR(MATCH(F$1&$A38,Périmétre!$A$16:$A$544&Périmétre!$C$16:$C$544,0),"")} -> 518 | G38: {=IFERROR(MATCH(G$1&$A38,Périmétre!$A$16:$A$544&Périmétre!$C$16:$C$544,0),"")} | H38: {=IFERROR(MATCH(H$1&$A38,Périmétre!$A$16:$A$544&Périmétre!$C$16:$C$544,0),"")} -> 294 | I38: {=IFERROR(MATCH(I$1&$A38,Périmétre!$A$16:$A$544&Périmétre!$C$16:$C$544,0),"")} -> 37
A39: 063OI3741 | B39: {=IFERROR(MATCH(B$1&$A39,Périmétre!$A$16:$A$544&Périmétre!$C$16:$C$544,0),"")} | C39: {=IFERROR(MATCH(C$1&$A39,Périmétre!$A$16:$A$544&Périmétre!$C$16:$C$544,0),"")} | D39: {=IFERROR(MATCH(D$1&$A39,Périmétre!$A$16:$A$544&Périmétre!$C$16:$C$544,0),"")} -> 384 | E39: {=IFERROR(MATCH(E$1&$A39,Périmétre!$A$16:$A$544&Périmétre!$C$16:$C$544,0),"")} | F39: {=IFERROR(MATCH(F$1&$A39,Périmétre!$A$16:$A$544&Périmétre!$C$16:$C$544,0),"")} | G39: {=IFERROR(MATCH(G$1&$A39,Périmétre!$A$16:$A$544&Périmétre!$C$16:$C$544,0),"")} -> 236 | H39: {=IFERROR(MATCH(H$1&$A39,Périmétre!$A$16:$A$544&Périmétre!$C$16:$C$544,0),"")} | I39: {=IFERROR(MATCH(I$1&$A39,Périmétre!$A$16:$A$544&Périmétre!$C$16:$C$544,0),"")} -> 38
A40: 063OI3743 | B40: {=IFERROR(MATCH(B$1&$A40,Périmétre!$A$16:$A$544&Périmétre!$C$16:$C$544,0),"")} | C40: {=IFERROR(MATCH(C$1&$A40,Périmétre!$A$16:$A$544&Périmétre!$C$16:$C$544,0),"")} | D40: {=IFERROR(MATCH(D$1&$A40,Périmétre!$A$16:$A$544&Périmétre!$C$16:$C$544,0),"")} -> 386 | E40: {=IFERROR(MATCH(E$1&$A40,Périmétre!$A$16:$A$544&Périmétre!$C$16:$C$544,0),"")} | F40: {=IFERROR(MATCH(F$1&$A40,Périmétre!$A$16:$A$544&Périmétre!$C$16:$C$544,0),"")} | G40: {=IFERROR(MATCH(G$1&$A40,Périmétre!$A$16:$A$544&Périmétre!$C$16:$C$544,0),"")} -> 238 | H40: {=IFERROR(MATCH(H$1&$A40,Périmétre!$A$16:$A$544&Périmétre!$C$16:$C$544,0),"")} | I40: {=IFERROR(MATCH(I$1&$A40,Périmétre!$A$16:$A$544&Périmétre!$C$16:$C$544,0),"")} -> 39
A41: 063OI3744 | B41: {=IFERROR(MATCH(B$1&$A41,Périmétre!$A$16:$A$544&Périmétre!$C$16:$C$544,0),"")} | C41: {=IFERROR(MATCH(C$1&$A41,Périmétre!$A$16:$A$544&Périmétre!$C$16:$C$544,0),"")} | D41: {=IFERROR(MATCH(D$1&$A41,Périmétre!$A$16:$A$544&Périmétre!$C$16:$C$544,0),"")} -> 387 | E41: {=IFERROR(MATCH(E$1&$A41,Périmétre!$A$16:$A$544&Périmétre!$C$16:$C$544,0),"")} | F41: {=IFERROR(MATCH(F$1&$A41,Périmétre!$A$16:$A$544&Périmétre!$C$16:$C$544,0),"")} | G41: {=IFERROR(MATCH(G$1&$A41,Périmétre!$A$16:$A$544&Périmétre!$C$16:$C$544,0),"")} -> 239 | H41: {=IFERROR(MATCH(H$1&$A41,Périmétre!$A$16:$A$544&Périmétre!$C$16:$C$544,0),"")} | I41: {=IFERROR(MATCH(I$1&$A41,Périmétre!$A$16:$A$544&Périmétre!$C$16:$C$544,0),"")} -> 40
A42: 063OI3745 | B42: {=IFERROR(MATCH(B$1&$A42,Périmétre!$A$16:$A$544&Périmétre!$C$16:$C$544,0),"")} | C42: {=IFERROR(MATCH(C$1&$A42,Périmétre!$A$16:$A$544&Périmétre!$C$16:$C$544,0),"")} | D42: {=IFERROR(MATCH(D$1&$A42,Périmétre!$A$16:$A$544&Périmétre!$C$16:$C$544,0),"")} -> 388 | E42: {=IFERROR(MATCH(E$1&$A42,Périmétre!$A$16:$A$544&Périmétre!$C$16:$C$544,0),"")} | F42: {=IFERROR(MATCH(F$1&$A42,Périmétre!$A$16:$A$544&Périmétre!$C$16:$C$544,0),"")} | G42: {=IFERROR(MATCH(G$1&$A42,Périmétre!$A$16:$A$544&Périmétre!$C$16:$C$544,0),"")} -> 240 | H42: {=IFERROR(MATCH(H$1&$A42,Périmétre!$A$16:$A$544&Périmétre!$C$16:$C$544,0),"")} | I42: {=IFERROR(MATCH(I$1&$A42,Périmétre!$A$16:$A$544&Périmétre!$C$16:$C$544,0),"")} -> 41
A43: MTIR4TA6V | B43: {=IFERROR(MATCH(B$1&$A43,Périmétre!$A$16:$A$544&Périmétre!$C$16:$C$544,0),"")} | C43: {=IFERROR(MATCH(C$1&$A43,Périmétre!$A$16:$A$544&Périmétre!$C$16:$C$544,0),"")} -> 209 | D43: {=IFERROR(MATCH(D$1&$A43,Périmétre!$A$16:$A$544&Périmétre!$C$16:$C$544,0),"")} -> 408 | E43: {=IFERROR(MATCH(E$1&$A43,Périmétre!$A$16:$A$544&Périmétre!$C$16:$C$544,0),"")} -> 507 | F43: {=IFERROR(MATCH(F$1&$A43,Périmétre!$A$16:$A$544&Périmétre!$C$16:$C$544,0),"")} | G43: {=IFERROR(MATCH(G$1&$A43,Périmétre!$A$16:$A$544&Périmétre!$C$16:$C$544,0),"")} -> 260 | H43: {=IFERROR(MATCH(H$1&$A43,Périmétre!$A$16:$A$544&Périmétre!$C$16:$C$544,0),"")} -> 359 | I43: {=IFERROR(MATCH(I$1&$A43,Périmétre!$A$16:$A$544&Périmétre!$C$16:$C$544,0),"")} -> 42
A44: MINR1-18PHYNOX | B44: {=IFERROR(MATCH(B$1&$A44,Périmétre!$A$16:$A$544&Périmétre!$C$16:$C$544,0),"")} | C44: {=IFERROR(MATCH(C$1&$A44,Périmétre!$A$16:$A$544&Périmétre!$C$16:$C$544,0),"")} | D44: {=IFERROR(MATCH(D$1&$A44,Périmétre!$A$16:$A$544&Périmétre!$C$16:$C$544,0),"")} -> 402 | E44: {=IFERROR(MATCH(E$1&$A44,Périmétre!$A$16:$A$544&Périmétre!$C$16:$C$544,0),"")} | F44: {=IFERROR(MATCH(F$1&$A44,Périmétre!$A$16:$A$544&Périmétre!$C$16:$C$544,0),"")} | G44: {=IFERROR(MATCH(G$1&$A44,Périmétre!$A$16:$A$544&Périmétre!$C$16:$C$544,0),"")} -> 254 | H44: {=IFERROR(MATCH(H$1&$A44,Périmétre!$A$16:$A$544&Périmétre!$C$16:$C$544,0),"")} | I44: {=IFERROR(MATCH(I$1&$A44,Périmétre!$A$16:$A$544&Périmétre!$C$16:$C$544,0),"")} -> 43
... A98: 063OPTA28250A | B98: {=IFERROR(MATCH(B$1&$A98,Périmétre!$A$16:$A$544&Périmétre!$C$16:$C$544,0),"")} -> 97 | C98: {=IFERROR(MATCH(C$1&$A98,Périmétre!$A$16:$A$544&Périmétre!$C$16:$C$544,0),"")} | D98: {=IFERROR(MATCH(D$1&$A98,Périmétre!$A$16:$A$544&Périmétre!$C$16:$C$544,0),"")} | E98: {=IFERROR(MATCH(E$1&$A98,Périmétre!$A$16:$A$544&Périmétre!$C$16:$C$544,0),"")} | F98: {=IFERROR(MATCH(F$1&$A98,Périmétre!$A$16:$A$544&Périmétre!$C$16:$C$544,0),"")} | G98: {=IFERROR(MATCH(G$1&$A98,Périmétre!$A$16:$A$544&Périmétre!$C$16:$C$544,0),"")} | H98: {=IFERROR(MATCH(H$1&$A98,Périmétre!$A$16:$A$544&Périmétre!$C$16:$C$544,0),"")} | I98: {=IFERROR(MATCH(I$1&$A98,Périmétre!$A$16:$A$544&Périmétre!$C$16:$C$544,0),"")}
A99: 16310151 | B99: {=IFERROR(MATCH(B$1&$A99,Périmétre!$A$16:$A$544&Périmétre!$C$16:$C$544,0),"")} -> 98 | C99: {=IFERROR(MATCH(C$1&$A99,Périmétre!$A$16:$A$544&Périmétre!$C$16:$C$544,0),"")} | D99: {=IFERROR(MATCH(D$1&$A99,Périmétre!$A$16:$A$544&Périmétre!$C$16:$C$544,0),"")} | E99: {=IFERROR(MATCH(E$1&$A99,Périmétre!$A$16:$A$544&Périmétre!$C$16:$C$544,0),"")} | F99: {=IFERROR(MATCH(F$1&$A99,Périmétre!$A$16:$A$544&Périmétre!$C$16:$C$544,0),"")} | G99: {=IFERROR(MATCH(G$1&$A99,Périmétre!$A$16:$A$544&Périmétre!$C$16:$C$544,0),"")} | H99: {=IFERROR(MATCH(H$1&$A99,Périmétre!$A$16:$A$544&Périmétre!$C$16:$C$544,0),"")} | I99: {=IFERROR(MATCH(I$1&$A99,Périmétre!$A$16:$A$544&Périmétre!$C$16:$C$544,0),"")}
A100: 16310264 | B100: {=IFERROR(MATCH(B$1&$A100,Périmétre!$A$16:$A$544&Périmétre!$C$16:$C$544,0),"")} -> 99 | C100: {=IFERROR(MATCH(C$1&$A100,Périmétre!$A$16:$A$544&Périmétre!$C$16:$C$544,0),"")} | D100: {=IFERROR(MATCH(D$1&$A100,Périmétre!$A$16:$A$544&Périmétre!$C$16:$C$544,0),"")} | E100: {=IFERROR(MATCH(E$1&$A100,Périmétre!$A$16:$A$544&Périmétre!$C$16:$C$544,0),"")} | F100: {=IFERROR(MATCH(F$1&$A100,Périmétre!$A$16:$A$544&Périmétre!$C$16:$C$544,0),"")} | G100: {=IFERROR(MATCH(G$1&$A100,Périmétre!$A$16:$A$544&Périmétre!$C$16:$C$544,0),"")} | H100: {=IFERROR(MATCH(H$1&$A100,Périmétre!$A$16:$A$544&Périmétre!$C$16:$C$544,0),"")} | I100: {=IFERROR(MATCH(I$1&$A100,Périmétre!$A$16:$A$544&Périmétre!$C$16:$C$544,0),"")}
A101: 16314442 | B101: {=IFERROR(MATCH(B$1&$A101,Périmétre!$A$16:$A$544&Périmétre!$C$16:$C$544,0),"")} -> 100 | C101: {=IFERROR(MATCH(C$1&$A101,Périmétre!$A$16:$A$544&Périmétre!$C$16:$C$544,0),"")} | D101: {=IFERROR(MATCH(D$1&$A101,Périmétre!$A$16:$A$544&Périmétre!$C$16:$C$544,0),"")} | E101: {=IFERROR(MATCH(E$1&$A101,Périmétre!$A$16:$A$544&Périmétre!$C$16:$C$544,0),"")} | F101: {=IFERROR(MATCH(F$1&$A101,Périmétre!$A$16:$A$544&Périmétre!$C$16:$C$544,0),"")} | G101: {=IFERROR(MATCH(G$1&$A101,Périmétre!$A$16:$A$544&Périmétre!$C$16:$C$544,0),"")} | H101: {=IFERROR(MATCH(H$1&$A101,Périmétre!$A$16:$A$544&Périmétre!$C$16:$C$544,0),"")} | I101: {=IFERROR(MATCH(I$1&$A101,Périmétre!$A$16:$A$544&Périmétre!$C$16:$C$544,0),"")}
A102: 16314443 | B102: {=IFERROR(MATCH(B$1&$A102,Périmétre!$A$16:$A$544&Périmétre!$C$16:$C$544,0),"")} -> 101 | C102: {=IFERROR(MATCH(C$1&$A102,Périmétre!$A$16:$A$544&Périmétre!$C$16:$C$544,0),"")} | D102: {=IFERROR(MATCH(D$1&$A102,Périmétre!$A$16:$A$544&Périmétre!$C$16:$C$544,0),"")} | E102: {=IFERROR(MATCH(E$1&$A102,Périmétre!$A$16:$A$544&Périmétre!$C$16:$C$544,0),"")} | F102: {=IFERROR(MATCH(F$1&$A102,Périmétre!$A$16:$A$544&Périmétre!$C$16:$C$544,0),"")} | G102: {=IFERROR(MATCH(G$1&$A102,Périmétre!$A$16:$A$544&Périmétre!$C$16:$C$544,0),"")} | H102: {=IFERROR(MATCH(H$1&$A102,Périmétre!$A$16:$A$544&Périmétre!$C$16:$C$544,0),"")} | I102: {=IFERROR(MATCH(I$1&$A102,Périmétre!$A$16:$A$544&Périmétre!$C$16:$C$544,0),"")}
A103: 16314444 | B103: {=IFERROR(MATCH(B$1&$A103,Périmétre!$A$16:$A$544&Périmétre!$C$16:$C$544,0),"")} -> 102 | C103: {=IFERROR(MATCH(C$1&$A103,Périmétre!$A$16:$A$544&Périmétre!$C$16:$C$544,0),"")} | D103: {=IFERROR(MATCH(D$1&$A103,Périmétre!$A$16:$A$544&Périmétre!$C$16:$C$544,0),"")} | E103: {=IFERROR(MATCH(E$1&$A103,Périmétre!$A$16:$A$544&Périmétre!$C$16:$C$544,0),"")} | F103: {=IFERROR(MATCH(F$1&$A103,Périmétre!$A$16:$A$544&Périmétre!$C$16:$C$544,0),"")} | G103: {=IFERROR(MATCH(G$1&$A103,Périmétre!$A$16:$A$544&Périmétre!$C$16:$C$544,0),"")} | H103: {=IFERROR(MATCH(H$1&$A103,Périmétre!$A$16:$A$544&Périmétre!$C$16:$C$544,0),"")} | I103: {=IFERROR(MATCH(I$1&$A103,Périmétre!$A$16:$A$544&Périmétre!$C$16:$C$544,0),"")}
A104: 16314448 | B104: {=IFERROR(MATCH(B$1&$A104,Périmétre!$A$16:$A$544&Périmétre!$C$16:$C$544,0),"")} -> 103 | C104: {=IFERROR(MATCH(C$1&$A104,Périmétre!$A$16:$A$544&Périmétre!$C$16:$C$544,0),"")} | D104: {=IFERROR(MATCH(D$1&$A104,Périmétre!$A$16:$A$544&Périmétre!$C$16:$C$544,0),"")} | E104: {=IFERROR(MATCH(E$1&$A104,Périmétre!$A$16:$A$544&Périmétre!$C$16:$C$544,0),"")} | F104: {=IFERROR(MATCH(F$1&$A104,Périmétre!$A$16:$A$544&Périmétre!$C$16:$C$544,0),"")} | G104: {=IFERROR(MATCH(G$1&$A104,Périmétre!$A$16:$A$544&Périmétre!$C$16:$C$544,0),"")} | H104: {=IFERROR(MATCH(H$1&$A104,Périmétre!$A$16:$A$544&Périmétre!$C$16:$C$544,0),"")} | I104: {=IFERROR(MATCH(I$1&$A104,Périmétre!$A$16:$A$544&Périmétre!$C$16:$C$544,0),"")}
A105: 16314449 | B105: {=IFERROR(MATCH(B$1&$A105,Périmétre!$A$16:$A$544&Périmétre!$C$16:$C$544,0),"")} -> 104 | C105: {=IFERROR(MATCH(C$1&$A105,Périmétre!$A$16:$A$544&Périmétre!$C$16:$C$544,0),"")} | D105: {=IFERROR(MATCH(D$1&$A105,Périmétre!$A$16:$A$544&Périmétre!$C$16:$C$544,0),"")} | E105: {=IFERROR(MATCH(E$1&$A105,Périmétre!$A$16:$A$544&Périmétre!$C$16:$C$544,0),"")} | F105: {=IFERROR(MATCH(F$1&$A105,Périmétre!$A$16:$A$544&Périmétre!$C$16:$C$544,0),"")} | G105: {=IFERROR(MATCH(G$1&$A105,Périmétre!$A$16:$A$544&Périmétre!$C$16:$C$544,0),"")} | H105: {=IFERROR(MATCH(H$1&$A105,Périmétre!$A$16:$A$544&Périmétre!$C$16:$C$544,0),"")} | I105: {=IFERROR(MATCH(I$1&$A105,Périmétre!$A$16:$A$544&Périmétre!$C$16:$C$544,0),"")}
A106: 16314455 | B106: {=IFERROR(MATCH(B$1&$A106,Périmétre!$A$16:$A$544&Périmétre!$C$16:$C$544,0),"")} -> 105 | C106: {=IFERROR(MATCH(C$1&$A106,Périmétre!$A$16:$A$544&Périmétre!$C$16:$C$544,0),"")} | D106: {=IFERROR(MATCH(D$1&$A106,Périmétre!$A$16:$A$544&Périmétre!$C$16:$C$544,0),"")} | E106: {=IFERROR(MATCH(E$1&$A106,Périmétre!$A$16:$A$544&Périmétre!$C$16:$C$544,0),"")} | F106: {=IFERROR(MATCH(F$1&$A106,Périmétre!$A$16:$A$544&Périmétre!$C$16:$C$544,0),"")} | G106: {=IFERROR(MATCH(G$1&$A106,Périmétre!$A$16:$A$544&Périmétre!$C$16:$C$544,0),"")} | H106: {=IFERROR(MATCH(H$1&$A106,Périmétre!$A$16:$A$544&Périmétre!$C$16:$C$544,0),"")} | I106: {=IFERROR(MATCH(I$1&$A106,Périmétre!$A$16:$A$544&Périmétre!$C$16:$C$544,0),"")}
A107: 16314456-X | B107: {=IFERROR(MATCH(B$1&$A107,Périmétre!$A$16:$A$544&Périmétre!$C$16:$C$544,0),"")} -> 106 | C107: {=IFERROR(MATCH(C$1&$A107,Périmétre!$A$16:$A$544&Périmétre!$C$16:$C$544,0),"")} | D107: {=IFERROR(MATCH(D$1&$A107,Périmétre!$A$16:$A$544&Périmétre!$C$16:$C$544,0),"")} | E107: {=IFERROR(MATCH(E$1&$A107,Périmétre!$A$16:$A$544&Périmétre!$C$16:$C$544,0),"")} | F107: {=IFERROR(MATCH(F$1&$A107,Périmétre!$A$16:$A$544&Périmétre!$C$16:$C$544,0),"")} | G107: {=IFERROR(MATCH(G$1&$A107,Périmétre!$A$16:$A$544&Périmétre!$C$16:$C$544,0),"")} | H107: {=IFERROR(MATCH(H$1&$A107,Périmétre!$A$16:$A$544&Périmétre!$C$16:$C$544,0),"")} | I107: {=IFERROR(MATCH(I$1&$A107,Périmétre!$A$16:$A$544&Périmétre!$C$16:$C$544,0),"")}
A108: 16314457-X | B108: {=IFERROR(MATCH(B$1&$A108,Périmétre!$A$16:$A$544&Périmétre!$C$16:$C$544,0),"")} -> 107 | C108: {=IFERROR(MATCH(C$1&$A108,Périmétre!$A$16:$A$544&Périmétre!$C$16:$C$544,0),"")} | D108: {=IFERROR(MATCH(D$1&$A108,Périmétre!$A$16:$A$544&Périmétre!$C$16:$C$544,0),"")} | E108: {=IFERROR(MATCH(E$1&$A108,Périmétre!$A$16:$A$544&Périmétre!$C$16:$C$544,0),"")} | F108: {=IFERROR(MATCH(F$1&$A108,Périmétre!$A$16:$A$544&Périmétre!$C$16:$C$544,0),"")} | G108: {=IFERROR(MATCH(G$1&$A108,Périmétre!$A$16:$A$544&Périmétre!$C$16:$C$544,0),"")} | H108: {=IFERROR(MATCH(H$1&$A108,Périmétre!$A$16:$A$544&Périmétre!$C$16:$C$544,0),"")} | I108: {=IFERROR(MATCH(I$1&$A108,Périmétre!$A$16:$A$544&Périmétre!$C$16:$C$544,0),"")}
A109: 16315131 | B109: {=IFERROR(MATCH(B$1&$A109,Périmétre!$A$16:$A$544&Périmétre!$C$16:$C$544,0),"")} -> 108 | C109: {=IFERROR(MATCH(C$1&$A109,Périmétre!$A$16:$A$544&Périmétre!$C$16:$C$544,0),"")} | D109: {=IFERROR(MATCH(D$1&$A109,Périmétre!$A$16:$A$544&Périmétre!$C$16:$C$544,0),"")} | E109: {=IFERROR(MATCH(E$1&$A109,Périmétre!$A$16:$A$544&Périmétre!$C$16:$C$544,0),"")} -> 491 | F109: {=IFERROR(MATCH(F$1&$A109,Périmétre!$A$16:$A$544&Périmétre!$C$16:$C$544,0),"")} | G109: {=IFERROR(MATCH(G$1&$A109,Périmétre!$A$16:$A$544&Périmétre!$C$16:$C$544,0),"")} | H109: {=IFERROR(MATCH(H$1&$A109,Périmétre!$A$16:$A$544&Périmétre!$C$16:$C$544,0),"")} -> 344 | I109: {=IFERROR(MATCH(I$1&$A109,Périmétre!$A$16:$A$544&Périmétre!$C$16:$C$544,0),"")}
A110: 1631522 | B110: {=IFERROR(MATCH(B$1&$A110,Périmétre!$A$16:$A$544&Périmétre!$C$16:$C$544,0),"")} -> 109 | C110: {=IFERROR(MATCH(C$1&$A110,Périmétre!$A$16:$A$544&Périmétre!$C$16:$C$544,0),"")} | D110: {=IFERROR(MATCH(D$1&$A110,Périmétre!$A$16:$A$544&Périmétre!$C$16:$C$544,0),"")} -> 399 | E110: {=IFERROR(MATCH(E$1&$A110,Périmétre!$A$16:$A$544&Périmétre!$C$16:$C$544,0),"")} -> 492 | F110: {=IFERROR(MATCH(F$1&$A110,Périmétre!$A$16:$A$544&Périmétre!$C$16:$C$544,0),"")} | G110: {=IFERROR(MATCH(G$1&$A110,Périmétre!$A$16:$A$544&Périmétre!$C$16:$C$544,0),"")} -> 251 | H110: {=IFERROR(MATCH(H$1&$A110,Périmétre!$A$16:$A$544&Périmétre!$C$16:$C$544,0),"")} -> 345 | I110: {=IFERROR(MATCH(I$1&$A110,Périmétre!$A$16:$A$544&Périmétre!$C$16:$C$544,0),"")} -> 31
A111: 1633046_EMB | B111: {=IFERROR(MATCH(B$1&$A111,Périmétre!$A$16:$A$544&Périmétre!$C$16:$C$544,0),"")} -> 110 | C111: {=IFERROR(MATCH(C$1&$A111,Périmétre!$A$16:$A$544&Périmétre!$C$16:$C$544,0),"")} -> 207 | D111: {=IFERROR(MATCH(D$1&$A111,Périmétre!$A$16:$A$544&Périmétre!$C$16:$C$544,0),"")} -> 400 | E111: {=IFERROR(MATCH(E$1&$A111,Périmétre!$A$16:$A$544&Périmétre!$C$16:$C$544,0),"")} -> 493 | F111: {=IFERROR(MATCH(F$1&$A111,Périmétre!$A$16:$A$544&Périmétre!$C$16:$C$544,0),"")} -> 528 | G111: {=IFERROR(MATCH(G$1&$A111,Périmétre!$A$16:$A$544&Périmétre!$C$16:$C$544,0),"")} -> 252 | H111: {=IFERROR(MATCH(H$1&$A111,Périmétre!$A$16:$A$544&Périmétre!$C$16:$C$544,0),"")} -> 346 | I111: {=IFERROR(MATCH(I$1&$A111,Périmétre!$A$16:$A$544&Périmétre!$C$16:$C$544,0),"")} -> 2
A112: 1633381_EMB | B112: {=IFERROR(MATCH(B$1&$A112,Périmétre!$A$16:$A$544&Périmétre!$C$16:$C$544,0),"")} -> 111 | C112: {=IFERROR(MATCH(C$1&$A112,Périmétre!$A$16:$A$544&Périmétre!$C$16:$C$544,0),"")} -> 208 | D112: {=IFERROR(MATCH(D$1&$A112,Périmétre!$A$16:$A$544&Périmétre!$C$16:$C$544,0),"")} -> 401 | E112: {=IFERROR(MATCH(E$1&$A112,Périmétre!$A$16:$A$544&Périmétre!$C$16:$C$544,0),"")} -> 494 | F112: {=IFERROR(MATCH(F$1&$A112,Périmétre!$A$16:$A$544&Périmétre!$C$16:$C$544,0),"")} -> 529 | G112: {=IFERROR(MATCH(G$1&$A112,Périmétre!$A$16:$A$544&Périmétre!$C$16:$C$544,0),"")} -> 253 | H112: {=IFERROR(MATCH(H$1&$A112,Périmétre!$A$16:$A$544&Périmétre!$C$16:$C$544,0),"")} -> 347 | I112: {=IFERROR(MATCH(I$1&$A112,Périmétre!$A$16:$A$544&Périmétre!$C$16:$C$544,0),"")} -> 3
A113: 1633394_EMB | B113: {=IFERROR(MATCH(B$1&$A113,Périmétre!$A$16:$A$544&Périmétre!$C$16:$C$544,0),"")} -> 112 | C113: {=IFERROR(MATCH(C$1&$A113,Périmétre!$A$16:$A$544&Périmétre!$C$16:$C$544,0),"")} | D113: {=IFERROR(MATCH(D$1&$A113,Périmétre!$A$16:$A$544&Périmétre!$C$16:$C$544,0),"")} | E113: {=IFERROR(MATCH(E$1&$A113,Périmétre!$A$16:$A$544&Périmétre!$C$16:$C$544,0),"")} | F113: {=IFERROR(MATCH(F$1&$A113,Périmétre!$A$16:$A$544&Périmétre!$C$16:$C$544,0),"")} | G113: {=IFERROR(MATCH(G$1&$A113,Périmétre!$A$16:$A$544&Périmétre!$C$16:$C$544,0),"")} | H113: {=IFERROR(MATCH(H$1&$A113,Périmétre!$A$16:$A$544&Périmétre!$C$16:$C$544,0),"")} | I113: {=IFERROR(MATCH(I$1&$A113,Périmétre!$A$16:$A$544&Périmétre!$C$16:$C$544,0),"")}
A114: 1633901_EMB | B114: {=IFERROR(MATCH(B$1&$A114,Périmétre!$A$16:$A$544&Périmétre!$C$16:$C$544,0),"")} -> 113 | C114: {=IFERROR(MATCH(C$1&$A114,Périmétre!$A$16:$A$544&Périmétre!$C$16:$C$544,0),"")} | D114: {=IFERROR(MATCH(D$1&$A114,Périmétre!$A$16:$A$544&Périmétre!$C$16:$C$544,0),"")} | E114: {=IFERROR(MATCH(E$1&$A114,Périmétre!$A$16:$A$544&Périmétre!$C$16:$C$544,0),"")} | F114: {=IFERROR(MATCH(F$1&$A114,Périmétre!$A$16:$A$544&Périmétre!$C$16:$C$544,0),"")} | G114: {=IFERROR(MATCH(G$1&$A114,Périmétre!$A$16:$A$544&Périmétre!$C$16:$C$544,0),"")} | H114: {=IFERROR(MATCH(H$1&$A114,Périmétre!$A$16:$A$544&Périmétre!$C$16:$C$544,0),"")} | I114: {=IFERROR(MATCH(I$1&$A114,Périmétre!$A$16:$A$544&Périmétre!$C$16:$C$544,0),"")}
A115: 1633905_EMB | B115: {=IFERROR(MATCH(B$1&$A115,Périmétre!$A$16:$A$544&Périmétre!$C$16:$C$544,0),"")} -> 114 | C115: {=IFERROR(MATCH(C$1&$A115,Périmétre!$A$16:$A$544&Périmétre!$C$16:$C$544,0),"")} | D115: {=IFERROR(MATCH(D$1&$A115,Périmétre!$A$16:$A$544&Périmétre!$C$16:$C$544,0),"")} | E115: {=IFERROR(MATCH(E$1&$A115,Périmétre!$A$16:$A$544&Périmétre!$C$16:$C$544,0),"")} | F115: {=IFERROR(MATCH(F$1&$A115,Périmétre!$A$16:$A$544&Périmétre!$C$16:$C$544,0),"")} | G115: {=IFERROR(MATCH(G$1&$A115,Périmétre!$A$16:$A$544&Périmétre!$C$16:$C$544,0),"")} | H115: {=IFERROR(MATCH(H$1&$A115,Périmétre!$A$16:$A$544&Périmétre!$C$16:$C$544,0),"")} | I115: {=IFERROR(MATCH(I$1&$A115,Périmétre!$A$16:$A$544&Périmétre!$C$16:$C$544,0),"")}
A116: 1634202 | B116: {=IFERROR(MATCH(B$1&$A116,Périmétre!$A$16:$A$544&Périmétre!$C$16:$C$544,0),"")} -> 115 | C116: {=IFERROR(MATCH(C$1&$A116,Périmétre!$A$16:$A$544&Périmétre!$C$16:$C$544,0),"")} | D116: {=IFERROR(MATCH(D$1&$A116,Périmétre!$A$16:$A$544&Périmétre!$C$16:$C$544,0),"")} | E116: {=IFERROR(MATCH(E$1&$A116,Périmétre!$A$16:$A$544&Périmétre!$C$16:$C$544,0),"")} | F116: {=IFERROR(MATCH(F$1&$A116,Périmétre!$A$16:$A$544&Périmétre!$C$16:$C$544,0),"")} | G116: {=IFERROR(MATCH(G$1&$A116,Périmétre!$A$16:$A$544&Périmétre!$C$16:$C$544,0),"")} | H116: {=IFERROR(MATCH(H$1&$A116,Périmétre!$A$16:$A$544&Périmétre!$C$16:$C$544,0),"")} | I116: {=IFERROR(MATCH(I$1&$A116,Périmétre!$A$16:$A$544&Périmétre!$C$16:$C$544,0),"")}
A117: 1634210 | B117: {=IFERROR(MATCH(B$1&$A117,Périmétre!$A$16:$A$544&Périmétre!$C$16:$C$544,0),"")} -> 116 | C117: {=IFERROR(MATCH(C$1&$A117,Périmétre!$A$16:$A$544&Périmétre!$C$16:$C$544,0),"")} | D117: {=IFERROR(MATCH(D$1&$A117,Périmétre!$A$16:$A$544&Périmétre!$C$16:$C$544,0),"")} | E117: {=IFERROR(MATCH(E$1&$A117,Périmétre!$A$16:$A$544&Périmétre!$C$16:$C$544,0),"")} | F117: {=IFERROR(MATCH(F$1&$A117,Périmétre!$A$16:$A$544&Périmétre!$C$16:$C$544,0),"")} | G117: {=IFERROR(MATCH(G$1&$A117,Périmétre!$A$16:$A$544&Périmétre!$C$16:$C$544,0),"")} | H117: {=IFERROR(MATCH(H$1&$A117,Périmétre!$A$16:$A$544&Périmétre!$C$16:$C$544,0),"")} | I117: {=IFERROR(MATCH(I$1&$A117,Périmétre!$A$16:$A$544&Périmétre!$C$16:$C$544,0),"")}
A118: 1634625 | B118: {=IFERROR(MATCH(B$1&$A118,Périmétre!$A$16:$A$544&Périmétre!$C$16:$C$544,0),"")} -> 117 | C118: {=IFERROR(MATCH(C$1&$A118,Périmétre!$A$16:$A$544&Périmétre!$C$16:$C$544,0),"")} | D118: {=IFERROR(MATCH(D$1&$A118,Périmétre!$A$16:$A$544&Périmétre!$C$16:$C$544,0),"")} | E118: {=IFERROR(MATCH(E$1&$A118,Périmétre!$A$16:$A$544&Périmétre!$C$16:$C$544,0),"")} | F118: {=IFERROR(MATCH(F$1&$A118,Périmétre!$A$16:$A$544&Périmétre!$C$16:$C$544,0),"")} | G118: {=IFERROR(MATCH(G$1&$A118,Périmétre!$A$16:$A$544&Périmétre!$C$16:$C$544,0),"")} | H118: {=IFERROR(MATCH(H$1&$A118,Périmétre!$A$16:$A$544&Périmétre!$C$16:$C$544,0),"")} | I118: {=IFERROR(MATCH(I$1&$A118,Périmétre!$A$16:$A$544&Périmétre!$C$16:$C$544,0),"")}
A119: 1634654 | B119: {=IFERROR(MATCH(B$1&$A119,Périmétre!$A$16:$A$544&Périmétre!$C$16:$C$544,0),"")} -> 118 | C119: {=IFERROR(MATCH(C$1&$A119,Périmétre!$A$16:$A$544&Périmétre!$C$16:$C$544,0),"")} | D119: {=IFERROR(MATCH(D$1&$A119,Périmétre!$A$16:$A$544&Périmétre!$C$16:$C$544,0),"")} | E119: {=IFERROR(MATCH(E$1&$A119,Périmétre!$A$16:$A$544&Périmétre!$C$16:$C$544,0),"")} | F119: {=IFERROR(MATCH(F$1&$A119,Périmétre!$A$16:$A$544&Périmétre!$C$16:$C$544,0),"")} | G119: {=IFERROR(MATCH(G$1&$A119,Périmétre!$A$16:$A$544&Périmétre!$C$16:$C$544,0),"")} | H119: {=IFERROR(MATCH(H$1&$A119,Périmétre!$A$16:$A$544&Périmétre!$C$16:$C$544,0),"")} | I119: {=IFERROR(MATCH(I$1&$A119,Périmétre!$A$16:$A$544&Périmétre!$C$16:$C$544,0),"")}
A120: 1634666 | B120: {=IFERROR(MATCH(B$1&$A120,Périmétre!$A$16:$A$544&Périmétre!$C$16:$C$544,0),"")} -> 119 | C120: {=IFERROR(MATCH(C$1&$A120,Périmétre!$A$16:$A$544&Périmétre!$C$16:$C$544,0),"")} | D120: {=IFERROR(MATCH(D$1&$A120,Périmétre!$A$16:$A$544&Périmétre!$C$16:$C$544,0),"")} | E120: {=IFERROR(MATCH(E$1&$A120,Périmétre!$A$16:$A$544&Périmétre!$C$16:$C$544,0),"")} | F120: {=IFERROR(MATCH(F$1&$A120,Périmétre!$A$16:$A$544&Périmétre!$C$16:$C$544,0),"")} | G120: {=IFERROR(MATCH(G$1&$A120,Périmétre!$A$16:$A$544&Périmétre!$C$16:$C$544,0),"")} | H120: {=IFERROR(MATCH(H$1&$A120,Périmétre!$A$16:$A$544&Périmétre!$C$16:$C$544,0),"")} | I120: {=IFERROR(MATCH(I$1&$A120,Périmétre!$A$16:$A$544&Périmétre!$C$16:$C$544,0),"")}
A121: 1635028 | B121: {=IFERROR(MATCH(B$1&$A121,Périmétre!$A$16:$A$544&Périmétre!$C$16:$C$544,0),"")} -> 120 | C121: {=IFERROR(MATCH(C$1&$A121,Périmétre!$A$16:$A$544&Périmétre!$C$16:$C$544,0),"")} | D121: {=IFERROR(MATCH(D$1&$A121,Périmétre!$A$16:$A$544&Périmétre!$C$16:$C$544,0),"")} | E121: {=IFERROR(MATCH(E$1&$A121,Périmétre!$A$16:$A$544&Périmétre!$C$16:$C$544,0),"")} | F121: {=IFERROR(MATCH(F$1&$A121,Périmétre!$A$16:$A$544&Périmétre!$C$16:$C$544,0),"")} | G121: {=IFERROR(MATCH(G$1&$A121,Périmétre!$A$16:$A$544&Périmétre!$C$16:$C$544,0),"")} | H121: {=IFERROR(MATCH(H$1&$A121,Périmétre!$A$16:$A$544&Périmétre!$C$16:$C$544,0),"")} | I121: {=IFERROR(MATCH(I$1&$A121,Périmétre!$A$16:$A$544&Périmétre!$C$16:$C$544,0),"")}
A122: 1635937 | B122: {=IFERROR(MATCH(B$1&$A122,Périmétre!$A$16:$A$544&Périmétre!$C$16:$C$544,0),"")} -> 121 | C122: {=IFERROR(MATCH(C$1&$A122,Périmétre!$A$16:$A$544&Périmétre!$C$16:$C$544,0),"")} | D122: {=IFERROR(MATCH(D$1&$A122,Périmétre!$A$16:$A$544&Périmétre!$C$16:$C$544,0),"")} | E122: {=IFERROR(MATCH(E$1&$A122,Périmétre!$A$16:$A$544&Périmétre!$C$16:$C$544,0),"")} | F122: {=IFERROR(MATCH(F$1&$A122,Périmétre!$A$16:$A$544&Périmétre!$C$16:$C$544,0),"")} | G122: {=IFERROR(MATCH(G$1&$A122,Périmétre!$A$16:$A$544&Périmétre!$C$16:$C$544,0),"")} | H122: {=IFERROR(MATCH(H$1&$A122,Périmétre!$A$16:$A$544&Périmétre!$C$16:$C$544,0),"")} | I122: {=IFERROR(MATCH(I$1&$A122,Périmétre!$A$16:$A$544&Périmétre!$C$16:$C$544,0),"")}
A123: 1635938 | B123: {=IFERROR(MATCH(B$1&$A123,Périmétre!$A$16:$A$544&Périmétre!$C$16:$C$544,0),"")} -> 122 | C123: {=IFERROR(MATCH(C$1&$A123,Périmétre!$A$16:$A$544&Périmétre!$C$16:$C$544,0),"")} | D123: {=IFERROR(MATCH(D$1&$A123,Périmétre!$A$16:$A$544&Périmétre!$C$16:$C$544,0),"")} | E123: {=IFERROR(MATCH(E$1&$A123,Périmétre!$A$16:$A$544&Périmétre!$C$16:$C$544,0),"")} | F123: {=IFERROR(MATCH(F$1&$A123,Périmétre!$A$16:$A$544&Périmétre!$C$16:$C$544,0),"")} | G123: {=IFERROR(MATCH(G$1&$A123,Périmétre!$A$16:$A$544&Périmétre!$C$16:$C$544,0),"")} | H123: {=IFERROR(MATCH(H$1&$A123,Périmétre!$A$16:$A$544&Périmétre!$C$16:$C$544,0),"")} | I123: {=IFERROR(MATCH(I$1&$A123,Périmétre!$A$16:$A$544&Périmétre!$C$16:$C$544,0),"")}
A124: 1635945-X | B124: {=IFERROR(MATCH(B$1&$A124,Périmétre!$A$16:$A$544&Périmétre!$C$16:$C$544,0),"")} -> 123 | C124: {=IFERROR(MATCH(C$1&$A124,Périmétre!$A$16:$A$544&Périmétre!$C$16:$C$544,0),"")} | D124: {=IFERROR(MATCH(D$1&$A124,Périmétre!$A$16:$A$544&Périmétre!$C$16:$C$544,0),"")} | E124: {=IFERROR(MATCH(E$1&$A124,Périmétre!$A$16:$A$544&Périmétre!$C$16:$C$544,0),"")} | F124: {=IFERROR(MATCH(F$1&$A124,Périmétre!$A$16:$A$544&Périmétre!$C$16:$C$544,0),"")} | G124: {=IFERROR(MATCH(G$1&$A124,Périmétre!$A$16:$A$544&Périmétre!$C$16:$C$544,0),"")} | H124: {=IFERROR(MATCH(H$1&$A124,Périmétre!$A$16:$A$544&Périmétre!$C$16:$C$544,0),"")} | I124: {=IFERROR(MATCH(I$1&$A124,Périmétre!$A$16:$A$544&Périmétre!$C$16:$C$544,0),"")}
A125: 1635957 | B125: {=IFERROR(MATCH(B$1&$A125,Périmétre!$A$16:$A$544&Périmétre!$C$16:$C$544,0),"")} -> 124 | C125: {=IFERROR(MATCH(C$1&$A125,Périmétre!$A$16:$A$544&Périmétre!$C$16:$C$544,0),"")} | D125: {=IFERROR(MATCH(D$1&$A125,Périmétre!$A$16:$A$544&Périmétre!$C$16:$C$544,0),"")} | E125: {=IFERROR(MATCH(E$1&$A125,Périmétre!$A$16:$A$544&Périmétre!$C$16:$C$544,0),"")} | F125: {=IFERROR(MATCH(F$1&$A125,Périmétre!$A$16:$A$544&Périmétre!$C$16:$C$544,0),"")} | G125: {=IFERROR(MATCH(G$1&$A125,Périmétre!$A$16:$A$544&Périmétre!$C$16:$C$544,0),"")} | H125: {=IFERROR(MATCH(H$1&$A125,Périmétre!$A$16:$A$544&Périmétre!$C$16:$C$544,0),"")} | I125: {=IFERROR(MATCH(I$1&$A125,Périmétre!$A$16:$A$544&Périmétre!$C$16:$C$544,0),"")}
A126: 1636908 | B126: {=IFERROR(MATCH(B$1&$A126,Périmétre!$A$16:$A$544&Périmétre!$C$16:$C$544,0),"")} -> 125 | C126: {=IFERROR(MATCH(C$1&$A126,Périmétre!$A$16:$A$544&Périmétre!$C$16:$C$544,0),"")} | D126: {=IFERROR(MATCH(D$1&$A126,Périmétre!$A$16:$A$544&Périmétre!$C$16:$C$544,0),"")} | E126: {=IFERROR(MATCH(E$1&$A126,Périmétre!$A$16:$A$544&Périmétre!$C$16:$C$544,0),"")} | F126: {=IFERROR(MATCH(F$1&$A126,Périmétre!$A$16:$A$544&Périmétre!$C$16:$C$544,0),"")} | G126: {=IFERROR(MATCH(G$1&$A126,Périmétre!$A$16:$A$544&Périmétre!$C$16:$C$544,0),"")} | H126: {=IFERROR(MATCH(H$1&$A126,Périmétre!$A$16:$A$544&Périmétre!$C$16:$C$544,0),"")} | I126: {=IFERROR(MATCH(I$1&$A126,Périmétre!$A$16:$A$544&Périmétre!$C$16:$C$544,0),"")}
A127: 1636920 | B127: {=IFERROR(MATCH(B$1&$A127,Périmétre!$A$16:$A$544&Périmétre!$C$16:$C$544,0),"")} -> 126 | C127: {=IFERROR(MATCH(C$1&$A127,Périmétre!$A$16:$A$544&Périmétre!$C$16:$C$544,0),"")} | D127: {=IFERROR(MATCH(D$1&$A127,Périmétre!$A$16:$A$544&Périmétre!$C$16:$C$544,0),"")} | E127: {=IFERROR(MATCH(E$1&$A127,Périmétre!$A$16:$A$544&Périmétre!$C$16:$C$544,0),"")} | F127: {=IFERROR(MATCH(F$1&$A127,Périmétre!$A$16:$A$544&Périmétre!$C$16:$C$544,0),"")} | G127: {=IFERROR(MATCH(G$1&$A127,Périmétre!$A$16:$A$544&Périmétre!$C$16:$C$544,0),"")} | H127: {=IFERROR(MATCH(H$1&$A127,Périmétre!$A$16:$A$544&Périmétre!$C$16:$C$544,0),"")} | I127: {=IFERROR(MATCH(I$1&$A127,Périmétre!$A$16:$A$544&Périmétre!$C$16:$C$544,0),"")}
A128: 1636920-X | B128: {=IFERROR(MATCH(B$1&$A128,Périmétre!$A$16:$A$544&Périmétre!$C$16:$C$544,0),"")} -> 127 | C128: {=IFERROR(MATCH(C$1&$A128,Périmétre!$A$16:$A$544&Périmétre!$C$16:$C$544,0),"")} | D128: {=IFERROR(MATCH(D$1&$A128,Périmétre!$A$16:$A$544&Périmétre!$C$16:$C$544,0),"")} | E128: {=IFERROR(MATCH(E$1&$A128,Périmétre!$A$16:$A$544&Périmétre!$C$16:$C$544,0),"")} | F128: {=IFERROR(MATCH(F$1&$A128,Périmétre!$A$16:$A$544&Périmétre!$C$16:$C$544,0),"")} | G128: {=IFERROR(MATCH(G$1&$A128,Périmétre!$A$16:$A$544&Périmétre!$C$16:$C$544,0),"")} | H128: {=IFERROR(MATCH(H$1&$A128,Périmétre!$A$16:$A$544&Périmétre!$C$16:$C$544,0),"")} | I128: {=IFERROR(MATCH(I$1&$A128,Périmétre!$A$16:$A$544&Périmétre!$C$16:$C$544,0),"")}
A129: 1636920_NOT | B129: {=IFERROR(MATCH(B$1&$A129,Périmétre!$A$16:$A$544&Périmétre!$C$16:$C$544,0),"")} -> 128 | C129: {=IFERROR(MATCH(C$1&$A129,Périmétre!$A$16:$A$544&Périmétre!$C$16:$C$544,0),"")} | D129: {=IFERROR(MATCH(D$1&$A129,Périmétre!$A$16:$A$544&Périmétre!$C$16:$C$544,0),"")} | E129: {=IFERROR(MATCH(E$1&$A129,Périmétre!$A$16:$A$544&Périmétre!$C$16:$C$544,0),"")} | F129: {=IFERROR(MATCH(F$1&$A129,Périmétre!$A$16:$A$544&Périmétre!$C$16:$C$544,0),"")} | G129: {=IFERROR(MATCH(G$1&$A129,Périmétre!$A$16:$A$544&Périmétre!$C$16:$C$544,0),"")} | H129: {=IFERROR(MATCH(H$1&$A129,Périmétre!$A$16:$A$544&Périmétre!$C$16:$C$544,0),"")} | I129: {=IFERROR(MATCH(I$1&$A129,Périmétre!$A$16:$A$544&Périmétre!$C$16:$C$544,0),"")}
A130: 1636921 | B130: {=IFERROR(MATCH(B$1&$A130,Périmétre!$A$16:$A$544&Périmétre!$C$16:$C$544,0),"")} -> 129 | C130: {=IFERROR(MATCH(C$1&$A130,Périmétre!$A$16:$A$544&Périmétre!$C$16:$C$544,0),"")} | D130: {=IFERROR(MATCH(D$1&$A130,Périmétre!$A$16:$A$544&Périmétre!$C$16:$C$544,0),"")} | E130: {=IFERROR(MATCH(E$1&$A130,Périmétre!$A$16:$A$544&Périmétre!$C$16:$C$544,0),"")} | F130: {=IFERROR(MATCH(F$1&$A130,Périmétre!$A$16:$A$544&Périmétre!$C$16:$C$544,0),"")} | G130: {=IFERROR(MATCH(G$1&$A130,Périmétre!$A$16:$A$544&Périmétre!$C$16:$C$544,0),"")} | H130: {=IFERROR(MATCH(H$1&$A130,Périmétre!$A$16:$A$544&Périmétre!$C$16:$C$544,0),"")} | I130: {=IFERROR(MATCH(I$1&$A130,Périmétre!$A$16:$A$544&Périmétre!$C$16:$C$544,0),"")}
A131: 1636922 | B131: {=IFERROR(MATCH(B$1&$A131,Périmétre!$A$16:$A$544&Périmétre!$C$16:$C$544,0),"")} -> 130 | C131: {=IFERROR(MATCH(C$1&$A131,Périmétre!$A$16:$A$544&Périmétre!$C$16:$C$544,0),"")} | D131: {=IFERROR(MATCH(D$1&$A131,Périmétre!$A$16:$A$544&Périmétre!$C$16:$C$544,0),"")} | E131: {=IFERROR(MATCH(E$1&$A131,Périmétre!$A$16:$A$544&Périmétre!$C$16:$C$544,0),"")} | F131: {=IFERROR(MATCH(F$1&$A131,Périmétre!$A$16:$A$544&Périmétre!$C$16:$C$544,0),"")} | G131: {=IFERROR(MATCH(G$1&$A131,Périmétre!$A$16:$A$544&Périmétre!$C$16:$C$544,0),"")} | H131: {=IFERROR(MATCH(H$1&$A131,Périmétre!$A$16:$A$544&Périmétre!$C$16:$C$544,0),"")} | I131: {=IFERROR(MATCH(I$1&$A131,Périmétre!$A$16:$A$544&Périmétre!$C$16:$C$544,0),"")}
A132: 1636923 | B132: {=IFERROR(MATCH(B$1&$A132,Périmétre!$A$16:$A$544&Périmétre!$C$16:$C$544,0),"")} -> 131 | C132: {=IFERROR(MATCH(C$1&$A132,Périmétre!$A$16:$A$544&Périmétre!$C$16:$C$544,0),"")} | D132: {=IFERROR(MATCH(D$1&$A132,Périmétre!$A$16:$A$544&Périmétre!$C$16:$C$544,0),"")} | E132: {=IFERROR(MATCH(E$1&$A132,Périmétre!$A$16:$A$544&Périmétre!$C$16:$C$544,0),"")} | F132: {=IFERROR(MATCH(F$1&$A132,Périmétre!$A$16:$A$544&Périmétre!$C$16:$C$544,0),"")} | G132: {=IFERROR(MATCH(G$1&$A132,Périmétre!$A$16:$A$544&Périmétre!$C$16:$C$544,0),"")} | H132: {=IFERROR(MATCH(H$1&$A132,Périmétre!$A$16:$A$544&Périmétre!$C$16:$C$544,0),"")} | I132: {=IFERROR(MATCH(I$1&$A132,Périmétre!$A$16:$A$544&Périmétre!$C$16:$C$544,0),"")}
A133: 1636924 | B133: {=IFERROR(MATCH(B$1&$A133,Périmétre!$A$16:$A$544&Périmétre!$C$16:$C$544,0),"")} -> 132 | C133: {=IFERROR(MATCH(C$1&$A133,Périmétre!$A$16:$A$544&Périmétre!$C$16:$C$544,0),"")} | D133: {=IFERROR(MATCH(D$1&$A133,Périmétre!$A$16:$A$544&Périmétre!$C$16:$C$544,0),"")} | E133: {=IFERROR(MATCH(E$1&$A133,Périmétre!$A$16:$A$544&Périmétre!$C$16:$C$544,0),"")} | F133: {=IFERROR(MATCH(F$1&$A133,Périmétre!$A$16:$A$544&Périmétre!$C$16:$C$544,0),"")} | G133: {=IFERROR(MATCH(G$1&$A133,Périmétre!$A$16:$A$544&Périmétre!$C$16:$C$544,0),"")} | H133: {=IFERROR(MATCH(H$1&$A133,Périmétre!$A$16:$A$544&Périmétre!$C$16:$C$544,0),"")} | I133: {=IFERROR(MATCH(I$1&$A133,Périmétre!$A$16:$A$544&Périmétre!$C$16:$C$544,0),"")}
A134: 1636928 | B134: {=IFERROR(MATCH(B$1&$A134,Périmétre!$A$16:$A$544&Périmétre!$C$16:$C$544,0),"")} -> 133 | C134: {=IFERROR(MATCH(C$1&$A134,Périmétre!$A$16:$A$544&Périmétre!$C$16:$C$544,0),"")} | D134: {=IFERROR(MATCH(D$1&$A134,Périmétre!$A$16:$A$544&Périmétre!$C$16:$C$544,0),"")} | E134: {=IFERROR(MATCH(E$1&$A134,Périmétre!$A$16:$A$544&Périmétre!$C$16:$C$544,0),"")} | F134: {=IFERROR(MATCH(F$1&$A134,Périmétre!$A$16:$A$544&Périmétre!$C$16:$C$544,0),"")} | G134: {=IFERROR(MATCH(G$1&$A134,Périmétre!$A$16:$A$544&Périmétre!$C$16:$C$544,0),"")} | H134: {=IFERROR(MATCH(H$1&$A134,Périmétre!$A$16:$A$544&Périmétre!$C$16:$C$544,0),"")} | I134: {=IFERROR(MATCH(I$1&$A134,Périmétre!$A$16:$A$544&Périmétre!$C$16:$C$544,0),"")}
A135: 1636930 | B135: {=IFERROR(MATCH(B$1&$A135,Périmétre!$A$16:$A$544&Périmétre!$C$16:$C$544,0),"")} -> 134 | C135: {=IFERROR(MATCH(C$1&$A135,Périmétre!$A$16:$A$544&Périmétre!$C$16:$C$544,0),"")} | D135: {=IFERROR(MATCH(D$1&$A135,Périmétre!$A$16:$A$544&Périmétre!$C$16:$C$544,0),"")} | E135: {=IFERROR(MATCH(E$1&$A135,Périmétre!$A$16:$A$544&Périmétre!$C$16:$C$544,0),"")} | F135: {=IFERROR(MATCH(F$1&$A135,Périmétre!$A$16:$A$544&Périmétre!$C$16:$C$544,0),"")} | G135: {=IFERROR(MATCH(G$1&$A135,Périmétre!$A$16:$A$544&Périmétre!$C$16:$C$544,0),"")} | H135: {=IFERROR(MATCH(H$1&$A135,Périmétre!$A$16:$A$544&Périmétre!$C$16:$C$544,0),"")} | I135: {=IFERROR(MATCH(I$1&$A135,Périmétre!$A$16:$A$544&Périmétre!$C$16:$C$544,0),"")}
A136: 1636986 | B136: {=IFERROR(MATCH(B$1&$A136,Périmétre!$A$16:$A$544&Périmétre!$C$16:$C$544,0),"")} -> 135 | C136: {=IFERROR(MATCH(C$1&$A136,Périmétre!$A$16:$A$544&Périmétre!$C$16:$C$544,0),"")} | D136: {=IFERROR(MATCH(D$1&$A136,Périmétre!$A$16:$A$544&Périmétre!$C$16:$C$544,0),"")} | E136: {=IFERROR(MATCH(E$1&$A136,Périmétre!$A$16:$A$544&Périmétre!$C$16:$C$544,0),"")} | F136: {=IFERROR(MATCH(F$1&$A136,Périmétre!$A$16:$A$544&Périmétre!$C$16:$C$544,0),"")} | G136: {=IFERROR(MATCH(G$1&$A136,Périmétre!$A$16:$A$544&Périmétre!$C$16:$C$544,0),"")} | H136: {=IFERROR(MATCH(H$1&$A136,Périmétre!$A$16:$A$544&Périmétre!$C$16:$C$544,0),"")} | I136: {=IFERROR(MATCH(I$1&$A136,Périmétre!$A$16:$A$544&Périmétre!$C$16:$C$544,0),"")}
A137: 1637012 | B137: {=IFERROR(MATCH(B$1&$A137,Périmétre!$A$16:$A$544&Périmétre!$C$16:$C$544,0),"")} -> 136 | C137: {=IFERROR(MATCH(C$1&$A137,Périmétre!$A$16:$A$544&Périmétre!$C$16:$C$544,0),"")} | D137: {=IFERROR(MATCH(D$1&$A137,Périmétre!$A$16:$A$544&Périmétre!$C$16:$C$544,0),"")} | E137: {=IFERROR(MATCH(E$1&$A137,Périmétre!$A$16:$A$544&Périmétre!$C$16:$C$544,0),"")} | F137: {=IFERROR(MATCH(F$1&$A137,Périmétre!$A$16:$A$544&Périmétre!$C$16:$C$544,0),"")} | G137: {=IFERROR(MATCH(G$1&$A137,Périmétre!$A$16:$A$544&Périmétre!$C$16:$C$544,0),"")} | H137: {=IFERROR(MATCH(H$1&$A137,Périmétre!$A$16:$A$544&Périmétre!$C$16:$C$544,0),"")} | I137: {=IFERROR(MATCH(I$1&$A137,Périmétre!$A$16:$A$544&Périmétre!$C$16:$C$544,0),"")}
A138: MALR186064A | B138: {=IFERROR(MATCH(B$1&$A138,Périmétre!$A$16:$A$544&Périmétre!$C$16:$C$544,0),"")} -> 137 | C138: {=IFERROR(MATCH(C$1&$A138,Périmétre!$A$16:$A$544&Périmétre!$C$16:$C$544,0),"")} | D138: {=IFERROR(MATCH(D$1&$A138,Périmétre!$A$16:$A$544&Périmétre!$C$16:$C$544,0),"")} | E138: {=IFERROR(MATCH(E$1&$A138,Périmétre!$A$16:$A$544&Périmétre!$C$16:$C$544,0),"")} | F138: {=IFERROR(MATCH(F$1&$A138,Périmétre!$A$16:$A$544&Périmétre!$C$16:$C$544,0),"")} | G138: {=IFERROR(MATCH(G$1&$A138,Périmétre!$A$16:$A$544&Périmétre!$C$16:$C$544,0),"")} | H138: {=IFERROR(MATCH(H$1&$A138,Périmétre!$A$16:$A$544&Périmétre!$C$16:$C$544,0),"")} | I138: {=IFERROR(MATCH(I$1&$A138,Périmétre!$A$16:$A$544&Périmétre!$C$16:$C$544,0),"")}
A139: MALR206064A | B139: {=IFERROR(MATCH(B$1&$A139,Périmétre!$A$16:$A$544&Périmétre!$C$16:$C$544,0),"")} -> 138 | C139: {=IFERROR(MATCH(C$1&$A139,Périmétre!$A$16:$A$544&Périmétre!$C$16:$C$544,0),"")} | D139: {=IFERROR(MATCH(D$1&$A139,Périmétre!$A$16:$A$544&Périmétre!$C$16:$C$544,0),"")} | E139: {=IFERROR(MATCH(E$1&$A139,Périmétre!$A$16:$A$544&Périmétre!$C$16:$C$544,0),"")} | F139: {=IFERROR(MATCH(F$1&$A139,Périmétre!$A$16:$A$544&Périmétre!$C$16:$C$544,0),"")} | G139: {=IFERROR(MATCH(G$1&$A139,Périmétre!$A$16:$A$544&Périmétre!$C$16:$C$544,0),"")} | H139: {=IFERROR(MATCH(H$1&$A139,Périmétre!$A$16:$A$544&Périmétre!$C$16:$C$544,0),"")} | I139: {=IFERROR(MATCH(I$1&$A139,Périmétre!$A$16:$A$544&Périmétre!$C$16:$C$544,0),"")}
A140: MALR216262 | B140: {=IFERROR(MATCH(B$1&$A140,Périmétre!$A$16:$A$544&Périmétre!$C$16:$C$544,0),"")} -> 139 | C140: {=IFERROR(MATCH(C$1&$A140,Périmétre!$A$16:$A$544&Périmétre!$C$16:$C$544,0),"")} | D140: {=IFERROR(MATCH(D$1&$A140,Périmétre!$A$16:$A$544&Périmétre!$C$16:$C$544,0),"")} | E140: {=IFERROR(MATCH(E$1&$A140,Périmétre!$A$16:$A$544&Périmétre!$C$16:$C$544,0),"")} | F140: {=IFERROR(MATCH(F$1&$A140,Périmétre!$A$16:$A$544&Périmétre!$C$16:$C$544,0),"")} | G140: {=IFERROR(MATCH(G$1&$A140,Périmétre!$A$16:$A$544&Périmétre!$C$16:$C$544,0),"")} | H140: {=IFERROR(MATCH(H$1&$A140,Périmétre!$A$16:$A$544&Périmétre!$C$16:$C$544,0),"")} | I140: {=IFERROR(MATCH(I$1&$A140,Périmétre!$A$16:$A$544&Périmétre!$C$16:$C$544,0),"")}
A141: MINR10303 | B141: {=IFERROR(MATCH(B$1&$A141,Périmétre!$A$16:$A$544&Périmétre!$C$16:$C$544,0),"")} -> 140 | C141: {=IFERROR(MATCH(C$1&$A141,Périmétre!$A$16:$A$544&Périmétre!$C$16:$C$544,0),"")} | D141: {=IFERROR(MATCH(D$1&$A141,Périmétre!$A$16:$A$544&Périmétre!$C$16:$C$544,0),"")} | E141: {=IFERROR(MATCH(E$1&$A141,Périmétre!$A$16:$A$544&Périmétre!$C$16:$C$544,0),"")} | F141: {=IFERROR(MATCH(F$1&$A141,Périmétre!$A$16:$A$544&Périmétre!$C$16:$C$544,0),"")} | G141: {=IFERROR(MATCH(G$1&$A141,Périmétre!$A$16:$A$544&Périmétre!$C$16:$C$544,0),"")} | H141: {=IFERROR(MATCH(H$1&$A141,Périmétre!$A$16:$A$544&Périmétre!$C$16:$C$544,0),"")} | I141: {=IFERROR(MATCH(I$1&$A141,Périmétre!$A$16:$A$544&Périmétre!$C$16:$C$544,0),"")}
A142: MINR104C27A | B142: {=IFERROR(MATCH(B$1&$A142,Périmétre!$A$16:$A$544&Périmétre!$C$16:$C$544,0),"")} -> 141 | C142: {=IFERROR(MATCH(C$1&$A142,Périmétre!$A$16:$A$544&Périmétre!$C$16:$C$544,0),"")} | D142: {=IFERROR(MATCH(D$1&$A142,Périmétre!$A$16:$A$544&Périmétre!$C$16:$C$544,0),"")} | E142: {=IFERROR(MATCH(E$1&$A142,Périmétre!$A$16:$A$544&Périmétre!$C$16:$C$544,0),"")} | F142: {=IFERROR(MATCH(F$1&$A142,Périmétre!$A$16:$A$544&Périmétre!$C$16:$C$544,0),"")} | G142: {=IFERROR(MATCH(G$1&$A142,Périmétre!$A$16:$A$544&Périmétre!$C$16:$C$544,0),"")} | H142: {=IFERROR(MATCH(H$1&$A142,Périmétre!$A$16:$A$544&Périmétre!$C$16:$C$544,0),"")} | I142: {=IFERROR(MATCH(I$1&$A142,Périmétre!$A$16:$A$544&Périmétre!$C$16:$C$544,0),"")}
A143: MINR13303 | B143: {=IFERROR(MATCH(B$1&$A143,Périmétre!$A$16:$A$544&Périmétre!$C$16:$C$544,0),"")} -> 142 | C143: {=IFERROR(MATCH(C$1&$A143,Périmétre!$A$16:$A$544&Périmétre!$C$16:$C$544,0),"")} | D143: {=IFERROR(MATCH(D$1&$A143,Périmétre!$A$16:$A$544&Périmétre!$C$16:$C$544,0),"")} | E143: {=IFERROR(MATCH(E$1&$A143,Périmétre!$A$16:$A$544&Périmétre!$C$16:$C$544,0),"")} | F143: {=IFERROR(MATCH(F$1&$A143,Périmétre!$A$16:$A$544&Périmétre!$C$16:$C$544,0),"")} | G143: {=IFERROR(MATCH(G$1&$A143,Périmétre!$A$16:$A$544&Périmétre!$C$16:$C$544,0),"")} | H143: {=IFERROR(MATCH(H$1&$A143,Périmétre!$A$16:$A$544&Périmétre!$C$16:$C$544,0),"")} | I143: {=IFERROR(MATCH(I$1&$A143,Périmétre!$A$16:$A$544&Périmétre!$C$16:$C$544,0),"")}
A144: MINR14420F | B144: {=IFERROR(MATCH(B$1&$A144,Périmétre!$A$16:$A$544&Périmétre!$C$16:$C$544,0),"")} -> 143 | C144: {=IFERROR(MATCH(C$1&$A144,Périmétre!$A$16:$A$544&Périmétre!$C$16:$C$544,0),"")} | D144: {=IFERROR(MATCH(D$1&$A144,Périmétre!$A$16:$A$544&Périmétre!$C$16:$C$544,0),"")} | E144: {=IFERROR(MATCH(E$1&$A144,Périmétre!$A$16:$A$544&Périmétre!$C$16:$C$544,0),"")} | F144: {=IFERROR(MATCH(F$1&$A144,Périmétre!$A$16:$A$544&Périmétre!$C$16:$C$544,0),"")} | G144: {=IFERROR(MATCH(G$1&$A144,Périmétre!$A$16:$A$544&Périmétre!$C$16:$C$544,0),"")} | H144: {=IFERROR(MATCH(H$1&$A144,Périmétre!$A$16:$A$544&Périmétre!$C$16:$C$544,0),"")} | I144: {=IFERROR(MATCH(I$1&$A144,Périmétre!$A$16:$A$544&Périmétre!$C$16:$C$544,0),"")}
A145: MINR4316L | B145: {=IFERROR(MATCH(B$1&$A145,Périmétre!$A$16:$A$544&Périmétre!$C$16:$C$544,0),"")} -> 144 | C145: {=IFERROR(MATCH(C$1&$A145,Périmétre!$A$16:$A$544&Périmétre!$C$16:$C$544,0),"")} | D145: {=IFERROR(MATCH(D$1&$A145,Périmétre!$A$16:$A$544&Périmétre!$C$16:$C$544,0),"")} | E145: {=IFERROR(MATCH(E$1&$A145,Périmétre!$A$16:$A$544&Périmétre!$C$16:$C$544,0),"")} | F145: {=IFERROR(MATCH(F$1&$A145,Périmétre!$A$16:$A$544&Périmétre!$C$16:$C$544,0),"")} | G145: {=IFERROR(MATCH(G$1&$A145,Périmétre!$A$16:$A$544&Périmétre!$C$16:$C$544,0),"")} | H145: {=IFERROR(MATCH(H$1&$A145,Périmétre!$A$16:$A$544&Périmétre!$C$16:$C$544,0),"")} | I145: {=IFERROR(MATCH(I$1&$A145,Périmétre!$A$16:$A$544&Périmétre!$C$16:$C$544,0),"")}
A146: MINR7303 | B146: {=IFERROR(MATCH(B$1&$A146,Périmétre!$A$16:$A$544&Périmétre!$C$16:$C$544,0),"")} -> 145 | C146: {=IFERROR(MATCH(C$1&$A146,Périmétre!$A$16:$A$544&Périmétre!$C$16:$C$544,0),"")} | D146: {=IFERROR(MATCH(D$1&$A146,Périmétre!$A$16:$A$544&Périmétre!$C$16:$C$544,0),"")} | E146: {=IFERROR(MATCH(E$1&$A146,Périmétre!$A$16:$A$544&Périmétre!$C$16:$C$544,0),"")} | F146: {=IFERROR(MATCH(F$1&$A146,Périmétre!$A$16:$A$544&Périmétre!$C$16:$C$544,0),"")} | G146: {=IFERROR(MATCH(G$1&$A146,Périmétre!$A$16:$A$544&Périmétre!$C$16:$C$544,0),"")} | H146: {=IFERROR(MATCH(H$1&$A146,Périmétre!$A$16:$A$544&Périmétre!$C$16:$C$544,0),"")} | I146: {=IFERROR(MATCH(I$1&$A146,Périmétre!$A$16:$A$544&Périmétre!$C$16:$C$544,0),"")}
A147: MSYR8KETRON | B147: {=IFERROR(MATCH(B$1&$A147,Périmétre!$A$16:$A$544&Périmétre!$C$16:$C$544,0),"")} -> 146 | C147: {=IFERROR(MATCH(C$1&$A147,Périmétre!$A$16:$A$544&Périmétre!$C$16:$C$544,0),"")} | D147: {=IFERROR(MATCH(D$1&$A147,Périmétre!$A$16:$A$544&Périmétre!$C$16:$C$544,0),"")} | E147: {=IFERROR(MATCH(E$1&$A147,Périmétre!$A$16:$A$544&Périmétre!$C$16:$C$544,0),"")} | F147: {=IFERROR(MATCH(F$1&$A147,Périmétre!$A$16:$A$544&Périmétre!$C$16:$C$544,0),"")} | G147: {=IFERROR(MATCH(G$1&$A147,Périmétre!$A$16:$A$544&Périmétre!$C$16:$C$544,0),"")} | H147: {=IFERROR(MATCH(H$1&$A147,Périmétre!$A$16:$A$544&Périmétre!$C$16:$C$544,0),"")} | I147: {=IFERROR(MATCH(I$1&$A147,Périmétre!$A$16:$A$544&Périmétre!$C$16:$C$544,0),"")}
A148: 0633911_EMB | B148: {=IFERROR(MATCH(B$1&$A148,Périmétre!$A$16:$A$544&Périmétre!$C$16:$C$544,0),"")} -> 47 | C148: {=IFERROR(MATCH(C$1&$A148,Périmétre!$A$16:$A$544&Périmétre!$C$16:$C$544,0),"")} -> 147 | D148: {=IFERROR(MATCH(D$1&$A148,Périmétre!$A$16:$A$544&Périmétre!$C$16:$C$544,0),"")} -> 362 | E148: {=IFERROR(MATCH(E$1&$A148,Périmétre!$A$16:$A$544&Périmétre!$C$16:$C$544,0),"")} -> 410 | F148: {=IFERROR(MATCH(F$1&$A148,Périmétre!$A$16:$A$544&Périmétre!$C$16:$C$544,0),"")} -> 510 | G148: {=IFERROR(MATCH(G$1&$A148,Périmétre!$A$16:$A$544&Périmétre!$C$16:$C$544,0),"")} -> 213 | H148: {=IFERROR(MATCH(H$1&$A148,Périmétre!$A$16:$A$544&Périmétre!$C$16:$C$544,0),"")} -> 262 | I148: {=IFERROR(MATCH(I$1&$A148,Périmétre!$A$16:$A$544&Périmétre!$C$16:$C$544,0),"")} -> 1
A149: 063OI3421W | B149: {=IFERROR(MATCH(B$1&$A149,Périmétre!$A$16:$A$544&Périmétre!$C$16:$C$544,0),"")} -> 69 | C149: {=IFERROR(MATCH(C$1&$A149,Périmétre!$A$16:$A$544&Périmétre!$C$16:$C$544,0),"")} -> 148 | D149: {=IFERROR(MATCH(D$1&$A149,Périmétre!$A$16:$A$544&Périmétre!$C$16:$C$544,0),"")} | E149: {=IFERROR(MATCH(E$1&$A149,Périmétre!$A$16:$A$544&Périmétre!$C$16:$C$544,0),"")} -> 434 | F149: {=IFERROR(MATCH(F$1&$A149,Périmétre!$A$16:$A$544&Périmétre!$C$16:$C$544,0),"")} -> 511 | G149: {=IFERROR(MATCH(G$1&$A149,Périmétre!$A$16:$A$544&Périmétre!$C$16:$C$544,0),"")} | H149: {=IFERROR(MATCH(H$1&$A149,Périmétre!$A$16:$A$544&Périmétre!$C$16:$C$544,0),"")} -> 287 | I149: {=IFERROR(MATCH(I$1&$A149,Périmétre!$A$16:$A$544&Périmétre!$C$16:$C$544,0),"")} -> 22
... A251: 063OPMP250A | B251: {=IFERROR(MATCH(B$1&$A251,Périmétre!$A$16:$A$544&Périmétre!$C$16:$C$544,0),"")} | C251: {=IFERROR(MATCH(C$1&$A251,Périmétre!$A$16:$A$544&Périmétre!$C$16:$C$544,0),"")} | D251: {=IFERROR(MATCH(D$1&$A251,Périmétre!$A$16:$A$544&Périmétre!$C$16:$C$544,0),"")} -> 398 | E251: {=IFERROR(MATCH(E$1&$A251,Périmétre!$A$16:$A$544&Périmétre!$C$16:$C$544,0),"")} | F251: {=IFERROR(MATCH(F$1&$A251,Périmétre!$A$16:$A$544&Périmétre!$C$16:$C$544,0),"")} | G251: {=IFERROR(MATCH(G$1&$A251,Périmétre!$A$16:$A$544&Périmétre!$C$16:$C$544,0),"")} -> 250 | H251: {=IFERROR(MATCH(H$1&$A251,Périmétre!$A$16:$A$544&Périmétre!$C$16:$C$544,0),"")} | I251: {=IFERROR(MATCH(I$1&$A251,Périmétre!$A$16:$A$544&Périmétre!$C$16:$C$544,0),"")}
A252: 1631522 | B252: {=IFERROR(MATCH(B$1&$A252,Périmétre!$A$16:$A$544&Périmétre!$C$16:$C$544,0),"")} -> 109 | C252: {=IFERROR(MATCH(C$1&$A252,Périmétre!$A$16:$A$544&Périmétre!$C$16:$C$544,0),"")} | D252: {=IFERROR(MATCH(D$1&$A252,Périmétre!$A$16:$A$544&Périmétre!$C$16:$C$544,0),"")} -> 399 | E252: {=IFERROR(MATCH(E$1&$A252,Périmétre!$A$16:$A$544&Périmétre!$C$16:$C$544,0),"")} -> 492 | F252: {=IFERROR(MATCH(F$1&$A252,Périmétre!$A$16:$A$544&Périmétre!$C$16:$C$544,0),"")} | G252: {=IFERROR(MATCH(G$1&$A252,Périmétre!$A$16:$A$544&Périmétre!$C$16:$C$544,0),"")} -> 251 | H252: {=IFERROR(MATCH(H$1&$A252,Périmétre!$A$16:$A$544&Périmétre!$C$16:$C$544,0),"")} -> 345 | I252: {=IFERROR(MATCH(I$1&$A252,Périmétre!$A$16:$A$544&Périmétre!$C$16:$C$544,0),"")} -> 31
A253: 1633046_EMB | B253: {=IFERROR(MATCH(B$1&$A253,Périmétre!$A$16:$A$544&Périmétre!$C$16:$C$544,0),"")} -> 110 | C253: {=IFERROR(MATCH(C$1&$A253,Périmétre!$A$16:$A$544&Périmétre!$C$16:$C$544,0),"")} -> 207 | D253: {=IFERROR(MATCH(D$1&$A253,Périmétre!$A$16:$A$544&Périmétre!$C$16:$C$544,0),"")} -> 400 | E253: {=IFERROR(MATCH(E$1&$A253,Périmétre!$A$16:$A$544&Périmétre!$C$16:$C$544,0),"")} -> 493 | F253: {=IFERROR(MATCH(F$1&$A253,Périmétre!$A$16:$A$544&Périmétre!$C$16:$C$544,0),"")} -> 528 | G253: {=IFERROR(MATCH(G$1&$A253,Périmétre!$A$16:$A$544&Périmétre!$C$16:$C$544,0),"")} -> 252 | H253: {=IFERROR(MATCH(H$1&$A253,Périmétre!$A$16:$A$544&Périmétre!$C$16:$C$544,0),"")} -> 346 | I253: {=IFERROR(MATCH(I$1&$A253,Périmétre!$A$16:$A$544&Périmétre!$C$16:$C$544,0),"")} -> 2
A254: 1633381_EMB | B254: {=IFERROR(MATCH(B$1&$A254,Périmétre!$A$16:$A$544&Périmétre!$C$16:$C$544,0),"")} -> 111 | C254: {=IFERROR(MATCH(C$1&$A254,Périmétre!$A$16:$A$544&Périmétre!$C$16:$C$544,0),"")} -> 208 | D254: {=IFERROR(MATCH(D$1&$A254,Périmétre!$A$16:$A$544&Périmétre!$C$16:$C$544,0),"")} -> 401 | E254: {=IFERROR(MATCH(E$1&$A254,Périmétre!$A$16:$A$544&Périmétre!$C$16:$C$544,0),"")} -> 494 | F254: {=IFERROR(MATCH(F$1&$A254,Périmétre!$A$16:$A$544&Périmétre!$C$16:$C$544,0),"")} -> 529 | G254: {=IFERROR(MATCH(G$1&$A254,Périmétre!$A$16:$A$544&Périmétre!$C$16:$C$544,0),"")} -> 253 | H254: {=IFERROR(MATCH(H$1&$A254,Périmétre!$A$16:$A$544&Périmétre!$C$16:$C$544,0),"")} -> 347 | I254: {=IFERROR(MATCH(I$1&$A254,Périmétre!$A$16:$A$544&Périmétre!$C$16:$C$544,0),"")} -> 3
A255: MINR1-18PHYNOX | B255: {=IFERROR(MATCH(B$1&$A255,Périmétre!$A$16:$A$544&Périmétre!$C$16:$C$544,0),"")} | C255: {=IFERROR(MATCH(C$1&$A255,Périmétre!$A$16:$A$544&Périmétre!$C$16:$C$544,0),"")} | D255: {=IFERROR(MATCH(D$1&$A255,Périmétre!$A$16:$A$544&Périmétre!$C$16:$C$544,0),"")} -> 402 | E255: {=IFERROR(MATCH(E$1&$A255,Périmétre!$A$16:$A$544&Périmétre!$C$16:$C$544,0),"")} | F255: {=IFERROR(MATCH(F$1&$A255,Périmétre!$A$16:$A$544&Périmétre!$C$16:$C$544,0),"")} | G255: {=IFERROR(MATCH(G$1&$A255,Périmétre!$A$16:$A$544&Périmétre!$C$16:$C$544,0),"")} -> 254 | H255: {=IFERROR(MATCH(H$1&$A255,Périmétre!$A$16:$A$544&Périmétre!$C$16:$C$544,0),"")} | I255: {=IFERROR(MATCH(I$1&$A255,Périmétre!$A$16:$A$544&Périmétre!$C$16:$C$544,0),"")} -> 43
A256: MINR10316LK | B256: {=IFERROR(MATCH(B$1&$A256,Périmétre!$A$16:$A$544&Périmétre!$C$16:$C$544,0),"")} | C256: {=IFERROR(MATCH(C$1&$A256,Périmétre!$A$16:$A$544&Périmétre!$C$16:$C$544,0),"")} | D256: {=IFERROR(MATCH(D$1&$A256,Périmétre!$A$16:$A$544&Périmétre!$C$16:$C$544,0),"")} -> 403 | E256: {=IFERROR(MATCH(E$1&$A256,Périmétre!$A$16:$A$544&Périmétre!$C$16:$C$544,0),"")} -> 495 | F256: {=IFERROR(MATCH(F$1&$A256,Périmétre!$A$16:$A$544&Périmétre!$C$16:$C$544,0),"")} | G256: {=IFERROR(MATCH(G$1&$A256,Périmétre!$A$16:$A$544&Périmétre!$C$16:$C$544,0),"")} -> 255 | H256: {=IFERROR(MATCH(H$1&$A256,Périmétre!$A$16:$A$544&Périmétre!$C$16:$C$544,0),"")} -> 348 | I256: {=IFERROR(MATCH(I$1&$A256,Périmétre!$A$16:$A$544&Périmétre!$C$16:$C$544,0),"")} -> 44
A257: MINR16316LK | B257: {=IFERROR(MATCH(B$1&$A257,Périmétre!$A$16:$A$544&Périmétre!$C$16:$C$544,0),"")} | C257: {=IFERROR(MATCH(C$1&$A257,Périmétre!$A$16:$A$544&Périmétre!$C$16:$C$544,0),"")} | D257: {=IFERROR(MATCH(D$1&$A257,Périmétre!$A$16:$A$544&Périmétre!$C$16:$C$544,0),"")} -> 404 | E257: {=IFERROR(MATCH(E$1&$A257,Périmétre!$A$16:$A$544&Périmétre!$C$16:$C$544,0),"")} | F257: {=IFERROR(MATCH(F$1&$A257,Périmétre!$A$16:$A$544&Périmétre!$C$16:$C$544,0),"")} | G257: {=IFERROR(MATCH(G$1&$A257,Périmétre!$A$16:$A$544&Périmétre!$C$16:$C$544,0),"")} -> 256 | H257: {=IFERROR(MATCH(H$1&$A257,Périmétre!$A$16:$A$544&Périmétre!$C$16:$C$544,0),"")} | I257: {=IFERROR(MATCH(I$1&$A257,Périmétre!$A$16:$A$544&Périmétre!$C$16:$C$544,0),"")} -> 45
A258: MINR3440B | B258: {=IFERROR(MATCH(B$1&$A258,Périmétre!$A$16:$A$544&Périmétre!$C$16:$C$544,0),"")} | C258: {=IFERROR(MATCH(C$1&$A258,Périmétre!$A$16:$A$544&Périmétre!$C$16:$C$544,0),"")} | D258: {=IFERROR(MATCH(D$1&$A258,Périmétre!$A$16:$A$544&Périmétre!$C$16:$C$544,0),"")} -> 405 | E258: {=IFERROR(MATCH(E$1&$A258,Périmétre!$A$16:$A$544&Périmétre!$C$16:$C$544,0),"")} -> 498 | F258: {=IFERROR(MATCH(F$1&$A258,Périmétre!$A$16:$A$544&Périmétre!$C$16:$C$544,0),"")} | G258: {=IFERROR(MATCH(G$1&$A258,Périmétre!$A$16:$A$544&Périmétre!$C$16:$C$544,0),"")} -> 257 | H258: {=IFERROR(MATCH(H$1&$A258,Périmétre!$A$16:$A$544&Périmétre!$C$16:$C$544,0),"")} -> 350 | I258: {=IFERROR(MATCH(I$1&$A258,Périmétre!$A$16:$A$544&Périmétre!$C$16:$C$544,0),"")} -> 21
A259: MINR4440B | B259: {=IFERROR(MATCH(B$1&$A259,Périmétre!$A$16:$A$544&Périmétre!$C$16:$C$544,0),"")} | C259: {=IFERROR(MATCH(C$1&$A259,Périmétre!$A$16:$A$544&Périmétre!$C$16:$C$544,0),"")} | D259: {=IFERROR(MATCH(D$1&$A259,Périmétre!$A$16:$A$544&Périmétre!$C$16:$C$544,0),"")} -> 406 | E259: {=IFERROR(MATCH(E$1&$A259,Périmétre!$A$16:$A$544&Périmétre!$C$16:$C$544,0),"")} -> 500 | F259: {=IFERROR(MATCH(F$1&$A259,Périmétre!$A$16:$A$544&Périmétre!$C$16:$C$544,0),"")} | G259: {=IFERROR(MATCH(G$1&$A259,Périmétre!$A$16:$A$544&Périmétre!$C$16:$C$544,0),"")} -> 258 | H259: {=IFERROR(MATCH(H$1&$A259,Périmétre!$A$16:$A$544&Périmétre!$C$16:$C$544,0),"")} -> 352 | I259: {=IFERROR(MATCH(I$1&$A259,Périmétre!$A$16:$A$544&Périmétre!$C$16:$C$544,0),"")} -> 32
A260: MINR5316LK | B260: {=IFERROR(MATCH(B$1&$A260,Périmétre!$A$16:$A$544&Périmétre!$C$16:$C$544,0),"")} | C260: {=IFERROR(MATCH(C$1&$A260,Périmétre!$A$16:$A$544&Périmétre!$C$16:$C$544,0),"")} | D260: {=IFERROR(MATCH(D$1&$A260,Périmétre!$A$16:$A$544&Périmétre!$C$16:$C$544,0),"")} -> 407 | E260: {=IFERROR(MATCH(E$1&$A260,Périmétre!$A$16:$A$544&Périmétre!$C$16:$C$544,0),"")} | F260: {=IFERROR(MATCH(F$1&$A260,Périmétre!$A$16:$A$544&Périmétre!$C$16:$C$544,0),"")} | G260: {=IFERROR(MATCH(G$1&$A260,Périmétre!$A$16:$A$544&Périmétre!$C$16:$C$544,0),"")} -> 259 | H260: {=IFERROR(MATCH(H$1&$A260,Périmétre!$A$16:$A$544&Périmétre!$C$16:$C$544,0),"")} | I260: {=IFERROR(MATCH(I$1&$A260,Périmétre!$A$16:$A$544&Périmétre!$C$16:$C$544,0),"")} -> 46
A261: MTIR4TA6V | B261: {=IFERROR(MATCH(B$1&$A261,Périmétre!$A$16:$A$544&Périmétre!$C$16:$C$544,0),"")} | C261: {=IFERROR(MATCH(C$1&$A261,Périmétre!$A$16:$A$544&Périmétre!$C$16:$C$544,0),"")} -> 209 | D261: {=IFERROR(MATCH(D$1&$A261,Périmétre!$A$16:$A$544&Périmétre!$C$16:$C$544,0),"")} -> 408 | E261: {=IFERROR(MATCH(E$1&$A261,Périmétre!$A$16:$A$544&Périmétre!$C$16:$C$544,0),"")} -> 507 | F261: {=IFERROR(MATCH(F$1&$A261,Périmétre!$A$16:$A$544&Périmétre!$C$16:$C$544,0),"")} | G261: {=IFERROR(MATCH(G$1&$A261,Périmétre!$A$16:$A$544&Périmétre!$C$16:$C$544,0),"")} -> 260 | H261: {=IFERROR(MATCH(H$1&$A261,Périmétre!$A$16:$A$544&Périmétre!$C$16:$C$544,0),"")} -> 359 | I261: {=IFERROR(MATCH(I$1&$A261,Périmétre!$A$16:$A$544&Périmétre!$C$16:$C$544,0),"")} -> 42
A262: MTIR8TA6V | B262: {=IFERROR(MATCH(B$1&$A262,Périmétre!$A$16:$A$544&Périmétre!$C$16:$C$544,0),"")} | C262: {=IFERROR(MATCH(C$1&$A262,Périmétre!$A$16:$A$544&Périmétre!$C$16:$C$544,0),"")} | D262: {=IFERROR(MATCH(D$1&$A262,Périmétre!$A$16:$A$544&Périmétre!$C$16:$C$544,0),"")} -> 409 | E262: {=IFERROR(MATCH(E$1&$A262,Périmétre!$A$16:$A$544&Périmétre!$C$16:$C$544,0),"")} -> 509 | F262: {=IFERROR(MATCH(F$1&$A262,Périmétre!$A$16:$A$544&Périmétre!$C$16:$C$544,0),"")} | G262: {=IFERROR(MATCH(G$1&$A262,Périmétre!$A$16:$A$544&Périmétre!$C$16:$C$544,0),"")} -> 261 | H262: {=IFERROR(MATCH(H$1&$A262,Périmétre!$A$16:$A$544&Périmétre!$C$16:$C$544,0),"")} -> 361 | I262: {=IFERROR(MATCH(I$1&$A262,Périmétre!$A$16:$A$544&Périmétre!$C$16:$C$544,0),"")} -> 34
A263: 0633911_EMB | B263: {=IFERROR(MATCH(B$1&$A263,Périmétre!$A$16:$A$544&Périmétre!$C$16:$C$544,0),"")} -> 47 | C263: {=IFERROR(MATCH(C$1&$A263,Périmétre!$A$16:$A$544&Périmétre!$C$16:$C$544,0),"")} -> 147 | D263: {=IFERROR(MATCH(D$1&$A263,Périmétre!$A$16:$A$544&Périmétre!$C$16:$C$544,0),"")} -> 362 | E263: {=IFERROR(MATCH(E$1&$A263,Périmétre!$A$16:$A$544&Périmétre!$C$16:$C$544,0),"")} -> 410 | F263: {=IFERROR(MATCH(F$1&$A263,Périmétre!$A$16:$A$544&Périmétre!$C$16:$C$544,0),"")} -> 510 | G263: {=IFERROR(MATCH(G$1&$A263,Périmétre!$A$16:$A$544&Périmétre!$C$16:$C$544,0),"")} -> 213 | H263: {=IFERROR(MATCH(H$1&$A263,Périmétre!$A$16:$A$544&Périmétre!$C$16:$C$544,0),"")} -> 262 | I263: {=IFERROR(MATCH(I$1&$A263,Périmétre!$A$16:$A$544&Périmétre!$C$16:$C$544,0),"")} -> 1
A264: 063FT20-X | B264: {=IFERROR(MATCH(B$1&$A264,Périmétre!$A$16:$A$544&Périmétre!$C$16:$C$544,0),"")} -> 48 | C264: {=IFERROR(MATCH(C$1&$A264,Périmétre!$A$16:$A$544&Périmétre!$C$16:$C$544,0),"")} | D264: {=IFERROR(MATCH(D$1&$A264,Périmétre!$A$16:$A$544&Périmétre!$C$16:$C$544,0),"")} | E264: {=IFERROR(MATCH(E$1&$A264,Périmétre!$A$16:$A$544&Périmétre!$C$16:$C$544,0),"")} -> 411 | F264: {=IFERROR(MATCH(F$1&$A264,Périmétre!$A$16:$A$544&Périmétre!$C$16:$C$544,0),"")} | G264: {=IFERROR(MATCH(G$1&$A264,Périmétre!$A$16:$A$544&Périmétre!$C$16:$C$544,0),"")} | H264: {=IFERROR(MATCH(H$1&$A264,Périmétre!$A$16:$A$544&Périmétre!$C$16:$C$544,0),"")} -> 263 | I264: {=IFERROR(MATCH(I$1&$A264,Périmétre!$A$16:$A$544&Périmétre!$C$16:$C$544,0),"")}
... A344: 063OPTA52180A | B344: {=IFERROR(MATCH(B$1&$A344,Périmétre!$A$16:$A$544&Périmétre!$C$16:$C$544,0),"")} | C344: {=IFERROR(MATCH(C$1&$A344,Périmétre!$A$16:$A$544&Périmétre!$C$16:$C$544,0),"")} | D344: {=IFERROR(MATCH(D$1&$A344,Périmétre!$A$16:$A$544&Périmétre!$C$16:$C$544,0),"")} | E344: {=IFERROR(MATCH(E$1&$A344,Périmétre!$A$16:$A$544&Périmétre!$C$16:$C$544,0),"")} -> 490 | F344: {=IFERROR(MATCH(F$1&$A344,Périmétre!$A$16:$A$544&Périmétre!$C$16:$C$544,0),"")} | G344: {=IFERROR(MATCH(G$1&$A344,Périmétre!$A$16:$A$544&Périmétre!$C$16:$C$544,0),"")} | H344: {=IFERROR(MATCH(H$1&$A344,Périmétre!$A$16:$A$544&Périmétre!$C$16:$C$544,0),"")} -> 343 | I344: {=IFERROR(MATCH(I$1&$A344,Périmétre!$A$16:$A$544&Périmétre!$C$16:$C$544,0),"")}
A345: 16315131 | B345: {=IFERROR(MATCH(B$1&$A345,Périmétre!$A$16:$A$544&Périmétre!$C$16:$C$544,0),"")} -> 108 | C345: {=IFERROR(MATCH(C$1&$A345,Périmétre!$A$16:$A$544&Périmétre!$C$16:$C$544,0),"")} | D345: {=IFERROR(MATCH(D$1&$A345,Périmétre!$A$16:$A$544&Périmétre!$C$16:$C$544,0),"")} | E345: {=IFERROR(MATCH(E$1&$A345,Périmétre!$A$16:$A$544&Périmétre!$C$16:$C$544,0),"")} -> 491 | F345: {=IFERROR(MATCH(F$1&$A345,Périmétre!$A$16:$A$544&Périmétre!$C$16:$C$544,0),"")} | G345: {=IFERROR(MATCH(G$1&$A345,Périmétre!$A$16:$A$544&Périmétre!$C$16:$C$544,0),"")} | H345: {=IFERROR(MATCH(H$1&$A345,Périmétre!$A$16:$A$544&Périmétre!$C$16:$C$544,0),"")} -> 344 | I345: {=IFERROR(MATCH(I$1&$A345,Périmétre!$A$16:$A$544&Périmétre!$C$16:$C$544,0),"")}
A346: 1631522 | B346: {=IFERROR(MATCH(B$1&$A346,Périmétre!$A$16:$A$544&Périmétre!$C$16:$C$544,0),"")} -> 109 | C346: {=IFERROR(MATCH(C$1&$A346,Périmétre!$A$16:$A$544&Périmétre!$C$16:$C$544,0),"")} | D346: {=IFERROR(MATCH(D$1&$A346,Périmétre!$A$16:$A$544&Périmétre!$C$16:$C$544,0),"")} -> 399 | E346: {=IFERROR(MATCH(E$1&$A346,Périmétre!$A$16:$A$544&Périmétre!$C$16:$C$544,0),"")} -> 492 | F346: {=IFERROR(MATCH(F$1&$A346,Périmétre!$A$16:$A$544&Périmétre!$C$16:$C$544,0),"")} | G346: {=IFERROR(MATCH(G$1&$A346,Périmétre!$A$16:$A$544&Périmétre!$C$16:$C$544,0),"")} -> 251 | H346: {=IFERROR(MATCH(H$1&$A346,Périmétre!$A$16:$A$544&Périmétre!$C$16:$C$544,0),"")} -> 345 | I346: {=IFERROR(MATCH(I$1&$A346,Périmétre!$A$16:$A$544&Périmétre!$C$16:$C$544,0),"")} -> 31
A347: 1633046_EMB | B347: {=IFERROR(MATCH(B$1&$A347,Périmétre!$A$16:$A$544&Périmétre!$C$16:$C$544,0),"")} -> 110 | C347: {=IFERROR(MATCH(C$1&$A347,Périmétre!$A$16:$A$544&Périmétre!$C$16:$C$544,0),"")} -> 207 | D347: {=IFERROR(MATCH(D$1&$A347,Périmétre!$A$16:$A$544&Périmétre!$C$16:$C$544,0),"")} -> 400 | E347: {=IFERROR(MATCH(E$1&$A347,Périmétre!$A$16:$A$544&Périmétre!$C$16:$C$544,0),"")} -> 493 | F347: {=IFERROR(MATCH(F$1&$A347,Périmétre!$A$16:$A$544&Périmétre!$C$16:$C$544,0),"")} -> 528 | G347: {=IFERROR(MATCH(G$1&$A347,Périmétre!$A$16:$A$544&Périmétre!$C$16:$C$544,0),"")} -> 252 | H347: {=IFERROR(MATCH(H$1&$A347,Périmétre!$A$16:$A$544&Périmétre!$C$16:$C$544,0),"")} -> 346 | I347: {=IFERROR(MATCH(I$1&$A347,Périmétre!$A$16:$A$544&Périmétre!$C$16:$C$544,0),"")} -> 2
A348: 1633381_EMB | B348: {=IFERROR(MATCH(B$1&$A348,Périmétre!$A$16:$A$544&Périmétre!$C$16:$C$544,0),"")} -> 111 | C348: {=IFERROR(MATCH(C$1&$A348,Périmétre!$A$16:$A$544&Périmétre!$C$16:$C$544,0),"")} -> 208 | D348: {=IFERROR(MATCH(D$1&$A348,Périmétre!$A$16:$A$544&Périmétre!$C$16:$C$544,0),"")} -> 401 | E348: {=IFERROR(MATCH(E$1&$A348,Périmétre!$A$16:$A$544&Périmétre!$C$16:$C$544,0),"")} -> 494 | F348: {=IFERROR(MATCH(F$1&$A348,Périmétre!$A$16:$A$544&Périmétre!$C$16:$C$544,0),"")} -> 529 | G348: {=IFERROR(MATCH(G$1&$A348,Périmétre!$A$16:$A$544&Périmétre!$C$16:$C$544,0),"")} -> 253 | H348: {=IFERROR(MATCH(H$1&$A348,Périmétre!$A$16:$A$544&Périmétre!$C$16:$C$544,0),"")} -> 347 | I348: {=IFERROR(MATCH(I$1&$A348,Périmétre!$A$16:$A$544&Périmétre!$C$16:$C$544,0),"")} -> 3
A349: MINR10316LK | B349: {=IFERROR(MATCH(B$1&$A349,Périmétre!$A$16:$A$544&Périmétre!$C$16:$C$544,0),"")} | C349: {=IFERROR(MATCH(C$1&$A349,Périmétre!$A$16:$A$544&Périmétre!$C$16:$C$544,0),"")} | D349: {=IFERROR(MATCH(D$1&$A349,Périmétre!$A$16:$A$544&Périmétre!$C$16:$C$544,0),"")} -> 403 | E349: {=IFERROR(MATCH(E$1&$A349,Périmétre!$A$16:$A$544&Périmétre!$C$16:$C$544,0),"")} -> 495 | F349: {=IFERROR(MATCH(F$1&$A349,Périmétre!$A$16:$A$544&Périmétre!$C$16:$C$544,0),"")} | G349: {=IFERROR(MATCH(G$1&$A349,Périmétre!$A$16:$A$544&Périmétre!$C$16:$C$544,0),"")} -> 255 | H349: {=IFERROR(MATCH(H$1&$A349,Périmétre!$A$16:$A$544&Périmétre!$C$16:$C$544,0),"")} -> 348 | I349: {=IFERROR(MATCH(I$1&$A349,Périmétre!$A$16:$A$544&Périmétre!$C$16:$C$544,0),"")} -> 44
A350: MINR14440B | B350: {=IFERROR(MATCH(B$1&$A350,Périmétre!$A$16:$A$544&Périmétre!$C$16:$C$544,0),"")} | C350: {=IFERROR(MATCH(C$1&$A350,Périmétre!$A$16:$A$544&Périmétre!$C$16:$C$544,0),"")} | D350: {=IFERROR(MATCH(D$1&$A350,Périmétre!$A$16:$A$544&Périmétre!$C$16:$C$544,0),"")} | E350: {=IFERROR(MATCH(E$1&$A350,Périmétre!$A$16:$A$544&Périmétre!$C$16:$C$544,0),"")} -> 496 | F350: {=IFERROR(MATCH(F$1&$A350,Périmétre!$A$16:$A$544&Périmétre!$C$16:$C$544,0),"")} | G350: {=IFERROR(MATCH(G$1&$A350,Périmétre!$A$16:$A$544&Périmétre!$C$16:$C$544,0),"")} | H350: {=IFERROR(MATCH(H$1&$A350,Périmétre!$A$16:$A$544&Périmétre!$C$16:$C$544,0),"")} -> 349 | I350: {=IFERROR(MATCH(I$1&$A350,Périmétre!$A$16:$A$544&Périmétre!$C$16:$C$544,0),"")}
...
