Workbook

Sheet meilleurs pronostics
A2: pour l'arrivée position : | B2: 1 | C2: 2 | D2: 3 | E2: 4 | F2: 5
A3: prendre pronostic de : | B3: =INDIRECT("'"&B2&"'!J2") -> Nabila | C3: =INDIRECT("'"&C2&"'!J2") -> Frank | D3: =INDIRECT("'"&D2&"'!J2") -> Mac-Andrée | E3: =INDIRECT("'"&E2&"'!J2") -> Julie | F3: =INDIRECT("'"&F2&"'!J2") -> Philippe
A4: en position : | B4: =INDIRECT("'"&B2&"'!J3") -> 1 | C4: =INDIRECT("'"&C2&"'!J3") -> 6 | D4: =INDIRECT("'"&D2&"'!J3") -> 2 | E4: =INDIRECT("'"&E2&"'!J3") -> 8 | F4: =INDIRECT("'"&F2&"'!J3") -> 1

Sheet resultats
A2: Course 1 | K2: Course 2 | U2: Course 3
A3: Arrivée | B3: 4 | C3: 14 | D3: 5 | E3: 8 | F3: 11 | K3: Arrivée | L3: 7 | M3: 17 | N3: 6 | O3: 1 | P3: 10 | U3: Arrivée | V3: 10 | W3: 7 | X3: 13 | Y3: 12 | Z3: 16
A4: Pronostics | K4: Pronostics | U4: Pronostics
A5: Pierre | B5: 4 | C5: 2 | D5: 5 | E5: 8 | F5: 3 | G5: 7 | H5: 1 | I5: 9 | K5: {=$A$5:$A$35} -> Pierre | L5: 6 | M5: 3 | N5: 5 | O5: 7 | P5: 2 | Q5: 9 | R5: 1 | S5: 10 | U5: {=$A$5:$A$35} -> Pierre | V5: 11 | W5: 8 | X5: 2 | Y5: 1 | Z5: 6 | AA5: 5 | AB5: 10 | AC5: 3 | AE5: {=$A$5:$A$35} -> Pierre | AO5: {=$A$5:$A$35} -> Pierre | AY5: {=$A$5:$A$35} -> Pierre | BI5: {=$A$5:$A$35} -> Pierre | BS5: {=$A$5:$A$35} -> Pierre | CC5: {=$A$5:$A$35} -> Pierre | CM5: {=$A$5:$A$35} -> Pierre
A6: Paul | B6: 4 | C6: 2 | D6: 14 | E6: 8 | F6: 11 | G6: 5 | H6: 9 | I6: 6 | K6: Paul | L6: 2 | M6: 6 | N6: 9 | O6: 10 | P6: 4 | Q6: 7 | R6: 12 | S6: 15 | U6: Paul | V6: 1 | W6: 5 | X6: 3 | Y6: 8 | Z6: 2 | AA6: 9 | AB6: 6 | AC6: 11 | AE6: Paul | AO6: Paul | AY6: Paul | BI6: Paul | BS6: Paul | CC6: Paul | CM6: Paul
A7: Jacques | B7: 5 | C7: 8 | D7: 2 | E7: 16 | F7: 7 | G7: 4 | H7: 9 | I7: 10 | K7: Jacques | L7: 8 | M7: 13 | N7: 6 | O7: 14 | P7: 2 | Q7: 5 | R7: 11 | S7: 17 | U7: Jacques | V7: 1 | W7: 2 | X7: 11 | Y7: 8 | Z7: 6 | AA7: 5 | AB7: 10 | AC7: 3 | AE7: Jacques | AO7: Jacques | AY7: Jacques | BI7: Jacques | BS7: Jacques | CC7: Jacques | CM7: Jacques
A8: Daniel | B8: 2 | C8: 4 | D8: 14 | E8: 9 | F8: 8 | G8: 10 | H8: 11 | I8: 7 | K8: Daniel | L8: 5 | M8: 2 | N8: 3 | O8: 10 | P8: 11 | Q8: 1 | R8: 9 | S8: 14 | U8: Daniel | V8: 2 | W8: 6 | X8: 11 | Y8: 8 | Z8: 4 | AA8: 13 | AB8: 1 | AC8: 15 | AE8: Daniel | AO8: Daniel | AY8: Daniel | BI8: Daniel | BS8: Daniel | CC8: Daniel | CM8: Daniel
A9: Louis | B9: 2 | C9: 9 | D9: 14 | E9: 8 | F9: 4 | G9: 11 | H9: 10 | I9: 5 | K9: Louis | L9: 2 | M9: 7 | N9: 11 | O9: 9 | P9: 13 | Q9: 6 | R9: 5 | S9: 10 | U9: Louis | V9: 2 | W9: 8 | X9: 4 | Y9: 3 | Z9: 11 | AA9: 9 | AB9: 6 | AC9: 1 | AE9: Louis | AO9: Louis | AY9: Louis | BI9: Louis | BS9: Louis | CC9: Louis | CM9: Louis
A10: Philippe | B10: 4 | C10: 2 | D10: 5 | E10: 7 | F10: 11 | G10: 1 | H10: 14 | I10: 10 | K10: Philippe | L10: 10 | M10: 5 | N10: 6 | O10: 14 | P10: 2 | Q10: 4 | R10: 11 | S10: 12 | U10: Philippe | V10: 8 | W10: 2 | X10: 6 | Y10: 15 | Z10: 10 | AA10: 5 | AB10: 4 | AC10: 3 | AE10: Philippe | AO10: Philippe | AY10: Philippe | BI10: Philippe | BS10: Philippe | CC10: Philippe | CM10: Philippe
A11: Olivier | B11: 4 | C11: 5 | D11: 7 | E11: 9 | F11: 2 | G11: 11 | H11: 3 | I11: 14 | K11: Olivier | L11: 10 | M11: 5 | N11: 6 | O11: 14 | P11: 2 | Q11: 4 | R11: 11 | S11: 12 | U11: Olivier | V11: 6 | W11: 8 | X11: 10 | Y11: 1 | Z11: 12 | AA11: 7 | AB11: 2 | AC11: 5 | AE11: Olivier | AO11: Olivier | AY11: Olivier | BI11: Olivier | BS11: Olivier | CC11: Olivier | CM11: Olivier
A12: Jospeh | B12: 9 | C12: 4 | D12: 8 | E12: 2 | F12: 10 | G12: 6 | H12: 11 | I12: 1 | K12: Jospeh | L12: 2 | M12: 6 | N12: 10 | O12: 7 | P12: 3 | Q12: 5 | R12: 1 | S12: 11 | U12: Jospeh | V12: 8 | W12: 5 | X12: 9 | Y12: 6 | Z12: 15 | AA12: 7 | AB12: 11 | AC12: 13 | AE12: Jospeh | AO12: Jospeh | AY12: Jospeh | BI12: Jospeh | BS12: Jospeh | CC12: Jospeh | CM12: Jospeh
A13: Nabila | B13: 4 | C13: 2 | D13: 8 | E13: 5 | F13: 14 | G13: 1 | H13: 9 | I13: 10 | K13: Nabila | L13: 7 | M13: 10 | N13: 11 | O13: 12 | P13: 2 | Q13: 13 | R13: 9 | S13: 17 | U13: Nabila | V13: 2 | W13: 5 | X13: 9 | Y13: 8 | Z13: 1 | AA13: 4 | AB13: 10 | AC13: 3 | AE13: Nabila | AO13: Nabila | AY13: Nabila | BI13: Nabila | BS13: Nabila | CC13: Nabila | CM13: Nabila
A14: Abdel | B14: 8 | C14: 4 | D14: 10 | E14: 2 | F14: 14 | G14: 9 | H14: 11 | I14: 5 | K14: Abdel | L14: 2 | M14: 6 | N14: 10 | O14: 9 | P14: 13 | Q14: 15 | R14: 11 | S14: 5 | U14: Abdel | V14: 6 | W14: 8 | X14: 10 | Y14: 1 | Z14: 2 | AA14: 12 | AB14: 7 | AC14: 5 | AE14: Abdel | AO14: Abdel | AY14: Abdel | BI14: Abdel | BS14: Abdel | CC14: Abdel | CM14: Abdel
A15: Julie | B15: 10 | C15: 11 | D15: 13 | E15: 4 | F15: 9 | G15: 2 | H15: 14 | I15: 8 | K15: Julie | L15: 2 | M15: 7 | N15: 5 | O15: 9 | P15: 4 | Q15: 10 | R15: 3 | S15: 1 | U15: Julie | V15: 8 | W15: 2 | X15: 6 | Y15: 15 | Z15: 3 | AA15: 4 | AB15: 5 | AC15: 10 | AE15: Julie | AO15: Julie | AY15: Julie | BI15: Julie | BS15: Julie | CC15: Julie | CM15: Julie
A16: Loick | B16: 4 | C16: 8 | D16: 2 | E16: 10 | F16: 9 | G16: 14 | H16: 5 | I16: 11 | K16: Loick | L16: 5 | M16: 7 | N16: 2 | O16: 3 | P16: 17 | Q16: 6 | R16: 9 | S16: 1 | U16: Loick | V16: 6 | W16: 5 | X16: 8 | Y16: 2 | Z16: 11 | AA16: 1 | AB16: 10 | AC16: 3 | AE16: Loick | AO16: Loick | AY16: Loick | BI16: Loick | BS16: Loick | CC16: Loick | CM16: Loick
A17: Mac-Andrée | B17: 2 | C17: 4 | D17: 9 | E17: 8 | F17: 10 | G17: 14 | H17: 5 | I17: 11 | K17: Mac-Andrée | L17: 2 | M17: 6 | N17: 7 | O17: 3 | P17: 11 | Q17: 10 | R17: 9 | S17: 12 | U17: Mac-Andrée | V17: 11 | W17: 13 | X17: 2 | Y17: 6 | Z17: 15 | AA17: 1 | AB17: 4 | AC17: 8 | AE17: Mac-Andrée | AO17: Mac-Andrée | AY17: Mac-Andrée | BI17: Mac-Andrée | BS17: Mac-Andrée | CC17: Mac-Andrée | CM17: Mac-Andrée
... A35: Alfred | B35: 2 | C35: 4 | D35: 9 | E35: 10 | F35: 7 | G35: 8 | H35: 15 | I35: 12 | K35: Alfred | L35: 2 | M35: 5 | N35: 7 | O35: 13 | P35: 3 | Q35: 17 | R35: 1 | S35: 12 | U35: Alfred | V35: 5 | W35: 8 | X35: 3 | Y35: 2 | Z35: 9 | AA35: 6 | AB35: 7 | AC35: 4 | AE35: Alfred | AO35: Alfred | AY35: Alfred | BI35: Alfred | BS35: Alfred | CC35: Alfred | CM35: Alfred
A40: position (ce rappel des valeurs est fait pour "simplifier" les calculs matriciels) :
A41: 1 | B41: =OFFSET(resultats!$A$3,,INT(COLUMN()/10)*10+$A41) -> 4 | C41: =OFFSET(resultats!$A$3,,INT(COLUMN()/10)*10+$A41) -> 4 | D41: =OFFSET(resultats!$A$3,,INT(COLUMN()/10)*10+$A41) -> 4 | E41: =OFFSET(resultats!$A$3,,INT(COLUMN()/10)*10+$A41) -> 4 | F41: =OFFSET(resultats!$A$3,,INT(COLUMN()/10)*10+$A41) -> 4 | G41: =OFFSET(resultats!$A$3,,INT(COLUMN()/10)*10+$A41) -> 4 | H41: =OFFSET(resultats!$A$3,,INT(COLUMN()/10)*10+$A41) -> 4 | I41: =OFFSET(resultats!$A$3,,INT(COLUMN()/10)*10+$A41) -> 4 | L41: =OFFSET(resultats!$A$3,,INT(COLUMN()/10)*10+$A41) -> 7 | M41: =OFFSET(resultats!$A$3,,INT(COLUMN()/10)*10+$A41) -> 7 | N41: =OFFSET(resultats!$A$3,,INT(COLUMN()/10)*10+$A41) -> 7 | O41: =OFFSET(resultats!$A$3,,INT(COLUMN()/10)*10+$A41) -> 7 | P41: =OFFSET(resultats!$A$3,,INT(COLUMN()/10)*10+$A41) -> 7 | Q41: =OFFSET(resultats!$A$3,,INT(COLUMN()/10)*10+$A41) -> 7 | R41: =OFFSET(resultats!$A$3,,INT(COLUMN()/10)*10+$A41) -> 7 | S41: =OFFSET(resultats!$A$3,,INT(COLUMN()/10)*10+$A41) -> 7 | V41: =OFFSET(resultats!$A$3,,INT(COLUMN()/10)*10+$A41) -> 10 | W41: =OFFSET(resultats!$A$3,,INT(COLUMN()/10)*10+$A41) -> 10 | X41: =OFFSET(resultats!$A$3,,INT(COLUMN()/10)*10+$A41) -> 10 | Y41: =OFFSET(resultats!$A$3,,INT(COLUMN()/10)*10+$A41) -> 10 | Z41: =OFFSET(resultats!$A$3,,INT(COLUMN()/10)*10+$A41) -> 10 | AA41: =OFFSET(resultats!$A$3,,INT(COLUMN()/10)*10+$A41) -> 10 | AB41: =OFFSET(resultats!$A$3,,INT(COLUMN()/10)*10+$A41) -> 10 | AC41: =OFFSET(resultats!$A$3,,INT(COLUMN()/10)*10+$A41) -> 10 | AF41: =OFFSET(resultats!$A$3,,INT(COLUMN()/10)*10+$A41) -> 0 | AG41: =OFFSET(resultats!$A$3,,INT(COLUMN()/10)*10+$A41) -> 0 | AH41: =OFFSET(resultats!$A$3,,INT(COLUMN()/10)*10+$A41) -> 0 | AI41: =OFFSET(resultats!$A$3,,INT(COLUMN()/10)*10+$A41) -> 0 | AJ41: =OFFSET(resultats!$A$3,,INT(COLUMN()/10)*10+$A41) -> 0 | AK41: =OFFSET(resultats!$A$3,,INT(COLUMN()/10)*10+$A41) -> 0 | AL41: =OFFSET(resultats!$A$3,,INT(COLUMN()/10)*10+$A41) -> 0 | AM41: =OFFSET(resultats!$A$3,,INT(COLUMN()/10)*10+$A41) -> 0 | AP41: =OFFSET(resultats!$A$3,,INT(COLUMN()/10)*10+$A41) -> 0 | AQ41: =OFFSET(resultats!$A$3,,INT(COLUMN()/10)*10+$A41) -> 0 | AR41: =OFFSET(resultats!$A$3,,INT(COLUMN()/10)*10+$A41) -> 0 | AS41: =OFFSET(resultats!$A$3,,INT(COLUMN()/10)*10+$A41) -> 0 | AT41: =OFFSET(resultats!$A$3,,INT(COLUMN()/10)*10+$A41) -> 0 | AU41: =OFFSET(resultats!$A$3,,INT(COLUMN()/10)*10+$A41) -> 0 | AV41: =OFFSET(resultats!$A$3,,INT(COLUMN()/10)*10+$A41) -> 0 | AW41: =OFFSET(resultats!$A$3,,INT(COLUMN()/10)*10+$A41) -> 0 | AZ41: =OFFSET(resultats!$A$3,,INT(COLUMN()/10)*10+$A41) -> 0 | BA41: =OFFSET(resultats!$A$3,,INT(COLUMN()/10)*10+$A41) -> 0 | BB41: =OFFSET(resultats!$A$3,,INT(COLUMN()/10)*10+$A41) -> 0 | BC41: =OFFSET(resultats!$A$3,,INT(COLUMN()/10)*10+$A41) -> 0 | BD41: =OFFSET(resultats!$A$3,,INT(COLUMN()/10)*10+$A41) -> 0 | BE41: =OFFSET(resultats!$A$3,,INT(COLUMN()/10)*10+$A41) -> 0 | BF41: =OFFSET(resultats!$A$3,,INT(COLUMN()/10)*10+$A41) -> 0 | BG41: =OFFSET(resultats!$A$3,,INT(COLUMN()/10)*10+$A41) -> 0 | BJ41: =OFFSET(resultats!$A$3,,INT(COLUMN()/10)*10+$A41) -> 0 | BK41: =OFFSET(resultats!$A$3,,INT(COLUMN()/10)*10+$A41) -> 0 | BL41: =OFFSET(resultats!$A$3,,INT(COLUMN()/10)*10+$A41) -> 0 | BM41: =OFFSET(resultats!$A$3,,INT(COLUMN()/10)*10+$A41) -> 0 | BN41: =OFFSET(resultats!$A$3,,INT(COLUMN()/10)*10+$A41) -> 0 | BO41: =OFFSET(resultats!$A$3,,INT(COLUMN()/10)*10+$A41) -> 0 | BP41: =OFFSET(resultats!$A$3,,INT(COLUMN()/10)*10+$A41) -> 0 | BQ41: =OFFSET(resultats!$A$3,,INT(COLUMN()/10)*10+$A41) -> 0 | BT41: =OFFSET(resultats!$A$3,,INT(COLUMN()/10)*10+$A41) -> 0 | BU41: =OFFSET(resultats!$A$3,,INT(COLUMN()/10)*10+$A41) -> 0 | BV41: =OFFSET(resultats!$A$3,,INT(COLUMN()/10)*10+$A41) -> 0 | BW41: =OFFSET(resultats!$A$3,,INT(COLUMN()/10)*10+$A41) -> 0 | BX41: =OFFSET(resultats!$A$3,,INT(COLUMN()/10)*10+$A41) -> 0 | BY41: =OFFSET(resultats!$A$3,,INT(COLUMN()/10)*10+$A41) -> 0 | BZ41: =OFFSET(resultats!$A$3,,INT(COLUMN()/10)*10+$A41) -> 0 | CA41: =OFFSET(resultats!$A$3,,INT(COLUMN()/10)*10+$A41) -> 0 | CD41: =OFFSET(resultats!$A$3,,INT(COLUMN()/10)*10+$A41) -> 0 | CE41: =OFFSET(resultats!$A$3,,INT(COLUMN()/10)*10+$A41) -> 0 | CF41: =OFFSET(resultats!$A$3,,INT(COLUMN()/10)*10+$A41) -> 0 | CG41: =OFFSET(resultats!$A$3,,INT(COLUMN()/10)*10+$A41) -> 0 | CH41: =OFFSET(resultats!$A$3,,INT(COLUMN()/10)*10+$A41) -> 0 | CI41: =OFFSET(resultats!$A$3,,INT(COLUMN()/10)*10+$A41) -> 0 | CJ41: =OFFSET(resultats!$A$3,,INT(COLUMN()/10)*10+$A41) -> 0 | CK41: =OFFSET(resultats!$A$3,,INT(COLUMN()/10)*10+$A41) -> 0 | CN41: =OFFSET(resultats!$A$3,,INT(COLUMN()/10)*10+$A41) -> 0 | CO41: =OFFSET(resultats!$A$3,,INT(COLUMN()/10)*10+$A41) -> 0 | CP41: =OFFSET(resultats!$A$3,,INT(COLUMN()/10)*10+$A41) -> 0 | CQ41: =OFFSET(resultats!$A$3,,INT(COLUMN()/10)*10+$A41) -> 0 | CR41: =OFFSET(resultats!$A$3,,INT(COLUMN()/10)*10+$A41) -> 0 | CS41: =OFFSET(resultats!$A$3,,INT(COLUMN()/10)*10+$A41) -> 0 | CT41: =OFFSET(resultats!$A$3,,INT(COLUMN()/10)*10+$A41) -> 0 | CU41: =OFFSET(resultats!$A$3,,INT(COLUMN()/10)*10+$A41) -> 0
A42: 2 | B42: =OFFSET(resultats!$A$3,,INT(COLUMN()/10)*10+$A42) -> 14 | C42: =OFFSET(resultats!$A$3,,INT(COLUMN()/10)*10+$A42) -> 14 | D42: =OFFSET(resultats!$A$3,,INT(COLUMN()/10)*10+$A42) -> 14 | E42: =OFFSET(resultats!$A$3,,INT(COLUMN()/10)*10+$A42) -> 14 | F42: =OFFSET(resultats!$A$3,,INT(COLUMN()/10)*10+$A42) -> 14 | G42: =OFFSET(resultats!$A$3,,INT(COLUMN()/10)*10+$A42) -> 14 | H42: =OFFSET(resultats!$A$3,,INT(COLUMN()/10)*10+$A42) -> 14 | I42: =OFFSET(resultats!$A$3,,INT(COLUMN()/10)*10+$A42) -> 14 | L42: =OFFSET(resultats!$A$3,,INT(COLUMN()/10)*10+$A42) -> 17 | M42: =OFFSET(resultats!$A$3,,INT(COLUMN()/10)*10+$A42) -> 17 | N42: =OFFSET(resultats!$A$3,,INT(COLUMN()/10)*10+$A42) -> 17 | O42: =OFFSET(resultats!$A$3,,INT(COLUMN()/10)*10+$A42) -> 17 | P42: =OFFSET(resultats!$A$3,,INT(COLUMN()/10)*10+$A42) -> 17 | Q42: =OFFSET(resultats!$A$3,,INT(COLUMN()/10)*10+$A42) -> 17 | R42: =OFFSET(resultats!$A$3,,INT(COLUMN()/10)*10+$A42) -> 17 | S42: =OFFSET(resultats!$A$3,,INT(COLUMN()/10)*10+$A42) -> 17 | V42: =OFFSET(resultats!$A$3,,INT(COLUMN()/10)*10+$A42) -> 7 | W42: =OFFSET(resultats!$A$3,,INT(COLUMN()/10)*10+$A42) -> 7 | X42: =OFFSET(resultats!$A$3,,INT(COLUMN()/10)*10+$A42) -> 7 | Y42: =OFFSET(resultats!$A$3,,INT(COLUMN()/10)*10+$A42) -> 7 | Z42: =OFFSET(resultats!$A$3,,INT(COLUMN()/10)*10+$A42) -> 7 | AA42: =OFFSET(resultats!$A$3,,INT(COLUMN()/10)*10+$A42) -> 7 | AB42: =OFFSET(resultats!$A$3,,INT(COLUMN()/10)*10+$A42) -> 7 | AC42: =OFFSET(resultats!$A$3,,INT(COLUMN()/10)*10+$A42) -> 7 | AF42: =OFFSET(resultats!$A$3,,INT(COLUMN()/10)*10+$A42) -> 0 | AG42: =OFFSET(resultats!$A$3,,INT(COLUMN()/10)*10+$A42) -> 0 | AH42: =OFFSET(resultats!$A$3,,INT(COLUMN()/10)*10+$A42) -> 0 | AI42: =OFFSET(resultats!$A$3,,INT(COLUMN()/10)*10+$A42) -> 0 | AJ42: =OFFSET(resultats!$A$3,,INT(COLUMN()/10)*10+$A42) -> 0 | AK42: =OFFSET(resultats!$A$3,,INT(COLUMN()/10)*10+$A42) -> 0 | AL42: =OFFSET(resultats!$A$3,,INT(COLUMN()/10)*10+$A42) -> 0 | AM42: =OFFSET(resultats!$A$3,,INT(COLUMN()/10)*10+$A42) -> 0 | AP42: =OFFSET(resultats!$A$3,,INT(COLUMN()/10)*10+$A42) -> 0 | AQ42: =OFFSET(resultats!$A$3,,INT(COLUMN()/10)*10+$A42) -> 0 | AR42: =OFFSET(resultats!$A$3,,INT(COLUMN()/10)*10+$A42) -> 0 | AS42: =OFFSET(resultats!$A$3,,INT(COLUMN()/10)*10+$A42) -> 0 | AT42: =OFFSET(resultats!$A$3,,INT(COLUMN()/10)*10+$A42) -> 0 | AU42: =OFFSET(resultats!$A$3,,INT(COLUMN()/10)*10+$A42) -> 0 | AV42: =OFFSET(resultats!$A$3,,INT(COLUMN()/10)*10+$A42) -> 0 | AW42: =OFFSET(resultats!$A$3,,INT(COLUMN()/10)*10+$A42) -> 0 | AZ42: =OFFSET(resultats!$A$3,,INT(COLUMN()/10)*10+$A42) -> 0 | BA42: =OFFSET(resultats!$A$3,,INT(COLUMN()/10)*10+$A42) -> 0 | BB42: =OFFSET(resultats!$A$3,,INT(COLUMN()/10)*10+$A42) -> 0 | BC42: =OFFSET(resultats!$A$3,,INT(COLUMN()/10)*10+$A42) -> 0 | BD42: =OFFSET(resultats!$A$3,,INT(COLUMN()/10)*10+$A42) -> 0 | BE42: =OFFSET(resultats!$A$3,,INT(COLUMN()/10)*10+$A42) -> 0 | BF42: =OFFSET(resultats!$A$3,,INT(COLUMN()/10)*10+$A42) -> 0 | BG42: =OFFSET(resultats!$A$3,,INT(COLUMN()/10)*10+$A42) -> 0 | BJ42: =OFFSET(resultats!$A$3,,INT(COLUMN()/10)*10+$A42) -> 0 | BK42: =OFFSET(resultats!$A$3,,INT(COLUMN()/10)*10+$A42) -> 0 | BL42: =OFFSET(resultats!$A$3,,INT(COLUMN()/10)*10+$A42) -> 0 | BM42: =OFFSET(resultats!$A$3,,INT(COLUMN()/10)*10+$A42) -> 0 | BN42: =OFFSET(resultats!$A$3,,INT(COLUMN()/10)*10+$A42) -> 0 | BO42: =OFFSET(resultats!$A$3,,INT(COLUMN()/10)*10+$A42) -> 0 | BP42: =OFFSET(resultats!$A$3,,INT(COLUMN()/10)*10+$A42) -> 0 | BQ42: =OFFSET(resultats!$A$3,,INT(COLUMN()/10)*10+$A42) -> 0 | BT42: =OFFSET(resultats!$A$3,,INT(COLUMN()/10)*10+$A42) -> 0 | BU42: =OFFSET(resultats!$A$3,,INT(COLUMN()/10)*10+$A42) -> 0 | BV42: =OFFSET(resultats!$A$3,,INT(COLUMN()/10)*10+$A42) -> 0 | BW42: =OFFSET(resultats!$A$3,,INT(COLUMN()/10)*10+$A42) -> 0 | BX42: =OFFSET(resultats!$A$3,,INT(COLUMN()/10)*10+$A42) -> 0 | BY42: =OFFSET(resultats!$A$3,,INT(COLUMN()/10)*10+$A42) -> 0 | BZ42: =OFFSET(resultats!$A$3,,INT(COLUMN()/10)*10+$A42) -> 0 | CA42: =OFFSET(resultats!$A$3,,INT(COLUMN()/10)*10+$A42) -> 0 | CD42: =OFFSET(resultats!$A$3,,INT(COLUMN()/10)*10+$A42) -> 0 | CE42: =OFFSET(resultats!$A$3,,INT(COLUMN()/10)*10+$A42) -> 0 | CF42: =OFFSET(resultats!$A$3,,INT(COLUMN()/10)*10+$A42) -> 0 | CG42: =OFFSET(resultats!$A$3,,INT(COLUMN()/10)*10+$A42) -> 0 | CH42: =OFFSET(resultats!$A$3,,INT(COLUMN()/10)*10+$A42) -> 0 | CI42: =OFFSET(resultats!$A$3,,INT(COLUMN()/10)*10+$A42) -> 0 | CJ42: =OFFSET(resultats!$A$3,,INT(COLUMN()/10)*10+$A42) -> 0 | CK42: =OFFSET(resultats!$A$3,,INT(COLUMN()/10)*10+$A42) -> 0 | CN42: =OFFSET(resultats!$A$3,,INT(COLUMN()/10)*10+$A42) -> 0 | CO42: =OFFSET(resultats!$A$3,,INT(COLUMN()/10)*10+$A42) -> 0 | CP42: =OFFSET(resultats!$A$3,,INT(COLUMN()/10)*10+$A42) -> 0 | CQ42: =OFFSET(resultats!$A$3,,INT(COLUMN()/10)*10+$A42) -> 0 | CR42: =OFFSET(resultats!$A$3,,INT(COLUMN()/10)*10+$A42) -> 0 | CS42: =OFFSET(resultats!$A$3,,INT(COLUMN()/10)*10+$A42) -> 0 | CT42: =OFFSET(resultats!$A$3,,INT(COLUMN()/10)*10+$A42) -> 0 | CU42: =OFFSET(resultats!$A$3,,INT(COLUMN()/10)*10+$A42) -> 0
A43: 3 | B43: =OFFSET(resultats!$A$3,,INT(COLUMN()/10)*10+$A43) -> 5 | C43: =OFFSET(resultats!$A$3,,INT(COLUMN()/10)*10+$A43) -> 5 | D43: =OFFSET(resultats!$A$3,,INT(COLUMN()/10)*10+$A43) -> 5 | E43: =OFFSET(resultats!$A$3,,INT(COLUMN()/10)*10+$A43) -> 5 | F43: =OFFSET(resultats!$A$3,,INT(COLUMN()/10)*10+$A43) -> 5 | G43: =OFFSET(resultats!$A$3,,INT(COLUMN()/10)*10+$A43) -> 5 | H43: =OFFSET(resultats!$A$3,,INT(COLUMN()/10)*10+$A43) -> 5 | I43: =OFFSET(resultats!$A$3,,INT(COLUMN()/10)*10+$A43) -> 5 | L43: =OFFSET(resultats!$A$3,,INT(COLUMN()/10)*10+$A43) -> 6 | M43: =OFFSET(resultats!$A$3,,INT(COLUMN()/10)*10+$A43) -> 6 | N43: =OFFSET(resultats!$A$3,,INT(COLUMN()/10)*10+$A43) -> 6 | O43: =OFFSET(resultats!$A$3,,INT(COLUMN()/10)*10+$A43) -> 6 | P43: =OFFSET(resultats!$A$3,,INT(COLUMN()/10)*10+$A43) -> 6 | Q43: =OFFSET(resultats!$A$3,,INT(COLUMN()/10)*10+$A43) -> 6 | R43: =OFFSET(resultats!$A$3,,INT(COLUMN()/10)*10+$A43) -> 6 | S43: =OFFSET(resultats!$A$3,,INT(COLUMN()/10)*10+$A43) -> 6 | V43: =OFFSET(resultats!$A$3,,INT(COLUMN()/10)*10+$A43) -> 13 | W43: =OFFSET(resultats!$A$3,,INT(COLUMN()/10)*10+$A43) -> 13 | X43: =OFFSET(resultats!$A$3,,INT(COLUMN()/10)*10+$A43) -> 13 | Y43: =OFFSET(resultats!$A$3,,INT(COLUMN()/10)*10+$A43) -> 13 | Z43: =OFFSET(resultats!$A$3,,INT(COLUMN()/10)*10+$A43) -> 13 | AA43: =OFFSET(resultats!$A$3,,INT(COLUMN()/10)*10+$A43) -> 13 | AB43: =OFFSET(resultats!$A$3,,INT(COLUMN()/10)*10+$A43) -> 13 | AC43: =OFFSET(resultats!$A$3,,INT(COLUMN()/10)*10+$A43) -> 13 | AF43: =OFFSET(resultats!$A$3,,INT(COLUMN()/10)*10+$A43) -> 0 | AG43: =OFFSET(resultats!$A$3,,INT(COLUMN()/10)*10+$A43) -> 0 | AH43: =OFFSET(resultats!$A$3,,INT(COLUMN()/10)*10+$A43) -> 0 | AI43: =OFFSET(resultats!$A$3,,INT(COLUMN()/10)*10+$A43) -> 0 | AJ43: =OFFSET(resultats!$A$3,,INT(COLUMN()/10)*10+$A43) -> 0 | AK43: =OFFSET(resultats!$A$3,,INT(COLUMN()/10)*10+$A43) -> 0 | AL43: =OFFSET(resultats!$A$3,,INT(COLUMN()/10)*10+$A43) -> 0 | AM43: =OFFSET(resultats!$A$3,,INT(COLUMN()/10)*10+$A43) -> 0 | AP43: =OFFSET(resultats!$A$3,,INT(COLUMN()/10)*10+$A43) -> 0 | AQ43: =OFFSET(resultats!$A$3,,INT(COLUMN()/10)*10+$A43) -> 0 | AR43: =OFFSET(resultats!$A$3,,INT(COLUMN()/10)*10+$A43) -> 0 | AS43: =OFFSET(resultats!$A$3,,INT(COLUMN()/10)*10+$A43) -> 0 | AT43: =OFFSET(resultats!$A$3,,INT(COLUMN()/10)*10+$A43) -> 0 | AU43: =OFFSET(resultats!$A$3,,INT(COLUMN()/10)*10+$A43) -> 0 | AV43: =OFFSET(resultats!$A$3,,INT(COLUMN()/10)*10+$A43) -> 0 | AW43: =OFFSET(resultats!$A$3,,INT(COLUMN()/10)*10+$A43) -> 0 | AZ43: =OFFSET(resultats!$A$3,,INT(COLUMN()/10)*10+$A43) -> 0 | BA43: =OFFSET(resultats!$A$3,,INT(COLUMN()/10)*10+$A43) -> 0 | BB43: =OFFSET(resultats!$A$3,,INT(COLUMN()/10)*10+$A43) -> 0 | BC43: =OFFSET(resultats!$A$3,,INT(COLUMN()/10)*10+$A43) -> 0 | BD43: =OFFSET(resultats!$A$3,,INT(COLUMN()/10)*10+$A43) -> 0 | BE43: =OFFSET(resultats!$A$3,,INT(COLUMN()/10)*10+$A43) -> 0 | BF43: =OFFSET(resultats!$A$3,,INT(COLUMN()/10)*10+$A43) -> 0 | BG43: =OFFSET(resultats!$A$3,,INT(COLUMN()/10)*10+$A43) -> 0 | BJ43: =OFFSET(resultats!$A$3,,INT(COLUMN()/10)*10+$A43) -> 0 | BK43: =OFFSET(resultats!$A$3,,INT(COLUMN()/10)*10+$A43) -> 0 | BL43: =OFFSET(resultats!$A$3,,INT(COLUMN()/10)*10+$A43) -> 0 | BM43: =OFFSET(resultats!$A$3,,INT(COLUMN()/10)*10+$A43) -> 0 | BN43: =OFFSET(resultats!$A$3,,INT(COLUMN()/10)*10+$A43) -> 0 | BO43: =OFFSET(resultats!$A$3,,INT(COLUMN()/10)*10+$A43) -> 0 | BP43: =OFFSET(resultats!$A$3,,INT(COLUMN()/10)*10+$A43) -> 0 | BQ43: =OFFSET(resultats!$A$3,,INT(COLUMN()/10)*10+$A43) -> 0 | BT43: =OFFSET(resultats!$A$3,,INT(COLUMN()/10)*10+$A43) -> 0 | BU43: =OFFSET(resultats!$A$3,,INT(COLUMN()/10)*10+$A43) -> 0 | BV43: =OFFSET(resultats!$A$3,,INT(COLUMN()/10)*10+$A43) -> 0 | BW43: =OFFSET(resultats!$A$3,,INT(COLUMN()/10)*10+$A43) -> 0 | BX43: =OFFSET(resultats!$A$3,,INT(COLUMN()/10)*10+$A43) -> 0 | BY43: =OFFSET(resultats!$A$3,,INT(COLUMN()/10)*10+$A43) -> 0 | BZ43: =OFFSET(resultats!$A$3,,INT(COLUMN()/10)*10+$A43) -> 0 | CA43: =OFFSET(resultats!$A$3,,INT(COLUMN()/10)*10+$A43) -> 0 | CD43: =OFFSET(resultats!$A$3,,INT(COLUMN()/10)*10+$A43) -> 0 | CE43: =OFFSET(resultats!$A$3,,INT(COLUMN()/10)*10+$A43) -> 0 | CF43: =OFFSET(resultats!$A$3,,INT(COLUMN()/10)*10+$A43) -> 0 | CG43: =OFFSET(resultats!$A$3,,INT(COLUMN()/10)*10+$A43) -> 0 | CH43: =OFFSET(resultats!$A$3,,INT(COLUMN()/10)*10+$A43) -> 0 | CI43: =OFFSET(resultats!$A$3,,INT(COLUMN()/10)*10+$A43) -> 0 | CJ43: =OFFSET(resultats!$A$3,,INT(COLUMN()/10)*10+$A43) -> 0 | CK43: =OFFSET(resultats!$A$3,,INT(COLUMN()/10)*10+$A43) -> 0 | CN43: =OFFSET(resultats!$A$3,,INT(COLUMN()/10)*10+$A43) -> 0 | CO43: =OFFSET(resultats!$A$3,,INT(COLUMN()/10)*10+$A43) -> 0 | CP43: =OFFSET(resultats!$A$3,,INT(COLUMN()/10)*10+$A43) -> 0 | CQ43: =OFFSET(resultats!$A$3,,INT(COLUMN()/10)*10+$A43) -> 0 | CR43: =OFFSET(resultats!$A$3,,INT(COLUMN()/10)*10+$A43) -> 0 | CS43: =OFFSET(resultats!$A$3,,INT(COLUMN()/10)*10+$A43) -> 0 | CT43: =OFFSET(resultats!$A$3,,INT(COLUMN()/10)*10+$A43) -> 0 | CU43: =OFFSET(resultats!$A$3,,INT(COLUMN()/10)*10+$A43) -> 0
A44: 4 | B44: =OFFSET(resultats!$A$3,,INT(COLUMN()/10)*10+$A44) -> 8 | C44: =OFFSET(resultats!$A$3,,INT(COLUMN()/10)*10+$A44) -> 8 | D44: =OFFSET(resultats!$A$3,,INT(COLUMN()/10)*10+$A44) -> 8 | E44: =OFFSET(resultats!$A$3,,INT(COLUMN()/10)*10+$A44) -> 8 | F44: =OFFSET(resultats!$A$3,,INT(COLUMN()/10)*10+$A44) -> 8 | G44: =OFFSET(resultats!$A$3,,INT(COLUMN()/10)*10+$A44) -> 8 | H44: =OFFSET(resultats!$A$3,,INT(COLUMN()/10)*10+$A44) -> 8 | I44: =OFFSET(resultats!$A$3,,INT(COLUMN()/10)*10+$A44) -> 8 | L44: =OFFSET(resultats!$A$3,,INT(COLUMN()/10)*10+$A44) -> 1 | M44: =OFFSET(resultats!$A$3,,INT(COLUMN()/10)*10+$A44) -> 1 | N44: =OFFSET(resultats!$A$3,,INT(COLUMN()/10)*10+$A44) -> 1 | O44: =OFFSET(resultats!$A$3,,INT(COLUMN()/10)*10+$A44) -> 1 | P44: =OFFSET(resultats!$A$3,,INT(COLUMN()/10)*10+$A44) -> 1 | Q44: =OFFSET(resultats!$A$3,,INT(COLUMN()/10)*10+$A44) -> 1 | R44: =OFFSET(resultats!$A$3,,INT(COLUMN()/10)*10+$A44) -> 1 | S44: =OFFSET(resultats!$A$3,,INT(COLUMN()/10)*10+$A44) -> 1 | V44: =OFFSET(resultats!$A$3,,INT(COLUMN()/10)*10+$A44) -> 12 | W44: =OFFSET(resultats!$A$3,,INT(COLUMN()/10)*10+$A44) -> 12 | X44: =OFFSET(resultats!$A$3,,INT(COLUMN()/10)*10+$A44) -> 12 | Y44: =OFFSET(resultats!$A$3,,INT(COLUMN()/10)*10+$A44) -> 12 | Z44: =OFFSET(resultats!$A$3,,INT(COLUMN()/10)*10+$A44) -> 12 | AA44: =OFFSET(resultats!$A$3,,INT(COLUMN()/10)*10+$A44) -> 12 | AB44: =OFFSET(resultats!$A$3,,INT(COLUMN()/10)*10+$A44) -> 12 | AC44: =OFFSET(resultats!$A$3,,INT(COLUMN()/10)*10+$A44) -> 12 | AF44: =OFFSET(resultats!$A$3,,INT(COLUMN()/10)*10+$A44) -> 0 | AG44: =OFFSET(resultats!$A$3,,INT(COLUMN()/10)*10+$A44) -> 0 | AH44: =OFFSET(resultats!$A$3,,INT(COLUMN()/10)*10+$A44) -> 0 | AI44: =OFFSET(resultats!$A$3,,INT(COLUMN()/10)*10+$A44) -> 0 | AJ44: =OFFSET(resultats!$A$3,,INT(COLUMN()/10)*10+$A44) -> 0 | AK44: =OFFSET(resultats!$A$3,,INT(COLUMN()/10)*10+$A44) -> 0 | AL44: =OFFSET(resultats!$A$3,,INT(COLUMN()/10)*10+$A44) -> 0 | AM44: =OFFSET(resultats!$A$3,,INT(COLUMN()/10)*10+$A44) -> 0 | AP44: =OFFSET(resultats!$A$3,,INT(COLUMN()/10)*10+$A44) -> 0 | AQ44: =OFFSET(resultats!$A$3,,INT(COLUMN()/10)*10+$A44) -> 0 | AR44: =OFFSET(resultats!$A$3,,INT(COLUMN()/10)*10+$A44) -> 0 | AS44: =OFFSET(resultats!$A$3,,INT(COLUMN()/10)*10+$A44) -> 0 | AT44: =OFFSET(resultats!$A$3,,INT(COLUMN()/10)*10+$A44) -> 0 | AU44: =OFFSET(resultats!$A$3,,INT(COLUMN()/10)*10+$A44) -> 0 | AV44: =OFFSET(resultats!$A$3,,INT(COLUMN()/10)*10+$A44) -> 0 | AW44: =OFFSET(resultats!$A$3,,INT(COLUMN()/10)*10+$A44) -> 0 | AZ44: =OFFSET(resultats!$A$3,,INT(COLUMN()/10)*10+$A44) -> 0 | BA44: =OFFSET(resultats!$A$3,,INT(COLUMN()/10)*10+$A44) -> 0 | BB44: =OFFSET(resultats!$A$3,,INT(COLUMN()/10)*10+$A44) -> 0 | BC44: =OFFSET(resultats!$A$3,,INT(COLUMN()/10)*10+$A44) -> 0 | BD44: =OFFSET(resultats!$A$3,,INT(COLUMN()/10)*10+$A44) -> 0 | BE44: =OFFSET(resultats!$A$3,,INT(COLUMN()/10)*10+$A44) -> 0 | BF44: =OFFSET(resultats!$A$3,,INT(COLUMN()/10)*10+$A44) -> 0 | BG44: =OFFSET(resultats!$A$3,,INT(COLUMN()/10)*10+$A44) -> 0 | BJ44: =OFFSET(resultats!$A$3,,INT(COLUMN()/10)*10+$A44) -> 0 | BK44: =OFFSET(resultats!$A$3,,INT(COLUMN()/10)*10+$A44) -> 0 | BL44: =OFFSET(resultats!$A$3,,INT(COLUMN()/10)*10+$A44) -> 0 | BM44: =OFFSET(resultats!$A$3,,INT(COLUMN()/10)*10+$A44) -> 0 | BN44: =OFFSET(resultats!$A$3,,INT(COLUMN()/10)*10+$A44) -> 0 | BO44: =OFFSET(resultats!$A$3,,INT(COLUMN()/10)*10+$A44) -> 0 | BP44: =OFFSET(resultats!$A$3,,INT(COLUMN()/10)*10+$A44) -> 0 | BQ44: =OFFSET(resultats!$A$3,,INT(COLUMN()/10)*10+$A44) -> 0 | BT44: =OFFSET(resultats!$A$3,,INT(COLUMN()/10)*10+$A44) -> 0 | BU44: =OFFSET(resultats!$A$3,,INT(COLUMN()/10)*10+$A44) -> 0 | BV44: =OFFSET(resultats!$A$3,,INT(COLUMN()/10)*10+$A44) -> 0 | BW44: =OFFSET(resultats!$A$3,,INT(COLUMN()/10)*10+$A44) -> 0 | BX44: =OFFSET(resultats!$A$3,,INT(COLUMN()/10)*10+$A44) -> 0 | BY44: =OFFSET(resultats!$A$3,,INT(COLUMN()/10)*10+$A44) -> 0 | BZ44: =OFFSET(resultats!$A$3,,INT(COLUMN()/10)*10+$A44) -> 0 | CA44: =OFFSET(resultats!$A$3,,INT(COLUMN()/10)*10+$A44) -> 0 | CD44: =OFFSET(resultats!$A$3,,INT(COLUMN()/10)*10+$A44) -> 0 | CE44: =OFFSET(resultats!$A$3,,INT(COLUMN()/10)*10+$A44) -> 0 | CF44: =OFFSET(resultats!$A$3,,INT(COLUMN()/10)*10+$A44) -> 0 | CG44: =OFFSET(resultats!$A$3,,INT(COLUMN()/10)*10+$A44) -> 0 | CH44: =OFFSET(resultats!$A$3,,INT(COLUMN()/10)*10+$A44) -> 0 | CI44: =OFFSET(resultats!$A$3,,INT(COLUMN()/10)*10+$A44) -> 0 | CJ44: =OFFSET(resultats!$A$3,,INT(COLUMN()/10)*10+$A44) -> 0 | CK44: =OFFSET(resultats!$A$3,,INT(COLUMN()/10)*10+$A44) -> 0 | CN44: =OFFSET(resultats!$A$3,,INT(COLUMN()/10)*10+$A44) -> 0 | CO44: =OFFSET(resultats!$A$3,,INT(COLUMN()/10)*10+$A44) -> 0 | CP44: =OFFSET(resultats!$A$3,,INT(COLUMN()/10)*10+$A44) -> 0 | CQ44: =OFFSET(resultats!$A$3,,INT(COLUMN()/10)*10+$A44) -> 0 | CR44: =OFFSET(resultats!$A$3,,INT(COLUMN()/10)*10+$A44) -> 0 | CS44: =OFFSET(resultats!$A$3,,INT(COLUMN()/10)*10+$A44) -> 0 | CT44: =OFFSET(resultats!$A$3,,INT(COLUMN()/10)*10+$A44) -> 0 | CU44: =OFFSET(resultats!$A$3,,INT(COLUMN()/10)*10+$A44) -> 0
A45: 5 | B45: =OFFSET(resultats!$A$3,,INT(COLUMN()/10)*10+$A45) -> 11 | C45: =OFFSET(resultats!$A$3,,INT(COLUMN()/10)*10+$A45) -> 11 | D45: =OFFSET(resultats!$A$3,,INT(COLUMN()/10)*10+$A45) -> 11 | E45: =OFFSET(resultats!$A$3,,INT(COLUMN()/10)*10+$A45) -> 11 | F45: =OFFSET(resultats!$A$3,,INT(COLUMN()/10)*10+$A45) -> 11 | G45: =OFFSET(resultats!$A$3,,INT(COLUMN()/10)*10+$A45) -> 11 | H45: =OFFSET(resultats!$A$3,,INT(COLUMN()/10)*10+$A45) -> 11 | I45: =OFFSET(resultats!$A$3,,INT(COLUMN()/10)*10+$A45) -> 11 | L45: =OFFSET(resultats!$A$3,,INT(COLUMN()/10)*10+$A45) -> 10 | M45: =OFFSET(resultats!$A$3,,INT(COLUMN()/10)*10+$A45) -> 10 | N45: =OFFSET(resultats!$A$3,,INT(COLUMN()/10)*10+$A45) -> 10 | O45: =OFFSET(resultats!$A$3,,INT(COLUMN()/10)*10+$A45) -> 10 | P45: =OFFSET(resultats!$A$3,,INT(COLUMN()/10)*10+$A45) -> 10 | Q45: =OFFSET(resultats!$A$3,,INT(COLUMN()/10)*10+$A45) -> 10 | R45: =OFFSET(resultats!$A$3,,INT(COLUMN()/10)*10+$A45) -> 10 | S45: =OFFSET(resultats!$A$3,,INT(COLUMN()/10)*10+$A45) -> 10 | V45: =OFFSET(resultats!$A$3,,INT(COLUMN()/10)*10+$A45) -> 16 | W45: =OFFSET(resultats!$A$3,,INT(COLUMN()/10)*10+$A45) -> 16 | X45: =OFFSET(resultats!$A$3,,INT(COLUMN()/10)*10+$A45) -> 16 | Y45: =OFFSET(resultats!$A$3,,INT(COLUMN()/10)*10+$A45) -> 16 | Z45: =OFFSET(resultats!$A$3,,INT(COLUMN()/10)*10+$A45) -> 16 | AA45: =OFFSET(resultats!$A$3,,INT(COLUMN()/10)*10+$A45) -> 16 | AB45: =OFFSET(resultats!$A$3,,INT(COLUMN()/10)*10+$A45) -> 16 | AC45: =OFFSET(resultats!$A$3,,INT(COLUMN()/10)*10+$A45) -> 16 | AF45: =OFFSET(resultats!$A$3,,INT(COLUMN()/10)*10+$A45) -> 0 | AG45: =OFFSET(resultats!$A$3,,INT(COLUMN()/10)*10+$A45) -> 0 | AH45: =OFFSET(resultats!$A$3,,INT(COLUMN()/10)*10+$A45) -> 0 | AI45: =OFFSET(resultats!$A$3,,INT(COLUMN()/10)*10+$A45) -> 0 | AJ45: =OFFSET(resultats!$A$3,,INT(COLUMN()/10)*10+$A45) -> 0 | AK45: =OFFSET(resultats!$A$3,,INT(COLUMN()/10)*10+$A45) -> 0 | AL45: =OFFSET(resultats!$A$3,,INT(COLUMN()/10)*10+$A45) -> 0 | AM45: =OFFSET(resultats!$A$3,,INT(COLUMN()/10)*10+$A45) -> 0 | AP45: =OFFSET(resultats!$A$3,,INT(COLUMN()/10)*10+$A45) -> 0 | AQ45: =OFFSET(resultats!$A$3,,INT(COLUMN()/10)*10+$A45) -> 0 | AR45: =OFFSET(resultats!$A$3,,INT(COLUMN()/10)*10+$A45) -> 0 | AS45: =OFFSET(resultats!$A$3,,INT(COLUMN()/10)*10+$A45) -> 0 | AT45: =OFFSET(resultats!$A$3,,INT(COLUMN()/10)*10+$A45) -> 0 | AU45: =OFFSET(resultats!$A$3,,INT(COLUMN()/10)*10+$A45) -> 0 | AV45: =OFFSET(resultats!$A$3,,INT(COLUMN()/10)*10+$A45) -> 0 | AW45: =OFFSET(resultats!$A$3,,INT(COLUMN()/10)*10+$A45) -> 0 | AZ45: =OFFSET(resultats!$A$3,,INT(COLUMN()/10)*10+$A45) -> 0 | BA45: =OFFSET(resultats!$A$3,,INT(COLUMN()/10)*10+$A45) -> 0 | BB45: =OFFSET(resultats!$A$3,,INT(COLUMN()/10)*10+$A45) -> 0 | BC45: =OFFSET(resultats!$A$3,,INT(COLUMN()/10)*10+$A45) -> 0 | BD45: =OFFSET(resultats!$A$3,,INT(COLUMN()/10)*10+$A45) -> 0 | BE45: =OFFSET(resultats!$A$3,,INT(COLUMN()/10)*10+$A45) -> 0 | BF45: =OFFSET(resultats!$A$3,,INT(COLUMN()/10)*10+$A45) -> 0 | BG45: =OFFSET(resultats!$A$3,,INT(COLUMN()/10)*10+$A45) -> 0 | BJ45: =OFFSET(resultats!$A$3,,INT(COLUMN()/10)*10+$A45) -> 0 | BK45: =OFFSET(resultats!$A$3,,INT(COLUMN()/10)*10+$A45) -> 0 | BL45: =OFFSET(resultats!$A$3,,INT(COLUMN()/10)*10+$A45) -> 0 | BM45: =OFFSET(resultats!$A$3,,INT(COLUMN()/10)*10+$A45) -> 0 | BN45: =OFFSET(resultats!$A$3,,INT(COLUMN()/10)*10+$A45) -> 0 | BO45: =OFFSET(resultats!$A$3,,INT(COLUMN()/10)*10+$A45) -> 0 | BP45: =OFFSET(resultats!$A$3,,INT(COLUMN()/10)*10+$A45) -> 0 | BQ45: =OFFSET(resultats!$A$3,,INT(COLUMN()/10)*10+$A45) -> 0 | BT45: =OFFSET(resultats!$A$3,,INT(COLUMN()/10)*10+$A45) -> 0 | BU45: =OFFSET(resultats!$A$3,,INT(COLUMN()/10)*10+$A45) -> 0 | BV45: =OFFSET(resultats!$A$3,,INT(COLUMN()/10)*10+$A45) -> 0 | BW45: =OFFSET(resultats!$A$3,,INT(COLUMN()/10)*10+$A45) -> 0 | BX45: =OFFSET(resultats!$A$3,,INT(COLUMN()/10)*10+$A45) -> 0 | BY45: =OFFSET(resultats!$A$3,,INT(COLUMN()/10)*10+$A45) -> 0 | BZ45: =OFFSET(resultats!$A$3,,INT(COLUMN()/10)*10+$A45) -> 0 | CA45: =OFFSET(resultats!$A$3,,INT(COLUMN()/10)*10+$A45) -> 0 | CD45: =OFFSET(resultats!$A$3,,INT(COLUMN()/10)*10+$A45) -> 0 | CE45: =OFFSET(resultats!$A$3,,INT(COLUMN()/10)*10+$A45) -> 0 | CF45: =OFFSET(resultats!$A$3,,INT(COLUMN()/10)*10+$A45) -> 0 | CG45: =OFFSET(resultats!$A$3,,INT(COLUMN()/10)*10+$A45) -> 0 | CH45: =OFFSET(resultats!$A$3,,INT(COLUMN()/10)*10+$A45) -> 0 | CI45: =OFFSET(resultats!$A$3,,INT(COLUMN()/10)*10+$A45) -> 0 | CJ45: =OFFSET(resultats!$A$3,,INT(COLUMN()/10)*10+$A45) -> 0 | CK45: =OFFSET(resultats!$A$3,,INT(COLUMN()/10)*10+$A45) -> 0 | CN45: =OFFSET(resultats!$A$3,,INT(COLUMN()/10)*10+$A45) -> 0 | CO45: =OFFSET(resultats!$A$3,,INT(COLUMN()/10)*10+$A45) -> 0 | CP45: =OFFSET(resultats!$A$3,,INT(COLUMN()/10)*10+$A45) -> 0 | CQ45: =OFFSET(resultats!$A$3,,INT(COLUMN()/10)*10+$A45) -> 0 | CR45: =OFFSET(resultats!$A$3,,INT(COLUMN()/10)*10+$A45) -> 0 | CS45: =OFFSET(resultats!$A$3,,INT(COLUMN()/10)*10+$A45) -> 0 | CT45: =OFFSET(resultats!$A$3,,INT(COLUMN()/10)*10+$A45) -> 0 | CU45: =OFFSET(resultats!$A$3,,INT(COLUMN()/10)*10+$A45) -> 0
A155: Banco Turf | B155: =COUNTIF(B5,B$3) -> 1 | C155: =COUNTIF(C5,C$3) -> 0 | D155: =COUNTIF(D5,D$3) -> 1 | E155: =COUNTIF(E5,E$3) -> 1 | F155: =COUNTIF(F5,F$3) -> 0
A156: Bilto | B156: =COUNTIF(B6,B$3) -> 1 | C156: =COUNTIF(C6,C$3) -> 0 | D156: =COUNTIF(D6,D$3) -> 0 | E156: =COUNTIF(E6,E$3) -> 1 | F156: =COUNTIF(F6,F$3) -> 1
A157: Centre Presse Poitiers | B157: =COUNTIF(B7,B$3) -> 0 | C157: =COUNTIF(C7,C$3) -> 0 | D157: =COUNTIF(D7,D$3) -> 0 | E157: =COUNTIF(E7,E$3) -> 0 | F157: =COUNTIF(F7,F$3) -> 0
A158: Charente Libre | B158: =COUNTIF(B8,B$3) -> 0 | C158: =COUNTIF(C8,C$3) -> 0 | D158: =COUNTIF(D8,D$3) -> 0 | E158: =COUNTIF(E8,E$3) -> 0 | F158: =COUNTIF(F8,F$3) -> 0
A159: Europe 1 | B159: =COUNTIF(B9,B$3) -> 0 | C159: =COUNTIF(C9,C$3) -> 0 | D159: =COUNTIF(D9,D$3) -> 0 | E159: =COUNTIF(E9,E$3) -> 1 | F159: =COUNTIF(F9,F$3) -> 0
A160: L'Echo du Centre | B160: =COUNTIF(B10,B$3) -> 1 | C160: =COUNTIF(C10,C$3) -> 0 | D160: =COUNTIF(D10,D$3) -> 1 | E160: =COUNTIF(E10,E$3) -> 0 | F160: =COUNTIF(F10,F$3) -> 1
A161: L'Eveil | B161: =COUNTIF(B11,B$3) -> 1 | C161: =COUNTIF(C11,C$3) -> 0 | D161: =COUNTIF(D11,D$3) -> 0 | E161: =COUNTIF(E11,E$3) -> 0 | F161: =COUNTIF(F11,F$3) -> 0
A162: L'Yonne Républicaine | B162: =COUNTIF(B12,B$3) -> 0 | C162: =COUNTIF(C12,C$3) -> 0 | D162: =COUNTIF(D12,D$3) -> 0 | E162: =COUNTIF(E12,E$3) -> 0 | F162: =COUNTIF(F12,F$3) -> 0
A163: L'indépendant | B163: =COUNTIF(B13,B$3) -> 1 | C163: =COUNTIF(C13,C$3) -> 0 | D163: =COUNTIF(D13,D$3) -> 0 | E163: =COUNTIF(E13,E$3) -> 0 | F163: =COUNTIF(F13,F$3) -> 0
A164: La Marseillaise | B164: =COUNTIF(B14,B$3) -> 0 | C164: =COUNTIF(C14,C$3) -> 0 | D164: =COUNTIF(D14,D$3) -> 0 | E164: =COUNTIF(E14,E$3) -> 0 | F164: =COUNTIF(F14,F$3) -> 0
A165: La Montagne | B165: =COUNTIF(B15,B$3) -> 0 | C165: =COUNTIF(C15,C$3) -> 0 | D165: =COUNTIF(D15,D$3) -> 0 | E165: =COUNTIF(E15,E$3) -> 0 | F165: =COUNTIF(F15,F$3) -> 0
A166: La Provence | B166: =COUNTIF(B16,B$3) -> 1 | C166: =COUNTIF(C16,C$3) -> 0 | D166: =COUNTIF(D16,D$3) -> 0 | E166: =COUNTIF(E16,E$3) -> 0 | F166: =COUNTIF(F16,F$3) -> 0
... A185: Week-End | B185: =COUNTIF(B35,B$3) -> 0 | C185: =COUNTIF(C35,C$3) -> 0 | D185: =COUNTIF(D35,D$3) -> 0 | E185: =COUNTIF(E35,E$3) -> 0 | F185: =COUNTIF(F35,F$3) -> 0

Sheet 1
I1: meilleur pronostiqueur pour la position d'arrivée numéro : | J1: =MID(CELL("nomfichier",J1),FIND("]",CELL("nomfichier",J1))+1,99) -> 1
I2: nom : | J2: =INDEX(A5:A35,MATCH(MAX($B$5:$I$35),OFFSET(A5,,J3,32),0)) -> Nabila
I3: position : | J3: {=MIN(IF((B5:I35)=MAX($B$5:$I$35),COLUMN(B5:I35)))+1-COLUMN(B5:I35)} -> 1
A4: Pronostics
A5: Pierre | B5: {=SUM((MOD(COLUMN(resultats!$A5:$CU5),10)=COLUMN())*IF(resultats!$A5:$CU5=resultats!$A$41:$CU$41,1,0))-(10-COUNTA(resultats!$A$2:$CU$2))} -> 1 | C5: {=SUM((MOD(COLUMN(resultats!$A5:$CU5),10)=COLUMN())*IF(resultats!$A5:$CU5=resultats!$A$41:$CU$41,1,0))-(10-COUNTA(resultats!$A$2:$CU$2))} -> 0 | D5: {=SUM((MOD(COLUMN(resultats!$A5:$CU5),10)=COLUMN())*IF(resultats!$A5:$CU5=resultats!$A$41:$CU$41,1,0))-(10-COUNTA(resultats!$A$2:$CU$2))} -> 0 | E5: {=SUM((MOD(COLUMN(resultats!$A5:$CU5),10)=COLUMN())*IF(resultats!$A5:$CU5=resultats!$A$41:$CU$41,1,0))-(10-COUNTA(resultats!$A$2:$CU$2))} -> 1 | F5: {=SUM((MOD(COLUMN(resultats!$A5:$CU5),10)=COLUMN())*IF(resultats!$A5:$CU5=resultats!$A$41:$CU$41,1,0))-(10-COUNTA(resultats!$A$2:$CU$2))} -> 0 | G5: {=SUM((MOD(COLUMN(resultats!$A5:$CU5),10)=COLUMN())*IF(resultats!$A5:$CU5=resultats!$A$41:$CU$41,1,0))-(10-COUNTA(resultats!$A$2:$CU$2))} -> 0 | H5: {=SUM((MOD(COLUMN(resultats!$A5:$CU5),10)=COLUMN())*IF(resultats!$A5:$CU5=resultats!$A$41:$CU$41,1,0))-(10-COUNTA(resultats!$A$2:$CU$2))} -> 1 | I5: {=SUM((MOD(COLUMN(resultats!$A5:$CU5),10)=COLUMN())*IF(resultats!$A5:$CU5=resultats!$A$41:$CU$41,1,0))-(10-COUNTA(resultats!$A$2:$CU$2))} -> 0
A6: Paul | B6: {=SUM((MOD(COLUMN(resultats!$A6:$CU6),10)=COLUMN())*IF(resultats!$A6:$CU6=resultats!$A$41:$CU$41,1,0))-(10-COUNTA(resultats!$A$2:$CU$2))} -> 1 | C6: {=SUM((MOD(COLUMN(resultats!$A6:$CU6),10)=COLUMN())*IF(resultats!$A6:$CU6=resultats!$A$41:$CU$41,1,0))-(10-COUNTA(resultats!$A$2:$CU$2))} -> 0 | D6: {=SUM((MOD(COLUMN(resultats!$A6:$CU6),10)=COLUMN())*IF(resultats!$A6:$CU6=resultats!$A$41:$CU$41,1,0))-(10-COUNTA(resultats!$A$2:$CU$2))} -> 0 | E6: {=SUM((MOD(COLUMN(resultats!$A6:$CU6),10)=COLUMN())*IF(resultats!$A6:$CU6=resultats!$A$41:$CU$41,1,0))-(10-COUNTA(resultats!$A$2:$CU$2))} -> 0 | F6: {=SUM((MOD(COLUMN(resultats!$A6:$CU6),10)=COLUMN())*IF(resultats!$A6:$CU6=resultats!$A$41:$CU$41,1,0))-(10-COUNTA(resultats!$A$2:$CU$2))} -> 0 | G6: {=SUM((MOD(COLUMN(resultats!$A6:$CU6),10)=COLUMN())*IF(resultats!$A6:$CU6=resultats!$A$41:$CU$41,1,0))-(10-COUNTA(resultats!$A$2:$CU$2))} -> 1 | H6: {=SUM((MOD(COLUMN(resultats!$A6:$CU6),10)=COLUMN())*IF(resultats!$A6:$CU6=resultats!$A$41:$CU$41,1,0))-(10-COUNTA(resultats!$A$2:$CU$2))} -> 0 | I6: {=SUM((MOD(COLUMN(resultats!$A6:$CU6),10)=COLUMN())*IF(resultats!$A6:$CU6=resultats!$A$41:$CU$41,1,0))-(10-COUNTA(resultats!$A$2:$CU$2))} -> 0
A7: Jacques | B7: {=SUM((MOD(COLUMN(resultats!$A7:$CU7),10)=COLUMN())*IF(resultats!$A7:$CU7=resultats!$A$41:$CU$41,1,0))-(10-COUNTA(resultats!$A$2:$CU$2))} -> 0 | C7: {=SUM((MOD(COLUMN(resultats!$A7:$CU7),10)=COLUMN())*IF(resultats!$A7:$CU7=resultats!$A$41:$CU$41,1,0))-(10-COUNTA(resultats!$A$2:$CU$2))} -> 0 | D7: {=SUM((MOD(COLUMN(resultats!$A7:$CU7),10)=COLUMN())*IF(resultats!$A7:$CU7=resultats!$A$41:$CU$41,1,0))-(10-COUNTA(resultats!$A$2:$CU$2))} -> 0 | E7: {=SUM((MOD(COLUMN(resultats!$A7:$CU7),10)=COLUMN())*IF(resultats!$A7:$CU7=resultats!$A$41:$CU$41,1,0))-(10-COUNTA(resultats!$A$2:$CU$2))} -> 0 | F7: {=SUM((MOD(COLUMN(resultats!$A7:$CU7),10)=COLUMN())*IF(resultats!$A7:$CU7=resultats!$A$41:$CU$41,1,0))-(10-COUNTA(resultats!$A$2:$CU$2))} -> 0 | G7: {=SUM((MOD(COLUMN(resultats!$A7:$CU7),10)=COLUMN())*IF(resultats!$A7:$CU7=resultats!$A$41:$CU$41,1,0))-(10-COUNTA(resultats!$A$2:$CU$2))} -> 1 | H7: {=SUM((MOD(COLUMN(resultats!$A7:$CU7),10)=COLUMN())*IF(resultats!$A7:$CU7=resultats!$A$41:$CU$41,1,0))-(10-COUNTA(resultats!$A$2:$CU$2))} -> 1 | I7: {=SUM((MOD(COLUMN(resultats!$A7:$CU7),10)=COLUMN())*IF(resultats!$A7:$CU7=resultats!$A$41:$CU$41,1,0))-(10-COUNTA(resultats!$A$2:$CU$2))} -> 0
A8: Daniel | B8: {=SUM((MOD(COLUMN(resultats!$A8:$CU8),10)=COLUMN())*IF(resultats!$A8:$CU8=resultats!$A$41:$CU$41,1,0))-(10-COUNTA(resultats!$A$2:$CU$2))} -> 0 | C8: {=SUM((MOD(COLUMN(resultats!$A8:$CU8),10)=COLUMN())*IF(resultats!$A8:$CU8=resultats!$A$41:$CU$41,1,0))-(10-COUNTA(resultats!$A$2:$CU$2))} -> 1 | D8: {=SUM((MOD(COLUMN(resultats!$A8:$CU8),10)=COLUMN())*IF(resultats!$A8:$CU8=resultats!$A$41:$CU$41,1,0))-(10-COUNTA(resultats!$A$2:$CU$2))} -> 0 | E8: {=SUM((MOD(COLUMN(resultats!$A8:$CU8),10)=COLUMN())*IF(resultats!$A8:$CU8=resultats!$A$41:$CU$41,1,0))-(10-COUNTA(resultats!$A$2:$CU$2))} -> 0 | F8: {=SUM((MOD(COLUMN(resultats!$A8:$CU8),10)=COLUMN())*IF(resultats!$A8:$CU8=resultats!$A$41:$CU$41,1,0))-(10-COUNTA(resultats!$A$2:$CU$2))} -> 0 | G8: {=SUM((MOD(COLUMN(resultats!$A8:$CU8),10)=COLUMN())*IF(resultats!$A8:$CU8=resultats!$A$41:$CU$41,1,0))-(10-COUNTA(resultats!$A$2:$CU$2))} -> 0 | H8: {=SUM((MOD(COLUMN(resultats!$A8:$CU8),10)=COLUMN())*IF(resultats!$A8:$CU8=resultats!$A$41:$CU$41,1,0))-(10-COUNTA(resultats!$A$2:$CU$2))} -> 0 | I8: {=SUM((MOD(COLUMN(resultats!$A8:$CU8),10)=COLUMN())*IF(resultats!$A8:$CU8=resultats!$A$41:$CU$41,1,0))-(10-COUNTA(resultats!$A$2:$CU$2))} -> 0
A9: Louis | B9: {=SUM((MOD(COLUMN(resultats!$A9:$CU9),10)=COLUMN())*IF(resultats!$A9:$CU9=resultats!$A$41:$CU$41,1,0))-(10-COUNTA(resultats!$A$2:$CU$2))} -> 0 | C9: {=SUM((MOD(COLUMN(resultats!$A9:$CU9),10)=COLUMN())*IF(resultats!$A9:$CU9=resultats!$A$41:$CU$41,1,0))-(10-COUNTA(resultats!$A$2:$CU$2))} -> 1 | D9: {=SUM((MOD(COLUMN(resultats!$A9:$CU9),10)=COLUMN())*IF(resultats!$A9:$CU9=resultats!$A$41:$CU$41,1,0))-(10-COUNTA(resultats!$A$2:$CU$2))} -> 0 | E9: {=SUM((MOD(COLUMN(resultats!$A9:$CU9),10)=COLUMN())*IF(resultats!$A9:$CU9=resultats!$A$41:$CU$41,1,0))-(10-COUNTA(resultats!$A$2:$CU$2))} -> 0 | F9: {=SUM((MOD(COLUMN(resultats!$A9:$CU9),10)=COLUMN())*IF(resultats!$A9:$CU9=resultats!$A$41:$CU$41,1,0))-(10-COUNTA(resultats!$A$2:$CU$2))} -> 1 | G9: {=SUM((MOD(COLUMN(resultats!$A9:$CU9),10)=COLUMN())*IF(resultats!$A9:$CU9=resultats!$A$41:$CU$41,1,0))-(10-COUNTA(resultats!$A$2:$CU$2))} -> 0 | H9: {=SUM((MOD(COLUMN(resultats!$A9:$CU9),10)=COLUMN())*IF(resultats!$A9:$CU9=resultats!$A$41:$CU$41,1,0))-(10-COUNTA(resultats!$A$2:$CU$2))} -> 0 | I9: {=SUM((MOD(COLUMN(resultats!$A9:$CU9),10)=COLUMN())*IF(resultats!$A9:$CU9=resultats!$A$41:$CU$41,1,0))-(10-COUNTA(resultats!$A$2:$CU$2))} -> 0
A10: Philippe | B10: {=SUM((MOD(COLUMN(resultats!$A10:$CU10),10)=COLUMN())*IF(resultats!$A10:$CU10=resultats!$A$41:$CU$41,1,0))-(10-COUNTA(resultats!$A$2:$CU$2))} -> 1 | C10: {=SUM((MOD(COLUMN(resultats!$A10:$CU10),10)=COLUMN())*IF(resultats!$A10:$CU10=resultats!$A$41:$CU$41,1,0))-(10-COUNTA(resultats!$A$2:$CU$2))} -> 0 | D10: {=SUM((MOD(COLUMN(resultats!$A10:$CU10),10)=COLUMN())*IF(resultats!$A10:$CU10=resultats!$A$41:$CU$41,1,0))-(10-COUNTA(resultats!$A$2:$CU$2))} -> 0 | E10: {=SUM((MOD(COLUMN(resultats!$A10:$CU10),10)=COLUMN())*IF(resultats!$A10:$CU10=resultats!$A$41:$CU$41,1,0))-(10-COUNTA(resultats!$A$2:$CU$2))} -> 0 | F10: {=SUM((MOD(COLUMN(resultats!$A10:$CU10),10)=COLUMN())*IF(resultats!$A10:$CU10=resultats!$A$41:$CU$41,1,0))-(10-COUNTA(resultats!$A$2:$CU$2))} -> 1 | G10: {=SUM((MOD(COLUMN(resultats!$A10:$CU10),10)=COLUMN())*IF(resultats!$A10:$CU10=resultats!$A$41:$CU$41,1,0))-(10-COUNTA(resultats!$A$2:$CU$2))} -> 0 | H10: {=SUM((MOD(COLUMN(resultats!$A10:$CU10),10)=COLUMN())*IF(resultats!$A10:$CU10=resultats!$A$41:$CU$41,1,0))-(10-COUNTA(resultats!$A$2:$CU$2))} -> 0 | I10: {=SUM((MOD(COLUMN(resultats!$A10:$CU10),10)=COLUMN())*IF(resultats!$A10:$CU10=resultats!$A$41:$CU$41,1,0))-(10-COUNTA(resultats!$A$2:$CU$2))} -> 0
A11: Olivier | B11: {=SUM((MOD(COLUMN(resultats!$A11:$CU11),10)=COLUMN())*IF(resultats!$A11:$CU11=resultats!$A$41:$CU$41,1,0))-(10-COUNTA(resultats!$A$2:$CU$2))} -> 1 | C11: {=SUM((MOD(COLUMN(resultats!$A11:$CU11),10)=COLUMN())*IF(resultats!$A11:$CU11=resultats!$A$41:$CU$41,1,0))-(10-COUNTA(resultats!$A$2:$CU$2))} -> 0 | D11: {=SUM((MOD(COLUMN(resultats!$A11:$CU11),10)=COLUMN())*IF(resultats!$A11:$CU11=resultats!$A$41:$CU$41,1,0))-(10-COUNTA(resultats!$A$2:$CU$2))} -> 1 | E11: {=SUM((MOD(COLUMN(resultats!$A11:$CU11),10)=COLUMN())*IF(resultats!$A11:$CU11=resultats!$A$41:$CU$41,1,0))-(10-COUNTA(resultats!$A$2:$CU$2))} -> 0 | F11: {=SUM((MOD(COLUMN(resultats!$A11:$CU11),10)=COLUMN())*IF(resultats!$A11:$CU11=resultats!$A$41:$CU$41,1,0))-(10-COUNTA(resultats!$A$2:$CU$2))} -> 0 | G11: {=SUM((MOD(COLUMN(resultats!$A11:$CU11),10)=COLUMN())*IF(resultats!$A11:$CU11=resultats!$A$41:$CU$41,1,0))-(10-COUNTA(resultats!$A$2:$CU$2))} -> 0 | H11: {=SUM((MOD(COLUMN(resultats!$A11:$CU11),10)=COLUMN())*IF(resultats!$A11:$CU11=resultats!$A$41:$CU$41,1,0))-(10-COUNTA(resultats!$A$2:$CU$2))} -> 0 | I11: {=SUM((MOD(COLUMN(resultats!$A11:$CU11),10)=COLUMN())*IF(resultats!$A11:$CU11=resultats!$A$41:$CU$41,1,0))-(10-COUNTA(resultats!$A$2:$CU$2))} -> 0
A12: Jospeh | B12: {=SUM((MOD(COLUMN(resultats!$A12:$CU12),10)=COLUMN())*IF(resultats!$A12:$CU12=resultats!$A$41:$CU$41,1,0))-(10-COUNTA(resultats!$A$2:$CU$2))} -> 0 | C12: {=SUM((MOD(COLUMN(resultats!$A12:$CU12),10)=COLUMN())*IF(resultats!$A12:$CU12=resultats!$A$41:$CU$41,1,0))-(10-COUNTA(resultats!$A$2:$CU$2))} -> 1 | D12: {=SUM((MOD(COLUMN(resultats!$A12:$CU12),10)=COLUMN())*IF(resultats!$A12:$CU12=resultats!$A$41:$CU$41,1,0))-(10-COUNTA(resultats!$A$2:$CU$2))} -> 0 | E12: {=SUM((MOD(COLUMN(resultats!$A12:$CU12),10)=COLUMN())*IF(resultats!$A12:$CU12=resultats!$A$41:$CU$41,1,0))-(10-COUNTA(resultats!$A$2:$CU$2))} -> 1 | F12: {=SUM((MOD(COLUMN(resultats!$A12:$CU12),10)=COLUMN())*IF(resultats!$A12:$CU12=resultats!$A$41:$CU$41,1,0))-(10-COUNTA(resultats!$A$2:$CU$2))} -> 0 | G12: {=SUM((MOD(COLUMN(resultats!$A12:$CU12),10)=COLUMN())*IF(resultats!$A12:$CU12=resultats!$A$41:$CU$41,1,0))-(10-COUNTA(resultats!$A$2:$CU$2))} -> 0 | H12: {=SUM((MOD(COLUMN(resultats!$A12:$CU12),10)=COLUMN())*IF(resultats!$A12:$CU12=resultats!$A$41:$CU$41,1,0))-(10-COUNTA(resultats!$A$2:$CU$2))} -> 0 | I12: {=SUM((MOD(COLUMN(resultats!$A12:$CU12),10)=COLUMN())*IF(resultats!$A12:$CU12=resultats!$A$41:$CU$41,1,0))-(10-COUNTA(resultats!$A$2:$CU$2))} -> 0
A13: Nabila | B13: {=SUM((MOD(COLUMN(resultats!$A13:$CU13),10)=COLUMN())*IF(resultats!$A13:$CU13=resultats!$A$41:$CU$41,1,0))-(10-COUNTA(resultats!$A$2:$CU$2))} -> 2 | C13: {=SUM((MOD(COLUMN(resultats!$A13:$CU13),10)=COLUMN())*IF(resultats!$A13:$CU13=resultats!$A$41:$CU$41,1,0))-(10-COUNTA(resultats!$A$2:$CU$2))} -> 0 | D13: {=SUM((MOD(COLUMN(resultats!$A13:$CU13),10)=COLUMN())*IF(resultats!$A13:$CU13=resultats!$A$41:$CU$41,1,0))-(10-COUNTA(resultats!$A$2:$CU$2))} -> 0 | E13: {=SUM((MOD(COLUMN(resultats!$A13:$CU13),10)=COLUMN())*IF(resultats!$A13:$CU13=resultats!$A$41:$CU$41,1,0))-(10-COUNTA(resultats!$A$2:$CU$2))} -> 0 | F13: {=SUM((MOD(COLUMN(resultats!$A13:$CU13),10)=COLUMN())*IF(resultats!$A13:$CU13=resultats!$A$41:$CU$41,1,0))-(10-COUNTA(resultats!$A$2:$CU$2))} -> 0 | G13: {=SUM((MOD(COLUMN(resultats!$A13:$CU13),10)=COLUMN())*IF(resultats!$A13:$CU13=resultats!$A$41:$CU$41,1,0))-(10-COUNTA(resultats!$A$2:$CU$2))} -> 0 | H13: {=SUM((MOD(COLUMN(resultats!$A13:$CU13),10)=COLUMN())*IF(resultats!$A13:$CU13=resultats!$A$41:$CU$41,1,0))-(10-COUNTA(resultats!$A$2:$CU$2))} -> 1 | I13: {=SUM((MOD(COLUMN(resultats!$A13:$CU13),10)=COLUMN())*IF(resultats!$A13:$CU13=resultats!$A$41:$CU$41,1,0))-(10-COUNTA(resultats!$A$2:$CU$2))} -> 0
A14: Abdel | B14: {=SUM((MOD(COLUMN(resultats!$A14:$CU14),10)=COLUMN())*IF(resultats!$A14:$CU14=resultats!$A$41:$CU$41,1,0))-(10-COUNTA(resultats!$A$2:$CU$2))} -> 0 | C14: {=SUM((MOD(COLUMN(resultats!$A14:$CU14),10)=COLUMN())*IF(resultats!$A14:$CU14=resultats!$A$41:$CU$41,1,0))-(10-COUNTA(resultats!$A$2:$CU$2))} -> 1 | D14: {=SUM((MOD(COLUMN(resultats!$A14:$CU14),10)=COLUMN())*IF(resultats!$A14:$CU14=resultats!$A$41:$CU$41,1,0))-(10-COUNTA(resultats!$A$2:$CU$2))} -> 1 | E14: {=SUM((MOD(COLUMN(resultats!$A14:$CU14),10)=COLUMN())*IF(resultats!$A14:$CU14=resultats!$A$41:$CU$41,1,0))-(10-COUNTA(resultats!$A$2:$CU$2))} -> 0 | F14: {=SUM((MOD(COLUMN(resultats!$A14:$CU14),10)=COLUMN())*IF(resultats!$A14:$CU14=resultats!$A$41:$CU$41,1,0))-(10-COUNTA(resultats!$A$2:$CU$2))} -> 0 | G14: {=SUM((MOD(COLUMN(resultats!$A14:$CU14),10)=COLUMN())*IF(resultats!$A14:$CU14=resultats!$A$41:$CU$41,1,0))-(10-COUNTA(resultats!$A$2:$CU$2))} -> 0 | H14: {=SUM((MOD(COLUMN(resultats!$A14:$CU14),10)=COLUMN())*IF(resultats!$A14:$CU14=resultats!$A$41:$CU$41,1,0))-(10-COUNTA(resultats!$A$2:$CU$2))} -> 0 | I14: {=SUM((MOD(COLUMN(resultats!$A14:$CU14),10)=COLUMN())*IF(resultats!$A14:$CU14=resultats!$A$41:$CU$41,1,0))-(10-COUNTA(resultats!$A$2:$CU$2))} -> 0
A15: Julie | B15: {=SUM((MOD(COLUMN(resultats!$A15:$CU15),10)=COLUMN())*IF(resultats!$A15:$CU15=resultats!$A$41:$CU$41,1,0))-(10-COUNTA(resultats!$A$2:$CU$2))} -> 0 | C15: {=SUM((MOD(COLUMN(resultats!$A15:$CU15),10)=COLUMN())*IF(resultats!$A15:$CU15=resultats!$A$41:$CU$41,1,0))-(10-COUNTA(resultats!$A$2:$CU$2))} -> 1 | D15: {=SUM((MOD(COLUMN(resultats!$A15:$CU15),10)=COLUMN())*IF(resultats!$A15:$CU15=resultats!$A$41:$CU$41,1,0))-(10-COUNTA(resultats!$A$2:$CU$2))} -> 0 | E15: {=SUM((MOD(COLUMN(resultats!$A15:$CU15),10)=COLUMN())*IF(resultats!$A15:$CU15=resultats!$A$41:$CU$41,1,0))-(10-COUNTA(resultats!$A$2:$CU$2))} -> 1 | F15: {=SUM((MOD(COLUMN(resultats!$A15:$CU15),10)=COLUMN())*IF(resultats!$A15:$CU15=resultats!$A$41:$CU$41,1,0))-(10-COUNTA(resultats!$A$2:$CU$2))} -> 0 | G15: {=SUM((MOD(COLUMN(resultats!$A15:$CU15),10)=COLUMN())*IF(resultats!$A15:$CU15=resultats!$A$41:$CU$41,1,0))-(10-COUNTA(resultats!$A$2:$CU$2))} -> 0 | H15: {=SUM((MOD(COLUMN(resultats!$A15:$CU15),10)=COLUMN())*IF(resultats!$A15:$CU15=resultats!$A$41:$CU$41,1,0))-(10-COUNTA(resultats!$A$2:$CU$2))} -> 0 | I15: {=SUM((MOD(COLUMN(resultats!$A15:$CU15),10)=COLUMN())*IF(resultats!$A15:$CU15=resultats!$A$41:$CU$41,1,0))-(10-COUNTA(resultats!$A$2:$CU$2))} -> 1
A16: Loick | B16: {=SUM((MOD(COLUMN(resultats!$A16:$CU16),10)=COLUMN())*IF(resultats!$A16:$CU16=resultats!$A$41:$CU$41,1,0))-(10-COUNTA(resultats!$A$2:$CU$2))} -> 1 | C16: {=SUM((MOD(COLUMN(resultats!$A16:$CU16),10)=COLUMN())*IF(resultats!$A16:$CU16=resultats!$A$41:$CU$41,1,0))-(10-COUNTA(resultats!$A$2:$CU$2))} -> 1 | D16: {=SUM((MOD(COLUMN(resultats!$A16:$CU16),10)=COLUMN())*IF(resultats!$A16:$CU16=resultats!$A$41:$CU$41,1,0))-(10-COUNTA(resultats!$A$2:$CU$2))} -> 0 | E16: {=SUM((MOD(COLUMN(resultats!$A16:$CU16),10)=COLUMN())*IF(resultats!$A16:$CU16=resultats!$A$41:$CU$41,1,0))-(10-COUNTA(resultats!$A$2:$CU$2))} -> 0 | F16: {=SUM((MOD(COLUMN(resultats!$A16:$CU16),10)=COLUMN())*IF(resultats!$A16:$CU16=resultats!$A$41:$CU$41,1,0))-(10-COUNTA(resultats!$A$2:$CU$2))} -> 0 | G16: {=SUM((MOD(COLUMN(resultats!$A16:$CU16),10)=COLUMN())*IF(resultats!$A16:$CU16=resultats!$A$41:$CU$41,1,0))-(10-COUNTA(resultats!$A$2:$CU$2))} -> 0 | H16: {=SUM((MOD(COLUMN(resultats!$A16:$CU16),10)=COLUMN())*IF(resultats!$A16:$CU16=resultats!$A$41:$CU$41,1,0))-(10-COUNTA(resultats!$A$2:$CU$2))} -> 1 | I16: {=SUM((MOD(COLUMN(resultats!$A16:$CU16),10)=COLUMN())*IF(resultats!$A16:$CU16=resultats!$A$41:$CU$41,1,0))-(10-COUNTA(resultats!$A$2:$CU$2))} -> 0
... A35: Alfred | B35: {=SUM((MOD(COLUMN(resultats!$A35:$CU35),10)=COLUMN())*IF(resultats!$A35:$CU35=resultats!$A$41:$CU$41,1,0))-(10-COUNTA(resultats!$A$2:$CU$2))} -> 0 | C35: {=SUM((MOD(COLUMN(resultats!$A35:$CU35),10)=COLUMN())*IF(resultats!$A35:$CU35=resultats!$A$41:$CU$41,1,0))-(10-COUNTA(resultats!$A$2:$CU$2))} -> 1 | D35: {=SUM((MOD(COLUMN(resultats!$A35:$CU35),10)=COLUMN())*IF(resultats!$A35:$CU35=resultats!$A$41:$CU$41,1,0))-(10-COUNTA(resultats!$A$2:$CU$2))} -> 1 | E35: {=SUM((MOD(COLUMN(resultats!$A35:$CU35),10)=COLUMN())*IF(resultats!$A35:$CU35=resultats!$A$41:$CU$41,1,0))-(10-COUNTA(resultats!$A$2:$CU$2))} -> 0 | F35: {=SUM((MOD(COLUMN(resultats!$A35:$CU35),10)=COLUMN())*IF(resultats!$A35:$CU35=resultats!$A$41:$CU$41,1,0))-(10-COUNTA(resultats!$A$2:$CU$2))} -> 0 | G35: {=SUM((MOD(COLUMN(resultats!$A35:$CU35),10)=COLUMN())*IF(resultats!$A35:$CU35=resultats!$A$41:$CU$41,1,0))-(10-COUNTA(resultats!$A$2:$CU$2))} -> 0 | H35: {=SUM((MOD(COLUMN(resultats!$A35:$CU35),10)=COLUMN())*IF(resultats!$A35:$CU35=resultats!$A$41:$CU$41,1,0))-(10-COUNTA(resultats!$A$2:$CU$2))} -> 0 | I35: {=SUM((MOD(COLUMN(resultats!$A35:$CU35),10)=COLUMN())*IF(resultats!$A35:$CU35=resultats!$A$41:$CU$41,1,0))-(10-COUNTA(resultats!$A$2:$CU$2))} -> 0

Sheet 2
I1: meilleur pronostiqueur pour la position d'arrivée numéro : | J1: =MID(CELL("nomfichier",J1),FIND("]",CELL("nomfichier",J1))+1,99) -> 2
I2: nom : | J2: =INDEX(A5:A35,MATCH(MAX($B$5:$I$35),OFFSET(A5,,J3,32),0)) -> Frank
I3: position : | J3: {=MIN(IF((B5:I35)=MAX($B$5:$I$35),COLUMN(B5:I35)))+1-COLUMN(B5:I35)} -> 6
A4: Pronostics
A5: Pierre | B5: {=SUM((MOD(COLUMN(resultats!$A5:$CU5),10)=COLUMN())*IF(resultats!$A5:$CU5=resultats!$A$42:$CU$42,1,0))-(10-COUNTA(resultats!$A$2:$CU$2))} -> 0 | C5: {=SUM((MOD(COLUMN(resultats!$A5:$CU5),10)=COLUMN())*IF(resultats!$A5:$CU5=resultats!$A$42:$CU$42,1,0))-(10-COUNTA(resultats!$A$2:$CU$2))} -> 0 | D5: {=SUM((MOD(COLUMN(resultats!$A5:$CU5),10)=COLUMN())*IF(resultats!$A5:$CU5=resultats!$A$42:$CU$42,1,0))-(10-COUNTA(resultats!$A$2:$CU$2))} -> 0 | E5: {=SUM((MOD(COLUMN(resultats!$A5:$CU5),10)=COLUMN())*IF(resultats!$A5:$CU5=resultats!$A$42:$CU$42,1,0))-(10-COUNTA(resultats!$A$2:$CU$2))} -> 0 | F5: {=SUM((MOD(COLUMN(resultats!$A5:$CU5),10)=COLUMN())*IF(resultats!$A5:$CU5=resultats!$A$42:$CU$42,1,0))-(10-COUNTA(resultats!$A$2:$CU$2))} -> 0 | G5: {=SUM((MOD(COLUMN(resultats!$A5:$CU5),10)=COLUMN())*IF(resultats!$A5:$CU5=resultats!$A$42:$CU$42,1,0))-(10-COUNTA(resultats!$A$2:$CU$2))} -> 0 | H5: {=SUM((MOD(COLUMN(resultats!$A5:$CU5),10)=COLUMN())*IF(resultats!$A5:$CU5=resultats!$A$42:$CU$42,1,0))-(10-COUNTA(resultats!$A$2:$CU$2))} -> 0 | I5: {=SUM((MOD(COLUMN(resultats!$A5:$CU5),10)=COLUMN())*IF(resultats!$A5:$CU5=resultats!$A$42:$CU$42,1,0))-(10-COUNTA(resultats!$A$2:$CU$2))} -> 0
A6: Paul | B6: {=SUM((MOD(COLUMN(resultats!$A6:$CU6),10)=COLUMN())*IF(resultats!$A6:$CU6=resultats!$A$42:$CU$42,1,0))-(10-COUNTA(resultats!$A$2:$CU$2))} -> 0 | C6: {=SUM((MOD(COLUMN(resultats!$A6:$CU6),10)=COLUMN())*IF(resultats!$A6:$CU6=resultats!$A$42:$CU$42,1,0))-(10-COUNTA(resultats!$A$2:$CU$2))} -> 0 | D6: {=SUM((MOD(COLUMN(resultats!$A6:$CU6),10)=COLUMN())*IF(resultats!$A6:$CU6=resultats!$A$42:$CU$42,1,0))-(10-COUNTA(resultats!$A$2:$CU$2))} -> 1 | E6: {=SUM((MOD(COLUMN(resultats!$A6:$CU6),10)=COLUMN())*IF(resultats!$A6:$CU6=resultats!$A$42:$CU$42,1,0))-(10-COUNTA(resultats!$A$2:$CU$2))} -> 0 | F6: {=SUM((MOD(COLUMN(resultats!$A6:$CU6),10)=COLUMN())*IF(resultats!$A6:$CU6=resultats!$A$42:$CU$42,1,0))-(10-COUNTA(resultats!$A$2:$CU$2))} -> 0 | G6: {=SUM((MOD(COLUMN(resultats!$A6:$CU6),10)=COLUMN())*IF(resultats!$A6:$CU6=resultats!$A$42:$CU$42,1,0))-(10-COUNTA(resultats!$A$2:$CU$2))} -> 0 | H6: {=SUM((MOD(COLUMN(resultats!$A6:$CU6),10)=COLUMN())*IF(resultats!$A6:$CU6=resultats!$A$42:$CU$42,1,0))-(10-COUNTA(resultats!$A$2:$CU$2))} -> 0 | I6: {=SUM((MOD(COLUMN(resultats!$A6:$CU6),10)=COLUMN())*IF(resultats!$A6:$CU6=resultats!$A$42:$CU$42,1,0))-(10-COUNTA(resultats!$A$2:$CU$2))} -> 0
A7: Jacques | B7: {=SUM((MOD(COLUMN(resultats!$A7:$CU7),10)=COLUMN())*IF(resultats!$A7:$CU7=resultats!$A$42:$CU$42,1,0))-(10-COUNTA(resultats!$A$2:$CU$2))} -> 0 | C7: {=SUM((MOD(COLUMN(resultats!$A7:$CU7),10)=COLUMN())*IF(resultats!$A7:$CU7=resultats!$A$42:$CU$42,1,0))-(10-COUNTA(resultats!$A$2:$CU$2))} -> 0 | D7: {=SUM((MOD(COLUMN(resultats!$A7:$CU7),10)=COLUMN())*IF(resultats!$A7:$CU7=resultats!$A$42:$CU$42,1,0))-(10-COUNTA(resultats!$A$2:$CU$2))} -> 0 | E7: {=SUM((MOD(COLUMN(resultats!$A7:$CU7),10)=COLUMN())*IF(resultats!$A7:$CU7=resultats!$A$42:$CU$42,1,0))-(10-COUNTA(resultats!$A$2:$CU$2))} -> 0 | F7: {=SUM((MOD(COLUMN(resultats!$A7:$CU7),10)=COLUMN())*IF(resultats!$A7:$CU7=resultats!$A$42:$CU$42,1,0))-(10-COUNTA(resultats!$A$2:$CU$2))} -> 0 | G7: {=SUM((MOD(COLUMN(resultats!$A7:$CU7),10)=COLUMN())*IF(resultats!$A7:$CU7=resultats!$A$42:$CU$42,1,0))-(10-COUNTA(resultats!$A$2:$CU$2))} -> 0 | H7: {=SUM((MOD(COLUMN(resultats!$A7:$CU7),10)=COLUMN())*IF(resultats!$A7:$CU7=resultats!$A$42:$CU$42,1,0))-(10-COUNTA(resultats!$A$2:$CU$2))} -> 0 | I7: {=SUM((MOD(COLUMN(resultats!$A7:$CU7),10)=COLUMN())*IF(resultats!$A7:$CU7=resultats!$A$42:$CU$42,1,0))-(10-COUNTA(resultats!$A$2:$CU$2))} -> 1
A8: Daniel | B8: {=SUM((MOD(COLUMN(resultats!$A8:$CU8),10)=COLUMN())*IF(resultats!$A8:$CU8=resultats!$A$42:$CU$42,1,0))-(10-COUNTA(resultats!$A$2:$CU$2))} -> 0 | C8: {=SUM((MOD(COLUMN(resultats!$A8:$CU8),10)=COLUMN())*IF(resultats!$A8:$CU8=resultats!$A$42:$CU$42,1,0))-(10-COUNTA(resultats!$A$2:$CU$2))} -> 0 | D8: {=SUM((MOD(COLUMN(resultats!$A8:$CU8),10)=COLUMN())*IF(resultats!$A8:$CU8=resultats!$A$42:$CU$42,1,0))-(10-COUNTA(resultats!$A$2:$CU$2))} -> 1 | E8: {=SUM((MOD(COLUMN(resultats!$A8:$CU8),10)=COLUMN())*IF(resultats!$A8:$CU8=resultats!$A$42:$CU$42,1,0))-(10-COUNTA(resultats!$A$2:$CU$2))} -> 0 | F8: {=SUM((MOD(COLUMN(resultats!$A8:$CU8),10)=COLUMN())*IF(resultats!$A8:$CU8=resultats!$A$42:$CU$42,1,0))-(10-COUNTA(resultats!$A$2:$CU$2))} -> 0 | G8: {=SUM((MOD(COLUMN(resultats!$A8:$CU8),10)=COLUMN())*IF(resultats!$A8:$CU8=resultats!$A$42:$CU$42,1,0))-(10-COUNTA(resultats!$A$2:$CU$2))} -> 0 | H8: {=SUM((MOD(COLUMN(resultats!$A8:$CU8),10)=COLUMN())*IF(resultats!$A8:$CU8=resultats!$A$42:$CU$42,1,0))-(10-COUNTA(resultats!$A$2:$CU$2))} -> 0 | I8: {=SUM((MOD(COLUMN(resultats!$A8:$CU8),10)=COLUMN())*IF(resultats!$A8:$CU8=resultats!$A$42:$CU$42,1,0))-(10-COUNTA(resultats!$A$2:$CU$2))} -> 0
A9: Louis | B9: {=SUM((MOD(COLUMN(resultats!$A9:$CU9),10)=COLUMN())*IF(resultats!$A9:$CU9=resultats!$A$42:$CU$42,1,0))-(10-COUNTA(resultats!$A$2:$CU$2))} -> 0 | C9: {=SUM((MOD(COLUMN(resultats!$A9:$CU9),10)=COLUMN())*IF(resultats!$A9:$CU9=resultats!$A$42:$CU$42,1,0))-(10-COUNTA(resultats!$A$2:$CU$2))} -> 0 | D9: {=SUM((MOD(COLUMN(resultats!$A9:$CU9),10)=COLUMN())*IF(resultats!$A9:$CU9=resultats!$A$42:$CU$42,1,0))-(10-COUNTA(resultats!$A$2:$CU$2))} -> 1 | E9: {=SUM((MOD(COLUMN(resultats!$A9:$CU9),10)=COLUMN())*IF(resultats!$A9:$CU9=resultats!$A$42:$CU$42,1,0))-(10-COUNTA(resultats!$A$2:$CU$2))} -> 0 | F9: {=SUM((MOD(COLUMN(resultats!$A9:$CU9),10)=COLUMN())*IF(resultats!$A9:$CU9=resultats!$A$42:$CU$42,1,0))-(10-COUNTA(resultats!$A$2:$CU$2))} -> 0 | G9: {=SUM((MOD(COLUMN(resultats!$A9:$CU9),10)=COLUMN())*IF(resultats!$A9:$CU9=resultats!$A$42:$CU$42,1,0))-(10-COUNTA(resultats!$A$2:$CU$2))} -> 0 | H9: {=SUM((MOD(COLUMN(resultats!$A9:$CU9),10)=COLUMN())*IF(resultats!$A9:$CU9=resultats!$A$42:$CU$42,1,0))-(10-COUNTA(resultats!$A$2:$CU$2))} -> 0 | I9: {=SUM((MOD(COLUMN(resultats!$A9:$CU9),10)=COLUMN())*IF(resultats!$A9:$CU9=resultats!$A$42:$CU$42,1,0))-(10-COUNTA(resultats!$A$2:$CU$2))} -> 0
A10: Philippe | B10: {=SUM((MOD(COLUMN(resultats!$A10:$CU10),10)=COLUMN())*IF(resultats!$A10:$CU10=resultats!$A$42:$CU$42,1,0))-(10-COUNTA(resultats!$A$2:$CU$2))} -> 0 | C10: {=SUM((MOD(COLUMN(resultats!$A10:$CU10),10)=COLUMN())*IF(resultats!$A10:$CU10=resultats!$A$42:$CU$42,1,0))-(10-COUNTA(resultats!$A$2:$CU$2))} -> 0 | D10: {=SUM((MOD(COLUMN(resultats!$A10:$CU10),10)=COLUMN())*IF(resultats!$A10:$CU10=resultats!$A$42:$CU$42,1,0))-(10-COUNTA(resultats!$A$2:$CU$2))} -> 0 | E10: {=SUM((MOD(COLUMN(resultats!$A10:$CU10),10)=COLUMN())*IF(resultats!$A10:$CU10=resultats!$A$42:$CU$42,1,0))-(10-COUNTA(resultats!$A$2:$CU$2))} -> 0 | F10: {=SUM((MOD(COLUMN(resultats!$A10:$CU10),10)=COLUMN())*IF(resultats!$A10:$CU10=resultats!$A$42:$CU$42,1,0))-(10-COUNTA(resultats!$A$2:$CU$2))} -> 0 | G10: {=SUM((MOD(COLUMN(resultats!$A10:$CU10),10)=COLUMN())*IF(resultats!$A10:$CU10=resultats!$A$42:$CU$42,1,0))-(10-COUNTA(resultats!$A$2:$CU$2))} -> 0 | H10: {=SUM((MOD(COLUMN(resultats!$A10:$CU10),10)=COLUMN())*IF(resultats!$A10:$CU10=resultats!$A$42:$CU$42,1,0))-(10-COUNTA(resultats!$A$2:$CU$2))} -> 1 | I10: {=SUM((MOD(COLUMN(resultats!$A10:$CU10),10)=COLUMN())*IF(resultats!$A10:$CU10=resultats!$A$42:$CU$42,1,0))-(10-COUNTA(resultats!$A$2:$CU$2))} -> 0
A11: Olivier | B11: {=SUM((MOD(COLUMN(resultats!$A11:$CU11),10)=COLUMN())*IF(resultats!$A11:$CU11=resultats!$A$42:$CU$42,1,0))-(10-COUNTA(resultats!$A$2:$CU$2))} -> 0 | C11: {=SUM((MOD(COLUMN(resultats!$A11:$CU11),10)=COLUMN())*IF(resultats!$A11:$CU11=resultats!$A$42:$CU$42,1,0))-(10-COUNTA(resultats!$A$2:$CU$2))} -> 0 | D11: {=SUM((MOD(COLUMN(resultats!$A11:$CU11),10)=COLUMN())*IF(resultats!$A11:$CU11=resultats!$A$42:$CU$42,1,0))-(10-COUNTA(resultats!$A$2:$CU$2))} -> 0 | E11: {=SUM((MOD(COLUMN(resultats!$A11:$CU11),10)=COLUMN())*IF(resultats!$A11:$CU11=resultats!$A$42:$CU$42,1,0))-(10-COUNTA(resultats!$A$2:$CU$2))} -> 0 | F11: {=SUM((MOD(COLUMN(resultats!$A11:$CU11),10)=COLUMN())*IF(resultats!$A11:$CU11=resultats!$A$42:$CU$42,1,0))-(10-COUNTA(resultats!$A$2:$CU$2))} -> 0 | G11: {=SUM((MOD(COLUMN(resultats!$A11:$CU11),10)=COLUMN())*IF(resultats!$A11:$CU11=resultats!$A$42:$CU$42,1,0))-(10-COUNTA(resultats!$A$2:$CU$2))} -> 1 | H11: {=SUM((MOD(COLUMN(resultats!$A11:$CU11),10)=COLUMN())*IF(resultats!$A11:$CU11=resultats!$A$42:$CU$42,1,0))-(10-COUNTA(resultats!$A$2:$CU$2))} -> 0 | I11: {=SUM((MOD(COLUMN(resultats!$A11:$CU11),10)=COLUMN())*IF(resultats!$A11:$CU11=resultats!$A$42:$CU$42,1,0))-(10-COUNTA(resultats!$A$2:$CU$2))} -> 1
A12: Jospeh | B12: {=SUM((MOD(COLUMN(resultats!$A12:$CU12),10)=COLUMN())*IF(resultats!$A12:$CU12=resultats!$A$42:$CU$42,1,0))-(10-COUNTA(resultats!$A$2:$CU$2))} -> 0 | C12: {=SUM((MOD(COLUMN(resultats!$A12:$CU12),10)=COLUMN())*IF(resultats!$A12:$CU12=resultats!$A$42:$CU$42,1,0))-(10-COUNTA(resultats!$A$2:$CU$2))} -> 0 | D12: {=SUM((MOD(COLUMN(resultats!$A12:$CU12),10)=COLUMN())*IF(resultats!$A12:$CU12=resultats!$A$42:$CU$42,1,0))-(10-COUNTA(resultats!$A$2:$CU$2))} -> 0 | E12: {=SUM((MOD(COLUMN(resultats!$A12:$CU12),10)=COLUMN())*IF(resultats!$A12:$CU12=resultats!$A$42:$CU$42,1,0))-(10-COUNTA(resultats!$A$2:$CU$2))} -> 0 | F12: {=SUM((MOD(COLUMN(resultats!$A12:$CU12),10)=COLUMN())*IF(resultats!$A12:$CU12=resultats!$A$42:$CU$42,1,0))-(10-COUNTA(resultats!$A$2:$CU$2))} -> 0 | G12: {=SUM((MOD(COLUMN(resultats!$A12:$CU12),10)=COLUMN())*IF(resultats!$A12:$CU12=resultats!$A$42:$CU$42,1,0))-(10-COUNTA(resultats!$A$2:$CU$2))} -> 1 | H12: {=SUM((MOD(COLUMN(resultats!$A12:$CU12),10)=COLUMN())*IF(resultats!$A12:$CU12=resultats!$A$42:$CU$42,1,0))-(10-COUNTA(resultats!$A$2:$CU$2))} -> 0 | I12: {=SUM((MOD(COLUMN(resultats!$A12:$CU12),10)=COLUMN())*IF(resultats!$A12:$CU12=resultats!$A$42:$CU$42,1,0))-(10-COUNTA(resultats!$A$2:$CU$2))} -> 0
A13: Nabila | B13: {=SUM((MOD(COLUMN(resultats!$A13:$CU13),10)=COLUMN())*IF(resultats!$A13:$CU13=resultats!$A$42:$CU$42,1,0))-(10-COUNTA(resultats!$A$2:$CU$2))} -> 0 | C13: {=SUM((MOD(COLUMN(resultats!$A13:$CU13),10)=COLUMN())*IF(resultats!$A13:$CU13=resultats!$A$42:$CU$42,1,0))-(10-COUNTA(resultats!$A$2:$CU$2))} -> 0 | D13: {=SUM((MOD(COLUMN(resultats!$A13:$CU13),10)=COLUMN())*IF(resultats!$A13:$CU13=resultats!$A$42:$CU$42,1,0))-(10-COUNTA(resultats!$A$2:$CU$2))} -> 0 | E13: {=SUM((MOD(COLUMN(resultats!$A13:$CU13),10)=COLUMN())*IF(resultats!$A13:$CU13=resultats!$A$42:$CU$42,1,0))-(10-COUNTA(resultats!$A$2:$CU$2))} -> 0 | F13: {=SUM((MOD(COLUMN(resultats!$A13:$CU13),10)=COLUMN())*IF(resultats!$A13:$CU13=resultats!$A$42:$CU$42,1,0))-(10-COUNTA(resultats!$A$2:$CU$2))} -> 1 | G13: {=SUM((MOD(COLUMN(resultats!$A13:$CU13),10)=COLUMN())*IF(resultats!$A13:$CU13=resultats!$A$42:$CU$42,1,0))-(10-COUNTA(resultats!$A$2:$CU$2))} -> 0 | H13: {=SUM((MOD(COLUMN(resultats!$A13:$CU13),10)=COLUMN())*IF(resultats!$A13:$CU13=resultats!$A$42:$CU$42,1,0))-(10-COUNTA(resultats!$A$2:$CU$2))} -> 0 | I13: {=SUM((MOD(COLUMN(resultats!$A13:$CU13),10)=COLUMN())*IF(resultats!$A13:$CU13=resultats!$A$42:$CU$42,1,0))-(10-COUNTA(resultats!$A$2:$CU$2))} -> 1
A14: Abdel | B14: {=SUM((MOD(COLUMN(resultats!$A14:$CU14),10)=COLUMN())*IF(resultats!$A14:$CU14=resultats!$A$42:$CU$42,1,0))-(10-COUNTA(resultats!$A$2:$CU$2))} -> 0 | C14: {=SUM((MOD(COLUMN(resultats!$A14:$CU14),10)=COLUMN())*IF(resultats!$A14:$CU14=resultats!$A$42:$CU$42,1,0))-(10-COUNTA(resultats!$A$2:$CU$2))} -> 0 | D14: {=SUM((MOD(COLUMN(resultats!$A14:$CU14),10)=COLUMN())*IF(resultats!$A14:$CU14=resultats!$A$42:$CU$42,1,0))-(10-COUNTA(resultats!$A$2:$CU$2))} -> 0 | E14: {=SUM((MOD(COLUMN(resultats!$A14:$CU14),10)=COLUMN())*IF(resultats!$A14:$CU14=resultats!$A$42:$CU$42,1,0))-(10-COUNTA(resultats!$A$2:$CU$2))} -> 0 | F14: {=SUM((MOD(COLUMN(resultats!$A14:$CU14),10)=COLUMN())*IF(resultats!$A14:$CU14=resultats!$A$42:$CU$42,1,0))-(10-COUNTA(resultats!$A$2:$CU$2))} -> 1 | G14: {=SUM((MOD(COLUMN(resultats!$A14:$CU14),10)=COLUMN())*IF(resultats!$A14:$CU14=resultats!$A$42:$CU$42,1,0))-(10-COUNTA(resultats!$A$2:$CU$2))} -> 0 | H14: {=SUM((MOD(COLUMN(resultats!$A14:$CU14),10)=COLUMN())*IF(resultats!$A14:$CU14=resultats!$A$42:$CU$42,1,0))-(10-COUNTA(resultats!$A$2:$CU$2))} -> 1 | I14: {=SUM((MOD(COLUMN(resultats!$A14:$CU14),10)=COLUMN())*IF(resultats!$A14:$CU14=resultats!$A$42:$CU$42,1,0))-(10-COUNTA(resultats!$A$2:$CU$2))} -> 0
A15: Julie | B15: {=SUM((MOD(COLUMN(resultats!$A15:$CU15),10)=COLUMN())*IF(resultats!$A15:$CU15=resultats!$A$42:$CU$42,1,0))-(10-COUNTA(resultats!$A$2:$CU$2))} -> 0 | C15: {=SUM((MOD(COLUMN(resultats!$A15:$CU15),10)=COLUMN())*IF(resultats!$A15:$CU15=resultats!$A$42:$CU$42,1,0))-(10-COUNTA(resultats!$A$2:$CU$2))} -> 0 | D15: {=SUM((MOD(COLUMN(resultats!$A15:$CU15),10)=COLUMN())*IF(resultats!$A15:$CU15=resultats!$A$42:$CU$42,1,0))-(10-COUNTA(resultats!$A$2:$CU$2))} -> 0 | E15: {=SUM((MOD(COLUMN(resultats!$A15:$CU15),10)=COLUMN())*IF(resultats!$A15:$CU15=resultats!$A$42:$CU$42,1,0))-(10-COUNTA(resultats!$A$2:$CU$2))} -> 0 | F15: {=SUM((MOD(COLUMN(resultats!$A15:$CU15),10)=COLUMN())*IF(resultats!$A15:$CU15=resultats!$A$42:$CU$42,1,0))-(10-COUNTA(resultats!$A$2:$CU$2))} -> 0 | G15: {=SUM((MOD(COLUMN(resultats!$A15:$CU15),10)=COLUMN())*IF(resultats!$A15:$CU15=resultats!$A$42:$CU$42,1,0))-(10-COUNTA(resultats!$A$2:$CU$2))} -> 0 | H15: {=SUM((MOD(COLUMN(resultats!$A15:$CU15),10)=COLUMN())*IF(resultats!$A15:$CU15=resultats!$A$42:$CU$42,1,0))-(10-COUNTA(resultats!$A$2:$CU$2))} -> 1 | I15: {=SUM((MOD(COLUMN(resultats!$A15:$CU15),10)=COLUMN())*IF(resultats!$A15:$CU15=resultats!$A$42:$CU$42,1,0))-(10-COUNTA(resultats!$A$2:$CU$2))} -> 0
A16: Loick | B16: {=SUM((MOD(COLUMN(resultats!$A16:$CU16),10)=COLUMN())*IF(resultats!$A16:$CU16=resultats!$A$42:$CU$42,1,0))-(10-COUNTA(resultats!$A$2:$CU$2))} -> 0 | C16: {=SUM((MOD(COLUMN(resultats!$A16:$CU16),10)=COLUMN())*IF(resultats!$A16:$CU16=resultats!$A$42:$CU$42,1,0))-(10-COUNTA(resultats!$A$2:$CU$2))} -> 0 | D16: {=SUM((MOD(COLUMN(resultats!$A16:$CU16),10)=COLUMN())*IF(resultats!$A16:$CU16=resultats!$A$42:$CU$42,1,0))-(10-COUNTA(resultats!$A$2:$CU$2))} -> 0 | E16: {=SUM((MOD(COLUMN(resultats!$A16:$CU16),10)=COLUMN())*IF(resultats!$A16:$CU16=resultats!$A$42:$CU$42,1,0))-(10-COUNTA(resultats!$A$2:$CU$2))} -> 0 | F16: {=SUM((MOD(COLUMN(resultats!$A16:$CU16),10)=COLUMN())*IF(resultats!$A16:$CU16=resultats!$A$42:$CU$42,1,0))-(10-COUNTA(resultats!$A$2:$CU$2))} -> 1 | G16: {=SUM((MOD(COLUMN(resultats!$A16:$CU16),10)=COLUMN())*IF(resultats!$A16:$CU16=resultats!$A$42:$CU$42,1,0))-(10-COUNTA(resultats!$A$2:$CU$2))} -> 1 | H16: {=SUM((MOD(COLUMN(resultats!$A16:$CU16),10)=COLUMN())*IF(resultats!$A16:$CU16=resultats!$A$42:$CU$42,1,0))-(10-COUNTA(resultats!$A$2:$CU$2))} -> 0 | I16: {=SUM((MOD(COLUMN(resultats!$A16:$CU16),10)=COLUMN())*IF(resultats!$A16:$CU16=resultats!$A$42:$CU$42,1,0))-(10-COUNTA(resultats!$A$2:$CU$2))} -> 0
... A35: Alfred | B35: {=SUM((MOD(COLUMN(resultats!$A35:$CU35),10)=COLUMN())*IF(resultats!$A35:$CU35=resultats!$A$42:$CU$42,1,0))-(10-COUNTA(resultats!$A$2:$CU$2))} -> 0 | C35: {=SUM((MOD(COLUMN(resultats!$A35:$CU35),10)=COLUMN())*IF(resultats!$A35:$CU35=resultats!$A$42:$CU$42,1,0))-(10-COUNTA(resultats!$A$2:$CU$2))} -> 0 | D35: {=SUM((MOD(COLUMN(resultats!$A35:$CU35),10)=COLUMN())*IF(resultats!$A35:$CU35=resultats!$A$42:$CU$42,1,0))-(10-COUNTA(resultats!$A$2:$CU$2))} -> 0 | E35: {=SUM((MOD(COLUMN(resultats!$A35:$CU35),10)=COLUMN())*IF(resultats!$A35:$CU35=resultats!$A$42:$CU$42,1,0))-(10-COUNTA(resultats!$A$2:$CU$2))} -> 0 | F35: {=SUM((MOD(COLUMN(resultats!$A35:$CU35),10)=COLUMN())*IF(resultats!$A35:$CU35=resultats!$A$42:$CU$42,1,0))-(10-COUNTA(resultats!$A$2:$CU$2))} -> 0 | G35: {=SUM((MOD(COLUMN(resultats!$A35:$CU35),10)=COLUMN())*IF(resultats!$A35:$CU35=resultats!$A$42:$CU$42,1,0))-(10-COUNTA(resultats!$A$2:$CU$2))} -> 1 | H35: {=SUM((MOD(COLUMN(resultats!$A35:$CU35),10)=COLUMN())*IF(resultats!$A35:$CU35=resultats!$A$42:$CU$42,1,0))-(10-COUNTA(resultats!$A$2:$CU$2))} -> 1 | I35: {=SUM((MOD(COLUMN(resultats!$A35:$CU35),10)=COLUMN())*IF(resultats!$A35:$CU35=resultats!$A$42:$CU$42,1,0))-(10-COUNTA(resultats!$A$2:$CU$2))} -> 0

Sheet 3
I1: meilleur pronostiqueur pour la position d'arrivée numéro : | J1: =MID(CELL("nomfichier",J1),FIND("]",CELL("nomfichier",J1))+1,99) -> 3
I2: nom : | J2: =INDEX(A5:A35,MATCH(MAX($B$5:$I$35),OFFSET(A5,,J3,32),0)) -> Mac-Andrée
I3: position : | J3: {=MIN(IF((B5:I35)=MAX($B$5:$I$35),COLUMN(B5:I35)))+1-COLUMN(B5:I35)} -> 2
A4: Pronostics
A5: Pierre | B5: {=SUM((MOD(COLUMN(resultats!$A5:$CU5),10)=COLUMN())*IF(resultats!$A5:$CU5=resultats!$A$43:$CU$43,1,0))-(10-COUNTA(resultats!$A$2:$CU$2))} -> 1 | C5: {=SUM((MOD(COLUMN(resultats!$A5:$CU5),10)=COLUMN())*IF(resultats!$A5:$CU5=resultats!$A$43:$CU$43,1,0))-(10-COUNTA(resultats!$A$2:$CU$2))} -> 0 | D5: {=SUM((MOD(COLUMN(resultats!$A5:$CU5),10)=COLUMN())*IF(resultats!$A5:$CU5=resultats!$A$43:$CU$43,1,0))-(10-COUNTA(resultats!$A$2:$CU$2))} -> 1 | E5: {=SUM((MOD(COLUMN(resultats!$A5:$CU5),10)=COLUMN())*IF(resultats!$A5:$CU5=resultats!$A$43:$CU$43,1,0))-(10-COUNTA(resultats!$A$2:$CU$2))} -> 0 | F5: {=SUM((MOD(COLUMN(resultats!$A5:$CU5),10)=COLUMN())*IF(resultats!$A5:$CU5=resultats!$A$43:$CU$43,1,0))-(10-COUNTA(resultats!$A$2:$CU$2))} -> 0 | G5: {=SUM((MOD(COLUMN(resultats!$A5:$CU5),10)=COLUMN())*IF(resultats!$A5:$CU5=resultats!$A$43:$CU$43,1,0))-(10-COUNTA(resultats!$A$2:$CU$2))} -> 0 | H5: {=SUM((MOD(COLUMN(resultats!$A5:$CU5),10)=COLUMN())*IF(resultats!$A5:$CU5=resultats!$A$43:$CU$43,1,0))-(10-COUNTA(resultats!$A$2:$CU$2))} -> 0 | I5: {=SUM((MOD(COLUMN(resultats!$A5:$CU5),10)=COLUMN())*IF(resultats!$A5:$CU5=resultats!$A$43:$CU$43,1,0))-(10-COUNTA(resultats!$A$2:$CU$2))} -> 0
A6: Paul | B6: {=SUM((MOD(COLUMN(resultats!$A6:$CU6),10)=COLUMN())*IF(resultats!$A6:$CU6=resultats!$A$43:$CU$43,1,0))-(10-COUNTA(resultats!$A$2:$CU$2))} -> 0 | C6: {=SUM((MOD(COLUMN(resultats!$A6:$CU6),10)=COLUMN())*IF(resultats!$A6:$CU6=resultats!$A$43:$CU$43,1,0))-(10-COUNTA(resultats!$A$2:$CU$2))} -> 1 | D6: {=SUM((MOD(COLUMN(resultats!$A6:$CU6),10)=COLUMN())*IF(resultats!$A6:$CU6=resultats!$A$43:$CU$43,1,0))-(10-COUNTA(resultats!$A$2:$CU$2))} -> 0 | E6: {=SUM((MOD(COLUMN(resultats!$A6:$CU6),10)=COLUMN())*IF(resultats!$A6:$CU6=resultats!$A$43:$CU$43,1,0))-(10-COUNTA(resultats!$A$2:$CU$2))} -> 0 | F6: {=SUM((MOD(COLUMN(resultats!$A6:$CU6),10)=COLUMN())*IF(resultats!$A6:$CU6=resultats!$A$43:$CU$43,1,0))-(10-COUNTA(resultats!$A$2:$CU$2))} -> 0 | G6: {=SUM((MOD(COLUMN(resultats!$A6:$CU6),10)=COLUMN())*IF(resultats!$A6:$CU6=resultats!$A$43:$CU$43,1,0))-(10-COUNTA(resultats!$A$2:$CU$2))} -> 1 | H6: {=SUM((MOD(COLUMN(resultats!$A6:$CU6),10)=COLUMN())*IF(resultats!$A6:$CU6=resultats!$A$43:$CU$43,1,0))-(10-COUNTA(resultats!$A$2:$CU$2))} -> 0 | I6: {=SUM((MOD(COLUMN(resultats!$A6:$CU6),10)=COLUMN())*IF(resultats!$A6:$CU6=resultats!$A$43:$CU$43,1,0))-(10-COUNTA(resultats!$A$2:$CU$2))} -> 0
A7: Jacques | B7: {=SUM((MOD(COLUMN(resultats!$A7:$CU7),10)=COLUMN())*IF(resultats!$A7:$CU7=resultats!$A$43:$CU$43,1,0))-(10-COUNTA(resultats!$A$2:$CU$2))} -> 1 | C7: {=SUM((MOD(COLUMN(resultats!$A7:$CU7),10)=COLUMN())*IF(resultats!$A7:$CU7=resultats!$A$43:$CU$43,1,0))-(10-COUNTA(resultats!$A$2:$CU$2))} -> 0 | D7: {=SUM((MOD(COLUMN(resultats!$A7:$CU7),10)=COLUMN())*IF(resultats!$A7:$CU7=resultats!$A$43:$CU$43,1,0))-(10-COUNTA(resultats!$A$2:$CU$2))} -> 1 | E7: {=SUM((MOD(COLUMN(resultats!$A7:$CU7),10)=COLUMN())*IF(resultats!$A7:$CU7=resultats!$A$43:$CU$43,1,0))-(10-COUNTA(resultats!$A$2:$CU$2))} -> 0 | F7: {=SUM((MOD(COLUMN(resultats!$A7:$CU7),10)=COLUMN())*IF(resultats!$A7:$CU7=resultats!$A$43:$CU$43,1,0))-(10-COUNTA(resultats!$A$2:$CU$2))} -> 0 | G7: {=SUM((MOD(COLUMN(resultats!$A7:$CU7),10)=COLUMN())*IF(resultats!$A7:$CU7=resultats!$A$43:$CU$43,1,0))-(10-COUNTA(resultats!$A$2:$CU$2))} -> 0 | H7: {=SUM((MOD(COLUMN(resultats!$A7:$CU7),10)=COLUMN())*IF(resultats!$A7:$CU7=resultats!$A$43:$CU$43,1,0))-(10-COUNTA(resultats!$A$2:$CU$2))} -> 0 | I7: {=SUM((MOD(COLUMN(resultats!$A7:$CU7),10)=COLUMN())*IF(resultats!$A7:$CU7=resultats!$A$43:$CU$43,1,0))-(10-COUNTA(resultats!$A$2:$CU$2))} -> 0
A8: Daniel | B8: {=SUM((MOD(COLUMN(resultats!$A8:$CU8),10)=COLUMN())*IF(resultats!$A8:$CU8=resultats!$A$43:$CU$43,1,0))-(10-COUNTA(resultats!$A$2:$CU$2))} -> 0 | C8: {=SUM((MOD(COLUMN(resultats!$A8:$CU8),10)=COLUMN())*IF(resultats!$A8:$CU8=resultats!$A$43:$CU$43,1,0))-(10-COUNTA(resultats!$A$2:$CU$2))} -> 0 | D8: {=SUM((MOD(COLUMN(resultats!$A8:$CU8),10)=COLUMN())*IF(resultats!$A8:$CU8=resultats!$A$43:$CU$43,1,0))-(10-COUNTA(resultats!$A$2:$CU$2))} -> 0 | E8: {=SUM((MOD(COLUMN(resultats!$A8:$CU8),10)=COLUMN())*IF(resultats!$A8:$CU8=resultats!$A$43:$CU$43,1,0))-(10-COUNTA(resultats!$A$2:$CU$2))} -> 0 | F8: {=SUM((MOD(COLUMN(resultats!$A8:$CU8),10)=COLUMN())*IF(resultats!$A8:$CU8=resultats!$A$43:$CU$43,1,0))-(10-COUNTA(resultats!$A$2:$CU$2))} -> 0 | G8: {=SUM((MOD(COLUMN(resultats!$A8:$CU8),10)=COLUMN())*IF(resultats!$A8:$CU8=resultats!$A$43:$CU$43,1,0))-(10-COUNTA(resultats!$A$2:$CU$2))} -> 1 | H8: {=SUM((MOD(COLUMN(resultats!$A8:$CU8),10)=COLUMN())*IF(resultats!$A8:$CU8=resultats!$A$43:$CU$43,1,0))-(10-COUNTA(resultats!$A$2:$CU$2))} -> 0 | I8: {=SUM((MOD(COLUMN(resultats!$A8:$CU8),10)=COLUMN())*IF(resultats!$A8:$CU8=resultats!$A$43:$CU$43,1,0))-(10-COUNTA(resultats!$A$2:$CU$2))} -> 0
A9: Louis | B9: {=SUM((MOD(COLUMN(resultats!$A9:$CU9),10)=COLUMN())*IF(resultats!$A9:$CU9=resultats!$A$43:$CU$43,1,0))-(10-COUNTA(resultats!$A$2:$CU$2))} -> 0 | C9: {=SUM((MOD(COLUMN(resultats!$A9:$CU9),10)=COLUMN())*IF(resultats!$A9:$CU9=resultats!$A$43:$CU$43,1,0))-(10-COUNTA(resultats!$A$2:$CU$2))} -> 0 | D9: {=SUM((MOD(COLUMN(resultats!$A9:$CU9),10)=COLUMN())*IF(resultats!$A9:$CU9=resultats!$A$43:$CU$43,1,0))-(10-COUNTA(resultats!$A$2:$CU$2))} -> 0 | E9: {=SUM((MOD(COLUMN(resultats!$A9:$CU9),10)=COLUMN())*IF(resultats!$A9:$CU9=resultats!$A$43:$CU$43,1,0))-(10-COUNTA(resultats!$A$2:$CU$2))} -> 0 | F9: {=SUM((MOD(COLUMN(resultats!$A9:$CU9),10)=COLUMN())*IF(resultats!$A9:$CU9=resultats!$A$43:$CU$43,1,0))-(10-COUNTA(resultats!$A$2:$CU$2))} -> 0 | G9: {=SUM((MOD(COLUMN(resultats!$A9:$CU9),10)=COLUMN())*IF(resultats!$A9:$CU9=resultats!$A$43:$CU$43,1,0))-(10-COUNTA(resultats!$A$2:$CU$2))} -> 1 | H9: {=SUM((MOD(COLUMN(resultats!$A9:$CU9),10)=COLUMN())*IF(resultats!$A9:$CU9=resultats!$A$43:$CU$43,1,0))-(10-COUNTA(resultats!$A$2:$CU$2))} -> 0 | I9: {=SUM((MOD(COLUMN(resultats!$A9:$CU9),10)=COLUMN())*IF(resultats!$A9:$CU9=resultats!$A$43:$CU$43,1,0))-(10-COUNTA(resultats!$A$2:$CU$2))} -> 1
A10: Philippe | B10: {=SUM((MOD(COLUMN(resultats!$A10:$CU10),10)=COLUMN())*IF(resultats!$A10:$CU10=resultats!$A$43:$CU$43,1,0))-(10-COUNTA(resultats!$A$2:$CU$2))} -> 0 | C10: {=SUM((MOD(COLUMN(resultats!$A10:$CU10),10)=COLUMN())*IF(resultats!$A10:$CU10=resultats!$A$43:$CU$43,1,0))-(10-COUNTA(resultats!$A$2:$CU$2))} -> 0 | D10: {=SUM((MOD(COLUMN(resultats!$A10:$CU10),10)=COLUMN())*IF(resultats!$A10:$CU10=resultats!$A$43:$CU$43,1,0))-(10-COUNTA(resultats!$A$2:$CU$2))} -> 2 | E10: {=SUM((MOD(COLUMN(resultats!$A10:$CU10),10)=COLUMN())*IF(resultats!$A10:$CU10=resultats!$A$43:$CU$43,1,0))-(10-COUNTA(resultats!$A$2:$CU$2))} -> 0 | F10: {=SUM((MOD(COLUMN(resultats!$A10:$CU10),10)=COLUMN())*IF(resultats!$A10:$CU10=resultats!$A$43:$CU$43,1,0))-(10-COUNTA(resultats!$A$2:$CU$2))} -> 0 | G10: {=SUM((MOD(COLUMN(resultats!$A10:$CU10),10)=COLUMN())*IF(resultats!$A10:$CU10=resultats!$A$43:$CU$43,1,0))-(10-COUNTA(resultats!$A$2:$CU$2))} -> 0 | H10: {=SUM((MOD(COLUMN(resultats!$A10:$CU10),10)=COLUMN())*IF(resultats!$A10:$CU10=resultats!$A$43:$CU$43,1,0))-(10-COUNTA(resultats!$A$2:$CU$2))} -> 0 | I10: {=SUM((MOD(COLUMN(resultats!$A10:$CU10),10)=COLUMN())*IF(resultats!$A10:$CU10=resultats!$A$43:$CU$43,1,0))-(10-COUNTA(resultats!$A$2:$CU$2))} -> 0
A11: Olivier | B11: {=SUM((MOD(COLUMN(resultats!$A11:$CU11),10)=COLUMN())*IF(resultats!$A11:$CU11=resultats!$A$43:$CU$43,1,0))-(10-COUNTA(resultats!$A$2:$CU$2))} -> 0 | C11: {=SUM((MOD(COLUMN(resultats!$A11:$CU11),10)=COLUMN())*IF(resultats!$A11:$CU11=resultats!$A$43:$CU$43,1,0))-(10-COUNTA(resultats!$A$2:$CU$2))} -> 1 | D11: {=SUM((MOD(COLUMN(resultats!$A11:$CU11),10)=COLUMN())*IF(resultats!$A11:$CU11=resultats!$A$43:$CU$43,1,0))-(10-COUNTA(resultats!$A$2:$CU$2))} -> 1 | E11: {=SUM((MOD(COLUMN(resultats!$A11:$CU11),10)=COLUMN())*IF(resultats!$A11:$CU11=resultats!$A$43:$CU$43,1,0))-(10-COUNTA(resultats!$A$2:$CU$2))} -> 0 | F11: {=SUM((MOD(COLUMN(resultats!$A11:$CU11),10)=COLUMN())*IF(resultats!$A11:$CU11=resultats!$A$43:$CU$43,1,0))-(10-COUNTA(resultats!$A$2:$CU$2))} -> 0 | G11: {=SUM((MOD(COLUMN(resultats!$A11:$CU11),10)=COLUMN())*IF(resultats!$A11:$CU11=resultats!$A$43:$CU$43,1,0))-(10-COUNTA(resultats!$A$2:$CU$2))} -> 0 | H11: {=SUM((MOD(COLUMN(resultats!$A11:$CU11),10)=COLUMN())*IF(resultats!$A11:$CU11=resultats!$A$43:$CU$43,1,0))-(10-COUNTA(resultats!$A$2:$CU$2))} -> 0 | I11: {=SUM((MOD(COLUMN(resultats!$A11:$CU11),10)=COLUMN())*IF(resultats!$A11:$CU11=resultats!$A$43:$CU$43,1,0))-(10-COUNTA(resultats!$A$2:$CU$2))} -> 0
A12: Jospeh | B12: {=SUM((MOD(COLUMN(resultats!$A12:$CU12),10)=COLUMN())*IF(resultats!$A12:$CU12=resultats!$A$43:$CU$43,1,0))-(10-COUNTA(resultats!$A$2:$CU$2))} -> 0 | C12: {=SUM((MOD(COLUMN(resultats!$A12:$CU12),10)=COLUMN())*IF(resultats!$A12:$CU12=resultats!$A$43:$CU$43,1,0))-(10-COUNTA(resultats!$A$2:$CU$2))} -> 1 | D12: {=SUM((MOD(COLUMN(resultats!$A12:$CU12),10)=COLUMN())*IF(resultats!$A12:$CU12=resultats!$A$43:$CU$43,1,0))-(10-COUNTA(resultats!$A$2:$CU$2))} -> 0 | E12: {=SUM((MOD(COLUMN(resultats!$A12:$CU12),10)=COLUMN())*IF(resultats!$A12:$CU12=resultats!$A$43:$CU$43,1,0))-(10-COUNTA(resultats!$A$2:$CU$2))} -> 0 | F12: {=SUM((MOD(COLUMN(resultats!$A12:$CU12),10)=COLUMN())*IF(resultats!$A12:$CU12=resultats!$A$43:$CU$43,1,0))-(10-COUNTA(resultats!$A$2:$CU$2))} -> 0 | G12: {=SUM((MOD(COLUMN(resultats!$A12:$CU12),10)=COLUMN())*IF(resultats!$A12:$CU12=resultats!$A$43:$CU$43,1,0))-(10-COUNTA(resultats!$A$2:$CU$2))} -> 0 | H12: {=SUM((MOD(COLUMN(resultats!$A12:$CU12),10)=COLUMN())*IF(resultats!$A12:$CU12=resultats!$A$43:$CU$43,1,0))-(10-COUNTA(resultats!$A$2:$CU$2))} -> 0 | I12: {=SUM((MOD(COLUMN(resultats!$A12:$CU12),10)=COLUMN())*IF(resultats!$A12:$CU12=resultats!$A$43:$CU$43,1,0))-(10-COUNTA(resultats!$A$2:$CU$2))} -> 1
A13: Nabila | B13: {=SUM((MOD(COLUMN(resultats!$A13:$CU13),10)=COLUMN())*IF(resultats!$A13:$CU13=resultats!$A$43:$CU$43,1,0))-(10-COUNTA(resultats!$A$2:$CU$2))} -> 0 | C13: {=SUM((MOD(COLUMN(resultats!$A13:$CU13),10)=COLUMN())*IF(resultats!$A13:$CU13=resultats!$A$43:$CU$43,1,0))-(10-COUNTA(resultats!$A$2:$CU$2))} -> 0 | D13: {=SUM((MOD(COLUMN(resultats!$A13:$CU13),10)=COLUMN())*IF(resultats!$A13:$CU13=resultats!$A$43:$CU$43,1,0))-(10-COUNTA(resultats!$A$2:$CU$2))} -> 0 | E13: {=SUM((MOD(COLUMN(resultats!$A13:$CU13),10)=COLUMN())*IF(resultats!$A13:$CU13=resultats!$A$43:$CU$43,1,0))-(10-COUNTA(resultats!$A$2:$CU$2))} -> 1 | F13: {=SUM((MOD(COLUMN(resultats!$A13:$CU13),10)=COLUMN())*IF(resultats!$A13:$CU13=resultats!$A$43:$CU$43,1,0))-(10-COUNTA(resultats!$A$2:$CU$2))} -> 0 | G13: {=SUM((MOD(COLUMN(resultats!$A13:$CU13),10)=COLUMN())*IF(resultats!$A13:$CU13=resultats!$A$43:$CU$43,1,0))-(10-COUNTA(resultats!$A$2:$CU$2))} -> 0 | H13: {=SUM((MOD(COLUMN(resultats!$A13:$CU13),10)=COLUMN())*IF(resultats!$A13:$CU13=resultats!$A$43:$CU$43,1,0))-(10-COUNTA(resultats!$A$2:$CU$2))} -> 0 | I13: {=SUM((MOD(COLUMN(resultats!$A13:$CU13),10)=COLUMN())*IF(resultats!$A13:$CU13=resultats!$A$43:$CU$43,1,0))-(10-COUNTA(resultats!$A$2:$CU$2))} -> 0
A14: Abdel | B14: {=SUM((MOD(COLUMN(resultats!$A14:$CU14),10)=COLUMN())*IF(resultats!$A14:$CU14=resultats!$A$43:$CU$43,1,0))-(10-COUNTA(resultats!$A$2:$CU$2))} -> 0 | C14: {=SUM((MOD(COLUMN(resultats!$A14:$CU14),10)=COLUMN())*IF(resultats!$A14:$CU14=resultats!$A$43:$CU$43,1,0))-(10-COUNTA(resultats!$A$2:$CU$2))} -> 1 | D14: {=SUM((MOD(COLUMN(resultats!$A14:$CU14),10)=COLUMN())*IF(resultats!$A14:$CU14=resultats!$A$43:$CU$43,1,0))-(10-COUNTA(resultats!$A$2:$CU$2))} -> 0 | E14: {=SUM((MOD(COLUMN(resultats!$A14:$CU14),10)=COLUMN())*IF(resultats!$A14:$CU14=resultats!$A$43:$CU$43,1,0))-(10-COUNTA(resultats!$A$2:$CU$2))} -> 0 | F14: {=SUM((MOD(COLUMN(resultats!$A14:$CU14),10)=COLUMN())*IF(resultats!$A14:$CU14=resultats!$A$43:$CU$43,1,0))-(10-COUNTA(resultats!$A$2:$CU$2))} -> 0 | G14: {=SUM((MOD(COLUMN(resultats!$A14:$CU14),10)=COLUMN())*IF(resultats!$A14:$CU14=resultats!$A$43:$CU$43,1,0))-(10-COUNTA(resultats!$A$2:$CU$2))} -> 0 | H14: {=SUM((MOD(COLUMN(resultats!$A14:$CU14),10)=COLUMN())*IF(resultats!$A14:$CU14=resultats!$A$43:$CU$43,1,0))-(10-COUNTA(resultats!$A$2:$CU$2))} -> 0 | I14: {=SUM((MOD(COLUMN(resultats!$A14:$CU14),10)=COLUMN())*IF(resultats!$A14:$CU14=resultats!$A$43:$CU$43,1,0))-(10-COUNTA(resultats!$A$2:$CU$2))} -> 1
A15: Julie | B15: {=SUM((MOD(COLUMN(resultats!$A15:$CU15),10)=COLUMN())*IF(resultats!$A15:$CU15=resultats!$A$43:$CU$43,1,0))-(10-COUNTA(resultats!$A$2:$CU$2))} -> 0 | C15: {=SUM((MOD(COLUMN(resultats!$A15:$CU15),10)=COLUMN())*IF(resultats!$A15:$CU15=resultats!$A$43:$CU$43,1,0))-(10-COUNTA(resultats!$A$2:$CU$2))} -> 0 | D15: {=SUM((MOD(COLUMN(resultats!$A15:$CU15),10)=COLUMN())*IF(resultats!$A15:$CU15=resultats!$A$43:$CU$43,1,0))-(10-COUNTA(resultats!$A$2:$CU$2))} -> 0 | E15: {=SUM((MOD(COLUMN(resultats!$A15:$CU15),10)=COLUMN())*IF(resultats!$A15:$CU15=resultats!$A$43:$CU$43,1,0))-(10-COUNTA(resultats!$A$2:$CU$2))} -> 0 | F15: {=SUM((MOD(COLUMN(resultats!$A15:$CU15),10)=COLUMN())*IF(resultats!$A15:$CU15=resultats!$A$43:$CU$43,1,0))-(10-COUNTA(resultats!$A$2:$CU$2))} -> 0 | G15: {=SUM((MOD(COLUMN(resultats!$A15:$CU15),10)=COLUMN())*IF(resultats!$A15:$CU15=resultats!$A$43:$CU$43,1,0))-(10-COUNTA(resultats!$A$2:$CU$2))} -> 0 | H15: {=SUM((MOD(COLUMN(resultats!$A15:$CU15),10)=COLUMN())*IF(resultats!$A15:$CU15=resultats!$A$43:$CU$43,1,0))-(10-COUNTA(resultats!$A$2:$CU$2))} -> 0 | I15: {=SUM((MOD(COLUMN(resultats!$A15:$CU15),10)=COLUMN())*IF(resultats!$A15:$CU15=resultats!$A$43:$CU$43,1,0))-(10-COUNTA(resultats!$A$2:$CU$2))} -> 0
A16: Loick | B16: {=SUM((MOD(COLUMN(resultats!$A16:$CU16),10)=COLUMN())*IF(resultats!$A16:$CU16=resultats!$A$43:$CU$43,1,0))-(10-COUNTA(resultats!$A$2:$CU$2))} -> 0 | C16: {=SUM((MOD(COLUMN(resultats!$A16:$CU16),10)=COLUMN())*IF(resultats!$A16:$CU16=resultats!$A$43:$CU$43,1,0))-(10-COUNTA(resultats!$A$2:$CU$2))} -> 0 | D16: {=SUM((MOD(COLUMN(resultats!$A16:$CU16),10)=COLUMN())*IF(resultats!$A16:$CU16=resultats!$A$43:$CU$43,1,0))-(10-COUNTA(resultats!$A$2:$CU$2))} -> 0 | E16: {=SUM((MOD(COLUMN(resultats!$A16:$CU16),10)=COLUMN())*IF(resultats!$A16:$CU16=resultats!$A$43:$CU$43,1,0))-(10-COUNTA(resultats!$A$2:$CU$2))} -> 0 | F16: {=SUM((MOD(COLUMN(resultats!$A16:$CU16),10)=COLUMN())*IF(resultats!$A16:$CU16=resultats!$A$43:$CU$43,1,0))-(10-COUNTA(resultats!$A$2:$CU$2))} -> 0 | G16: {=SUM((MOD(COLUMN(resultats!$A16:$CU16),10)=COLUMN())*IF(resultats!$A16:$CU16=resultats!$A$43:$CU$43,1,0))-(10-COUNTA(resultats!$A$2:$CU$2))} -> 1 | H16: {=SUM((MOD(COLUMN(resultats!$A16:$CU16),10)=COLUMN())*IF(resultats!$A16:$CU16=resultats!$A$43:$CU$43,1,0))-(10-COUNTA(resultats!$A$2:$CU$2))} -> 1 | I16: {=SUM((MOD(COLUMN(resultats!$A16:$CU16),10)=COLUMN())*IF(resultats!$A16:$CU16=resultats!$A$43:$CU$43,1,0))-(10-COUNTA(resultats!$A$2:$CU$2))} -> 0
... A35: Alfred | B35: {=SUM((MOD(COLUMN(resultats!$A35:$CU35),10)=COLUMN())*IF(resultats!$A35:$CU35=resultats!$A$43:$CU$43,1,0))-(10-COUNTA(resultats!$A$2:$CU$2))} -> 0 | C35: {=SUM((MOD(COLUMN(resultats!$A35:$CU35),10)=COLUMN())*IF(resultats!$A35:$CU35=resultats!$A$43:$CU$43,1,0))-(10-COUNTA(resultats!$A$2:$CU$2))} -> 0 | D35: {=SUM((MOD(COLUMN(resultats!$A35:$CU35),10)=COLUMN())*IF(resultats!$A35:$CU35=resultats!$A$43:$CU$43,1,0))-(10-COUNTA(resultats!$A$2:$CU$2))} -> 0 | E35: {=SUM((MOD(COLUMN(resultats!$A35:$CU35),10)=COLUMN())*IF(resultats!$A35:$CU35=resultats!$A$43:$CU$43,1,0))-(10-COUNTA(resultats!$A$2:$CU$2))} -> 0 | F35: {=SUM((MOD(COLUMN(resultats!$A35:$CU35),10)=COLUMN())*IF(resultats!$A35:$CU35=resultats!$A$43:$CU$43,1,0))-(10-COUNTA(resultats!$A$2:$CU$2))} -> 0 | G35: {=SUM((MOD(COLUMN(resultats!$A35:$CU35),10)=COLUMN())*IF(resultats!$A35:$CU35=resultats!$A$43:$CU$43,1,0))-(10-COUNTA(resultats!$A$2:$CU$2))} -> 0 | H35: {=SUM((MOD(COLUMN(resultats!$A35:$CU35),10)=COLUMN())*IF(resultats!$A35:$CU35=resultats!$A$43:$CU$43,1,0))-(10-COUNTA(resultats!$A$2:$CU$2))} -> 0 | I35: {=SUM((MOD(COLUMN(resultats!$A35:$CU35),10)=COLUMN())*IF(resultats!$A35:$CU35=resultats!$A$43:$CU$43,1,0))-(10-COUNTA(resultats!$A$2:$CU$2))} -> 0

Sheet 4
I1: meilleur pronostiqueur pour la position d'arrivée numéro : | J1: =MID(CELL("nomfichier",J1),FIND("]",CELL("nomfichier",J1))+1,99) -> 4
I2: nom : | J2: =INDEX(A5:A35,MATCH(MAX($B$5:$I$35),OFFSET(A5,,J3,32),0)) -> Julie
I3: position : | J3: {=MIN(IF((B5:I35)=MAX($B$5:$I$35),COLUMN(B5:I35)))+1-COLUMN(B5:I35)} -> 8
A4: Pronostics
A5: Pierre | B5: {=SUM((MOD(COLUMN(resultats!$A5:$CU5),10)=COLUMN())*IF(resultats!$A5:$CU5=resultats!$A$44:$CU$44,1,0))-(10-COUNTA(resultats!$A$2:$CU$2))} -> 0 | C5: {=SUM((MOD(COLUMN(resultats!$A5:$CU5),10)=COLUMN())*IF(resultats!$A5:$CU5=resultats!$A$44:$CU$44,1,0))-(10-COUNTA(resultats!$A$2:$CU$2))} -> 0 | D5: {=SUM((MOD(COLUMN(resultats!$A5:$CU5),10)=COLUMN())*IF(resultats!$A5:$CU5=resultats!$A$44:$CU$44,1,0))-(10-COUNTA(resultats!$A$2:$CU$2))} -> 0 | E5: {=SUM((MOD(COLUMN(resultats!$A5:$CU5),10)=COLUMN())*IF(resultats!$A5:$CU5=resultats!$A$44:$CU$44,1,0))-(10-COUNTA(resultats!$A$2:$CU$2))} -> 1 | F5: {=SUM((MOD(COLUMN(resultats!$A5:$CU5),10)=COLUMN())*IF(resultats!$A5:$CU5=resultats!$A$44:$CU$44,1,0))-(10-COUNTA(resultats!$A$2:$CU$2))} -> 0 | G5: {=SUM((MOD(COLUMN(resultats!$A5:$CU5),10)=COLUMN())*IF(resultats!$A5:$CU5=resultats!$A$44:$CU$44,1,0))-(10-COUNTA(resultats!$A$2:$CU$2))} -> 0 | H5: {=SUM((MOD(COLUMN(resultats!$A5:$CU5),10)=COLUMN())*IF(resultats!$A5:$CU5=resultats!$A$44:$CU$44,1,0))-(10-COUNTA(resultats!$A$2:$CU$2))} -> 1 | I5: {=SUM((MOD(COLUMN(resultats!$A5:$CU5),10)=COLUMN())*IF(resultats!$A5:$CU5=resultats!$A$44:$CU$44,1,0))-(10-COUNTA(resultats!$A$2:$CU$2))} -> 0
A6: Paul | B6: {=SUM((MOD(COLUMN(resultats!$A6:$CU6),10)=COLUMN())*IF(resultats!$A6:$CU6=resultats!$A$44:$CU$44,1,0))-(10-COUNTA(resultats!$A$2:$CU$2))} -> 0 | C6: {=SUM((MOD(COLUMN(resultats!$A6:$CU6),10)=COLUMN())*IF(resultats!$A6:$CU6=resultats!$A$44:$CU$44,1,0))-(10-COUNTA(resultats!$A$2:$CU$2))} -> 0 | D6: {=SUM((MOD(COLUMN(resultats!$A6:$CU6),10)=COLUMN())*IF(resultats!$A6:$CU6=resultats!$A$44:$CU$44,1,0))-(10-COUNTA(resultats!$A$2:$CU$2))} -> 0 | E6: {=SUM((MOD(COLUMN(resultats!$A6:$CU6),10)=COLUMN())*IF(resultats!$A6:$CU6=resultats!$A$44:$CU$44,1,0))-(10-COUNTA(resultats!$A$2:$CU$2))} -> 1 | F6: {=SUM((MOD(COLUMN(resultats!$A6:$CU6),10)=COLUMN())*IF(resultats!$A6:$CU6=resultats!$A$44:$CU$44,1,0))-(10-COUNTA(resultats!$A$2:$CU$2))} -> 0 | G6: {=SUM((MOD(COLUMN(resultats!$A6:$CU6),10)=COLUMN())*IF(resultats!$A6:$CU6=resultats!$A$44:$CU$44,1,0))-(10-COUNTA(resultats!$A$2:$CU$2))} -> 0 | H6: {=SUM((MOD(COLUMN(resultats!$A6:$CU6),10)=COLUMN())*IF(resultats!$A6:$CU6=resultats!$A$44:$CU$44,1,0))-(10-COUNTA(resultats!$A$2:$CU$2))} -> 0 | I6: {=SUM((MOD(COLUMN(resultats!$A6:$CU6),10)=COLUMN())*IF(resultats!$A6:$CU6=resultats!$A$44:$CU$44,1,0))-(10-COUNTA(resultats!$A$2:$CU$2))} -> 0
A7: Jacques | B7: {=SUM((MOD(COLUMN(resultats!$A7:$CU7),10)=COLUMN())*IF(resultats!$A7:$CU7=resultats!$A$44:$CU$44,1,0))-(10-COUNTA(resultats!$A$2:$CU$2))} -> 0 | C7: {=SUM((MOD(COLUMN(resultats!$A7:$CU7),10)=COLUMN())*IF(resultats!$A7:$CU7=resultats!$A$44:$CU$44,1,0))-(10-COUNTA(resultats!$A$2:$CU$2))} -> 1 | D7: {=SUM((MOD(COLUMN(resultats!$A7:$CU7),10)=COLUMN())*IF(resultats!$A7:$CU7=resultats!$A$44:$CU$44,1,0))-(10-COUNTA(resultats!$A$2:$CU$2))} -> 0 | E7: {=SUM((MOD(COLUMN(resultats!$A7:$CU7),10)=COLUMN())*IF(resultats!$A7:$CU7=resultats!$A$44:$CU$44,1,0))-(10-COUNTA(resultats!$A$2:$CU$2))} -> 0 | F7: {=SUM((MOD(COLUMN(resultats!$A7:$CU7),10)=COLUMN())*IF(resultats!$A7:$CU7=resultats!$A$44:$CU$44,1,0))-(10-COUNTA(resultats!$A$2:$CU$2))} -> 0 | G7: {=SUM((MOD(COLUMN(resultats!$A7:$CU7),10)=COLUMN())*IF(resultats!$A7:$CU7=resultats!$A$44:$CU$44,1,0))-(10-COUNTA(resultats!$A$2:$CU$2))} -> 0 | H7: {=SUM((MOD(COLUMN(resultats!$A7:$CU7),10)=COLUMN())*IF(resultats!$A7:$CU7=resultats!$A$44:$CU$44,1,0))-(10-COUNTA(resultats!$A$2:$CU$2))} -> 0 | I7: {=SUM((MOD(COLUMN(resultats!$A7:$CU7),10)=COLUMN())*IF(resultats!$A7:$CU7=resultats!$A$44:$CU$44,1,0))-(10-COUNTA(resultats!$A$2:$CU$2))} -> 0
A8: Daniel | B8: {=SUM((MOD(COLUMN(resultats!$A8:$CU8),10)=COLUMN())*IF(resultats!$A8:$CU8=resultats!$A$44:$CU$44,1,0))-(10-COUNTA(resultats!$A$2:$CU$2))} -> 0 | C8: {=SUM((MOD(COLUMN(resultats!$A8:$CU8),10)=COLUMN())*IF(resultats!$A8:$CU8=resultats!$A$44:$CU$44,1,0))-(10-COUNTA(resultats!$A$2:$CU$2))} -> 0 | D8: {=SUM((MOD(COLUMN(resultats!$A8:$CU8),10)=COLUMN())*IF(resultats!$A8:$CU8=resultats!$A$44:$CU$44,1,0))-(10-COUNTA(resultats!$A$2:$CU$2))} -> 0 | E8: {=SUM((MOD(COLUMN(resultats!$A8:$CU8),10)=COLUMN())*IF(resultats!$A8:$CU8=resultats!$A$44:$CU$44,1,0))-(10-COUNTA(resultats!$A$2:$CU$2))} -> 0 | F8: {=SUM((MOD(COLUMN(resultats!$A8:$CU8),10)=COLUMN())*IF(resultats!$A8:$CU8=resultats!$A$44:$CU$44,1,0))-(10-COUNTA(resultats!$A$2:$CU$2))} -> 1 | G8: {=SUM((MOD(COLUMN(resultats!$A8:$CU8),10)=COLUMN())*IF(resultats!$A8:$CU8=resultats!$A$44:$CU$44,1,0))-(10-COUNTA(resultats!$A$2:$CU$2))} -> 1 | H8: {=SUM((MOD(COLUMN(resultats!$A8:$CU8),10)=COLUMN())*IF(resultats!$A8:$CU8=resultats!$A$44:$CU$44,1,0))-(10-COUNTA(resultats!$A$2:$CU$2))} -> 0 | I8: {=SUM((MOD(COLUMN(resultats!$A8:$CU8),10)=COLUMN())*IF(resultats!$A8:$CU8=resultats!$A$44:$CU$44,1,0))-(10-COUNTA(resultats!$A$2:$CU$2))} -> 0
A9: Louis | B9: {=SUM((MOD(COLUMN(resultats!$A9:$CU9),10)=COLUMN())*IF(resultats!$A9:$CU9=resultats!$A$44:$CU$44,1,0))-(10-COUNTA(resultats!$A$2:$CU$2))} -> 0 | C9: {=SUM((MOD(COLUMN(resultats!$A9:$CU9),10)=COLUMN())*IF(resultats!$A9:$CU9=resultats!$A$44:$CU$44,1,0))-(10-COUNTA(resultats!$A$2:$CU$2))} -> 0 | D9: {=SUM((MOD(COLUMN(resultats!$A9:$CU9),10)=COLUMN())*IF(resultats!$A9:$CU9=resultats!$A$44:$CU$44,1,0))-(10-COUNTA(resultats!$A$2:$CU$2))} -> 0 | E9: {=SUM((MOD(COLUMN(resultats!$A9:$CU9),10)=COLUMN())*IF(resultats!$A9:$CU9=resultats!$A$44:$CU$44,1,0))-(10-COUNTA(resultats!$A$2:$CU$2))} -> 1 | F9: {=SUM((MOD(COLUMN(resultats!$A9:$CU9),10)=COLUMN())*IF(resultats!$A9:$CU9=resultats!$A$44:$CU$44,1,0))-(10-COUNTA(resultats!$A$2:$CU$2))} -> 0 | G9: {=SUM((MOD(COLUMN(resultats!$A9:$CU9),10)=COLUMN())*IF(resultats!$A9:$CU9=resultats!$A$44:$CU$44,1,0))-(10-COUNTA(resultats!$A$2:$CU$2))} -> 0 | H9: {=SUM((MOD(COLUMN(resultats!$A9:$CU9),10)=COLUMN())*IF(resultats!$A9:$CU9=resultats!$A$44:$CU$44,1,0))-(10-COUNTA(resultats!$A$2:$CU$2))} -> 0 | I9: {=SUM((MOD(COLUMN(resultats!$A9:$CU9),10)=COLUMN())*IF(resultats!$A9:$CU9=resultats!$A$44:$CU$44,1,0))-(10-COUNTA(resultats!$A$2:$CU$2))} -> 0
A10: Philippe | B10: {=SUM((MOD(COLUMN(resultats!$A10:$CU10),10)=COLUMN())*IF(resultats!$A10:$CU10=resultats!$A$44:$CU$44,1,0))-(10-COUNTA(resultats!$A$2:$CU$2))} -> 0 | C10: {=SUM((MOD(COLUMN(resultats!$A10:$CU10),10)=COLUMN())*IF(resultats!$A10:$CU10=resultats!$A$44:$CU$44,1,0))-(10-COUNTA(resultats!$A$2:$CU$2))} -> 0 | D10: {=SUM((MOD(COLUMN(resultats!$A10:$CU10),10)=COLUMN())*IF(resultats!$A10:$CU10=resultats!$A$44:$CU$44,1,0))-(10-COUNTA(resultats!$A$2:$CU$2))} -> 0 | E10: {=SUM((MOD(COLUMN(resultats!$A10:$CU10),10)=COLUMN())*IF(resultats!$A10:$CU10=resultats!$A$44:$CU$44,1,0))-(10-COUNTA(resultats!$A$2:$CU$2))} -> 0 | F10: {=SUM((MOD(COLUMN(resultats!$A10:$CU10),10)=COLUMN())*IF(resultats!$A10:$CU10=resultats!$A$44:$CU$44,1,0))-(10-COUNTA(resultats!$A$2:$CU$2))} -> 0 | G10: {=SUM((MOD(COLUMN(resultats!$A10:$CU10),10)=COLUMN())*IF(resultats!$A10:$CU10=resultats!$A$44:$CU$44,1,0))-(10-COUNTA(resultats!$A$2:$CU$2))} -> 0 | H10: {=SUM((MOD(COLUMN(resultats!$A10:$CU10),10)=COLUMN())*IF(resultats!$A10:$CU10=resultats!$A$44:$CU$44,1,0))-(10-COUNTA(resultats!$A$2:$CU$2))} -> 0 | I10: {=SUM((MOD(COLUMN(resultats!$A10:$CU10),10)=COLUMN())*IF(resultats!$A10:$CU10=resultats!$A$44:$CU$44,1,0))-(10-COUNTA(resultats!$A$2:$CU$2))} -> 0
A11: Olivier | B11: {=SUM((MOD(COLUMN(resultats!$A11:$CU11),10)=COLUMN())*IF(resultats!$A11:$CU11=resultats!$A$44:$CU$44,1,0))-(10-COUNTA(resultats!$A$2:$CU$2))} -> 0 | C11: {=SUM((MOD(COLUMN(resultats!$A11:$CU11),10)=COLUMN())*IF(resultats!$A11:$CU11=resultats!$A$44:$CU$44,1,0))-(10-COUNTA(resultats!$A$2:$CU$2))} -> 0 | D11: {=SUM((MOD(COLUMN(resultats!$A11:$CU11),10)=COLUMN())*IF(resultats!$A11:$CU11=resultats!$A$44:$CU$44,1,0))-(10-COUNTA(resultats!$A$2:$CU$2))} -> 0 | E11: {=SUM((MOD(COLUMN(resultats!$A11:$CU11),10)=COLUMN())*IF(resultats!$A11:$CU11=resultats!$A$44:$CU$44,1,0))-(10-COUNTA(resultats!$A$2:$CU$2))} -> 0 | F11: {=SUM((MOD(COLUMN(resultats!$A11:$CU11),10)=COLUMN())*IF(resultats!$A11:$CU11=resultats!$A$44:$CU$44,1,0))-(10-COUNTA(resultats!$A$2:$CU$2))} -> 1 | G11: {=SUM((MOD(COLUMN(resultats!$A11:$CU11),10)=COLUMN())*IF(resultats!$A11:$CU11=resultats!$A$44:$CU$44,1,0))-(10-COUNTA(resultats!$A$2:$CU$2))} -> 0 | H11: {=SUM((MOD(COLUMN(resultats!$A11:$CU11),10)=COLUMN())*IF(resultats!$A11:$CU11=resultats!$A$44:$CU$44,1,0))-(10-COUNTA(resultats!$A$2:$CU$2))} -> 0 | I11: {=SUM((MOD(COLUMN(resultats!$A11:$CU11),10)=COLUMN())*IF(resultats!$A11:$CU11=resultats!$A$44:$CU$44,1,0))-(10-COUNTA(resultats!$A$2:$CU$2))} -> 0
A12: Jospeh | B12: {=SUM((MOD(COLUMN(resultats!$A12:$CU12),10)=COLUMN())*IF(resultats!$A12:$CU12=resultats!$A$44:$CU$44,1,0))-(10-COUNTA(resultats!$A$2:$CU$2))} -> 0 | C12: {=SUM((MOD(COLUMN(resultats!$A12:$CU12),10)=COLUMN())*IF(resultats!$A12:$CU12=resultats!$A$44:$CU$44,1,0))-(10-COUNTA(resultats!$A$2:$CU$2))} -> 0 | D12: {=SUM((MOD(COLUMN(resultats!$A12:$CU12),10)=COLUMN())*IF(resultats!$A12:$CU12=resultats!$A$44:$CU$44,1,0))-(10-COUNTA(resultats!$A$2:$CU$2))} -> 1 | E12: {=SUM((MOD(COLUMN(resultats!$A12:$CU12),10)=COLUMN())*IF(resultats!$A12:$CU12=resultats!$A$44:$CU$44,1,0))-(10-COUNTA(resultats!$A$2:$CU$2))} -> 0 | F12: {=SUM((MOD(COLUMN(resultats!$A12:$CU12),10)=COLUMN())*IF(resultats!$A12:$CU12=resultats!$A$44:$CU$44,1,0))-(10-COUNTA(resultats!$A$2:$CU$2))} -> 0 | G12: {=SUM((MOD(COLUMN(resultats!$A12:$CU12),10)=COLUMN())*IF(resultats!$A12:$CU12=resultats!$A$44:$CU$44,1,0))-(10-COUNTA(resultats!$A$2:$CU$2))} -> 0 | H12: {=SUM((MOD(COLUMN(resultats!$A12:$CU12),10)=COLUMN())*IF(resultats!$A12:$CU12=resultats!$A$44:$CU$44,1,0))-(10-COUNTA(resultats!$A$2:$CU$2))} -> 1 | I12: {=SUM((MOD(COLUMN(resultats!$A12:$CU12),10)=COLUMN())*IF(resultats!$A12:$CU12=resultats!$A$44:$CU$44,1,0))-(10-COUNTA(resultats!$A$2:$CU$2))} -> 0
A13: Nabila | B13: {=SUM((MOD(COLUMN(resultats!$A13:$CU13),10)=COLUMN())*IF(resultats!$A13:$CU13=resultats!$A$44:$CU$44,1,0))-(10-COUNTA(resultats!$A$2:$CU$2))} -> 0 | C13: {=SUM((MOD(COLUMN(resultats!$A13:$CU13),10)=COLUMN())*IF(resultats!$A13:$CU13=resultats!$A$44:$CU$44,1,0))-(10-COUNTA(resultats!$A$2:$CU$2))} -> 0 | D13: {=SUM((MOD(COLUMN(resultats!$A13:$CU13),10)=COLUMN())*IF(resultats!$A13:$CU13=resultats!$A$44:$CU$44,1,0))-(10-COUNTA(resultats!$A$2:$CU$2))} -> 1 | E13: {=SUM((MOD(COLUMN(resultats!$A13:$CU13),10)=COLUMN())*IF(resultats!$A13:$CU13=resultats!$A$44:$CU$44,1,0))-(10-COUNTA(resultats!$A$2:$CU$2))} -> 0 | F13: {=SUM((MOD(COLUMN(resultats!$A13:$CU13),10)=COLUMN())*IF(resultats!$A13:$CU13=resultats!$A$44:$CU$44,1,0))-(10-COUNTA(resultats!$A$2:$CU$2))} -> 0 | G13: {=SUM((MOD(COLUMN(resultats!$A13:$CU13),10)=COLUMN())*IF(resultats!$A13:$CU13=resultats!$A$44:$CU$44,1,0))-(10-COUNTA(resultats!$A$2:$CU$2))} -> 0 | H13: {=SUM((MOD(COLUMN(resultats!$A13:$CU13),10)=COLUMN())*IF(resultats!$A13:$CU13=resultats!$A$44:$CU$44,1,0))-(10-COUNTA(resultats!$A$2:$CU$2))} -> 0 | I13: {=SUM((MOD(COLUMN(resultats!$A13:$CU13),10)=COLUMN())*IF(resultats!$A13:$CU13=resultats!$A$44:$CU$44,1,0))-(10-COUNTA(resultats!$A$2:$CU$2))} -> 0
A14: Abdel | B14: {=SUM((MOD(COLUMN(resultats!$A14:$CU14),10)=COLUMN())*IF(resultats!$A14:$CU14=resultats!$A$44:$CU$44,1,0))-(10-COUNTA(resultats!$A$2:$CU$2))} -> 1 | C14: {=SUM((MOD(COLUMN(resultats!$A14:$CU14),10)=COLUMN())*IF(resultats!$A14:$CU14=resultats!$A$44:$CU$44,1,0))-(10-COUNTA(resultats!$A$2:$CU$2))} -> 0 | D14: {=SUM((MOD(COLUMN(resultats!$A14:$CU14),10)=COLUMN())*IF(resultats!$A14:$CU14=resultats!$A$44:$CU$44,1,0))-(10-COUNTA(resultats!$A$2:$CU$2))} -> 0 | E14: {=SUM((MOD(COLUMN(resultats!$A14:$CU14),10)=COLUMN())*IF(resultats!$A14:$CU14=resultats!$A$44:$CU$44,1,0))-(10-COUNTA(resultats!$A$2:$CU$2))} -> 0 | F14: {=SUM((MOD(COLUMN(resultats!$A14:$CU14),10)=COLUMN())*IF(resultats!$A14:$CU14=resultats!$A$44:$CU$44,1,0))-(10-COUNTA(resultats!$A$2:$CU$2))} -> 0 | G14: {=SUM((MOD(COLUMN(resultats!$A14:$CU14),10)=COLUMN())*IF(resultats!$A14:$CU14=resultats!$A$44:$CU$44,1,0))-(10-COUNTA(resultats!$A$2:$CU$2))} -> 1 | H14: {=SUM((MOD(COLUMN(resultats!$A14:$CU14),10)=COLUMN())*IF(resultats!$A14:$CU14=resultats!$A$44:$CU$44,1,0))-(10-COUNTA(resultats!$A$2:$CU$2))} -> 0 | I14: {=SUM((MOD(COLUMN(resultats!$A14:$CU14),10)=COLUMN())*IF(resultats!$A14:$CU14=resultats!$A$44:$CU$44,1,0))-(10-COUNTA(resultats!$A$2:$CU$2))} -> 0
A15: Julie | B15: {=SUM((MOD(COLUMN(resultats!$A15:$CU15),10)=COLUMN())*IF(resultats!$A15:$CU15=resultats!$A$44:$CU$44,1,0))-(10-COUNTA(resultats!$A$2:$CU$2))} -> 0 | C15: {=SUM((MOD(COLUMN(resultats!$A15:$CU15),10)=COLUMN())*IF(resultats!$A15:$CU15=resultats!$A$44:$CU$44,1,0))-(10-COUNTA(resultats!$A$2:$CU$2))} -> 0 | D15: {=SUM((MOD(COLUMN(resultats!$A15:$CU15),10)=COLUMN())*IF(resultats!$A15:$CU15=resultats!$A$44:$CU$44,1,0))-(10-COUNTA(resultats!$A$2:$CU$2))} -> 0 | E15: {=SUM((MOD(COLUMN(resultats!$A15:$CU15),10)=COLUMN())*IF(resultats!$A15:$CU15=resultats!$A$44:$CU$44,1,0))-(10-COUNTA(resultats!$A$2:$CU$2))} -> 0 | F15: {=SUM((MOD(COLUMN(resultats!$A15:$CU15),10)=COLUMN())*IF(resultats!$A15:$CU15=resultats!$A$44:$CU$44,1,0))-(10-COUNTA(resultats!$A$2:$CU$2))} -> 0 | G15: {=SUM((MOD(COLUMN(resultats!$A15:$CU15),10)=COLUMN())*IF(resultats!$A15:$CU15=resultats!$A$44:$CU$44,1,0))-(10-COUNTA(resultats!$A$2:$CU$2))} -> 0 | H15: {=SUM((MOD(COLUMN(resultats!$A15:$CU15),10)=COLUMN())*IF(resultats!$A15:$CU15=resultats!$A$44:$CU$44,1,0))-(10-COUNTA(resultats!$A$2:$CU$2))} -> 0 | I15: {=SUM((MOD(COLUMN(resultats!$A15:$CU15),10)=COLUMN())*IF(resultats!$A15:$CU15=resultats!$A$44:$CU$44,1,0))-(10-COUNTA(resultats!$A$2:$CU$2))} -> 2
A16: Loick | B16: {=SUM((MOD(COLUMN(resultats!$A16:$CU16),10)=COLUMN())*IF(resultats!$A16:$CU16=resultats!$A$44:$CU$44,1,0))-(10-COUNTA(resultats!$A$2:$CU$2))} -> 0 | C16: {=SUM((MOD(COLUMN(resultats!$A16:$CU16),10)=COLUMN())*IF(resultats!$A16:$CU16=resultats!$A$44:$CU$44,1,0))-(10-COUNTA(resultats!$A$2:$CU$2))} -> 1 | D16: {=SUM((MOD(COLUMN(resultats!$A16:$CU16),10)=COLUMN())*IF(resultats!$A16:$CU16=resultats!$A$44:$CU$44,1,0))-(10-COUNTA(resultats!$A$2:$CU$2))} -> 0 | E16: {=SUM((MOD(COLUMN(resultats!$A16:$CU16),10)=COLUMN())*IF(resultats!$A16:$CU16=resultats!$A$44:$CU$44,1,0))-(10-COUNTA(resultats!$A$2:$CU$2))} -> 0 | F16: {=SUM((MOD(COLUMN(resultats!$A16:$CU16),10)=COLUMN())*IF(resultats!$A16:$CU16=resultats!$A$44:$CU$44,1,0))-(10-COUNTA(resultats!$A$2:$CU$2))} -> 0 | G16: {=SUM((MOD(COLUMN(resultats!$A16:$CU16),10)=COLUMN())*IF(resultats!$A16:$CU16=resultats!$A$44:$CU$44,1,0))-(10-COUNTA(resultats!$A$2:$CU$2))} -> 0 | H16: {=SUM((MOD(COLUMN(resultats!$A16:$CU16),10)=COLUMN())*IF(resultats!$A16:$CU16=resultats!$A$44:$CU$44,1,0))-(10-COUNTA(resultats!$A$2:$CU$2))} -> 0 | I16: {=SUM((MOD(COLUMN(resultats!$A16:$CU16),10)=COLUMN())*IF(resultats!$A16:$CU16=resultats!$A$44:$CU$44,1,0))-(10-COUNTA(resultats!$A$2:$CU$2))} -> 1
... A35: Alfred | B35: {=SUM((MOD(COLUMN(resultats!$A35:$CU35),10)=COLUMN())*IF(resultats!$A35:$CU35=resultats!$A$44:$CU$44,1,0))-(10-COUNTA(resultats!$A$2:$CU$2))} -> 0 | C35: {=SUM((MOD(COLUMN(resultats!$A35:$CU35),10)=COLUMN())*IF(resultats!$A35:$CU35=resultats!$A$44:$CU$44,1,0))-(10-COUNTA(resultats!$A$2:$CU$2))} -> 0 | D35: {=SUM((MOD(COLUMN(resultats!$A35:$CU35),10)=COLUMN())*IF(resultats!$A35:$CU35=resultats!$A$44:$CU$44,1,0))-(10-COUNTA(resultats!$A$2:$CU$2))} -> 0 | E35: {=SUM((MOD(COLUMN(resultats!$A35:$CU35),10)=COLUMN())*IF(resultats!$A35:$CU35=resultats!$A$44:$CU$44,1,0))-(10-COUNTA(resultats!$A$2:$CU$2))} -> 0 | F35: {=SUM((MOD(COLUMN(resultats!$A35:$CU35),10)=COLUMN())*IF(resultats!$A35:$CU35=resultats!$A$44:$CU$44,1,0))-(10-COUNTA(resultats!$A$2:$CU$2))} -> 0 | G35: {=SUM((MOD(COLUMN(resultats!$A35:$CU35),10)=COLUMN())*IF(resultats!$A35:$CU35=resultats!$A$44:$CU$44,1,0))-(10-COUNTA(resultats!$A$2:$CU$2))} -> 1 | H35: {=SUM((MOD(COLUMN(resultats!$A35:$CU35),10)=COLUMN())*IF(resultats!$A35:$CU35=resultats!$A$44:$CU$44,1,0))-(10-COUNTA(resultats!$A$2:$CU$2))} -> 1 | I35: {=SUM((MOD(COLUMN(resultats!$A35:$CU35),10)=COLUMN())*IF(resultats!$A35:$CU35=resultats!$A$44:$CU$44,1,0))-(10-COUNTA(resultats!$A$2:$CU$2))} -> 0

Sheet 5
I1: meilleur pronostiqueur pour la position d'arrivée numéro : | J1: =MID(CELL("nomfichier",J1),FIND("]",CELL("nomfichier",J1))+1,99) -> 5
I2: nom : | J2: =INDEX(A5:A35,MATCH(MAX($B$5:$I$35),OFFSET(A5,,J3,32),0)) -> Philippe
I3: position : | J3: {=MIN(IF((B5:I35)=MAX($B$5:$I$35),COLUMN(B5:I35)))+1-COLUMN(B5:I35)} -> 1
A4: Pronostics
A5: Pierre | B5: {=SUM((MOD(COLUMN(resultats!$A5:$CU5),10)=COLUMN())*IF(resultats!$A5:$CU5=resultats!$A$45:$CU$45,1,0))-(10-COUNTA(resultats!$A$2:$CU$2))} -> 0 | C5: {=SUM((MOD(COLUMN(resultats!$A5:$CU5),10)=COLUMN())*IF(resultats!$A5:$CU5=resultats!$A$45:$CU$45,1,0))-(10-COUNTA(resultats!$A$2:$CU$2))} -> 0 | D5: {=SUM((MOD(COLUMN(resultats!$A5:$CU5),10)=COLUMN())*IF(resultats!$A5:$CU5=resultats!$A$45:$CU$45,1,0))-(10-COUNTA(resultats!$A$2:$CU$2))} -> 0 | E5: {=SUM((MOD(COLUMN(resultats!$A5:$CU5),10)=COLUMN())*IF(resultats!$A5:$CU5=resultats!$A$45:$CU$45,1,0))-(10-COUNTA(resultats!$A$2:$CU$2))} -> 0 | F5: {=SUM((MOD(COLUMN(resultats!$A5:$CU5),10)=COLUMN())*IF(resultats!$A5:$CU5=resultats!$A$45:$CU$45,1,0))-(10-COUNTA(resultats!$A$2:$CU$2))} -> 0 | G5: {=SUM((MOD(COLUMN(resultats!$A5:$CU5),10)=COLUMN())*IF(resultats!$A5:$CU5=resultats!$A$45:$CU$45,1,0))-(10-COUNTA(resultats!$A$2:$CU$2))} -> 0 | H5: {=SUM((MOD(COLUMN(resultats!$A5:$CU5),10)=COLUMN())*IF(resultats!$A5:$CU5=resultats!$A$45:$CU$45,1,0))-(10-COUNTA(resultats!$A$2:$CU$2))} -> 0 | I5: {=SUM((MOD(COLUMN(resultats!$A5:$CU5),10)=COLUMN())*IF(resultats!$A5:$CU5=resultats!$A$45:$CU$45,1,0))-(10-COUNTA(resultats!$A$2:$CU$2))} -> 1
A6: Paul | B6: {=SUM((MOD(COLUMN(resultats!$A6:$CU6),10)=COLUMN())*IF(resultats!$A6:$CU6=resultats!$A$45:$CU$45,1,0))-(10-COUNTA(resultats!$A$2:$CU$2))} -> 0 | C6: {=SUM((MOD(COLUMN(resultats!$A6:$CU6),10)=COLUMN())*IF(resultats!$A6:$CU6=resultats!$A$45:$CU$45,1,0))-(10-COUNTA(resultats!$A$2:$CU$2))} -> 0 | D6: {=SUM((MOD(COLUMN(resultats!$A6:$CU6),10)=COLUMN())*IF(resultats!$A6:$CU6=resultats!$A$45:$CU$45,1,0))-(10-COUNTA(resultats!$A$2:$CU$2))} -> 0 | E6: {=SUM((MOD(COLUMN(resultats!$A6:$CU6),10)=COLUMN())*IF(resultats!$A6:$CU6=resultats!$A$45:$CU$45,1,0))-(10-COUNTA(resultats!$A$2:$CU$2))} -> 1 | F6: {=SUM((MOD(COLUMN(resultats!$A6:$CU6),10)=COLUMN())*IF(resultats!$A6:$CU6=resultats!$A$45:$CU$45,1,0))-(10-COUNTA(resultats!$A$2:$CU$2))} -> 1 | G6: {=SUM((MOD(COLUMN(resultats!$A6:$CU6),10)=COLUMN())*IF(resultats!$A6:$CU6=resultats!$A$45:$CU$45,1,0))-(10-COUNTA(resultats!$A$2:$CU$2))} -> 0 | H6: {=SUM((MOD(COLUMN(resultats!$A6:$CU6),10)=COLUMN())*IF(resultats!$A6:$CU6=resultats!$A$45:$CU$45,1,0))-(10-COUNTA(resultats!$A$2:$CU$2))} -> 0 | I6: {=SUM((MOD(COLUMN(resultats!$A6:$CU6),10)=COLUMN())*IF(resultats!$A6:$CU6=resultats!$A$45:$CU$45,1,0))-(10-COUNTA(resultats!$A$2:$CU$2))} -> 0
A7: Jacques | B7: {=SUM((MOD(COLUMN(resultats!$A7:$CU7),10)=COLUMN())*IF(resultats!$A7:$CU7=resultats!$A$45:$CU$45,1,0))-(10-COUNTA(resultats!$A$2:$CU$2))} -> 0 | C7: {=SUM((MOD(COLUMN(resultats!$A7:$CU7),10)=COLUMN())*IF(resultats!$A7:$CU7=resultats!$A$45:$CU$45,1,0))-(10-COUNTA(resultats!$A$2:$CU$2))} -> 0 | D7: {=SUM((MOD(COLUMN(resultats!$A7:$CU7),10)=COLUMN())*IF(resultats!$A7:$CU7=resultats!$A$45:$CU$45,1,0))-(10-COUNTA(resultats!$A$2:$CU$2))} -> 0 | E7: {=SUM((MOD(COLUMN(resultats!$A7:$CU7),10)=COLUMN())*IF(resultats!$A7:$CU7=resultats!$A$45:$CU$45,1,0))-(10-COUNTA(resultats!$A$2:$CU$2))} -> 0 | F7: {=SUM((MOD(COLUMN(resultats!$A7:$CU7),10)=COLUMN())*IF(resultats!$A7:$CU7=resultats!$A$45:$CU$45,1,0))-(10-COUNTA(resultats!$A$2:$CU$2))} -> 0 | G7: {=SUM((MOD(COLUMN(resultats!$A7:$CU7),10)=COLUMN())*IF(resultats!$A7:$CU7=resultats!$A$45:$CU$45,1,0))-(10-COUNTA(resultats!$A$2:$CU$2))} -> 0 | H7: {=SUM((MOD(COLUMN(resultats!$A7:$CU7),10)=COLUMN())*IF(resultats!$A7:$CU7=resultats!$A$45:$CU$45,1,0))-(10-COUNTA(resultats!$A$2:$CU$2))} -> 0 | I7: {=SUM((MOD(COLUMN(resultats!$A7:$CU7),10)=COLUMN())*IF(resultats!$A7:$CU7=resultats!$A$45:$CU$45,1,0))-(10-COUNTA(resultats!$A$2:$CU$2))} -> 0
A8: Daniel | B8: {=SUM((MOD(COLUMN(resultats!$A8:$CU8),10)=COLUMN())*IF(resultats!$A8:$CU8=resultats!$A$45:$CU$45,1,0))-(10-COUNTA(resultats!$A$2:$CU$2))} -> 0 | C8: {=SUM((MOD(COLUMN(resultats!$A8:$CU8),10)=COLUMN())*IF(resultats!$A8:$CU8=resultats!$A$45:$CU$45,1,0))-(10-COUNTA(resultats!$A$2:$CU$2))} -> 0 | D8: {=SUM((MOD(COLUMN(resultats!$A8:$CU8),10)=COLUMN())*IF(resultats!$A8:$CU8=resultats!$A$45:$CU$45,1,0))-(10-COUNTA(resultats!$A$2:$CU$2))} -> 0 | E8: {=SUM((MOD(COLUMN(resultats!$A8:$CU8),10)=COLUMN())*IF(resultats!$A8:$CU8=resultats!$A$45:$CU$45,1,0))-(10-COUNTA(resultats!$A$2:$CU$2))} -> 1 | F8: {=SUM((MOD(COLUMN(resultats!$A8:$CU8),10)=COLUMN())*IF(resultats!$A8:$CU8=resultats!$A$45:$CU$45,1,0))-(10-COUNTA(resultats!$A$2:$CU$2))} -> 0 | G8: {=SUM((MOD(COLUMN(resultats!$A8:$CU8),10)=COLUMN())*IF(resultats!$A8:$CU8=resultats!$A$45:$CU$45,1,0))-(10-COUNTA(resultats!$A$2:$CU$2))} -> 0 | H8: {=SUM((MOD(COLUMN(resultats!$A8:$CU8),10)=COLUMN())*IF(resultats!$A8:$CU8=resultats!$A$45:$CU$45,1,0))-(10-COUNTA(resultats!$A$2:$CU$2))} -> 1 | I8: {=SUM((MOD(COLUMN(resultats!$A8:$CU8),10)=COLUMN())*IF(resultats!$A8:$CU8=resultats!$A$45:$CU$45,1,0))-(10-COUNTA(resultats!$A$2:$CU$2))} -> 0
A9: Louis | B9: {=SUM((MOD(COLUMN(resultats!$A9:$CU9),10)=COLUMN())*IF(resultats!$A9:$CU9=resultats!$A$45:$CU$45,1,0))-(10-COUNTA(resultats!$A$2:$CU$2))} -> 0 | C9: {=SUM((MOD(COLUMN(resultats!$A9:$CU9),10)=COLUMN())*IF(resultats!$A9:$CU9=resultats!$A$45:$CU$45,1,0))-(10-COUNTA(resultats!$A$2:$CU$2))} -> 0 | D9: {=SUM((MOD(COLUMN(resultats!$A9:$CU9),10)=COLUMN())*IF(resultats!$A9:$CU9=resultats!$A$45:$CU$45,1,0))-(10-COUNTA(resultats!$A$2:$CU$2))} -> 0 | E9: {=SUM((MOD(COLUMN(resultats!$A9:$CU9),10)=COLUMN())*IF(resultats!$A9:$CU9=resultats!$A$45:$CU$45,1,0))-(10-COUNTA(resultats!$A$2:$CU$2))} -> 0 | F9: {=SUM((MOD(COLUMN(resultats!$A9:$CU9),10)=COLUMN())*IF(resultats!$A9:$CU9=resultats!$A$45:$CU$45,1,0))-(10-COUNTA(resultats!$A$2:$CU$2))} -> 0 | G9: {=SUM((MOD(COLUMN(resultats!$A9:$CU9),10)=COLUMN())*IF(resultats!$A9:$CU9=resultats!$A$45:$CU$45,1,0))-(10-COUNTA(resultats!$A$2:$CU$2))} -> 1 | H9: {=SUM((MOD(COLUMN(resultats!$A9:$CU9),10)=COLUMN())*IF(resultats!$A9:$CU9=resultats!$A$45:$CU$45,1,0))-(10-COUNTA(resultats!$A$2:$CU$2))} -> 0 | I9: {=SUM((MOD(COLUMN(resultats!$A9:$CU9),10)=COLUMN())*IF(resultats!$A9:$CU9=resultats!$A$45:$CU$45,1,0))-(10-COUNTA(resultats!$A$2:$CU$2))} -> 1
A10: Philippe | B10: {=SUM((MOD(COLUMN(resultats!$A10:$CU10),10)=COLUMN())*IF(resultats!$A10:$CU10=resultats!$A$45:$CU$45,1,0))-(10-COUNTA(resultats!$A$2:$CU$2))} -> 1 | C10: {=SUM((MOD(COLUMN(resultats!$A10:$CU10),10)=COLUMN())*IF(resultats!$A10:$CU10=resultats!$A$45:$CU$45,1,0))-(10-COUNTA(resultats!$A$2:$CU$2))} -> 0 | D10: {=SUM((MOD(COLUMN(resultats!$A10:$CU10),10)=COLUMN())*IF(resultats!$A10:$CU10=resultats!$A$45:$CU$45,1,0))-(10-COUNTA(resultats!$A$2:$CU$2))} -> 0 | E10: {=SUM((MOD(COLUMN(resultats!$A10:$CU10),10)=COLUMN())*IF(resultats!$A10:$CU10=resultats!$A$45:$CU$45,1,0))-(10-COUNTA(resultats!$A$2:$CU$2))} -> 0 | F10: {=SUM((MOD(COLUMN(resultats!$A10:$CU10),10)=COLUMN())*IF(resultats!$A10:$CU10=resultats!$A$45:$CU$45,1,0))-(10-COUNTA(resultats!$A$2:$CU$2))} -> 1 | G10: {=SUM((MOD(COLUMN(resultats!$A10:$CU10),10)=COLUMN())*IF(resultats!$A10:$CU10=resultats!$A$45:$CU$45,1,0))-(10-COUNTA(resultats!$A$2:$CU$2))} -> 0 | H10: {=SUM((MOD(COLUMN(resultats!$A10:$CU10),10)=COLUMN())*IF(resultats!$A10:$CU10=resultats!$A$45:$CU$45,1,0))-(10-COUNTA(resultats!$A$2:$CU$2))} -> 0 | I10: {=SUM((MOD(COLUMN(resultats!$A10:$CU10),10)=COLUMN())*IF(resultats!$A10:$CU10=resultats!$A$45:$CU$45,1,0))-(10-COUNTA(resultats!$A$2:$CU$2))} -> 0
A11: Olivier | B11: {=SUM((MOD(COLUMN(resultats!$A11:$CU11),10)=COLUMN())*IF(resultats!$A11:$CU11=resultats!$A$45:$CU$45,1,0))-(10-COUNTA(resultats!$A$2:$CU$2))} -> 1 | C11: {=SUM((MOD(COLUMN(resultats!$A11:$CU11),10)=COLUMN())*IF(resultats!$A11:$CU11=resultats!$A$45:$CU$45,1,0))-(10-COUNTA(resultats!$A$2:$CU$2))} -> 0 | D11: {=SUM((MOD(COLUMN(resultats!$A11:$CU11),10)=COLUMN())*IF(resultats!$A11:$CU11=resultats!$A$45:$CU$45,1,0))-(10-COUNTA(resultats!$A$2:$CU$2))} -> 0 | E11: {=SUM((MOD(COLUMN(resultats!$A11:$CU11),10)=COLUMN())*IF(resultats!$A11:$CU11=resultats!$A$45:$CU$45,1,0))-(10-COUNTA(resultats!$A$2:$CU$2))} -> 0 | F11: {=SUM((MOD(COLUMN(resultats!$A11:$CU11),10)=COLUMN())*IF(resultats!$A11:$CU11=resultats!$A$45:$CU$45,1,0))-(10-COUNTA(resultats!$A$2:$CU$2))} -> 0 | G11: {=SUM((MOD(COLUMN(resultats!$A11:$CU11),10)=COLUMN())*IF(resultats!$A11:$CU11=resultats!$A$45:$CU$45,1,0))-(10-COUNTA(resultats!$A$2:$CU$2))} -> 1 | H11: {=SUM((MOD(COLUMN(resultats!$A11:$CU11),10)=COLUMN())*IF(resultats!$A11:$CU11=resultats!$A$45:$CU$45,1,0))-(10-COUNTA(resultats!$A$2:$CU$2))} -> 0 | I11: {=SUM((MOD(COLUMN(resultats!$A11:$CU11),10)=COLUMN())*IF(resultats!$A11:$CU11=resultats!$A$45:$CU$45,1,0))-(10-COUNTA(resultats!$A$2:$CU$2))} -> 0
A12: Jospeh | B12: {=SUM((MOD(COLUMN(resultats!$A12:$CU12),10)=COLUMN())*IF(resultats!$A12:$CU12=resultats!$A$45:$CU$45,1,0))-(10-COUNTA(resultats!$A$2:$CU$2))} -> 0 | C12: {=SUM((MOD(COLUMN(resultats!$A12:$CU12),10)=COLUMN())*IF(resultats!$A12:$CU12=resultats!$A$45:$CU$45,1,0))-(10-COUNTA(resultats!$A$2:$CU$2))} -> 0 | D12: {=SUM((MOD(COLUMN(resultats!$A12:$CU12),10)=COLUMN())*IF(resultats!$A12:$CU12=resultats!$A$45:$CU$45,1,0))-(10-COUNTA(resultats!$A$2:$CU$2))} -> 1 | E12: {=SUM((MOD(COLUMN(resultats!$A12:$CU12),10)=COLUMN())*IF(resultats!$A12:$CU12=resultats!$A$45:$CU$45,1,0))-(10-COUNTA(resultats!$A$2:$CU$2))} -> 0 | F12: {=SUM((MOD(COLUMN(resultats!$A12:$CU12),10)=COLUMN())*IF(resultats!$A12:$CU12=resultats!$A$45:$CU$45,1,0))-(10-COUNTA(resultats!$A$2:$CU$2))} -> 0 | G12: {=SUM((MOD(COLUMN(resultats!$A12:$CU12),10)=COLUMN())*IF(resultats!$A12:$CU12=resultats!$A$45:$CU$45,1,0))-(10-COUNTA(resultats!$A$2:$CU$2))} -> 0 | H12: {=SUM((MOD(COLUMN(resultats!$A12:$CU12),10)=COLUMN())*IF(resultats!$A12:$CU12=resultats!$A$45:$CU$45,1,0))-(10-COUNTA(resultats!$A$2:$CU$2))} -> 1 | I12: {=SUM((MOD(COLUMN(resultats!$A12:$CU12),10)=COLUMN())*IF(resultats!$A12:$CU12=resultats!$A$45:$CU$45,1,0))-(10-COUNTA(resultats!$A$2:$CU$2))} -> 0
A13: Nabila | B13: {=SUM((MOD(COLUMN(resultats!$A13:$CU13),10)=COLUMN())*IF(resultats!$A13:$CU13=resultats!$A$45:$CU$45,1,0))-(10-COUNTA(resultats!$A$2:$CU$2))} -> 0 | C13: {=SUM((MOD(COLUMN(resultats!$A13:$CU13),10)=COLUMN())*IF(resultats!$A13:$CU13=resultats!$A$45:$CU$45,1,0))-(10-COUNTA(resultats!$A$2:$CU$2))} -> 1 | D13: {=SUM((MOD(COLUMN(resultats!$A13:$CU13),10)=COLUMN())*IF(resultats!$A13:$CU13=resultats!$A$45:$CU$45,1,0))-(10-COUNTA(resultats!$A$2:$CU$2))} -> 0 | E13: {=SUM((MOD(COLUMN(resultats!$A13:$CU13),10)=COLUMN())*IF(resultats!$A13:$CU13=resultats!$A$45:$CU$45,1,0))-(10-COUNTA(resultats!$A$2:$CU$2))} -> 0 | F13: {=SUM((MOD(COLUMN(resultats!$A13:$CU13),10)=COLUMN())*IF(resultats!$A13:$CU13=resultats!$A$45:$CU$45,1,0))-(10-COUNTA(resultats!$A$2:$CU$2))} -> 0 | G13: {=SUM((MOD(COLUMN(resultats!$A13:$CU13),10)=COLUMN())*IF(resultats!$A13:$CU13=resultats!$A$45:$CU$45,1,0))-(10-COUNTA(resultats!$A$2:$CU$2))} -> 0 | H13: {=SUM((MOD(COLUMN(resultats!$A13:$CU13),10)=COLUMN())*IF(resultats!$A13:$CU13=resultats!$A$45:$CU$45,1,0))-(10-COUNTA(resultats!$A$2:$CU$2))} -> 0 | I13: {=SUM((MOD(COLUMN(resultats!$A13:$CU13),10)=COLUMN())*IF(resultats!$A13:$CU13=resultats!$A$45:$CU$45,1,0))-(10-COUNTA(resultats!$A$2:$CU$2))} -> 0
A14: Abdel | B14: {=SUM((MOD(COLUMN(resultats!$A14:$CU14),10)=COLUMN())*IF(resultats!$A14:$CU14=resultats!$A$45:$CU$45,1,0))-(10-COUNTA(resultats!$A$2:$CU$2))} -> 0 | C14: {=SUM((MOD(COLUMN(resultats!$A14:$CU14),10)=COLUMN())*IF(resultats!$A14:$CU14=resultats!$A$45:$CU$45,1,0))-(10-COUNTA(resultats!$A$2:$CU$2))} -> 0 | D14: {=SUM((MOD(COLUMN(resultats!$A14:$CU14),10)=COLUMN())*IF(resultats!$A14:$CU14=resultats!$A$45:$CU$45,1,0))-(10-COUNTA(resultats!$A$2:$CU$2))} -> 1 | E14: {=SUM((MOD(COLUMN(resultats!$A14:$CU14),10)=COLUMN())*IF(resultats!$A14:$CU14=resultats!$A$45:$CU$45,1,0))-(10-COUNTA(resultats!$A$2:$CU$2))} -> 0 | F14: {=SUM((MOD(COLUMN(resultats!$A14:$CU14),10)=COLUMN())*IF(resultats!$A14:$CU14=resultats!$A$45:$CU$45,1,0))-(10-COUNTA(resultats!$A$2:$CU$2))} -> 0 | G14: {=SUM((MOD(COLUMN(resultats!$A14:$CU14),10)=COLUMN())*IF(resultats!$A14:$CU14=resultats!$A$45:$CU$45,1,0))-(10-COUNTA(resultats!$A$2:$CU$2))} -> 0 | H14: {=SUM((MOD(COLUMN(resultats!$A14:$CU14),10)=COLUMN())*IF(resultats!$A14:$CU14=resultats!$A$45:$CU$45,1,0))-(10-COUNTA(resultats!$A$2:$CU$2))} -> 1 | I14: {=SUM((MOD(COLUMN(resultats!$A14:$CU14),10)=COLUMN())*IF(resultats!$A14:$CU14=resultats!$A$45:$CU$45,1,0))-(10-COUNTA(resultats!$A$2:$CU$2))} -> 0
A15: Julie | B15: {=SUM((MOD(COLUMN(resultats!$A15:$CU15),10)=COLUMN())*IF(resultats!$A15:$CU15=resultats!$A$45:$CU$45,1,0))-(10-COUNTA(resultats!$A$2:$CU$2))} -> 0 | C15: {=SUM((MOD(COLUMN(resultats!$A15:$CU15),10)=COLUMN())*IF(resultats!$A15:$CU15=resultats!$A$45:$CU$45,1,0))-(10-COUNTA(resultats!$A$2:$CU$2))} -> 1 | D15: {=SUM((MOD(COLUMN(resultats!$A15:$CU15),10)=COLUMN())*IF(resultats!$A15:$CU15=resultats!$A$45:$CU$45,1,0))-(10-COUNTA(resultats!$A$2:$CU$2))} -> 0 | E15: {=SUM((MOD(COLUMN(resultats!$A15:$CU15),10)=COLUMN())*IF(resultats!$A15:$CU15=resultats!$A$45:$CU$45,1,0))-(10-COUNTA(resultats!$A$2:$CU$2))} -> 0 | F15: {=SUM((MOD(COLUMN(resultats!$A15:$CU15),10)=COLUMN())*IF(resultats!$A15:$CU15=resultats!$A$45:$CU$45,1,0))-(10-COUNTA(resultats!$A$2:$CU$2))} -> 0 | G15: {=SUM((MOD(COLUMN(resultats!$A15:$CU15),10)=COLUMN())*IF(resultats!$A15:$CU15=resultats!$A$45:$CU$45,1,0))-(10-COUNTA(resultats!$A$2:$CU$2))} -> 1 | H15: {=SUM((MOD(COLUMN(resultats!$A15:$CU15),10)=COLUMN())*IF(resultats!$A15:$CU15=resultats!$A$45:$CU$45,1,0))-(10-COUNTA(resultats!$A$2:$CU$2))} -> 0 | I15: {=SUM((MOD(COLUMN(resultats!$A15:$CU15),10)=COLUMN())*IF(resultats!$A15:$CU15=resultats!$A$45:$CU$45,1,0))-(10-COUNTA(resultats!$A$2:$CU$2))} -> 0
A16: Loick | B16: {=SUM((MOD(COLUMN(resultats!$A16:$CU16),10)=COLUMN())*IF(resultats!$A16:$CU16=resultats!$A$45:$CU$45,1,0))-(10-COUNTA(resultats!$A$2:$CU$2))} -> 0 | C16: {=SUM((MOD(COLUMN(resultats!$A16:$CU16),10)=COLUMN())*IF(resultats!$A16:$CU16=resultats!$A$45:$CU$45,1,0))-(10-COUNTA(resultats!$A$2:$CU$2))} -> 0 | D16: {=SUM((MOD(COLUMN(resultats!$A16:$CU16),10)=COLUMN())*IF(resultats!$A16:$CU16=resultats!$A$45:$CU$45,1,0))-(10-COUNTA(resultats!$A$2:$CU$2))} -> 0 | E16: {=SUM((MOD(COLUMN(resultats!$A16:$CU16),10)=COLUMN())*IF(resultats!$A16:$CU16=resultats!$A$45:$CU$45,1,0))-(10-COUNTA(resultats!$A$2:$CU$2))} -> 0 | F16: {=SUM((MOD(COLUMN(resultats!$A16:$CU16),10)=COLUMN())*IF(resultats!$A16:$CU16=resultats!$A$45:$CU$45,1,0))-(10-COUNTA(resultats!$A$2:$CU$2))} -> 0 | G16: {=SUM((MOD(COLUMN(resultats!$A16:$CU16),10)=COLUMN())*IF(resultats!$A16:$CU16=resultats!$A$45:$CU$45,1,0))-(10-COUNTA(resultats!$A$2:$CU$2))} -> 0 | H16: {=SUM((MOD(COLUMN(resultats!$A16:$CU16),10)=COLUMN())*IF(resultats!$A16:$CU16=resultats!$A$45:$CU$45,1,0))-(10-COUNTA(resultats!$A$2:$CU$2))} -> 0 | I16: {=SUM((MOD(COLUMN(resultats!$A16:$CU16),10)=COLUMN())*IF(resultats!$A16:$CU16=resultats!$A$45:$CU$45,1,0))-(10-COUNTA(resultats!$A$2:$CU$2))} -> 1
... A35: Alfred | B35: {=SUM((MOD(COLUMN(resultats!$A35:$CU35),10)=COLUMN())*IF(resultats!$A35:$CU35=resultats!$A$45:$CU$45,1,0))-(10-COUNTA(resultats!$A$2:$CU$2))} -> 0 | C35: {=SUM((MOD(COLUMN(resultats!$A35:$CU35),10)=COLUMN())*IF(resultats!$A35:$CU35=resultats!$A$45:$CU$45,1,0))-(10-COUNTA(resultats!$A$2:$CU$2))} -> 0 | D35: {=SUM((MOD(COLUMN(resultats!$A35:$CU35),10)=COLUMN())*IF(resultats!$A35:$CU35=resultats!$A$45:$CU$45,1,0))-(10-COUNTA(resultats!$A$2:$CU$2))} -> 0 | E35: {=SUM((MOD(COLUMN(resultats!$A35:$CU35),10)=COLUMN())*IF(resultats!$A35:$CU35=resultats!$A$45:$CU$45,1,0))-(10-COUNTA(resultats!$A$2:$CU$2))} -> 0 | F35: {=SUM((MOD(COLUMN(resultats!$A35:$CU35),10)=COLUMN())*IF(resultats!$A35:$CU35=resultats!$A$45:$CU$45,1,0))-(10-COUNTA(resultats!$A$2:$CU$2))} -> 0 | G35: {=SUM((MOD(COLUMN(resultats!$A35:$CU35),10)=COLUMN())*IF(resultats!$A35:$CU35=resultats!$A$45:$CU$45,1,0))-(10-COUNTA(resultats!$A$2:$CU$2))} -> 0 | H35: {=SUM((MOD(COLUMN(resultats!$A35:$CU35),10)=COLUMN())*IF(resultats!$A35:$CU35=resultats!$A$45:$CU$45,1,0))-(10-COUNTA(resultats!$A$2:$CU$2))} -> 0 | I35: {=SUM((MOD(COLUMN(resultats!$A35:$CU35),10)=COLUMN())*IF(resultats!$A35:$CU35=resultats!$A$45:$CU$45,1,0))-(10-COUNTA(resultats!$A$2:$CU$2))} -> 0
