Workbook

Sheet data
A1: =COUNTIF(A2:A37,"><") -> 26 | B1: termes
A2: bijoux
A3: cailloux
A4: chouchoux
A5: choux
A6: genoux
A7: hiboux
A8: joujoux
A9: poux
A10: ripoux
A11: tripoux
A12: A
A13: B
... A27: 9

Sheet tirage1
B1: =IFERROR(INDEX(A2:A37,RANDBETWEEN(1,data!$A$1-COLUMN()+2)),"") -> 5 | C1: =IFERROR(INDEX(B2:B37,RANDBETWEEN(1,data!$A$1-COLUMN()+2)),"") -> F | D1: =IFERROR(INDEX(C2:C37,RANDBETWEEN(1,data!$A$1-COLUMN()+2)),"") -> A | E1: =IFERROR(INDEX(D2:D37,RANDBETWEEN(1,data!$A$1-COLUMN()+2)),"") -> 6 | F1: =IFERROR(INDEX(E2:E37,RANDBETWEEN(1,data!$A$1-COLUMN()+2)),"") -> choux | G1: =IFERROR(INDEX(F2:F37,RANDBETWEEN(1,data!$A$1-COLUMN()+2)),"") -> E | H1: =IFERROR(INDEX(G2:G37,RANDBETWEEN(1,data!$A$1-COLUMN()+2)),"") -> 1 | I1: =IFERROR(INDEX(H2:H37,RANDBETWEEN(1,data!$A$1-COLUMN()+2)),"") -> C | ... AK1: =IFERROR(INDEX(AJ2:AJ37,RANDBETWEEN(1,data!$A$1-COLUMN()+2)),"")
A2: =IF(data!A2<>"",data!A2,"") -> bijoux | B2: {=IFERROR(INDEX(A$2:A$37,SMALL(IF(A$2:A$37<>B$1,ROW(A$2:A$37)-1,""),ROW(A1))),"")} -> bijoux | C2: {=IFERROR(INDEX(B$2:B$37,SMALL(IF(B$2:B$37<>C$1,ROW(B$2:B$37)-1,""),ROW(B1))),"")} -> bijoux | D2: {=IFERROR(INDEX(C$2:C$37,SMALL(IF(C$2:C$37<>D$1,ROW(C$2:C$37)-1,""),ROW(C1))),"")} -> bijoux | E2: {=IFERROR(INDEX(D$2:D$37,SMALL(IF(D$2:D$37<>E$1,ROW(D$2:D$37)-1,""),ROW(D1))),"")} -> bijoux | F2: {=IFERROR(INDEX(E$2:E$37,SMALL(IF(E$2:E$37<>F$1,ROW(E$2:E$37)-1,""),ROW(E1))),"")} -> bijoux | G2: {=IFERROR(INDEX(F$2:F$37,SMALL(IF(F$2:F$37<>G$1,ROW(F$2:F$37)-1,""),ROW(F1))),"")} -> bijoux | H2: {=IFERROR(INDEX(G$2:G$37,SMALL(IF(G$2:G$37<>H$1,ROW(G$2:G$37)-1,""),ROW(G1))),"")} -> bijoux | I2: {=IFERROR(INDEX(H$2:H$37,SMALL(IF(H$2:H$37<>I$1,ROW(H$2:H$37)-1,""),ROW(H1))),"")} -> bijoux | ... AK2: {=IFERROR(INDEX(AJ$2:AJ$37,SMALL(IF(AJ$2:AJ$37<>AK$1,ROW(AJ$2:AJ$37)-1,""),ROW(AJ1))),"")}
A3: =IF(data!A3<>"",data!A3,"") -> cailloux | B3: {=IFERROR(INDEX(A$2:A$37,SMALL(IF(A$2:A$37<>B$1,ROW(A$2:A$37)-1,""),ROW(A2))),"")} -> cailloux | C3: {=IFERROR(INDEX(B$2:B$37,SMALL(IF(B$2:B$37<>C$1,ROW(B$2:B$37)-1,""),ROW(B2))),"")} -> cailloux | D3: {=IFERROR(INDEX(C$2:C$37,SMALL(IF(C$2:C$37<>D$1,ROW(C$2:C$37)-1,""),ROW(C2))),"")} -> cailloux | E3: {=IFERROR(INDEX(D$2:D$37,SMALL(IF(D$2:D$37<>E$1,ROW(D$2:D$37)-1,""),ROW(D2))),"")} -> cailloux | F3: {=IFERROR(INDEX(E$2:E$37,SMALL(IF(E$2:E$37<>F$1,ROW(E$2:E$37)-1,""),ROW(E2))),"")} -> cailloux | G3: {=IFERROR(INDEX(F$2:F$37,SMALL(IF(F$2:F$37<>G$1,ROW(F$2:F$37)-1,""),ROW(F2))),"")} -> cailloux | H3: {=IFERROR(INDEX(G$2:G$37,SMALL(IF(G$2:G$37<>H$1,ROW(G$2:G$37)-1,""),ROW(G2))),"")} -> cailloux | I3: {=IFERROR(INDEX(H$2:H$37,SMALL(IF(H$2:H$37<>I$1,ROW(H$2:H$37)-1,""),ROW(H2))),"")} -> cailloux | ... AK3: {=IFERROR(INDEX(AJ$2:AJ$37,SMALL(IF(AJ$2:AJ$37<>AK$1,ROW(AJ$2:AJ$37)-1,""),ROW(AJ2))),"")}
A4: =IF(data!A4<>"",data!A4,"") -> chouchoux | B4: {=IFERROR(INDEX(A$2:A$37,SMALL(IF(A$2:A$37<>B$1,ROW(A$2:A$37)-1,""),ROW(A3))),"")} -> chouchoux | C4: {=IFERROR(INDEX(B$2:B$37,SMALL(IF(B$2:B$37<>C$1,ROW(B$2:B$37)-1,""),ROW(B3))),"")} -> chouchoux | D4: {=IFERROR(INDEX(C$2:C$37,SMALL(IF(C$2:C$37<>D$1,ROW(C$2:C$37)-1,""),ROW(C3))),"")} -> chouchoux | E4: {=IFERROR(INDEX(D$2:D$37,SMALL(IF(D$2:D$37<>E$1,ROW(D$2:D$37)-1,""),ROW(D3))),"")} -> chouchoux | F4: {=IFERROR(INDEX(E$2:E$37,SMALL(IF(E$2:E$37<>F$1,ROW(E$2:E$37)-1,""),ROW(E3))),"")} -> chouchoux | G4: {=IFERROR(INDEX(F$2:F$37,SMALL(IF(F$2:F$37<>G$1,ROW(F$2:F$37)-1,""),ROW(F3))),"")} -> chouchoux | H4: {=IFERROR(INDEX(G$2:G$37,SMALL(IF(G$2:G$37<>H$1,ROW(G$2:G$37)-1,""),ROW(G3))),"")} -> chouchoux | I4: {=IFERROR(INDEX(H$2:H$37,SMALL(IF(H$2:H$37<>I$1,ROW(H$2:H$37)-1,""),ROW(H3))),"")} -> chouchoux | ... AK4: {=IFERROR(INDEX(AJ$2:AJ$37,SMALL(IF(AJ$2:AJ$37<>AK$1,ROW(AJ$2:AJ$37)-1,""),ROW(AJ3))),"")}
A5: =IF(data!A5<>"",data!A5,"") -> choux | B5: {=IFERROR(INDEX(A$2:A$37,SMALL(IF(A$2:A$37<>B$1,ROW(A$2:A$37)-1,""),ROW(A4))),"")} -> choux | C5: {=IFERROR(INDEX(B$2:B$37,SMALL(IF(B$2:B$37<>C$1,ROW(B$2:B$37)-1,""),ROW(B4))),"")} -> choux | D5: {=IFERROR(INDEX(C$2:C$37,SMALL(IF(C$2:C$37<>D$1,ROW(C$2:C$37)-1,""),ROW(C4))),"")} -> choux | E5: {=IFERROR(INDEX(D$2:D$37,SMALL(IF(D$2:D$37<>E$1,ROW(D$2:D$37)-1,""),ROW(D4))),"")} -> choux | F5: {=IFERROR(INDEX(E$2:E$37,SMALL(IF(E$2:E$37<>F$1,ROW(E$2:E$37)-1,""),ROW(E4))),"")} -> genoux | G5: {=IFERROR(INDEX(F$2:F$37,SMALL(IF(F$2:F$37<>G$1,ROW(F$2:F$37)-1,""),ROW(F4))),"")} -> genoux | H5: {=IFERROR(INDEX(G$2:G$37,SMALL(IF(G$2:G$37<>H$1,ROW(G$2:G$37)-1,""),ROW(G4))),"")} -> genoux | I5: {=IFERROR(INDEX(H$2:H$37,SMALL(IF(H$2:H$37<>I$1,ROW(H$2:H$37)-1,""),ROW(H4))),"")} -> genoux | ... AK5: {=IFERROR(INDEX(AJ$2:AJ$37,SMALL(IF(AJ$2:AJ$37<>AK$1,ROW(AJ$2:AJ$37)-1,""),ROW(AJ4))),"")}
A6: =IF(data!A6<>"",data!A6,"") -> genoux | B6: {=IFERROR(INDEX(A$2:A$37,SMALL(IF(A$2:A$37<>B$1,ROW(A$2:A$37)-1,""),ROW(A5))),"")} -> genoux | C6: {=IFERROR(INDEX(B$2:B$37,SMALL(IF(B$2:B$37<>C$1,ROW(B$2:B$37)-1,""),ROW(B5))),"")} -> genoux | D6: {=IFERROR(INDEX(C$2:C$37,SMALL(IF(C$2:C$37<>D$1,ROW(C$2:C$37)-1,""),ROW(C5))),"")} -> genoux | E6: {=IFERROR(INDEX(D$2:D$37,SMALL(IF(D$2:D$37<>E$1,ROW(D$2:D$37)-1,""),ROW(D5))),"")} -> genoux | F6: {=IFERROR(INDEX(E$2:E$37,SMALL(IF(E$2:E$37<>F$1,ROW(E$2:E$37)-1,""),ROW(E5))),"")} -> hiboux | G6: {=IFERROR(INDEX(F$2:F$37,SMALL(IF(F$2:F$37<>G$1,ROW(F$2:F$37)-1,""),ROW(F5))),"")} -> hiboux | H6: {=IFERROR(INDEX(G$2:G$37,SMALL(IF(G$2:G$37<>H$1,ROW(G$2:G$37)-1,""),ROW(G5))),"")} -> hiboux | I6: {=IFERROR(INDEX(H$2:H$37,SMALL(IF(H$2:H$37<>I$1,ROW(H$2:H$37)-1,""),ROW(H5))),"")} -> hiboux | ... AK6: {=IFERROR(INDEX(AJ$2:AJ$37,SMALL(IF(AJ$2:AJ$37<>AK$1,ROW(AJ$2:AJ$37)-1,""),ROW(AJ5))),"")}
A7: =IF(data!A7<>"",data!A7,"") -> hiboux | B7: {=IFERROR(INDEX(A$2:A$37,SMALL(IF(A$2:A$37<>B$1,ROW(A$2:A$37)-1,""),ROW(A6))),"")} -> hiboux | C7: {=IFERROR(INDEX(B$2:B$37,SMALL(IF(B$2:B$37<>C$1,ROW(B$2:B$37)-1,""),ROW(B6))),"")} -> hiboux | D7: {=IFERROR(INDEX(C$2:C$37,SMALL(IF(C$2:C$37<>D$1,ROW(C$2:C$37)-1,""),ROW(C6))),"")} -> hiboux | E7: {=IFERROR(INDEX(D$2:D$37,SMALL(IF(D$2:D$37<>E$1,ROW(D$2:D$37)-1,""),ROW(D6))),"")} -> hiboux | F7: {=IFERROR(INDEX(E$2:E$37,SMALL(IF(E$2:E$37<>F$1,ROW(E$2:E$37)-1,""),ROW(E6))),"")} -> joujoux | G7: {=IFERROR(INDEX(F$2:F$37,SMALL(IF(F$2:F$37<>G$1,ROW(F$2:F$37)-1,""),ROW(F6))),"")} -> joujoux | H7: {=IFERROR(INDEX(G$2:G$37,SMALL(IF(G$2:G$37<>H$1,ROW(G$2:G$37)-1,""),ROW(G6))),"")} -> joujoux | I7: {=IFERROR(INDEX(H$2:H$37,SMALL(IF(H$2:H$37<>I$1,ROW(H$2:H$37)-1,""),ROW(H6))),"")} -> joujoux | ... AK7: {=IFERROR(INDEX(AJ$2:AJ$37,SMALL(IF(AJ$2:AJ$37<>AK$1,ROW(AJ$2:AJ$37)-1,""),ROW(AJ6))),"")}
A8: =IF(data!A8<>"",data!A8,"") -> joujoux | B8: {=IFERROR(INDEX(A$2:A$37,SMALL(IF(A$2:A$37<>B$1,ROW(A$2:A$37)-1,""),ROW(A7))),"")} -> joujoux | C8: {=IFERROR(INDEX(B$2:B$37,SMALL(IF(B$2:B$37<>C$1,ROW(B$2:B$37)-1,""),ROW(B7))),"")} -> joujoux | D8: {=IFERROR(INDEX(C$2:C$37,SMALL(IF(C$2:C$37<>D$1,ROW(C$2:C$37)-1,""),ROW(C7))),"")} -> joujoux | E8: {=IFERROR(INDEX(D$2:D$37,SMALL(IF(D$2:D$37<>E$1,ROW(D$2:D$37)-1,""),ROW(D7))),"")} -> joujoux | F8: {=IFERROR(INDEX(E$2:E$37,SMALL(IF(E$2:E$37<>F$1,ROW(E$2:E$37)-1,""),ROW(E7))),"")} -> poux | G8: {=IFERROR(INDEX(F$2:F$37,SMALL(IF(F$2:F$37<>G$1,ROW(F$2:F$37)-1,""),ROW(F7))),"")} -> poux | H8: {=IFERROR(INDEX(G$2:G$37,SMALL(IF(G$2:G$37<>H$1,ROW(G$2:G$37)-1,""),ROW(G7))),"")} -> poux | I8: {=IFERROR(INDEX(H$2:H$37,SMALL(IF(H$2:H$37<>I$1,ROW(H$2:H$37)-1,""),ROW(H7))),"")} -> poux | ... AK8: {=IFERROR(INDEX(AJ$2:AJ$37,SMALL(IF(AJ$2:AJ$37<>AK$1,ROW(AJ$2:AJ$37)-1,""),ROW(AJ7))),"")}
A9: =IF(data!A9<>"",data!A9,"") -> poux | B9: {=IFERROR(INDEX(A$2:A$37,SMALL(IF(A$2:A$37<>B$1,ROW(A$2:A$37)-1,""),ROW(A8))),"")} -> poux | C9: {=IFERROR(INDEX(B$2:B$37,SMALL(IF(B$2:B$37<>C$1,ROW(B$2:B$37)-1,""),ROW(B8))),"")} -> poux | D9: {=IFERROR(INDEX(C$2:C$37,SMALL(IF(C$2:C$37<>D$1,ROW(C$2:C$37)-1,""),ROW(C8))),"")} -> poux | E9: {=IFERROR(INDEX(D$2:D$37,SMALL(IF(D$2:D$37<>E$1,ROW(D$2:D$37)-1,""),ROW(D8))),"")} -> poux | F9: {=IFERROR(INDEX(E$2:E$37,SMALL(IF(E$2:E$37<>F$1,ROW(E$2:E$37)-1,""),ROW(E8))),"")} -> ripoux | G9: {=IFERROR(INDEX(F$2:F$37,SMALL(IF(F$2:F$37<>G$1,ROW(F$2:F$37)-1,""),ROW(F8))),"")} -> ripoux | H9: {=IFERROR(INDEX(G$2:G$37,SMALL(IF(G$2:G$37<>H$1,ROW(G$2:G$37)-1,""),ROW(G8))),"")} -> ripoux | I9: {=IFERROR(INDEX(H$2:H$37,SMALL(IF(H$2:H$37<>I$1,ROW(H$2:H$37)-1,""),ROW(H8))),"")} -> ripoux | ... AK9: {=IFERROR(INDEX(AJ$2:AJ$37,SMALL(IF(AJ$2:AJ$37<>AK$1,ROW(AJ$2:AJ$37)-1,""),ROW(AJ8))),"")}
A10: =IF(data!A10<>"",data!A10,"") -> ripoux | B10: {=IFERROR(INDEX(A$2:A$37,SMALL(IF(A$2:A$37<>B$1,ROW(A$2:A$37)-1,""),ROW(A9))),"")} -> ripoux | C10: {=IFERROR(INDEX(B$2:B$37,SMALL(IF(B$2:B$37<>C$1,ROW(B$2:B$37)-1,""),ROW(B9))),"")} -> ripoux | D10: {=IFERROR(INDEX(C$2:C$37,SMALL(IF(C$2:C$37<>D$1,ROW(C$2:C$37)-1,""),ROW(C9))),"")} -> ripoux | E10: {=IFERROR(INDEX(D$2:D$37,SMALL(IF(D$2:D$37<>E$1,ROW(D$2:D$37)-1,""),ROW(D9))),"")} -> ripoux | F10: {=IFERROR(INDEX(E$2:E$37,SMALL(IF(E$2:E$37<>F$1,ROW(E$2:E$37)-1,""),ROW(E9))),"")} -> tripoux | G10: {=IFERROR(INDEX(F$2:F$37,SMALL(IF(F$2:F$37<>G$1,ROW(F$2:F$37)-1,""),ROW(F9))),"")} -> tripoux | H10: {=IFERROR(INDEX(G$2:G$37,SMALL(IF(G$2:G$37<>H$1,ROW(G$2:G$37)-1,""),ROW(G9))),"")} -> tripoux | I10: {=IFERROR(INDEX(H$2:H$37,SMALL(IF(H$2:H$37<>I$1,ROW(H$2:H$37)-1,""),ROW(H9))),"")} -> tripoux | ... AK10: {=IFERROR(INDEX(AJ$2:AJ$37,SMALL(IF(AJ$2:AJ$37<>AK$1,ROW(AJ$2:AJ$37)-1,""),ROW(AJ9))),"")}
A11: =IF(data!A11<>"",data!A11,"") -> tripoux | B11: {=IFERROR(INDEX(A$2:A$37,SMALL(IF(A$2:A$37<>B$1,ROW(A$2:A$37)-1,""),ROW(A10))),"")} -> tripoux | C11: {=IFERROR(INDEX(B$2:B$37,SMALL(IF(B$2:B$37<>C$1,ROW(B$2:B$37)-1,""),ROW(B10))),"")} -> tripoux | D11: {=IFERROR(INDEX(C$2:C$37,SMALL(IF(C$2:C$37<>D$1,ROW(C$2:C$37)-1,""),ROW(C10))),"")} -> tripoux | E11: {=IFERROR(INDEX(D$2:D$37,SMALL(IF(D$2:D$37<>E$1,ROW(D$2:D$37)-1,""),ROW(D10))),"")} -> tripoux | F11: {=IFERROR(INDEX(E$2:E$37,SMALL(IF(E$2:E$37<>F$1,ROW(E$2:E$37)-1,""),ROW(E10))),"")} -> B | G11: {=IFERROR(INDEX(F$2:F$37,SMALL(IF(F$2:F$37<>G$1,ROW(F$2:F$37)-1,""),ROW(F10))),"")} -> B | H11: {=IFERROR(INDEX(G$2:G$37,SMALL(IF(G$2:G$37<>H$1,ROW(G$2:G$37)-1,""),ROW(G10))),"")} -> B | I11: {=IFERROR(INDEX(H$2:H$37,SMALL(IF(H$2:H$37<>I$1,ROW(H$2:H$37)-1,""),ROW(H10))),"")} -> B | ... AK11: {=IFERROR(INDEX(AJ$2:AJ$37,SMALL(IF(AJ$2:AJ$37<>AK$1,ROW(AJ$2:AJ$37)-1,""),ROW(AJ10))),"")}
A12: =IF(data!A12<>"",data!A12,"") -> A | B12: {=IFERROR(INDEX(A$2:A$37,SMALL(IF(A$2:A$37<>B$1,ROW(A$2:A$37)-1,""),ROW(A11))),"")} -> A | C12: {=IFERROR(INDEX(B$2:B$37,SMALL(IF(B$2:B$37<>C$1,ROW(B$2:B$37)-1,""),ROW(B11))),"")} -> A | D12: {=IFERROR(INDEX(C$2:C$37,SMALL(IF(C$2:C$37<>D$1,ROW(C$2:C$37)-1,""),ROW(C11))),"")} -> B | E12: {=IFERROR(INDEX(D$2:D$37,SMALL(IF(D$2:D$37<>E$1,ROW(D$2:D$37)-1,""),ROW(D11))),"")} -> B | F12: {=IFERROR(INDEX(E$2:E$37,SMALL(IF(E$2:E$37<>F$1,ROW(E$2:E$37)-1,""),ROW(E11))),"")} -> C | G12: {=IFERROR(INDEX(F$2:F$37,SMALL(IF(F$2:F$37<>G$1,ROW(F$2:F$37)-1,""),ROW(F11))),"")} -> C | H12: {=IFERROR(INDEX(G$2:G$37,SMALL(IF(G$2:G$37<>H$1,ROW(G$2:G$37)-1,""),ROW(G11))),"")} -> C | I12: {=IFERROR(INDEX(H$2:H$37,SMALL(IF(H$2:H$37<>I$1,ROW(H$2:H$37)-1,""),ROW(H11))),"")} -> D | ... AK12: {=IFERROR(INDEX(AJ$2:AJ$37,SMALL(IF(AJ$2:AJ$37<>AK$1,ROW(AJ$2:AJ$37)-1,""),ROW(AJ11))),"")}
A13: =IF(data!A13<>"",data!A13,"") -> B | B13: {=IFERROR(INDEX(A$2:A$37,SMALL(IF(A$2:A$37<>B$1,ROW(A$2:A$37)-1,""),ROW(A12))),"")} -> B | C13: {=IFERROR(INDEX(B$2:B$37,SMALL(IF(B$2:B$37<>C$1,ROW(B$2:B$37)-1,""),ROW(B12))),"")} -> B | D13: {=IFERROR(INDEX(C$2:C$37,SMALL(IF(C$2:C$37<>D$1,ROW(C$2:C$37)-1,""),ROW(C12))),"")} -> C | E13: {=IFERROR(INDEX(D$2:D$37,SMALL(IF(D$2:D$37<>E$1,ROW(D$2:D$37)-1,""),ROW(D12))),"")} -> C | F13: {=IFERROR(INDEX(E$2:E$37,SMALL(IF(E$2:E$37<>F$1,ROW(E$2:E$37)-1,""),ROW(E12))),"")} -> D | G13: {=IFERROR(INDEX(F$2:F$37,SMALL(IF(F$2:F$37<>G$1,ROW(F$2:F$37)-1,""),ROW(F12))),"")} -> D | H13: {=IFERROR(INDEX(G$2:G$37,SMALL(IF(G$2:G$37<>H$1,ROW(G$2:G$37)-1,""),ROW(G12))),"")} -> D | I13: {=IFERROR(INDEX(H$2:H$37,SMALL(IF(H$2:H$37<>I$1,ROW(H$2:H$37)-1,""),ROW(H12))),"")} -> 0 | ... AK13: {=IFERROR(INDEX(AJ$2:AJ$37,SMALL(IF(AJ$2:AJ$37<>AK$1,ROW(AJ$2:AJ$37)-1,""),ROW(AJ12))),"")}
... A37: =IF(data!A37<>"",data!A37,"") | B37: {=IFERROR(INDEX(A$2:A$37,SMALL(IF(A$2:A$37<>B$1,ROW(A$2:A$37)-1,""),ROW(A36))),"")} | C37: {=IFERROR(INDEX(B$2:B$37,SMALL(IF(B$2:B$37<>C$1,ROW(B$2:B$37)-1,""),ROW(B36))),"")} | D37: {=IFERROR(INDEX(C$2:C$37,SMALL(IF(C$2:C$37<>D$1,ROW(C$2:C$37)-1,""),ROW(C36))),"")} | E37: {=IFERROR(INDEX(D$2:D$37,SMALL(IF(D$2:D$37<>E$1,ROW(D$2:D$37)-1,""),ROW(D36))),"")} | F37: {=IFERROR(INDEX(E$2:E$37,SMALL(IF(E$2:E$37<>F$1,ROW(E$2:E$37)-1,""),ROW(E36))),"")} | G37: {=IFERROR(INDEX(F$2:F$37,SMALL(IF(F$2:F$37<>G$1,ROW(F$2:F$37)-1,""),ROW(F36))),"")} | H37: {=IFERROR(INDEX(G$2:G$37,SMALL(IF(G$2:G$37<>H$1,ROW(G$2:G$37)-1,""),ROW(G36))),"")} | I37: {=IFERROR(INDEX(H$2:H$37,SMALL(IF(H$2:H$37<>I$1,ROW(H$2:H$37)-1,""),ROW(H36))),"")} | ... AK37: {=IFERROR(INDEX(AJ$2:AJ$37,SMALL(IF(AJ$2:AJ$37<>AK$1,ROW(AJ$2:AJ$37)-1,""),ROW(AJ36))),"")}

Sheet pre_melange
C3: =INDEX(tirage1!$B$1:$AK$1,1,ROW()-2) -> 5 | D3: =IF(AND(ROW()-3<data!$A$1,COLUMN()-3<data!$A$1),INDEX(C$3:C$38,MOD(ROW()-2,data!$A$1)+1),"") -> F | E3: =IF(AND(ROW()-3<data!$A$1,COLUMN()-3<data!$A$1),INDEX(D$3:D$38,MOD(ROW()-2,data!$A$1)+1),"") -> A | F3: =IF(AND(ROW()-3<data!$A$1,COLUMN()-3<data!$A$1),INDEX(E$3:E$38,MOD(ROW()-2,data!$A$1)+1),"") -> 6 | G3: =IF(AND(ROW()-3<data!$A$1,COLUMN()-3<data!$A$1),INDEX(F$3:F$38,MOD(ROW()-2,data!$A$1)+1),"") -> choux | H3: =IF(AND(ROW()-3<data!$A$1,COLUMN()-3<data!$A$1),INDEX(G$3:G$38,MOD(ROW()-2,data!$A$1)+1),"") -> E | I3: =IF(AND(ROW()-3<data!$A$1,COLUMN()-3<data!$A$1),INDEX(H$3:H$38,MOD(ROW()-2,data!$A$1)+1),"") -> 1 | J3: =IF(AND(ROW()-3<data!$A$1,COLUMN()-3<data!$A$1),INDEX(I$3:I$38,MOD(ROW()-2,data!$A$1)+1),"") -> C | K3: =IF(AND(ROW()-3<data!$A$1,COLUMN()-3<data!$A$1),INDEX(J$3:J$38,MOD(ROW()-2,data!$A$1)+1),"") -> 7 | ... AL3: =IF(AND(ROW()-3<data!$A$1,COLUMN()-3<data!$A$1),INDEX(AK$3:AK$38,MOD(ROW()-2,data!$A$1)+1),"")
C4: =INDEX(tirage1!$B$1:$AK$1,1,ROW()-2) -> F | D4: =IF(AND(ROW()-3<data!$A$1,COLUMN()-3<data!$A$1),INDEX(C$3:C$38,MOD(ROW()-2,data!$A$1)+1),"") -> A | E4: =IF(AND(ROW()-3<data!$A$1,COLUMN()-3<data!$A$1),INDEX(D$3:D$38,MOD(ROW()-2,data!$A$1)+1),"") -> 6 | F4: =IF(AND(ROW()-3<data!$A$1,COLUMN()-3<data!$A$1),INDEX(E$3:E$38,MOD(ROW()-2,data!$A$1)+1),"") -> choux | G4: =IF(AND(ROW()-3<data!$A$1,COLUMN()-3<data!$A$1),INDEX(F$3:F$38,MOD(ROW()-2,data!$A$1)+1),"") -> E | H4: =IF(AND(ROW()-3<data!$A$1,COLUMN()-3<data!$A$1),INDEX(G$3:G$38,MOD(ROW()-2,data!$A$1)+1),"") -> 1 | I4: =IF(AND(ROW()-3<data!$A$1,COLUMN()-3<data!$A$1),INDEX(H$3:H$38,MOD(ROW()-2,data!$A$1)+1),"") -> C | J4: =IF(AND(ROW()-3<data!$A$1,COLUMN()-3<data!$A$1),INDEX(I$3:I$38,MOD(ROW()-2,data!$A$1)+1),"") -> 7 | K4: =IF(AND(ROW()-3<data!$A$1,COLUMN()-3<data!$A$1),INDEX(J$3:J$38,MOD(ROW()-2,data!$A$1)+1),"") -> D | ... AL4: =IF(AND(ROW()-3<data!$A$1,COLUMN()-3<data!$A$1),INDEX(AK$3:AK$38,MOD(ROW()-2,data!$A$1)+1),"")
C5: =INDEX(tirage1!$B$1:$AK$1,1,ROW()-2) -> A | D5: =IF(AND(ROW()-3<data!$A$1,COLUMN()-3<data!$A$1),INDEX(C$3:C$38,MOD(ROW()-2,data!$A$1)+1),"") -> 6 | E5: =IF(AND(ROW()-3<data!$A$1,COLUMN()-3<data!$A$1),INDEX(D$3:D$38,MOD(ROW()-2,data!$A$1)+1),"") -> choux | F5: =IF(AND(ROW()-3<data!$A$1,COLUMN()-3<data!$A$1),INDEX(E$3:E$38,MOD(ROW()-2,data!$A$1)+1),"") -> E | G5: =IF(AND(ROW()-3<data!$A$1,COLUMN()-3<data!$A$1),INDEX(F$3:F$38,MOD(ROW()-2,data!$A$1)+1),"") -> 1 | H5: =IF(AND(ROW()-3<data!$A$1,COLUMN()-3<data!$A$1),INDEX(G$3:G$38,MOD(ROW()-2,data!$A$1)+1),"") -> C | I5: =IF(AND(ROW()-3<data!$A$1,COLUMN()-3<data!$A$1),INDEX(H$3:H$38,MOD(ROW()-2,data!$A$1)+1),"") -> 7 | J5: =IF(AND(ROW()-3<data!$A$1,COLUMN()-3<data!$A$1),INDEX(I$3:I$38,MOD(ROW()-2,data!$A$1)+1),"") -> D | K5: =IF(AND(ROW()-3<data!$A$1,COLUMN()-3<data!$A$1),INDEX(J$3:J$38,MOD(ROW()-2,data!$A$1)+1),"") -> 2 | ... AL5: =IF(AND(ROW()-3<data!$A$1,COLUMN()-3<data!$A$1),INDEX(AK$3:AK$38,MOD(ROW()-2,data!$A$1)+1),"")
C6: =INDEX(tirage1!$B$1:$AK$1,1,ROW()-2) -> 6 | D6: =IF(AND(ROW()-3<data!$A$1,COLUMN()-3<data!$A$1),INDEX(C$3:C$38,MOD(ROW()-2,data!$A$1)+1),"") -> choux | E6: =IF(AND(ROW()-3<data!$A$1,COLUMN()-3<data!$A$1),INDEX(D$3:D$38,MOD(ROW()-2,data!$A$1)+1),"") -> E | F6: =IF(AND(ROW()-3<data!$A$1,COLUMN()-3<data!$A$1),INDEX(E$3:E$38,MOD(ROW()-2,data!$A$1)+1),"") -> 1 | G6: =IF(AND(ROW()-3<data!$A$1,COLUMN()-3<data!$A$1),INDEX(F$3:F$38,MOD(ROW()-2,data!$A$1)+1),"") -> C | H6: =IF(AND(ROW()-3<data!$A$1,COLUMN()-3<data!$A$1),INDEX(G$3:G$38,MOD(ROW()-2,data!$A$1)+1),"") -> 7 | I6: =IF(AND(ROW()-3<data!$A$1,COLUMN()-3<data!$A$1),INDEX(H$3:H$38,MOD(ROW()-2,data!$A$1)+1),"") -> D | J6: =IF(AND(ROW()-3<data!$A$1,COLUMN()-3<data!$A$1),INDEX(I$3:I$38,MOD(ROW()-2,data!$A$1)+1),"") -> 2 | K6: =IF(AND(ROW()-3<data!$A$1,COLUMN()-3<data!$A$1),INDEX(J$3:J$38,MOD(ROW()-2,data!$A$1)+1),"") -> B | ... AL6: =IF(AND(ROW()-3<data!$A$1,COLUMN()-3<data!$A$1),INDEX(AK$3:AK$38,MOD(ROW()-2,data!$A$1)+1),"")
C7: =INDEX(tirage1!$B$1:$AK$1,1,ROW()-2) -> choux | D7: =IF(AND(ROW()-3<data!$A$1,COLUMN()-3<data!$A$1),INDEX(C$3:C$38,MOD(ROW()-2,data!$A$1)+1),"") -> E | E7: =IF(AND(ROW()-3<data!$A$1,COLUMN()-3<data!$A$1),INDEX(D$3:D$38,MOD(ROW()-2,data!$A$1)+1),"") -> 1 | F7: =IF(AND(ROW()-3<data!$A$1,COLUMN()-3<data!$A$1),INDEX(E$3:E$38,MOD(ROW()-2,data!$A$1)+1),"") -> C | G7: =IF(AND(ROW()-3<data!$A$1,COLUMN()-3<data!$A$1),INDEX(F$3:F$38,MOD(ROW()-2,data!$A$1)+1),"") -> 7 | H7: =IF(AND(ROW()-3<data!$A$1,COLUMN()-3<data!$A$1),INDEX(G$3:G$38,MOD(ROW()-2,data!$A$1)+1),"") -> D | I7: =IF(AND(ROW()-3<data!$A$1,COLUMN()-3<data!$A$1),INDEX(H$3:H$38,MOD(ROW()-2,data!$A$1)+1),"") -> 2 | J7: =IF(AND(ROW()-3<data!$A$1,COLUMN()-3<data!$A$1),INDEX(I$3:I$38,MOD(ROW()-2,data!$A$1)+1),"") -> B | K7: =IF(AND(ROW()-3<data!$A$1,COLUMN()-3<data!$A$1),INDEX(J$3:J$38,MOD(ROW()-2,data!$A$1)+1),"") -> joujoux | ... AL7: =IF(AND(ROW()-3<data!$A$1,COLUMN()-3<data!$A$1),INDEX(AK$3:AK$38,MOD(ROW()-2,data!$A$1)+1),"")
C8: =INDEX(tirage1!$B$1:$AK$1,1,ROW()-2) -> E | D8: =IF(AND(ROW()-3<data!$A$1,COLUMN()-3<data!$A$1),INDEX(C$3:C$38,MOD(ROW()-2,data!$A$1)+1),"") -> 1 | E8: =IF(AND(ROW()-3<data!$A$1,COLUMN()-3<data!$A$1),INDEX(D$3:D$38,MOD(ROW()-2,data!$A$1)+1),"") -> C | F8: =IF(AND(ROW()-3<data!$A$1,COLUMN()-3<data!$A$1),INDEX(E$3:E$38,MOD(ROW()-2,data!$A$1)+1),"") -> 7 | G8: =IF(AND(ROW()-3<data!$A$1,COLUMN()-3<data!$A$1),INDEX(F$3:F$38,MOD(ROW()-2,data!$A$1)+1),"") -> D | H8: =IF(AND(ROW()-3<data!$A$1,COLUMN()-3<data!$A$1),INDEX(G$3:G$38,MOD(ROW()-2,data!$A$1)+1),"") -> 2 | I8: =IF(AND(ROW()-3<data!$A$1,COLUMN()-3<data!$A$1),INDEX(H$3:H$38,MOD(ROW()-2,data!$A$1)+1),"") -> B | J8: =IF(AND(ROW()-3<data!$A$1,COLUMN()-3<data!$A$1),INDEX(I$3:I$38,MOD(ROW()-2,data!$A$1)+1),"") -> joujoux | K8: =IF(AND(ROW()-3<data!$A$1,COLUMN()-3<data!$A$1),INDEX(J$3:J$38,MOD(ROW()-2,data!$A$1)+1),"") -> genoux | ... AL8: =IF(AND(ROW()-3<data!$A$1,COLUMN()-3<data!$A$1),INDEX(AK$3:AK$38,MOD(ROW()-2,data!$A$1)+1),"")
C9: =INDEX(tirage1!$B$1:$AK$1,1,ROW()-2) -> 1 | D9: =IF(AND(ROW()-3<data!$A$1,COLUMN()-3<data!$A$1),INDEX(C$3:C$38,MOD(ROW()-2,data!$A$1)+1),"") -> C | E9: =IF(AND(ROW()-3<data!$A$1,COLUMN()-3<data!$A$1),INDEX(D$3:D$38,MOD(ROW()-2,data!$A$1)+1),"") -> 7 | F9: =IF(AND(ROW()-3<data!$A$1,COLUMN()-3<data!$A$1),INDEX(E$3:E$38,MOD(ROW()-2,data!$A$1)+1),"") -> D | G9: =IF(AND(ROW()-3<data!$A$1,COLUMN()-3<data!$A$1),INDEX(F$3:F$38,MOD(ROW()-2,data!$A$1)+1),"") -> 2 | H9: =IF(AND(ROW()-3<data!$A$1,COLUMN()-3<data!$A$1),INDEX(G$3:G$38,MOD(ROW()-2,data!$A$1)+1),"") -> B | I9: =IF(AND(ROW()-3<data!$A$1,COLUMN()-3<data!$A$1),INDEX(H$3:H$38,MOD(ROW()-2,data!$A$1)+1),"") -> joujoux | J9: =IF(AND(ROW()-3<data!$A$1,COLUMN()-3<data!$A$1),INDEX(I$3:I$38,MOD(ROW()-2,data!$A$1)+1),"") -> genoux | K9: =IF(AND(ROW()-3<data!$A$1,COLUMN()-3<data!$A$1),INDEX(J$3:J$38,MOD(ROW()-2,data!$A$1)+1),"") -> ripoux | ... AL9: =IF(AND(ROW()-3<data!$A$1,COLUMN()-3<data!$A$1),INDEX(AK$3:AK$38,MOD(ROW()-2,data!$A$1)+1),"")
C10: =INDEX(tirage1!$B$1:$AK$1,1,ROW()-2) -> C | D10: =IF(AND(ROW()-3<data!$A$1,COLUMN()-3<data!$A$1),INDEX(C$3:C$38,MOD(ROW()-2,data!$A$1)+1),"") -> 7 | E10: =IF(AND(ROW()-3<data!$A$1,COLUMN()-3<data!$A$1),INDEX(D$3:D$38,MOD(ROW()-2,data!$A$1)+1),"") -> D | F10: =IF(AND(ROW()-3<data!$A$1,COLUMN()-3<data!$A$1),INDEX(E$3:E$38,MOD(ROW()-2,data!$A$1)+1),"") -> 2 | G10: =IF(AND(ROW()-3<data!$A$1,COLUMN()-3<data!$A$1),INDEX(F$3:F$38,MOD(ROW()-2,data!$A$1)+1),"") -> B | H10: =IF(AND(ROW()-3<data!$A$1,COLUMN()-3<data!$A$1),INDEX(G$3:G$38,MOD(ROW()-2,data!$A$1)+1),"") -> joujoux | I10: =IF(AND(ROW()-3<data!$A$1,COLUMN()-3<data!$A$1),INDEX(H$3:H$38,MOD(ROW()-2,data!$A$1)+1),"") -> genoux | J10: =IF(AND(ROW()-3<data!$A$1,COLUMN()-3<data!$A$1),INDEX(I$3:I$38,MOD(ROW()-2,data!$A$1)+1),"") -> ripoux | K10: =IF(AND(ROW()-3<data!$A$1,COLUMN()-3<data!$A$1),INDEX(J$3:J$38,MOD(ROW()-2,data!$A$1)+1),"") -> 8 | ... AL10: =IF(AND(ROW()-3<data!$A$1,COLUMN()-3<data!$A$1),INDEX(AK$3:AK$38,MOD(ROW()-2,data!$A$1)+1),"")
C11: =INDEX(tirage1!$B$1:$AK$1,1,ROW()-2) -> 7 | D11: =IF(AND(ROW()-3<data!$A$1,COLUMN()-3<data!$A$1),INDEX(C$3:C$38,MOD(ROW()-2,data!$A$1)+1),"") -> D | E11: =IF(AND(ROW()-3<data!$A$1,COLUMN()-3<data!$A$1),INDEX(D$3:D$38,MOD(ROW()-2,data!$A$1)+1),"") -> 2 | F11: =IF(AND(ROW()-3<data!$A$1,COLUMN()-3<data!$A$1),INDEX(E$3:E$38,MOD(ROW()-2,data!$A$1)+1),"") -> B | G11: =IF(AND(ROW()-3<data!$A$1,COLUMN()-3<data!$A$1),INDEX(F$3:F$38,MOD(ROW()-2,data!$A$1)+1),"") -> joujoux | H11: =IF(AND(ROW()-3<data!$A$1,COLUMN()-3<data!$A$1),INDEX(G$3:G$38,MOD(ROW()-2,data!$A$1)+1),"") -> genoux | I11: =IF(AND(ROW()-3<data!$A$1,COLUMN()-3<data!$A$1),INDEX(H$3:H$38,MOD(ROW()-2,data!$A$1)+1),"") -> ripoux | J11: =IF(AND(ROW()-3<data!$A$1,COLUMN()-3<data!$A$1),INDEX(I$3:I$38,MOD(ROW()-2,data!$A$1)+1),"") -> 8 | K11: =IF(AND(ROW()-3<data!$A$1,COLUMN()-3<data!$A$1),INDEX(J$3:J$38,MOD(ROW()-2,data!$A$1)+1),"") -> 0 | ... AL11: =IF(AND(ROW()-3<data!$A$1,COLUMN()-3<data!$A$1),INDEX(AK$3:AK$38,MOD(ROW()-2,data!$A$1)+1),"")
C12: =INDEX(tirage1!$B$1:$AK$1,1,ROW()-2) -> D | D12: =IF(AND(ROW()-3<data!$A$1,COLUMN()-3<data!$A$1),INDEX(C$3:C$38,MOD(ROW()-2,data!$A$1)+1),"") -> 2 | E12: =IF(AND(ROW()-3<data!$A$1,COLUMN()-3<data!$A$1),INDEX(D$3:D$38,MOD(ROW()-2,data!$A$1)+1),"") -> B | F12: =IF(AND(ROW()-3<data!$A$1,COLUMN()-3<data!$A$1),INDEX(E$3:E$38,MOD(ROW()-2,data!$A$1)+1),"") -> joujoux | G12: =IF(AND(ROW()-3<data!$A$1,COLUMN()-3<data!$A$1),INDEX(F$3:F$38,MOD(ROW()-2,data!$A$1)+1),"") -> genoux | H12: =IF(AND(ROW()-3<data!$A$1,COLUMN()-3<data!$A$1),INDEX(G$3:G$38,MOD(ROW()-2,data!$A$1)+1),"") -> ripoux | I12: =IF(AND(ROW()-3<data!$A$1,COLUMN()-3<data!$A$1),INDEX(H$3:H$38,MOD(ROW()-2,data!$A$1)+1),"") -> 8 | J12: =IF(AND(ROW()-3<data!$A$1,COLUMN()-3<data!$A$1),INDEX(I$3:I$38,MOD(ROW()-2,data!$A$1)+1),"") -> 0 | K12: =IF(AND(ROW()-3<data!$A$1,COLUMN()-3<data!$A$1),INDEX(J$3:J$38,MOD(ROW()-2,data!$A$1)+1),"") -> chouchoux | ... AL12: =IF(AND(ROW()-3<data!$A$1,COLUMN()-3<data!$A$1),INDEX(AK$3:AK$38,MOD(ROW()-2,data!$A$1)+1),"")
C13: =INDEX(tirage1!$B$1:$AK$1,1,ROW()-2) -> 2 | D13: =IF(AND(ROW()-3<data!$A$1,COLUMN()-3<data!$A$1),INDEX(C$3:C$38,MOD(ROW()-2,data!$A$1)+1),"") -> B | E13: =IF(AND(ROW()-3<data!$A$1,COLUMN()-3<data!$A$1),INDEX(D$3:D$38,MOD(ROW()-2,data!$A$1)+1),"") -> joujoux | F13: =IF(AND(ROW()-3<data!$A$1,COLUMN()-3<data!$A$1),INDEX(E$3:E$38,MOD(ROW()-2,data!$A$1)+1),"") -> genoux | G13: =IF(AND(ROW()-3<data!$A$1,COLUMN()-3<data!$A$1),INDEX(F$3:F$38,MOD(ROW()-2,data!$A$1)+1),"") -> ripoux | H13: =IF(AND(ROW()-3<data!$A$1,COLUMN()-3<data!$A$1),INDEX(G$3:G$38,MOD(ROW()-2,data!$A$1)+1),"") -> 8 | I13: =IF(AND(ROW()-3<data!$A$1,COLUMN()-3<data!$A$1),INDEX(H$3:H$38,MOD(ROW()-2,data!$A$1)+1),"") -> 0 | J13: =IF(AND(ROW()-3<data!$A$1,COLUMN()-3<data!$A$1),INDEX(I$3:I$38,MOD(ROW()-2,data!$A$1)+1),"") -> chouchoux | K13: =IF(AND(ROW()-3<data!$A$1,COLUMN()-3<data!$A$1),INDEX(J$3:J$38,MOD(ROW()-2,data!$A$1)+1),"") -> tripoux | ... AL13: =IF(AND(ROW()-3<data!$A$1,COLUMN()-3<data!$A$1),INDEX(AK$3:AK$38,MOD(ROW()-2,data!$A$1)+1),"")
C14: =INDEX(tirage1!$B$1:$AK$1,1,ROW()-2) -> B | D14: =IF(AND(ROW()-3<data!$A$1,COLUMN()-3<data!$A$1),INDEX(C$3:C$38,MOD(ROW()-2,data!$A$1)+1),"") -> joujoux | E14: =IF(AND(ROW()-3<data!$A$1,COLUMN()-3<data!$A$1),INDEX(D$3:D$38,MOD(ROW()-2,data!$A$1)+1),"") -> genoux | F14: =IF(AND(ROW()-3<data!$A$1,COLUMN()-3<data!$A$1),INDEX(E$3:E$38,MOD(ROW()-2,data!$A$1)+1),"") -> ripoux | G14: =IF(AND(ROW()-3<data!$A$1,COLUMN()-3<data!$A$1),INDEX(F$3:F$38,MOD(ROW()-2,data!$A$1)+1),"") -> 8 | H14: =IF(AND(ROW()-3<data!$A$1,COLUMN()-3<data!$A$1),INDEX(G$3:G$38,MOD(ROW()-2,data!$A$1)+1),"") -> 0 | I14: =IF(AND(ROW()-3<data!$A$1,COLUMN()-3<data!$A$1),INDEX(H$3:H$38,MOD(ROW()-2,data!$A$1)+1),"") -> chouchoux | J14: =IF(AND(ROW()-3<data!$A$1,COLUMN()-3<data!$A$1),INDEX(I$3:I$38,MOD(ROW()-2,data!$A$1)+1),"") -> tripoux | K14: =IF(AND(ROW()-3<data!$A$1,COLUMN()-3<data!$A$1),INDEX(J$3:J$38,MOD(ROW()-2,data!$A$1)+1),"") -> cailloux | ... AL14: =IF(AND(ROW()-3<data!$A$1,COLUMN()-3<data!$A$1),INDEX(AK$3:AK$38,MOD(ROW()-2,data!$A$1)+1),"")
... C38: =INDEX(tirage1!$B$1:$AK$1,1,ROW()-2) | D38: =IF(AND(ROW()-3<data!$A$1,COLUMN()-3<data!$A$1),INDEX(C$3:C$38,MOD(ROW()-2,data!$A$1)+1),"") | E38: =IF(AND(ROW()-3<data!$A$1,COLUMN()-3<data!$A$1),INDEX(D$3:D$38,MOD(ROW()-2,data!$A$1)+1),"") | F38: =IF(AND(ROW()-3<data!$A$1,COLUMN()-3<data!$A$1),INDEX(E$3:E$38,MOD(ROW()-2,data!$A$1)+1),"") | G38: =IF(AND(ROW()-3<data!$A$1,COLUMN()-3<data!$A$1),INDEX(F$3:F$38,MOD(ROW()-2,data!$A$1)+1),"") | H38: =IF(AND(ROW()-3<data!$A$1,COLUMN()-3<data!$A$1),INDEX(G$3:G$38,MOD(ROW()-2,data!$A$1)+1),"") | I38: =IF(AND(ROW()-3<data!$A$1,COLUMN()-3<data!$A$1),INDEX(H$3:H$38,MOD(ROW()-2,data!$A$1)+1),"") | J38: =IF(AND(ROW()-3<data!$A$1,COLUMN()-3<data!$A$1),INDEX(I$3:I$38,MOD(ROW()-2,data!$A$1)+1),"") | K38: =IF(AND(ROW()-3<data!$A$1,COLUMN()-3<data!$A$1),INDEX(J$3:J$38,MOD(ROW()-2,data!$A$1)+1),"") | ... AL38: =IF(AND(ROW()-3<data!$A$1,COLUMN()-3<data!$A$1),INDEX(AK$3:AK$38,MOD(ROW()-2,data!$A$1)+1),"")

Sheet tirage2
B1: =IFERROR(INDEX(A2:A37,RANDBETWEEN(1,data!$A$1-COLUMN()+2)),"") -> A | C1: =IFERROR(INDEX(B2:B37,RANDBETWEEN(1,data!$A$1-COLUMN()+2)),"") -> genoux | D1: =IFERROR(INDEX(C2:C37,RANDBETWEEN(1,data!$A$1-COLUMN()+2)),"") -> E | E1: =IFERROR(INDEX(D2:D37,RANDBETWEEN(1,data!$A$1-COLUMN()+2)),"") -> 9 | F1: =IFERROR(INDEX(E2:E37,RANDBETWEEN(1,data!$A$1-COLUMN()+2)),"") -> B | G1: =IFERROR(INDEX(F2:F37,RANDBETWEEN(1,data!$A$1-COLUMN()+2)),"") -> 3 | H1: =IFERROR(INDEX(G2:G37,RANDBETWEEN(1,data!$A$1-COLUMN()+2)),"") -> 7 | I1: =IFERROR(INDEX(H2:H37,RANDBETWEEN(1,data!$A$1-COLUMN()+2)),"") -> F | ... AK1: =IFERROR(INDEX(AJ2:AJ37,RANDBETWEEN(1,data!$A$1-COLUMN()+2)),"")
A2: =IF(data!A2<>"",data!A2,"") -> bijoux | B2: {=IFERROR(INDEX(A$2:A$37,SMALL(IF(A$2:A$37<>B$1,ROW(A$2:A$37)-1,""),ROW(A1))),"")} -> bijoux | C2: {=IFERROR(INDEX(B$2:B$37,SMALL(IF(B$2:B$37<>C$1,ROW(B$2:B$37)-1,""),ROW(B1))),"")} -> bijoux | D2: {=IFERROR(INDEX(C$2:C$37,SMALL(IF(C$2:C$37<>D$1,ROW(C$2:C$37)-1,""),ROW(C1))),"")} -> bijoux | E2: {=IFERROR(INDEX(D$2:D$37,SMALL(IF(D$2:D$37<>E$1,ROW(D$2:D$37)-1,""),ROW(D1))),"")} -> bijoux | F2: {=IFERROR(INDEX(E$2:E$37,SMALL(IF(E$2:E$37<>F$1,ROW(E$2:E$37)-1,""),ROW(E1))),"")} -> bijoux | G2: {=IFERROR(INDEX(F$2:F$37,SMALL(IF(F$2:F$37<>G$1,ROW(F$2:F$37)-1,""),ROW(F1))),"")} -> bijoux | H2: {=IFERROR(INDEX(G$2:G$37,SMALL(IF(G$2:G$37<>H$1,ROW(G$2:G$37)-1,""),ROW(G1))),"")} -> bijoux | I2: {=IFERROR(INDEX(H$2:H$37,SMALL(IF(H$2:H$37<>I$1,ROW(H$2:H$37)-1,""),ROW(H1))),"")} -> bijoux | ... AK2: {=IFERROR(INDEX(AJ$2:AJ$37,SMALL(IF(AJ$2:AJ$37<>AK$1,ROW(AJ$2:AJ$37)-1,""),ROW(AJ1))),"")}
A3: =IF(data!A3<>"",data!A3,"") -> cailloux | B3: {=IFERROR(INDEX(A$2:A$37,SMALL(IF(A$2:A$37<>B$1,ROW(A$2:A$37)-1,""),ROW(A2))),"")} -> cailloux | C3: {=IFERROR(INDEX(B$2:B$37,SMALL(IF(B$2:B$37<>C$1,ROW(B$2:B$37)-1,""),ROW(B2))),"")} -> cailloux | D3: {=IFERROR(INDEX(C$2:C$37,SMALL(IF(C$2:C$37<>D$1,ROW(C$2:C$37)-1,""),ROW(C2))),"")} -> cailloux | E3: {=IFERROR(INDEX(D$2:D$37,SMALL(IF(D$2:D$37<>E$1,ROW(D$2:D$37)-1,""),ROW(D2))),"")} -> cailloux | F3: {=IFERROR(INDEX(E$2:E$37,SMALL(IF(E$2:E$37<>F$1,ROW(E$2:E$37)-1,""),ROW(E2))),"")} -> cailloux | G3: {=IFERROR(INDEX(F$2:F$37,SMALL(IF(F$2:F$37<>G$1,ROW(F$2:F$37)-1,""),ROW(F2))),"")} -> cailloux | H3: {=IFERROR(INDEX(G$2:G$37,SMALL(IF(G$2:G$37<>H$1,ROW(G$2:G$37)-1,""),ROW(G2))),"")} -> cailloux | I3: {=IFERROR(INDEX(H$2:H$37,SMALL(IF(H$2:H$37<>I$1,ROW(H$2:H$37)-1,""),ROW(H2))),"")} -> cailloux | ... AK3: {=IFERROR(INDEX(AJ$2:AJ$37,SMALL(IF(AJ$2:AJ$37<>AK$1,ROW(AJ$2:AJ$37)-1,""),ROW(AJ2))),"")}
A4: =IF(data!A4<>"",data!A4,"") -> chouchoux | B4: {=IFERROR(INDEX(A$2:A$37,SMALL(IF(A$2:A$37<>B$1,ROW(A$2:A$37)-1,""),ROW(A3))),"")} -> chouchoux | C4: {=IFERROR(INDEX(B$2:B$37,SMALL(IF(B$2:B$37<>C$1,ROW(B$2:B$37)-1,""),ROW(B3))),"")} -> chouchoux | D4: {=IFERROR(INDEX(C$2:C$37,SMALL(IF(C$2:C$37<>D$1,ROW(C$2:C$37)-1,""),ROW(C3))),"")} -> chouchoux | E4: {=IFERROR(INDEX(D$2:D$37,SMALL(IF(D$2:D$37<>E$1,ROW(D$2:D$37)-1,""),ROW(D3))),"")} -> chouchoux | F4: {=IFERROR(INDEX(E$2:E$37,SMALL(IF(E$2:E$37<>F$1,ROW(E$2:E$37)-1,""),ROW(E3))),"")} -> chouchoux | G4: {=IFERROR(INDEX(F$2:F$37,SMALL(IF(F$2:F$37<>G$1,ROW(F$2:F$37)-1,""),ROW(F3))),"")} -> chouchoux | H4: {=IFERROR(INDEX(G$2:G$37,SMALL(IF(G$2:G$37<>H$1,ROW(G$2:G$37)-1,""),ROW(G3))),"")} -> chouchoux | I4: {=IFERROR(INDEX(H$2:H$37,SMALL(IF(H$2:H$37<>I$1,ROW(H$2:H$37)-1,""),ROW(H3))),"")} -> chouchoux | ... AK4: {=IFERROR(INDEX(AJ$2:AJ$37,SMALL(IF(AJ$2:AJ$37<>AK$1,ROW(AJ$2:AJ$37)-1,""),ROW(AJ3))),"")}
A5: =IF(data!A5<>"",data!A5,"") -> choux | B5: {=IFERROR(INDEX(A$2:A$37,SMALL(IF(A$2:A$37<>B$1,ROW(A$2:A$37)-1,""),ROW(A4))),"")} -> choux | C5: {=IFERROR(INDEX(B$2:B$37,SMALL(IF(B$2:B$37<>C$1,ROW(B$2:B$37)-1,""),ROW(B4))),"")} -> choux | D5: {=IFERROR(INDEX(C$2:C$37,SMALL(IF(C$2:C$37<>D$1,ROW(C$2:C$37)-1,""),ROW(C4))),"")} -> choux | E5: {=IFERROR(INDEX(D$2:D$37,SMALL(IF(D$2:D$37<>E$1,ROW(D$2:D$37)-1,""),ROW(D4))),"")} -> choux | F5: {=IFERROR(INDEX(E$2:E$37,SMALL(IF(E$2:E$37<>F$1,ROW(E$2:E$37)-1,""),ROW(E4))),"")} -> choux | G5: {=IFERROR(INDEX(F$2:F$37,SMALL(IF(F$2:F$37<>G$1,ROW(F$2:F$37)-1,""),ROW(F4))),"")} -> choux | H5: {=IFERROR(INDEX(G$2:G$37,SMALL(IF(G$2:G$37<>H$1,ROW(G$2:G$37)-1,""),ROW(G4))),"")} -> choux | I5: {=IFERROR(INDEX(H$2:H$37,SMALL(IF(H$2:H$37<>I$1,ROW(H$2:H$37)-1,""),ROW(H4))),"")} -> choux | ... AK5: {=IFERROR(INDEX(AJ$2:AJ$37,SMALL(IF(AJ$2:AJ$37<>AK$1,ROW(AJ$2:AJ$37)-1,""),ROW(AJ4))),"")}
A6: =IF(data!A6<>"",data!A6,"") -> genoux | B6: {=IFERROR(INDEX(A$2:A$37,SMALL(IF(A$2:A$37<>B$1,ROW(A$2:A$37)-1,""),ROW(A5))),"")} -> genoux | C6: {=IFERROR(INDEX(B$2:B$37,SMALL(IF(B$2:B$37<>C$1,ROW(B$2:B$37)-1,""),ROW(B5))),"")} -> hiboux | D6: {=IFERROR(INDEX(C$2:C$37,SMALL(IF(C$2:C$37<>D$1,ROW(C$2:C$37)-1,""),ROW(C5))),"")} -> hiboux | E6: {=IFERROR(INDEX(D$2:D$37,SMALL(IF(D$2:D$37<>E$1,ROW(D$2:D$37)-1,""),ROW(D5))),"")} -> hiboux | F6: {=IFERROR(INDEX(E$2:E$37,SMALL(IF(E$2:E$37<>F$1,ROW(E$2:E$37)-1,""),ROW(E5))),"")} -> hiboux | G6: {=IFERROR(INDEX(F$2:F$37,SMALL(IF(F$2:F$37<>G$1,ROW(F$2:F$37)-1,""),ROW(F5))),"")} -> hiboux | H6: {=IFERROR(INDEX(G$2:G$37,SMALL(IF(G$2:G$37<>H$1,ROW(G$2:G$37)-1,""),ROW(G5))),"")} -> hiboux | I6: {=IFERROR(INDEX(H$2:H$37,SMALL(IF(H$2:H$37<>I$1,ROW(H$2:H$37)-1,""),ROW(H5))),"")} -> hiboux | ... AK6: {=IFERROR(INDEX(AJ$2:AJ$37,SMALL(IF(AJ$2:AJ$37<>AK$1,ROW(AJ$2:AJ$37)-1,""),ROW(AJ5))),"")}
A7: =IF(data!A7<>"",data!A7,"") -> hiboux | B7: {=IFERROR(INDEX(A$2:A$37,SMALL(IF(A$2:A$37<>B$1,ROW(A$2:A$37)-1,""),ROW(A6))),"")} -> hiboux | C7: {=IFERROR(INDEX(B$2:B$37,SMALL(IF(B$2:B$37<>C$1,ROW(B$2:B$37)-1,""),ROW(B6))),"")} -> joujoux | D7: {=IFERROR(INDEX(C$2:C$37,SMALL(IF(C$2:C$37<>D$1,ROW(C$2:C$37)-1,""),ROW(C6))),"")} -> joujoux | E7: {=IFERROR(INDEX(D$2:D$37,SMALL(IF(D$2:D$37<>E$1,ROW(D$2:D$37)-1,""),ROW(D6))),"")} -> joujoux | F7: {=IFERROR(INDEX(E$2:E$37,SMALL(IF(E$2:E$37<>F$1,ROW(E$2:E$37)-1,""),ROW(E6))),"")} -> joujoux | G7: {=IFERROR(INDEX(F$2:F$37,SMALL(IF(F$2:F$37<>G$1,ROW(F$2:F$37)-1,""),ROW(F6))),"")} -> joujoux | H7: {=IFERROR(INDEX(G$2:G$37,SMALL(IF(G$2:G$37<>H$1,ROW(G$2:G$37)-1,""),ROW(G6))),"")} -> joujoux | I7: {=IFERROR(INDEX(H$2:H$37,SMALL(IF(H$2:H$37<>I$1,ROW(H$2:H$37)-1,""),ROW(H6))),"")} -> joujoux | ... AK7: {=IFERROR(INDEX(AJ$2:AJ$37,SMALL(IF(AJ$2:AJ$37<>AK$1,ROW(AJ$2:AJ$37)-1,""),ROW(AJ6))),"")}
A8: =IF(data!A8<>"",data!A8,"") -> joujoux | B8: {=IFERROR(INDEX(A$2:A$37,SMALL(IF(A$2:A$37<>B$1,ROW(A$2:A$37)-1,""),ROW(A7))),"")} -> joujoux | C8: {=IFERROR(INDEX(B$2:B$37,SMALL(IF(B$2:B$37<>C$1,ROW(B$2:B$37)-1,""),ROW(B7))),"")} -> poux | D8: {=IFERROR(INDEX(C$2:C$37,SMALL(IF(C$2:C$37<>D$1,ROW(C$2:C$37)-1,""),ROW(C7))),"")} -> poux | E8: {=IFERROR(INDEX(D$2:D$37,SMALL(IF(D$2:D$37<>E$1,ROW(D$2:D$37)-1,""),ROW(D7))),"")} -> poux | F8: {=IFERROR(INDEX(E$2:E$37,SMALL(IF(E$2:E$37<>F$1,ROW(E$2:E$37)-1,""),ROW(E7))),"")} -> poux | G8: {=IFERROR(INDEX(F$2:F$37,SMALL(IF(F$2:F$37<>G$1,ROW(F$2:F$37)-1,""),ROW(F7))),"")} -> poux | H8: {=IFERROR(INDEX(G$2:G$37,SMALL(IF(G$2:G$37<>H$1,ROW(G$2:G$37)-1,""),ROW(G7))),"")} -> poux | I8: {=IFERROR(INDEX(H$2:H$37,SMALL(IF(H$2:H$37<>I$1,ROW(H$2:H$37)-1,""),ROW(H7))),"")} -> poux | ... AK8: {=IFERROR(INDEX(AJ$2:AJ$37,SMALL(IF(AJ$2:AJ$37<>AK$1,ROW(AJ$2:AJ$37)-1,""),ROW(AJ7))),"")}
A9: =IF(data!A9<>"",data!A9,"") -> poux | B9: {=IFERROR(INDEX(A$2:A$37,SMALL(IF(A$2:A$37<>B$1,ROW(A$2:A$37)-1,""),ROW(A8))),"")} -> poux | C9: {=IFERROR(INDEX(B$2:B$37,SMALL(IF(B$2:B$37<>C$1,ROW(B$2:B$37)-1,""),ROW(B8))),"")} -> ripoux | D9: {=IFERROR(INDEX(C$2:C$37,SMALL(IF(C$2:C$37<>D$1,ROW(C$2:C$37)-1,""),ROW(C8))),"")} -> ripoux | E9: {=IFERROR(INDEX(D$2:D$37,SMALL(IF(D$2:D$37<>E$1,ROW(D$2:D$37)-1,""),ROW(D8))),"")} -> ripoux | F9: {=IFERROR(INDEX(E$2:E$37,SMALL(IF(E$2:E$37<>F$1,ROW(E$2:E$37)-1,""),ROW(E8))),"")} -> ripoux | G9: {=IFERROR(INDEX(F$2:F$37,SMALL(IF(F$2:F$37<>G$1,ROW(F$2:F$37)-1,""),ROW(F8))),"")} -> ripoux | H9: {=IFERROR(INDEX(G$2:G$37,SMALL(IF(G$2:G$37<>H$1,ROW(G$2:G$37)-1,""),ROW(G8))),"")} -> ripoux | I9: {=IFERROR(INDEX(H$2:H$37,SMALL(IF(H$2:H$37<>I$1,ROW(H$2:H$37)-1,""),ROW(H8))),"")} -> ripoux | ... AK9: {=IFERROR(INDEX(AJ$2:AJ$37,SMALL(IF(AJ$2:AJ$37<>AK$1,ROW(AJ$2:AJ$37)-1,""),ROW(AJ8))),"")}
A10: =IF(data!A10<>"",data!A10,"") -> ripoux | B10: {=IFERROR(INDEX(A$2:A$37,SMALL(IF(A$2:A$37<>B$1,ROW(A$2:A$37)-1,""),ROW(A9))),"")} -> ripoux | C10: {=IFERROR(INDEX(B$2:B$37,SMALL(IF(B$2:B$37<>C$1,ROW(B$2:B$37)-1,""),ROW(B9))),"")} -> tripoux | D10: {=IFERROR(INDEX(C$2:C$37,SMALL(IF(C$2:C$37<>D$1,ROW(C$2:C$37)-1,""),ROW(C9))),"")} -> tripoux | E10: {=IFERROR(INDEX(D$2:D$37,SMALL(IF(D$2:D$37<>E$1,ROW(D$2:D$37)-1,""),ROW(D9))),"")} -> tripoux | F10: {=IFERROR(INDEX(E$2:E$37,SMALL(IF(E$2:E$37<>F$1,ROW(E$2:E$37)-1,""),ROW(E9))),"")} -> tripoux | G10: {=IFERROR(INDEX(F$2:F$37,SMALL(IF(F$2:F$37<>G$1,ROW(F$2:F$37)-1,""),ROW(F9))),"")} -> tripoux | H10: {=IFERROR(INDEX(G$2:G$37,SMALL(IF(G$2:G$37<>H$1,ROW(G$2:G$37)-1,""),ROW(G9))),"")} -> tripoux | I10: {=IFERROR(INDEX(H$2:H$37,SMALL(IF(H$2:H$37<>I$1,ROW(H$2:H$37)-1,""),ROW(H9))),"")} -> tripoux | ... AK10: {=IFERROR(INDEX(AJ$2:AJ$37,SMALL(IF(AJ$2:AJ$37<>AK$1,ROW(AJ$2:AJ$37)-1,""),ROW(AJ9))),"")}
A11: =IF(data!A11<>"",data!A11,"") -> tripoux | B11: {=IFERROR(INDEX(A$2:A$37,SMALL(IF(A$2:A$37<>B$1,ROW(A$2:A$37)-1,""),ROW(A10))),"")} -> tripoux | C11: {=IFERROR(INDEX(B$2:B$37,SMALL(IF(B$2:B$37<>C$1,ROW(B$2:B$37)-1,""),ROW(B10))),"")} -> B | D11: {=IFERROR(INDEX(C$2:C$37,SMALL(IF(C$2:C$37<>D$1,ROW(C$2:C$37)-1,""),ROW(C10))),"")} -> B | E11: {=IFERROR(INDEX(D$2:D$37,SMALL(IF(D$2:D$37<>E$1,ROW(D$2:D$37)-1,""),ROW(D10))),"")} -> B | F11: {=IFERROR(INDEX(E$2:E$37,SMALL(IF(E$2:E$37<>F$1,ROW(E$2:E$37)-1,""),ROW(E10))),"")} -> C | G11: {=IFERROR(INDEX(F$2:F$37,SMALL(IF(F$2:F$37<>G$1,ROW(F$2:F$37)-1,""),ROW(F10))),"")} -> C | H11: {=IFERROR(INDEX(G$2:G$37,SMALL(IF(G$2:G$37<>H$1,ROW(G$2:G$37)-1,""),ROW(G10))),"")} -> C | I11: {=IFERROR(INDEX(H$2:H$37,SMALL(IF(H$2:H$37<>I$1,ROW(H$2:H$37)-1,""),ROW(H10))),"")} -> C | ... AK11: {=IFERROR(INDEX(AJ$2:AJ$37,SMALL(IF(AJ$2:AJ$37<>AK$1,ROW(AJ$2:AJ$37)-1,""),ROW(AJ10))),"")}
A12: =IF(data!A12<>"",data!A12,"") -> A | B12: {=IFERROR(INDEX(A$2:A$37,SMALL(IF(A$2:A$37<>B$1,ROW(A$2:A$37)-1,""),ROW(A11))),"")} -> B | C12: {=IFERROR(INDEX(B$2:B$37,SMALL(IF(B$2:B$37<>C$1,ROW(B$2:B$37)-1,""),ROW(B11))),"")} -> C | D12: {=IFERROR(INDEX(C$2:C$37,SMALL(IF(C$2:C$37<>D$1,ROW(C$2:C$37)-1,""),ROW(C11))),"")} -> C | E12: {=IFERROR(INDEX(D$2:D$37,SMALL(IF(D$2:D$37<>E$1,ROW(D$2:D$37)-1,""),ROW(D11))),"")} -> C | F12: {=IFERROR(INDEX(E$2:E$37,SMALL(IF(E$2:E$37<>F$1,ROW(E$2:E$37)-1,""),ROW(E11))),"")} -> D | G12: {=IFERROR(INDEX(F$2:F$37,SMALL(IF(F$2:F$37<>G$1,ROW(F$2:F$37)-1,""),ROW(F11))),"")} -> D | H12: {=IFERROR(INDEX(G$2:G$37,SMALL(IF(G$2:G$37<>H$1,ROW(G$2:G$37)-1,""),ROW(G11))),"")} -> D | I12: {=IFERROR(INDEX(H$2:H$37,SMALL(IF(H$2:H$37<>I$1,ROW(H$2:H$37)-1,""),ROW(H11))),"")} -> D | ... AK12: {=IFERROR(INDEX(AJ$2:AJ$37,SMALL(IF(AJ$2:AJ$37<>AK$1,ROW(AJ$2:AJ$37)-1,""),ROW(AJ11))),"")}
A13: =IF(data!A13<>"",data!A13,"") -> B | B13: {=IFERROR(INDEX(A$2:A$37,SMALL(IF(A$2:A$37<>B$1,ROW(A$2:A$37)-1,""),ROW(A12))),"")} -> C | C13: {=IFERROR(INDEX(B$2:B$37,SMALL(IF(B$2:B$37<>C$1,ROW(B$2:B$37)-1,""),ROW(B12))),"")} -> D | D13: {=IFERROR(INDEX(C$2:C$37,SMALL(IF(C$2:C$37<>D$1,ROW(C$2:C$37)-1,""),ROW(C12))),"")} -> D | E13: {=IFERROR(INDEX(D$2:D$37,SMALL(IF(D$2:D$37<>E$1,ROW(D$2:D$37)-1,""),ROW(D12))),"")} -> D | F13: {=IFERROR(INDEX(E$2:E$37,SMALL(IF(E$2:E$37<>F$1,ROW(E$2:E$37)-1,""),ROW(E12))),"")} -> F | G13: {=IFERROR(INDEX(F$2:F$37,SMALL(IF(F$2:F$37<>G$1,ROW(F$2:F$37)-1,""),ROW(F12))),"")} -> F | H13: {=IFERROR(INDEX(G$2:G$37,SMALL(IF(G$2:G$37<>H$1,ROW(G$2:G$37)-1,""),ROW(G12))),"")} -> F | I13: {=IFERROR(INDEX(H$2:H$37,SMALL(IF(H$2:H$37<>I$1,ROW(H$2:H$37)-1,""),ROW(H12))),"")} -> 0 | ... AK13: {=IFERROR(INDEX(AJ$2:AJ$37,SMALL(IF(AJ$2:AJ$37<>AK$1,ROW(AJ$2:AJ$37)-1,""),ROW(AJ12))),"")}
... A37: =IF(data!A37<>"",data!A37,"") | B37: {=IFERROR(INDEX(A$2:A$37,SMALL(IF(A$2:A$37<>B$1,ROW(A$2:A$37)-1,""),ROW(A36))),"")} | C37: {=IFERROR(INDEX(B$2:B$37,SMALL(IF(B$2:B$37<>C$1,ROW(B$2:B$37)-1,""),ROW(B36))),"")} | D37: {=IFERROR(INDEX(C$2:C$37,SMALL(IF(C$2:C$37<>D$1,ROW(C$2:C$37)-1,""),ROW(C36))),"")} | E37: {=IFERROR(INDEX(D$2:D$37,SMALL(IF(D$2:D$37<>E$1,ROW(D$2:D$37)-1,""),ROW(D36))),"")} | F37: {=IFERROR(INDEX(E$2:E$37,SMALL(IF(E$2:E$37<>F$1,ROW(E$2:E$37)-1,""),ROW(E36))),"")} | G37: {=IFERROR(INDEX(F$2:F$37,SMALL(IF(F$2:F$37<>G$1,ROW(F$2:F$37)-1,""),ROW(F36))),"")} | H37: {=IFERROR(INDEX(G$2:G$37,SMALL(IF(G$2:G$37<>H$1,ROW(G$2:G$37)-1,""),ROW(G36))),"")} | I37: {=IFERROR(INDEX(H$2:H$37,SMALL(IF(H$2:H$37<>I$1,ROW(H$2:H$37)-1,""),ROW(H36))),"")} | ... AK37: {=IFERROR(INDEX(AJ$2:AJ$37,SMALL(IF(AJ$2:AJ$37<>AK$1,ROW(AJ$2:AJ$37)-1,""),ROW(AJ36))),"")}

Sheet matrice aleatoire
C3: =IFERROR(INDEX(pre_melange!$C$3:$AL$38,ROW()-2,MATCH(tirage2!B$1,data!$A:$A,0)-2),"") -> D | D3: =IFERROR(INDEX(pre_melange!$C$3:$AL$38,ROW()-2,MATCH(tirage2!C$1,data!$A:$A,0)-2),"") -> 6 | E3: =IFERROR(INDEX(pre_melange!$C$3:$AL$38,ROW()-2,MATCH(tirage2!D$1,data!$A:$A,0)-2),"") -> genoux | F3: =IFERROR(INDEX(pre_melange!$C$3:$AL$38,ROW()-2,MATCH(tirage2!E$1,data!$A:$A,0)-2),"") -> 3 | G3: =IFERROR(INDEX(pre_melange!$C$3:$AL$38,ROW()-2,MATCH(tirage2!F$1,data!$A:$A,0)-2),"") -> 2 | H3: =IFERROR(INDEX(pre_melange!$C$3:$AL$38,ROW()-2,MATCH(tirage2!G$1,data!$A:$A,0)-2),"") -> tripoux | I3: =IFERROR(INDEX(pre_melange!$C$3:$AL$38,ROW()-2,MATCH(tirage2!H$1,data!$A:$A,0)-2),"") -> 9 | J3: =IFERROR(INDEX(pre_melange!$C$3:$AL$38,ROW()-2,MATCH(tirage2!I$1,data!$A:$A,0)-2),"") -> ripoux | ... AL3: =IFERROR(INDEX(pre_melange!$C$3:$AL$38,ROW()-2,MATCH(tirage2!AK$1,data!$A:$A,0)-2),"")
C4: =IFERROR(INDEX(pre_melange!$C$3:$AL$38,ROW()-2,MATCH(tirage2!B$1,data!$A:$A,0)-2),"") -> 2 | D4: =IFERROR(INDEX(pre_melange!$C$3:$AL$38,ROW()-2,MATCH(tirage2!C$1,data!$A:$A,0)-2),"") -> choux | E4: =IFERROR(INDEX(pre_melange!$C$3:$AL$38,ROW()-2,MATCH(tirage2!D$1,data!$A:$A,0)-2),"") -> ripoux | F4: =IFERROR(INDEX(pre_melange!$C$3:$AL$38,ROW()-2,MATCH(tirage2!E$1,data!$A:$A,0)-2),"") -> hiboux | G4: =IFERROR(INDEX(pre_melange!$C$3:$AL$38,ROW()-2,MATCH(tirage2!F$1,data!$A:$A,0)-2),"") -> B | H4: =IFERROR(INDEX(pre_melange!$C$3:$AL$38,ROW()-2,MATCH(tirage2!G$1,data!$A:$A,0)-2),"") -> cailloux | I4: =IFERROR(INDEX(pre_melange!$C$3:$AL$38,ROW()-2,MATCH(tirage2!H$1,data!$A:$A,0)-2),"") -> poux | J4: =IFERROR(INDEX(pre_melange!$C$3:$AL$38,ROW()-2,MATCH(tirage2!I$1,data!$A:$A,0)-2),"") -> 8 | ... AL4: =IFERROR(INDEX(pre_melange!$C$3:$AL$38,ROW()-2,MATCH(tirage2!AK$1,data!$A:$A,0)-2),"")
C5: =IFERROR(INDEX(pre_melange!$C$3:$AL$38,ROW()-2,MATCH(tirage2!B$1,data!$A:$A,0)-2),"") -> B | D5: =IFERROR(INDEX(pre_melange!$C$3:$AL$38,ROW()-2,MATCH(tirage2!C$1,data!$A:$A,0)-2),"") -> E | E5: =IFERROR(INDEX(pre_melange!$C$3:$AL$38,ROW()-2,MATCH(tirage2!D$1,data!$A:$A,0)-2),"") -> 8 | F5: =IFERROR(INDEX(pre_melange!$C$3:$AL$38,ROW()-2,MATCH(tirage2!E$1,data!$A:$A,0)-2),"") -> 5 | G5: =IFERROR(INDEX(pre_melange!$C$3:$AL$38,ROW()-2,MATCH(tirage2!F$1,data!$A:$A,0)-2),"") -> joujoux | H5: =IFERROR(INDEX(pre_melange!$C$3:$AL$38,ROW()-2,MATCH(tirage2!G$1,data!$A:$A,0)-2),"") -> 4 | I5: =IFERROR(INDEX(pre_melange!$C$3:$AL$38,ROW()-2,MATCH(tirage2!H$1,data!$A:$A,0)-2),"") -> 3 | J5: =IFERROR(INDEX(pre_melange!$C$3:$AL$38,ROW()-2,MATCH(tirage2!I$1,data!$A:$A,0)-2),"") -> 0 | ... AL5: =IFERROR(INDEX(pre_melange!$C$3:$AL$38,ROW()-2,MATCH(tirage2!AK$1,data!$A:$A,0)-2),"")
C6: =IFERROR(INDEX(pre_melange!$C$3:$AL$38,ROW()-2,MATCH(tirage2!B$1,data!$A:$A,0)-2),"") -> joujoux | D6: =IFERROR(INDEX(pre_melange!$C$3:$AL$38,ROW()-2,MATCH(tirage2!C$1,data!$A:$A,0)-2),"") -> 1 | E6: =IFERROR(INDEX(pre_melange!$C$3:$AL$38,ROW()-2,MATCH(tirage2!D$1,data!$A:$A,0)-2),"") -> 0 | F6: =IFERROR(INDEX(pre_melange!$C$3:$AL$38,ROW()-2,MATCH(tirage2!E$1,data!$A:$A,0)-2),"") -> F | G6: =IFERROR(INDEX(pre_melange!$C$3:$AL$38,ROW()-2,MATCH(tirage2!F$1,data!$A:$A,0)-2),"") -> genoux | H6: =IFERROR(INDEX(pre_melange!$C$3:$AL$38,ROW()-2,MATCH(tirage2!G$1,data!$A:$A,0)-2),"") -> bijoux | I6: =IFERROR(INDEX(pre_melange!$C$3:$AL$38,ROW()-2,MATCH(tirage2!H$1,data!$A:$A,0)-2),"") -> hiboux | J6: =IFERROR(INDEX(pre_melange!$C$3:$AL$38,ROW()-2,MATCH(tirage2!I$1,data!$A:$A,0)-2),"") -> chouchoux | ... AL6: =IFERROR(INDEX(pre_melange!$C$3:$AL$38,ROW()-2,MATCH(tirage2!AK$1,data!$A:$A,0)-2),"")
C7: =IFERROR(INDEX(pre_melange!$C$3:$AL$38,ROW()-2,MATCH(tirage2!B$1,data!$A:$A,0)-2),"") -> genoux | D7: =IFERROR(INDEX(pre_melange!$C$3:$AL$38,ROW()-2,MATCH(tirage2!C$1,data!$A:$A,0)-2),"") -> C | E7: =IFERROR(INDEX(pre_melange!$C$3:$AL$38,ROW()-2,MATCH(tirage2!D$1,data!$A:$A,0)-2),"") -> chouchoux | F7: =IFERROR(INDEX(pre_melange!$C$3:$AL$38,ROW()-2,MATCH(tirage2!E$1,data!$A:$A,0)-2),"") -> A | G7: =IFERROR(INDEX(pre_melange!$C$3:$AL$38,ROW()-2,MATCH(tirage2!F$1,data!$A:$A,0)-2),"") -> ripoux | H7: =IFERROR(INDEX(pre_melange!$C$3:$AL$38,ROW()-2,MATCH(tirage2!G$1,data!$A:$A,0)-2),"") -> 9 | I7: =IFERROR(INDEX(pre_melange!$C$3:$AL$38,ROW()-2,MATCH(tirage2!H$1,data!$A:$A,0)-2),"") -> 5 | J7: =IFERROR(INDEX(pre_melange!$C$3:$AL$38,ROW()-2,MATCH(tirage2!I$1,data!$A:$A,0)-2),"") -> tripoux | ... AL7: =IFERROR(INDEX(pre_melange!$C$3:$AL$38,ROW()-2,MATCH(tirage2!AK$1,data!$A:$A,0)-2),"")
C8: =IFERROR(INDEX(pre_melange!$C$3:$AL$38,ROW()-2,MATCH(tirage2!B$1,data!$A:$A,0)-2),"") -> ripoux | D8: =IFERROR(INDEX(pre_melange!$C$3:$AL$38,ROW()-2,MATCH(tirage2!C$1,data!$A:$A,0)-2),"") -> 7 | E8: =IFERROR(INDEX(pre_melange!$C$3:$AL$38,ROW()-2,MATCH(tirage2!D$1,data!$A:$A,0)-2),"") -> tripoux | F8: =IFERROR(INDEX(pre_melange!$C$3:$AL$38,ROW()-2,MATCH(tirage2!E$1,data!$A:$A,0)-2),"") -> 6 | G8: =IFERROR(INDEX(pre_melange!$C$3:$AL$38,ROW()-2,MATCH(tirage2!F$1,data!$A:$A,0)-2),"") -> 8 | H8: =IFERROR(INDEX(pre_melange!$C$3:$AL$38,ROW()-2,MATCH(tirage2!G$1,data!$A:$A,0)-2),"") -> poux | I8: =IFERROR(INDEX(pre_melange!$C$3:$AL$38,ROW()-2,MATCH(tirage2!H$1,data!$A:$A,0)-2),"") -> F | J8: =IFERROR(INDEX(pre_melange!$C$3:$AL$38,ROW()-2,MATCH(tirage2!I$1,data!$A:$A,0)-2),"") -> cailloux | ... AL8: =IFERROR(INDEX(pre_melange!$C$3:$AL$38,ROW()-2,MATCH(tirage2!AK$1,data!$A:$A,0)-2),"")
C9: =IFERROR(INDEX(pre_melange!$C$3:$AL$38,ROW()-2,MATCH(tirage2!B$1,data!$A:$A,0)-2),"") -> 8 | D9: =IFERROR(INDEX(pre_melange!$C$3:$AL$38,ROW()-2,MATCH(tirage2!C$1,data!$A:$A,0)-2),"") -> D | E9: =IFERROR(INDEX(pre_melange!$C$3:$AL$38,ROW()-2,MATCH(tirage2!D$1,data!$A:$A,0)-2),"") -> cailloux | F9: =IFERROR(INDEX(pre_melange!$C$3:$AL$38,ROW()-2,MATCH(tirage2!E$1,data!$A:$A,0)-2),"") -> choux | G9: =IFERROR(INDEX(pre_melange!$C$3:$AL$38,ROW()-2,MATCH(tirage2!F$1,data!$A:$A,0)-2),"") -> 0 | H9: =IFERROR(INDEX(pre_melange!$C$3:$AL$38,ROW()-2,MATCH(tirage2!G$1,data!$A:$A,0)-2),"") -> 3 | I9: =IFERROR(INDEX(pre_melange!$C$3:$AL$38,ROW()-2,MATCH(tirage2!H$1,data!$A:$A,0)-2),"") -> A | J9: =IFERROR(INDEX(pre_melange!$C$3:$AL$38,ROW()-2,MATCH(tirage2!I$1,data!$A:$A,0)-2),"") -> 4 | ... AL9: =IFERROR(INDEX(pre_melange!$C$3:$AL$38,ROW()-2,MATCH(tirage2!AK$1,data!$A:$A,0)-2),"")
C10: =IFERROR(INDEX(pre_melange!$C$3:$AL$38,ROW()-2,MATCH(tirage2!B$1,data!$A:$A,0)-2),"") -> 0 | D10: =IFERROR(INDEX(pre_melange!$C$3:$AL$38,ROW()-2,MATCH(tirage2!C$1,data!$A:$A,0)-2),"") -> 2 | E10: =IFERROR(INDEX(pre_melange!$C$3:$AL$38,ROW()-2,MATCH(tirage2!D$1,data!$A:$A,0)-2),"") -> 4 | F10: =IFERROR(INDEX(pre_melange!$C$3:$AL$38,ROW()-2,MATCH(tirage2!E$1,data!$A:$A,0)-2),"") -> E | G10: =IFERROR(INDEX(pre_melange!$C$3:$AL$38,ROW()-2,MATCH(tirage2!F$1,data!$A:$A,0)-2),"") -> chouchoux | H10: =IFERROR(INDEX(pre_melange!$C$3:$AL$38,ROW()-2,MATCH(tirage2!G$1,data!$A:$A,0)-2),"") -> hiboux | I10: =IFERROR(INDEX(pre_melange!$C$3:$AL$38,ROW()-2,MATCH(tirage2!H$1,data!$A:$A,0)-2),"") -> 6 | J10: =IFERROR(INDEX(pre_melange!$C$3:$AL$38,ROW()-2,MATCH(tirage2!I$1,data!$A:$A,0)-2),"") -> bijoux | ... AL10: =IFERROR(INDEX(pre_melange!$C$3:$AL$38,ROW()-2,MATCH(tirage2!AK$1,data!$A:$A,0)-2),"")
C11: =IFERROR(INDEX(pre_melange!$C$3:$AL$38,ROW()-2,MATCH(tirage2!B$1,data!$A:$A,0)-2),"") -> chouchoux | D11: =IFERROR(INDEX(pre_melange!$C$3:$AL$38,ROW()-2,MATCH(tirage2!C$1,data!$A:$A,0)-2),"") -> B | E11: =IFERROR(INDEX(pre_melange!$C$3:$AL$38,ROW()-2,MATCH(tirage2!D$1,data!$A:$A,0)-2),"") -> bijoux | F11: =IFERROR(INDEX(pre_melange!$C$3:$AL$38,ROW()-2,MATCH(tirage2!E$1,data!$A:$A,0)-2),"") -> 1 | G11: =IFERROR(INDEX(pre_melange!$C$3:$AL$38,ROW()-2,MATCH(tirage2!F$1,data!$A:$A,0)-2),"") -> tripoux | H11: =IFERROR(INDEX(pre_melange!$C$3:$AL$38,ROW()-2,MATCH(tirage2!G$1,data!$A:$A,0)-2),"") -> 5 | I11: =IFERROR(INDEX(pre_melange!$C$3:$AL$38,ROW()-2,MATCH(tirage2!H$1,data!$A:$A,0)-2),"") -> choux | J11: =IFERROR(INDEX(pre_melange!$C$3:$AL$38,ROW()-2,MATCH(tirage2!I$1,data!$A:$A,0)-2),"") -> 9 | ... AL11: =IFERROR(INDEX(pre_melange!$C$3:$AL$38,ROW()-2,MATCH(tirage2!AK$1,data!$A:$A,0)-2),"")
C12: =IFERROR(INDEX(pre_melange!$C$3:$AL$38,ROW()-2,MATCH(tirage2!B$1,data!$A:$A,0)-2),"") -> tripoux | D12: =IFERROR(INDEX(pre_melange!$C$3:$AL$38,ROW()-2,MATCH(tirage2!C$1,data!$A:$A,0)-2),"") -> joujoux | E12: =IFERROR(INDEX(pre_melange!$C$3:$AL$38,ROW()-2,MATCH(tirage2!D$1,data!$A:$A,0)-2),"") -> 9 | F12: =IFERROR(INDEX(pre_melange!$C$3:$AL$38,ROW()-2,MATCH(tirage2!E$1,data!$A:$A,0)-2),"") -> C | G12: =IFERROR(INDEX(pre_melange!$C$3:$AL$38,ROW()-2,MATCH(tirage2!F$1,data!$A:$A,0)-2),"") -> cailloux | H12: =IFERROR(INDEX(pre_melange!$C$3:$AL$38,ROW()-2,MATCH(tirage2!G$1,data!$A:$A,0)-2),"") -> F | I12: =IFERROR(INDEX(pre_melange!$C$3:$AL$38,ROW()-2,MATCH(tirage2!H$1,data!$A:$A,0)-2),"") -> E | J12: =IFERROR(INDEX(pre_melange!$C$3:$AL$38,ROW()-2,MATCH(tirage2!I$1,data!$A:$A,0)-2),"") -> poux | ... AL12: =IFERROR(INDEX(pre_melange!$C$3:$AL$38,ROW()-2,MATCH(tirage2!AK$1,data!$A:$A,0)-2),"")
C13: =IFERROR(INDEX(pre_melange!$C$3:$AL$38,ROW()-2,MATCH(tirage2!B$1,data!$A:$A,0)-2),"") -> cailloux | D13: =IFERROR(INDEX(pre_melange!$C$3:$AL$38,ROW()-2,MATCH(tirage2!C$1,data!$A:$A,0)-2),"") -> genoux | E13: =IFERROR(INDEX(pre_melange!$C$3:$AL$38,ROW()-2,MATCH(tirage2!D$1,data!$A:$A,0)-2),"") -> poux | F13: =IFERROR(INDEX(pre_melange!$C$3:$AL$38,ROW()-2,MATCH(tirage2!E$1,data!$A:$A,0)-2),"") -> 7 | G13: =IFERROR(INDEX(pre_melange!$C$3:$AL$38,ROW()-2,MATCH(tirage2!F$1,data!$A:$A,0)-2),"") -> 4 | H13: =IFERROR(INDEX(pre_melange!$C$3:$AL$38,ROW()-2,MATCH(tirage2!G$1,data!$A:$A,0)-2),"") -> A | I13: =IFERROR(INDEX(pre_melange!$C$3:$AL$38,ROW()-2,MATCH(tirage2!H$1,data!$A:$A,0)-2),"") -> 1 | J13: =IFERROR(INDEX(pre_melange!$C$3:$AL$38,ROW()-2,MATCH(tirage2!I$1,data!$A:$A,0)-2),"") -> 3 | ... AL13: =IFERROR(INDEX(pre_melange!$C$3:$AL$38,ROW()-2,MATCH(tirage2!AK$1,data!$A:$A,0)-2),"")
C14: =IFERROR(INDEX(pre_melange!$C$3:$AL$38,ROW()-2,MATCH(tirage2!B$1,data!$A:$A,0)-2),"") -> 4 | D14: =IFERROR(INDEX(pre_melange!$C$3:$AL$38,ROW()-2,MATCH(tirage2!C$1,data!$A:$A,0)-2),"") -> ripoux | E14: =IFERROR(INDEX(pre_melange!$C$3:$AL$38,ROW()-2,MATCH(tirage2!D$1,data!$A:$A,0)-2),"") -> 3 | F14: =IFERROR(INDEX(pre_melange!$C$3:$AL$38,ROW()-2,MATCH(tirage2!E$1,data!$A:$A,0)-2),"") -> D | G14: =IFERROR(INDEX(pre_melange!$C$3:$AL$38,ROW()-2,MATCH(tirage2!F$1,data!$A:$A,0)-2),"") -> bijoux | H14: =IFERROR(INDEX(pre_melange!$C$3:$AL$38,ROW()-2,MATCH(tirage2!G$1,data!$A:$A,0)-2),"") -> 6 | I14: =IFERROR(INDEX(pre_melange!$C$3:$AL$38,ROW()-2,MATCH(tirage2!H$1,data!$A:$A,0)-2),"") -> C | J14: =IFERROR(INDEX(pre_melange!$C$3:$AL$38,ROW()-2,MATCH(tirage2!I$1,data!$A:$A,0)-2),"") -> hiboux | ... AL14: =IFERROR(INDEX(pre_melange!$C$3:$AL$38,ROW()-2,MATCH(tirage2!AK$1,data!$A:$A,0)-2),"")
... C38: =IFERROR(INDEX(pre_melange!$C$3:$AL$38,ROW()-2,MATCH(tirage2!B$1,data!$A:$A,0)-2),"") | D38: =IFERROR(INDEX(pre_melange!$C$3:$AL$38,ROW()-2,MATCH(tirage2!C$1,data!$A:$A,0)-2),"") | E38: =IFERROR(INDEX(pre_melange!$C$3:$AL$38,ROW()-2,MATCH(tirage2!D$1,data!$A:$A,0)-2),"") | F38: =IFERROR(INDEX(pre_melange!$C$3:$AL$38,ROW()-2,MATCH(tirage2!E$1,data!$A:$A,0)-2),"") | G38: =IFERROR(INDEX(pre_melange!$C$3:$AL$38,ROW()-2,MATCH(tirage2!F$1,data!$A:$A,0)-2),"") | H38: =IFERROR(INDEX(pre_melange!$C$3:$AL$38,ROW()-2,MATCH(tirage2!G$1,data!$A:$A,0)-2),"") | I38: =IFERROR(INDEX(pre_melange!$C$3:$AL$38,ROW()-2,MATCH(tirage2!H$1,data!$A:$A,0)-2),"") | J38: =IFERROR(INDEX(pre_melange!$C$3:$AL$38,ROW()-2,MATCH(tirage2!I$1,data!$A:$A,0)-2),"") | ... AL38: =IFERROR(INDEX(pre_melange!$C$3:$AL$38,ROW()-2,MATCH(tirage2!AK$1,data!$A:$A,0)-2),"")
